Workbook
Name SegmentaçãodeDados_FUNÇÃO: #N/A
Name SegmentaçãodeDados_SETOR: #N/A
Name SegmentaçãodeDados_SEXO: #N/A
Name SegmentaçãodeDados_TURNO: #N/A

Sheet Inicio
E9: Planilha Gestão de Pessoas
E11: IMPORTANTE: LEIA OS PASSOS E ENTENDA A PLANILHA
E13: Passo 1 | F13: CADASTRAR DADOS
E14: Cadastre os Dados do Colaboradores
E16: Passo 2 | F16: DASHBOARD
E17: Analise o Dashboard Geral, de Materias e de Mão de Obra

Sheet Inicio (2)

Sheet Planilha1
A3: SEXAO | B3: COLABORADOR | D3: TIPO DE CONTRATO | E3: Soma de SALARIO | G3: SETOR | H3: COLABORADOR | J3: FUNÇÃO | K3: COLABORADOR
A4: FEMININO | B4: 33 | C4: =B4/VLOOKUP("Total Geral",$A$2:$B$7,2,0) -> 0.45833333 | D4: PERMANENTE | E4: 84413.2 | G4: RH | H4: 1 | J4: OPERADORA DE CAIXA | K4: 2
A5: MASCULINO | B5: 39 | C5: =B5/VLOOKUP("Total Geral",$A$2:$B$7,2,0) -> 0.54166667 | D5: TEMPORARIO | E5: 4720 | G5: (vazio) | H5: 1 | J5: ASSISTENTE ADMINISTRATIVO | K5: 1
A6: Total Geral | B6: 72 | D6: Total Geral | E6: 89133.2 | G6: CAIXA | H6: 3 | J6: ASSISTENTE DE COBRANÇA | K6: 2
C7: =VLOOKUP("Total Geral",A9:B14,2,0) -> 72 | G7: EXTERNO | H7: 1 | J7: GERENTE RH/PD | K7: 1
G8: NOC | H8: 11 | J8: ASSISTENTE DE COBRANÇA | K8: 2
G9: SÃO DESIDERIO | H9: 3 | J9: ASSISTENTE FINANCEIRO | K9: 1
A10: CPACITADO? | B10: COLABORADOR | D10: SATISFAÇÃO | E10: COLABORADOR | G10: COBRANÇA | H10: 8 | J10: RECEPSONISTA | K10: 1
A11: SIM | B11: 72 | C11: =B4/VLOOKUP("Total Geral",$A$10:$B$14,2,0) -> 0.45833333 | D11: SATISFEITO | E11: 70 | F11: =E11/$E$14 -> #DIV/0! | G11: FINANCEIRO | H11: 3 | J11: GERENTE ADMINISTRATIVO | K11: 1
A12: Total Geral | B12: 72 | C12: =B4/VLOOKUP("Total Geral",$A$10:$B$14,2,0) -> 0.45833333 | D12: INSATISFEITO | E12: 2 | F12: =E12/$E$14 -> #DIV/0! | G12: RECEPÇÃO | H12: 1 | J12: GERENTE VENDAS | K12: 1
D13: Total Geral | E13: 72 | F13: =E13/$E$14 -> #DIV/0! | G13: ADM | H13: 2 | J13: COORDENODOR DE PROJETOS | K13: 1
F14: =E14/$E$14 -> #DIV/0! | G14: EXPANÇÃO | H14: 12 | J14: LIDE DE CAIXA | K14: 1
G15: PRESTADO DE SERVIÇO | H15: 1 | J15: COORDENADOR EXTERNO | K15: 1
A16: TURNO | B16: COLABORADOR | G16: ESTOQUE | H16: 1 | J16: GERENTE FINANCEIRO | K16: 2
A17: ADM | B17: 53 | D17: CAPACITAÇÃO | E17: COLABORADOR | G17: HIGIENIZAÇÕA | H17: 1 | J17: COORDENADOR ESTOQUE | K17: 1
A18: 2º TURNO | B18: 10 | D18: CONCLUIDA | E18: 65 | G18: DIREDORIA | H18: 1 | J18: COORDENADORA COBRANÇA | K18: 1
A19: 1º TURNO | B19: 9 | D19: EM ANDAMENTO | E19: 7 | G19: SANTA RITA | H19: 2 | J19: ASSISTENTE SERVIÇO GERAIS | K19: 1
A20: Total Geral | B20: 72 | D20: Total Geral | E20: 72 | G20: VIABILIDADA | H20: 1 | J20: GERENTE NOC | K20: 1
G21: VENDAS BARREIRAS | H21: 5 | J21: ADMINISTRAODR | K21: 1
G22: INSTALAÇÃO | H22: 8 | J22: ESTAGIÁRIA | K22: 3
G23: SUPORTE | H23: 6 | J23: TEC. INTERNO NIVEL I | K23: 9
G24: Total Geral | H24: 72 | J24: TEC. EXTERNO NIVEL I | K24: 20
J25: TEC. EM ATENDIMENTO E VENDAS | K25: 5
J26: TEC. INTERNO NIVEI I | K26: 1
A27: SEXAO | B27: Soma de SALARIO | J27: TEC. EXTERNO NIVEL II | K27: 7
A28: FEMININO | B28: 35918.8 | J28: TEC. EM ATENDIMENTO E VENDAS NIVEL II | K28: 2
A29: MASCULINO | B29: 53214.4 | J29: TEC. RADIO | K29: 1
A30: Total Geral | B30: 89133.2 | J30: TEC. EXTERNO NIVEL I | K30: 1
J31: TEC. INTERNO NIVEL III | K31: 1
J32: Total Geral | K32: 72
A33: =D4 -> PERMANENTE | B33: =E4/$E$6 -> 0.94704555
A34: =D5 -> TEMPORARIO | B34: =E5/$E$6 -> 0.052954455

Sheet Cadastro
F9: ="Cadastro!$F$11:$F$"&(COUNTA(Tabela6[[NOME DO COLABORADOR ]])+10) -> Cadastro!$F$11:$F$42
E10: ID | F10: NOME DO COLABORADOR | G10: CPF | H10: RG | I10: PIS | J10: CTPS | K10: SEXO | L10: ADMISSÃO | M10: Dt. NASC | N10: FUNÇÃO | O10: SETOR | P10: TURNO | Q10: SALARIO | R10: CLT OU CONTRATO | S10: NIVEL DE SATISFAÇÃO COM A EMPRESA2 | T10: CAPACITAÇÃO PARA FUNÇÃO | U10: STATUS DA CAPACITAÇÃO | V10: DDD1 | W10: Fone 1 | X10: DDD2 | Y10: Fone 2 | Z10: email
E11: 1 | F11: ADILMA PIRES DA CRUZ | K11: FEMININO | L11: 42005 | N11: OPERADORA DE CAIXA | O11: CAIXA | P11: ADM | Q11: 1040 | R11: PERMANENTE | S11: SATISFEITO | T11: SIM | U11: CONCLUIDA
E12: 2 | F12: AGEU GUIRRA REIS | K12: MASCULINO | L12: 42005 | N12: TEC. EXTERNO NIVEL II | O12: EXPANÇÃO | P12: ADM | Q12: 1246.8 | R12: PERMANENTE | S12: INSATISFEITO | T12: SIM | U12: CONCLUIDA
E13: 3 | F13: ALAINE SOUZA RAMOS | K13: FEMININO | L13: 42005 | N13: TEC. INTERNO NIVEL I | O13: NOC | P13: 1º TURNO | Q13: 1040 | R13: PERMANENTE | S13: SATISFEITO | T13: SIM | U13: CONCLUIDA
E14: 4 | F14: ALEANDRO DOS REIS DE SOUZA | K14: MASCULINO | L14: 42005 | N14: TEC. EXTERNO NIVEL I | O14: INSTALAÇÃO | P14: ADM | Q14: 1040 | R14: PERMANENTE | S14: SATISFEITO | T14: SIM | U14: CONCLUIDA
E15: 5 | F15: ALINE DA CONCEÇÃO ARAUJO | K15: FEMININO | L15: 42005 | N15: ASSISTENTE ADMINISTRATIVO | O15: VIABILIDADA | P15: ADM | Q15: 1040 | R15: PERMANENTE | S15: SATISFEITO | T15: SIM | U15: CONCLUIDA
E16: 6 | F16: ALINNY KELLY SILVA | K16: FEMININO | L16: 42005 | N16: TEC. EM ATENDIMENTO E VENDAS | O16: SÃO DESIDERIO | P16: ADM | Q16: 1040 | R16: PERMANENTE | S16: SATISFEITO | T16: SIM | U16: CONCLUIDA
E17: 7 | F17: ANA PAULA DE SOUZA GUIMARAES | K17: FEMININO | L17: 42005 | N17: ASSISTENTE DE COBRANÇA | O17: COBRANÇA | P17: 2º TURNO | Q17: 1040 | R17: PERMANENTE | S17: SATISFEITO | T17: SIM | U17: CONCLUIDA
E18: 8 | F18: APOLIANA DE SOUZA | K18: FEMININO | L18: 42005 | N18: TEC. INTERNO NIVEI I | O18: NOC | P18: ADM | Q18: 1200 | R18: PERMANENTE | S18: SATISFEITO | T18: SIM | U18: CONCLUIDA
E19: 9 | F19: ARIANE LOPES MACHADO | K19: FEMININO | L19: 42005 | N19: TEC. INTERNO NIVEL I | O19: NOC | P19: 1º TURNO | Q19: 1040 | R19: PERMANENTE | S19: SATISFEITO | T19: SIM | U19: CONCLUIDA
E20: 10 | F20: CAIRO DA SILVA PEREIRA JUNIOR | K20: MASCULINO | L20: 42005 | N20: TEC. EXTERNO NIVEL II | O20: SUPORTE | P20: ADM | Q20: 1246.8 | R20: PERMANENTE | S20: SATISFEITO | T20: SIM | U20: CONCLUIDA
E21: 11 | F21: CASSIO CLAY SILVA DOS SANTOS JUNIOR | K21: MASCULINO | L21: 42005 | N21: TEC. EXTERNO NIVEL I | O21: SUPORTE | P21: ADM | Q21: 1040 | R21: PERMANENTE | S21: SATISFEITO | T21: SIM | U21: CONCLUIDA
E22: 12 | F22: CLEIO DE JESUS ARAUJO | K22: MASCULINO | L22: 42005 | N22: TEC. EXTERNO NIVEL I | O22: INSTALAÇÃO | P22: ADM | Q22: 1040 | R22: PERMANENTE | S22: SATISFEITO | T22: SIM | U22: CONCLUIDA
... E42: 32 | F42: JANAINA SILVA DE CARVALHO | K42: FEMININO | L42: 42005 | N42: TEC. INTERNO NIVEL I | O42: NOC | P42: 2º TURNO | Q42: 1040 | R42: PERMANENTE | S42: SATISFEITO | T42: SIM | U42: CONCLUIDA
E43: 33
E44: 34
E45: 35
E46: 36
E47: 37
E48: 38
E49: 39
E50: 40
E51: 41
E52: 42
E53: 43
E54: 44
... E82: 72

Sheet RodagemPNEU
O9: JAN | P9: FEV | Q9: MAR | R9: ABR | S9: MAI | T9: JUN | U9: JUL | V9: AGO | W9: SET | X9: OUT | Y9: NOV | Z9: DEZ | AA9: !F11:F1210
E10: ID | F10: Tipo de Veículo | G10: Veiculo | H10: Placa | I10: Total KM rodado pelo Veiculo | J10: KM Cadastro do ultimo PNEU | K10: Troca de PNEU em quantos KM | O10: =O9 -> JAN | P10: ="LAN_"&P9 -> LAN_FEV | Q10: ="LAN_"&Q9 -> LAN_MAR | R10: ="LAN_"&R9 -> LAN_ABR | S10: ="LAN_"&S9 -> LAN_MAI | T10: ="LAN_"&T9 -> LAN_JUN | U10: ="LAN_"&U9 -> LAN_JUL | V10: ="LAN_"&V9 -> LAN_AGO | W10: ="LAN_"&W9 -> LAN_SET | ... Z10: ="LAN_"&Z9 -> LAN_DEZ | AA10: !N11:N1210
F11: =IF(Cadastro!#REF!="","",Cadastro!#REF!) -> #REF! | G11: =IF(Cadastro!#REF!="","",Cadastro!#REF!) -> #REF! | H11: =IF(Cadastro!#REF!="","",Cadastro!#REF!) -> #REF! | I11: =IF(ISERROR(SUM(O11:Z11)),0,(SUM(O11:Z11))) -> 0 | N11: =Cadastro!#REF! -> #REF! | O11: =IF(ISERROR(SUMIF(INDIRECT(O$9&$AA$9),$N11,INDIRECT(O$9&$AA$10))),0,(SUMIF(INDIRECT(O$9&$AA$9),$N11,INDIRECT(O$9&$AA$10)))) -> 0 | P11: =IF(ISERROR(SUMIF(INDIRECT(P$9&$AA$9),$N11,INDIRECT(P$9&$AA$10))),0,(SUMIF(INDIRECT(P$9&$AA$9),$N11,INDIRECT(P$9&$AA$10)))) -> 0 | Q11: =IF(ISERROR(SUMIF(INDIRECT(Q$9&$AA$9),$N11,INDIRECT(Q$9&$AA$10))),0,(SUMIF(INDIRECT(Q$9&$AA$9),$N11,INDIRECT(Q$9&$AA$10)))) -> 0 | R11: =IF(ISERROR(SUMIF(INDIRECT(R$9&$AA$9),$N11,INDIRECT(R$9&$AA$10))),0,(SUMIF(INDIRECT(R$9&$AA$9),$N11,INDIRECT(R$9&$AA$10)))) -> 0 | S11: =IF(ISERROR(SUMIF(INDIRECT(S$9&$AA$9),$N11,INDIRECT(S$9&$AA$10))),0,(SUMIF(INDIRECT(S$9&$AA$9),$N11,INDIRECT(S$9&$AA$10)))) -> 0 | T11: =IF(ISERROR(SUMIF(INDIRECT(T$9&$AA$9),$N11,INDIRECT(T$9&$AA$10))),0,(SUMIF(INDIRECT(T$9&$AA$9),$N11,INDIRECT(T$9&$AA$10)))) -> 0 | U11: =IF(ISERROR(SUMIF(INDIRECT(U$9&$AA$9),$N11,INDIRECT(U$9&$AA$10))),0,(SUMIF(INDIRECT(U$9&$AA$9),$N11,INDIRECT(U$9&$AA$10)))) -> 0 | V11: =IF(ISERROR(SUMIF(INDIRECT(V$9&$AA$9),$N11,INDIRECT(V$9&$AA$10))),0,(SUMIF(INDIRECT(V$9&$AA$9),$N11,INDIRECT(V$9&$AA$10)))) -> 0 | ... Z11: =IF(ISERROR(SUMIF(INDIRECT(Z$9&$AA$9),$N11,INDIRECT(Z$9&$AA$10))),0,(SUMIF(INDIRECT(Z$9&$AA$9),$N11,INDIRECT(Z$9&$AA$10)))) -> 0
F12: =IF(Cadastro!#REF!="","",Cadastro!#REF!) -> #REF! | G12: =IF(Cadastro!#REF!="","",Cadastro!#REF!) -> #REF! | H12: =IF(Cadastro!#REF!="","",Cadastro!#REF!) -> #REF! | I12: =IF(ISERROR(SUM(O12:Z12)),0,(SUM(O12:Z12))) -> 0 | N12: =Cadastro!#REF! -> #REF! | O12: =IF(ISERROR(SUMIF(INDIRECT(O$9&$AA$9),$N12,INDIRECT(O$9&$AA$10))),0,(SUMIF(INDIRECT(O$9&$AA$9),$N12,INDIRECT(O$9&$AA$10)))) -> 0 | P12: =IF(ISERROR(SUMIF(INDIRECT(P$9&$AA$9),$N12,INDIRECT(P$9&$AA$10))),0,(SUMIF(INDIRECT(P$9&$AA$9),$N12,INDIRECT(P$9&$AA$10)))) -> 0 | Q12: =IF(ISERROR(SUMIF(INDIRECT(Q$9&$AA$9),$N12,INDIRECT(Q$9&$AA$10))),0,(SUMIF(INDIRECT(Q$9&$AA$9),$N12,INDIRECT(Q$9&$AA$10)))) -> 0 | R12: =IF(ISERROR(SUMIF(INDIRECT(R$9&$AA$9),$N12,INDIRECT(R$9&$AA$10))),0,(SUMIF(INDIRECT(R$9&$AA$9),$N12,INDIRECT(R$9&$AA$10)))) -> 0 | S12: =IF(ISERROR(SUMIF(INDIRECT(S$9&$AA$9),$N12,INDIRECT(S$9&$AA$10))),0,(SUMIF(INDIRECT(S$9&$AA$9),$N12,INDIRECT(S$9&$AA$10)))) -> 0 | T12: =IF(ISERROR(SUMIF(INDIRECT(T$9&$AA$9),$N12,INDIRECT(T$9&$AA$10))),0,(SUMIF(INDIRECT(T$9&$AA$9),$N12,INDIRECT(T$9&$AA$10)))) -> 0 | U12: =IF(ISERROR(SUMIF(INDIRECT(U$9&$AA$9),$N12,INDIRECT(U$9&$AA$10))),0,(SUMIF(INDIRECT(U$9&$AA$9),$N12,INDIRECT(U$9&$AA$10)))) -> 0 | V12: =IF(ISERROR(SUMIF(INDIRECT(V$9&$AA$9),$N12,INDIRECT(V$9&$AA$10))),0,(SUMIF(INDIRECT(V$9&$AA$9),$N12,INDIRECT(V$9&$AA$10)))) -> 0 | ... Z12: =IF(ISERROR(SUMIF(INDIRECT(Z$9&$AA$9),$N12,INDIRECT(Z$9&$AA$10))),0,(SUMIF(INDIRECT(Z$9&$AA$9),$N12,INDIRECT(Z$9&$AA$10)))) -> 0
F13: =IF(Cadastro!#REF!="","",Cadastro!#REF!) -> #REF! | G13: =IF(Cadastro!#REF!="","",Cadastro!#REF!) -> #REF! | H13: =IF(Cadastro!#REF!="","",Cadastro!#REF!) -> #REF! | I13: =IF(ISERROR(SUM(O13:Z13)),0,(SUM(O13:Z13))) -> 0 | N13: =Cadastro!#REF! -> #REF! | O13: =IF(ISERROR(SUMIF(INDIRECT(O$9&$AA$9),$N13,INDIRECT(O$9&$AA$10))),0,(SUMIF(INDIRECT(O$9&$AA$9),$N13,INDIRECT(O$9&$AA$10)))) -> 0 | P13: =IF(ISERROR(SUMIF(INDIRECT(P$9&$AA$9),$N13,INDIRECT(P$9&$AA$10))),0,(SUMIF(INDIRECT(P$9&$AA$9),$N13,INDIRECT(P$9&$AA$10)))) -> 0 | Q13: =IF(ISERROR(SUMIF(INDIRECT(Q$9&$AA$9),$N13,INDIRECT(Q$9&$AA$10))),0,(SUMIF(INDIRECT(Q$9&$AA$9),$N13,INDIRECT(Q$9&$AA$10)))) -> 0 | R13: =IF(ISERROR(SUMIF(INDIRECT(R$9&$AA$9),$N13,INDIRECT(R$9&$AA$10))),0,(SUMIF(INDIRECT(R$9&$AA$9),$N13,INDIRECT(R$9&$AA$10)))) -> 0 | S13: =IF(ISERROR(SUMIF(INDIRECT(S$9&$AA$9),$N13,INDIRECT(S$9&$AA$10))),0,(SUMIF(INDIRECT(S$9&$AA$9),$N13,INDIRECT(S$9&$AA$10)))) -> 0 | T13: =IF(ISERROR(SUMIF(INDIRECT(T$9&$AA$9),$N13,INDIRECT(T$9&$AA$10))),0,(SUMIF(INDIRECT(T$9&$AA$9),$N13,INDIRECT(T$9&$AA$10)))) -> 0 | U13: =IF(ISERROR(SUMIF(INDIRECT(U$9&$AA$9),$N13,INDIRECT(U$9&$AA$10))),0,(SUMIF(INDIRECT(U$9&$AA$9),$N13,INDIRECT(U$9&$AA$10)))) -> 0 | V13: =IF(ISERROR(SUMIF(INDIRECT(V$9&$AA$9),$N13,INDIRECT(V$9&$AA$10))),0,(SUMIF(INDIRECT(V$9&$AA$9),$N13,INDIRECT(V$9&$AA$10)))) -> 0 | ... Z13: =IF(ISERROR(SUMIF(INDIRECT(Z$9&$AA$9),$N13,INDIRECT(Z$9&$AA$10))),0,(SUMIF(INDIRECT(Z$9&$AA$9),$N13,INDIRECT(Z$9&$AA$10)))) -> 0
F14: =IF(Cadastro!#REF!="","",Cadastro!#REF!) -> #REF! | G14: =IF(Cadastro!#REF!="","",Cadastro!#REF!) -> #REF! | H14: =IF(Cadastro!#REF!="","",Cadastro!#REF!) -> #REF! | I14: =IF(ISERROR(SUM(O14:Z14)),0,(SUM(O14:Z14))) -> 0 | N14: =Cadastro!#REF! -> #REF! | O14: =IF(ISERROR(SUMIF(INDIRECT(O$9&$AA$9),$N14,INDIRECT(O$9&$AA$10))),0,(SUMIF(INDIRECT(O$9&$AA$9),$N14,INDIRECT(O$9&$AA$10)))) -> 0 | P14: =IF(ISERROR(SUMIF(INDIRECT(P$9&$AA$9),$N14,INDIRECT(P$9&$AA$10))),0,(SUMIF(INDIRECT(P$9&$AA$9),$N14,INDIRECT(P$9&$AA$10)))) -> 0 | Q14: =IF(ISERROR(SUMIF(INDIRECT(Q$9&$AA$9),$N14,INDIRECT(Q$9&$AA$10))),0,(SUMIF(INDIRECT(Q$9&$AA$9),$N14,INDIRECT(Q$9&$AA$10)))) -> 0 | R14: =IF(ISERROR(SUMIF(INDIRECT(R$9&$AA$9),$N14,INDIRECT(R$9&$AA$10))),0,(SUMIF(INDIRECT(R$9&$AA$9),$N14,INDIRECT(R$9&$AA$10)))) -> 0 | S14: =IF(ISERROR(SUMIF(INDIRECT(S$9&$AA$9),$N14,INDIRECT(S$9&$AA$10))),0,(SUMIF(INDIRECT(S$9&$AA$9),$N14,INDIRECT(S$9&$AA$10)))) -> 0 | T14: =IF(ISERROR(SUMIF(INDIRECT(T$9&$AA$9),$N14,INDIRECT(T$9&$AA$10))),0,(SUMIF(INDIRECT(T$9&$AA$9),$N14,INDIRECT(T$9&$AA$10)))) -> 0 | U14: =IF(ISERROR(SUMIF(INDIRECT(U$9&$AA$9),$N14,INDIRECT(U$9&$AA$10))),0,(SUMIF(INDIRECT(U$9&$AA$9),$N14,INDIRECT(U$9&$AA$10)))) -> 0 | V14: =IF(ISERROR(SUMIF(INDIRECT(V$9&$AA$9),$N14,INDIRECT(V$9&$AA$10))),0,(SUMIF(INDIRECT(V$9&$AA$9),$N14,INDIRECT(V$9&$AA$10)))) -> 0 | ... Z14: =IF(ISERROR(SUMIF(INDIRECT(Z$9&$AA$9),$N14,INDIRECT(Z$9&$AA$10))),0,(SUMIF(INDIRECT(Z$9&$AA$9),$N14,INDIRECT(Z$9&$AA$10)))) -> 0
F15: =IF(Cadastro!#REF!="","",Cadastro!#REF!) -> #REF! | G15: =IF(Cadastro!#REF!="","",Cadastro!#REF!) -> #REF! | H15: =IF(Cadastro!#REF!="","",Cadastro!#REF!) -> #REF! | I15: =IF(ISERROR(SUM(O15:Z15)),0,(SUM(O15:Z15))) -> 0 | N15: =Cadastro!#REF! -> #REF! | O15: =IF(ISERROR(SUMIF(INDIRECT(O$9&$AA$9),$N15,INDIRECT(O$9&$AA$10))),0,(SUMIF(INDIRECT(O$9&$AA$9),$N15,INDIRECT(O$9&$AA$10)))) -> 0 | P15: =IF(ISERROR(SUMIF(INDIRECT(P$9&$AA$9),$N15,INDIRECT(P$9&$AA$10))),0,(SUMIF(INDIRECT(P$9&$AA$9),$N15,INDIRECT(P$9&$AA$10)))) -> 0 | Q15: =IF(ISERROR(SUMIF(INDIRECT(Q$9&$AA$9),$N15,INDIRECT(Q$9&$AA$10))),0,(SUMIF(INDIRECT(Q$9&$AA$9),$N15,INDIRECT(Q$9&$AA$10)))) -> 0 | R15: =IF(ISERROR(SUMIF(INDIRECT(R$9&$AA$9),$N15,INDIRECT(R$9&$AA$10))),0,(SUMIF(INDIRECT(R$9&$AA$9),$N15,INDIRECT(R$9&$AA$10)))) -> 0 | S15: =IF(ISERROR(SUMIF(INDIRECT(S$9&$AA$9),$N15,INDIRECT(S$9&$AA$10))),0,(SUMIF(INDIRECT(S$9&$AA$9),$N15,INDIRECT(S$9&$AA$10)))) -> 0 | T15: =IF(ISERROR(SUMIF(INDIRECT(T$9&$AA$9),$N15,INDIRECT(T$9&$AA$10))),0,(SUMIF(INDIRECT(T$9&$AA$9),$N15,INDIRECT(T$9&$AA$10)))) -> 0 | U15: =IF(ISERROR(SUMIF(INDIRECT(U$9&$AA$9),$N15,INDIRECT(U$9&$AA$10))),0,(SUMIF(INDIRECT(U$9&$AA$9),$N15,INDIRECT(U$9&$AA$10)))) -> 0 | V15: =IF(ISERROR(SUMIF(INDIRECT(V$9&$AA$9),$N15,INDIRECT(V$9&$AA$10))),0,(SUMIF(INDIRECT(V$9&$AA$9),$N15,INDIRECT(V$9&$AA$10)))) -> 0 | ... Z15: =IF(ISERROR(SUMIF(INDIRECT(Z$9&$AA$9),$N15,INDIRECT(Z$9&$AA$10))),0,(SUMIF(INDIRECT(Z$9&$AA$9),$N15,INDIRECT(Z$9&$AA$10)))) -> 0
F16: =IF(Cadastro!#REF!="","",Cadastro!#REF!) -> #REF! | G16: =IF(Cadastro!#REF!="","",Cadastro!#REF!) -> #REF! | H16: =IF(Cadastro!#REF!="","",Cadastro!#REF!) -> #REF! | I16: =IF(ISERROR(SUM(O16:Z16)),0,(SUM(O16:Z16))) -> 0 | N16: =Cadastro!#REF! -> #REF! | O16: =IF(ISERROR(SUMIF(INDIRECT(O$9&$AA$9),$N16,INDIRECT(O$9&$AA$10))),0,(SUMIF(INDIRECT(O$9&$AA$9),$N16,INDIRECT(O$9&$AA$10)))) -> 0 | P16: =IF(ISERROR(SUMIF(INDIRECT(P$9&$AA$9),$N16,INDIRECT(P$9&$AA$10))),0,(SUMIF(INDIRECT(P$9&$AA$9),$N16,INDIRECT(P$9&$AA$10)))) -> 0 | Q16: =IF(ISERROR(SUMIF(INDIRECT(Q$9&$AA$9),$N16,INDIRECT(Q$9&$AA$10))),0,(SUMIF(INDIRECT(Q$9&$AA$9),$N16,INDIRECT(Q$9&$AA$10)))) -> 0 | R16: =IF(ISERROR(SUMIF(INDIRECT(R$9&$AA$9),$N16,INDIRECT(R$9&$AA$10))),0,(SUMIF(INDIRECT(R$9&$AA$9),$N16,INDIRECT(R$9&$AA$10)))) -> 0 | S16: =IF(ISERROR(SUMIF(INDIRECT(S$9&$AA$9),$N16,INDIRECT(S$9&$AA$10))),0,(SUMIF(INDIRECT(S$9&$AA$9),$N16,INDIRECT(S$9&$AA$10)))) -> 0 | T16: =IF(ISERROR(SUMIF(INDIRECT(T$9&$AA$9),$N16,INDIRECT(T$9&$AA$10))),0,(SUMIF(INDIRECT(T$9&$AA$9),$N16,INDIRECT(T$9&$AA$10)))) -> 0 | U16: =IF(ISERROR(SUMIF(INDIRECT(U$9&$AA$9),$N16,INDIRECT(U$9&$AA$10))),0,(SUMIF(INDIRECT(U$9&$AA$9),$N16,INDIRECT(U$9&$AA$10)))) -> 0 | V16: =IF(ISERROR(SUMIF(INDIRECT(V$9&$AA$9),$N16,INDIRECT(V$9&$AA$10))),0,(SUMIF(INDIRECT(V$9&$AA$9),$N16,INDIRECT(V$9&$AA$10)))) -> 0 | ... Z16: =IF(ISERROR(SUMIF(INDIRECT(Z$9&$AA$9),$N16,INDIRECT(Z$9&$AA$10))),0,(SUMIF(INDIRECT(Z$9&$AA$9),$N16,INDIRECT(Z$9&$AA$10)))) -> 0
F17: =IF(Cadastro!#REF!="","",Cadastro!#REF!) -> #REF! | G17: =IF(Cadastro!#REF!="","",Cadastro!#REF!) -> #REF! | H17: =IF(Cadastro!#REF!="","",Cadastro!#REF!) -> #REF! | I17: =IF(ISERROR(SUM(O17:Z17)),0,(SUM(O17:Z17))) -> 0 | N17: =Cadastro!#REF! -> #REF! | O17: =IF(ISERROR(SUMIF(INDIRECT(O$9&$AA$9),$N17,INDIRECT(O$9&$AA$10))),0,(SUMIF(INDIRECT(O$9&$AA$9),$N17,INDIRECT(O$9&$AA$10)))) -> 0 | P17: =IF(ISERROR(SUMIF(INDIRECT(P$9&$AA$9),$N17,INDIRECT(P$9&$AA$10))),0,(SUMIF(INDIRECT(P$9&$AA$9),$N17,INDIRECT(P$9&$AA$10)))) -> 0 | Q17: =IF(ISERROR(SUMIF(INDIRECT(Q$9&$AA$9),$N17,INDIRECT(Q$9&$AA$10))),0,(SUMIF(INDIRECT(Q$9&$AA$9),$N17,INDIRECT(Q$9&$AA$10)))) -> 0 | R17: =IF(ISERROR(SUMIF(INDIRECT(R$9&$AA$9),$N17,INDIRECT(R$9&$AA$10))),0,(SUMIF(INDIRECT(R$9&$AA$9),$N17,INDIRECT(R$9&$AA$10)))) -> 0 | S17: =IF(ISERROR(SUMIF(INDIRECT(S$9&$AA$9),$N17,INDIRECT(S$9&$AA$10))),0,(SUMIF(INDIRECT(S$9&$AA$9),$N17,INDIRECT(S$9&$AA$10)))) -> 0 | T17: =IF(ISERROR(SUMIF(INDIRECT(T$9&$AA$9),$N17,INDIRECT(T$9&$AA$10))),0,(SUMIF(INDIRECT(T$9&$AA$9),$N17,INDIRECT(T$9&$AA$10)))) -> 0 | U17: =IF(ISERROR(SUMIF(INDIRECT(U$9&$AA$9),$N17,INDIRECT(U$9&$AA$10))),0,(SUMIF(INDIRECT(U$9&$AA$9),$N17,INDIRECT(U$9&$AA$10)))) -> 0 | V17: =IF(ISERROR(SUMIF(INDIRECT(V$9&$AA$9),$N17,INDIRECT(V$9&$AA$10))),0,(SUMIF(INDIRECT(V$9&$AA$9),$N17,INDIRECT(V$9&$AA$10)))) -> 0 | ... Z17: =IF(ISERROR(SUMIF(INDIRECT(Z$9&$AA$9),$N17,INDIRECT(Z$9&$AA$10))),0,(SUMIF(INDIRECT(Z$9&$AA$9),$N17,INDIRECT(Z$9&$AA$10)))) -> 0
F18: =IF(Cadastro!F11="","",Cadastro!F11) -> ADILMA PIRES DA CRUZ | G18: =IF(Cadastro!#REF!="","",Cadastro!#REF!) -> #REF! | H18: =IF(Cadastro!#REF!="","",Cadastro!#REF!) -> #REF! | I18: =IF(ISERROR(SUM(O18:Z18)),0,(SUM(O18:Z18))) -> 0 | N18: =Cadastro!#REF! -> #REF! | O18: =IF(ISERROR(SUMIF(INDIRECT(O$9&$AA$9),$N18,INDIRECT(O$9&$AA$10))),0,(SUMIF(INDIRECT(O$9&$AA$9),$N18,INDIRECT(O$9&$AA$10)))) -> 0 | P18: =IF(ISERROR(SUMIF(INDIRECT(P$9&$AA$9),$N18,INDIRECT(P$9&$AA$10))),0,(SUMIF(INDIRECT(P$9&$AA$9),$N18,INDIRECT(P$9&$AA$10)))) -> 0 | Q18: =IF(ISERROR(SUMIF(INDIRECT(Q$9&$AA$9),$N18,INDIRECT(Q$9&$AA$10))),0,(SUMIF(INDIRECT(Q$9&$AA$9),$N18,INDIRECT(Q$9&$AA$10)))) -> 0 | R18: =IF(ISERROR(SUMIF(INDIRECT(R$9&$AA$9),$N18,INDIRECT(R$9&$AA$10))),0,(SUMIF(INDIRECT(R$9&$AA$9),$N18,INDIRECT(R$9&$AA$10)))) -> 0 | S18: =IF(ISERROR(SUMIF(INDIRECT(S$9&$AA$9),$N18,INDIRECT(S$9&$AA$10))),0,(SUMIF(INDIRECT(S$9&$AA$9),$N18,INDIRECT(S$9&$AA$10)))) -> 0 | T18: =IF(ISERROR(SUMIF(INDIRECT(T$9&$AA$9),$N18,INDIRECT(T$9&$AA$10))),0,(SUMIF(INDIRECT(T$9&$AA$9),$N18,INDIRECT(T$9&$AA$10)))) -> 0 | U18: =IF(ISERROR(SUMIF(INDIRECT(U$9&$AA$9),$N18,INDIRECT(U$9&$AA$10))),0,(SUMIF(INDIRECT(U$9&$AA$9),$N18,INDIRECT(U$9&$AA$10)))) -> 0 | V18: =IF(ISERROR(SUMIF(INDIRECT(V$9&$AA$9),$N18,INDIRECT(V$9&$AA$10))),0,(SUMIF(INDIRECT(V$9&$AA$9),$N18,INDIRECT(V$9&$AA$10)))) -> 0 | ... Z18: =IF(ISERROR(SUMIF(INDIRECT(Z$9&$AA$9),$N18,INDIRECT(Z$9&$AA$10))),0,(SUMIF(INDIRECT(Z$9&$AA$9),$N18,INDIRECT(Z$9&$AA$10)))) -> 0
F19: =IF(Cadastro!#REF!="","",Cadastro!#REF!) -> #REF! | G19: =IF(Cadastro!#REF!="","",Cadastro!#REF!) -> #REF! | H19: =IF(Cadastro!#REF!="","",Cadastro!#REF!) -> #REF! | I19: =IF(ISERROR(SUM(O19:Z19)),0,(SUM(O19:Z19))) -> 0 | N19: =Cadastro!#REF! -> #REF! | O19: =IF(ISERROR(SUMIF(INDIRECT(O$9&$AA$9),$N19,INDIRECT(O$9&$AA$10))),0,(SUMIF(INDIRECT(O$9&$AA$9),$N19,INDIRECT(O$9&$AA$10)))) -> 0 | P19: =IF(ISERROR(SUMIF(INDIRECT(P$9&$AA$9),$N19,INDIRECT(P$9&$AA$10))),0,(SUMIF(INDIRECT(P$9&$AA$9),$N19,INDIRECT(P$9&$AA$10)))) -> 0 | Q19: =IF(ISERROR(SUMIF(INDIRECT(Q$9&$AA$9),$N19,INDIRECT(Q$9&$AA$10))),0,(SUMIF(INDIRECT(Q$9&$AA$9),$N19,INDIRECT(Q$9&$AA$10)))) -> 0 | R19: =IF(ISERROR(SUMIF(INDIRECT(R$9&$AA$9),$N19,INDIRECT(R$9&$AA$10))),0,(SUMIF(INDIRECT(R$9&$AA$9),$N19,INDIRECT(R$9&$AA$10)))) -> 0 | S19: =IF(ISERROR(SUMIF(INDIRECT(S$9&$AA$9),$N19,INDIRECT(S$9&$AA$10))),0,(SUMIF(INDIRECT(S$9&$AA$9),$N19,INDIRECT(S$9&$AA$10)))) -> 0 | T19: =IF(ISERROR(SUMIF(INDIRECT(T$9&$AA$9),$N19,INDIRECT(T$9&$AA$10))),0,(SUMIF(INDIRECT(T$9&$AA$9),$N19,INDIRECT(T$9&$AA$10)))) -> 0 | U19: =IF(ISERROR(SUMIF(INDIRECT(U$9&$AA$9),$N19,INDIRECT(U$9&$AA$10))),0,(SUMIF(INDIRECT(U$9&$AA$9),$N19,INDIRECT(U$9&$AA$10)))) -> 0 | V19: =IF(ISERROR(SUMIF(INDIRECT(V$9&$AA$9),$N19,INDIRECT(V$9&$AA$10))),0,(SUMIF(INDIRECT(V$9&$AA$9),$N19,INDIRECT(V$9&$AA$10)))) -> 0 | ... Z19: =IF(ISERROR(SUMIF(INDIRECT(Z$9&$AA$9),$N19,INDIRECT(Z$9&$AA$10))),0,(SUMIF(INDIRECT(Z$9&$AA$9),$N19,INDIRECT(Z$9&$AA$10)))) -> 0
F20: =IF(Cadastro!#REF!="","",Cadastro!#REF!) -> #REF! | G20: =IF(Cadastro!#REF!="","",Cadastro!#REF!) -> #REF! | H20: =IF(Cadastro!#REF!="","",Cadastro!#REF!) -> #REF! | I20: =IF(ISERROR(SUM(O20:Z20)),0,(SUM(O20:Z20))) -> 0 | N20: =Cadastro!#REF! -> #REF! | O20: =IF(ISERROR(SUMIF(INDIRECT(O$9&$AA$9),$N20,INDIRECT(O$9&$AA$10))),0,(SUMIF(INDIRECT(O$9&$AA$9),$N20,INDIRECT(O$9&$AA$10)))) -> 0 | P20: =IF(ISERROR(SUMIF(INDIRECT(P$9&$AA$9),$N20,INDIRECT(P$9&$AA$10))),0,(SUMIF(INDIRECT(P$9&$AA$9),$N20,INDIRECT(P$9&$AA$10)))) -> 0 | Q20: =IF(ISERROR(SUMIF(INDIRECT(Q$9&$AA$9),$N20,INDIRECT(Q$9&$AA$10))),0,(SUMIF(INDIRECT(Q$9&$AA$9),$N20,INDIRECT(Q$9&$AA$10)))) -> 0 | R20: =IF(ISERROR(SUMIF(INDIRECT(R$9&$AA$9),$N20,INDIRECT(R$9&$AA$10))),0,(SUMIF(INDIRECT(R$9&$AA$9),$N20,INDIRECT(R$9&$AA$10)))) -> 0 | S20: =IF(ISERROR(SUMIF(INDIRECT(S$9&$AA$9),$N20,INDIRECT(S$9&$AA$10))),0,(SUMIF(INDIRECT(S$9&$AA$9),$N20,INDIRECT(S$9&$AA$10)))) -> 0 | T20: =IF(ISERROR(SUMIF(INDIRECT(T$9&$AA$9),$N20,INDIRECT(T$9&$AA$10))),0,(SUMIF(INDIRECT(T$9&$AA$9),$N20,INDIRECT(T$9&$AA$10)))) -> 0 | U20: =IF(ISERROR(SUMIF(INDIRECT(U$9&$AA$9),$N20,INDIRECT(U$9&$AA$10))),0,(SUMIF(INDIRECT(U$9&$AA$9),$N20,INDIRECT(U$9&$AA$10)))) -> 0 | V20: =IF(ISERROR(SUMIF(INDIRECT(V$9&$AA$9),$N20,INDIRECT(V$9&$AA$10))),0,(SUMIF(INDIRECT(V$9&$AA$9),$N20,INDIRECT(V$9&$AA$10)))) -> 0 | ... Z20: =IF(ISERROR(SUMIF(INDIRECT(Z$9&$AA$9),$N20,INDIRECT(Z$9&$AA$10))),0,(SUMIF(INDIRECT(Z$9&$AA$9),$N20,INDIRECT(Z$9&$AA$10)))) -> 0
F21: =IF(Cadastro!#REF!="","",Cadastro!#REF!) -> #REF! | G21: =IF(Cadastro!#REF!="","",Cadastro!#REF!) -> #REF! | H21: =IF(Cadastro!#REF!="","",Cadastro!#REF!) -> #REF! | I21: =IF(ISERROR(SUM(O21:Z21)),0,(SUM(O21:Z21))) -> 0 | N21: =Cadastro!#REF! -> #REF! | O21: =IF(ISERROR(SUMIF(INDIRECT(O$9&$AA$9),$N21,INDIRECT(O$9&$AA$10))),0,(SUMIF(INDIRECT(O$9&$AA$9),$N21,INDIRECT(O$9&$AA$10)))) -> 0 | P21: =IF(ISERROR(SUMIF(INDIRECT(P$9&$AA$9),$N21,INDIRECT(P$9&$AA$10))),0,(SUMIF(INDIRECT(P$9&$AA$9),$N21,INDIRECT(P$9&$AA$10)))) -> 0 | Q21: =IF(ISERROR(SUMIF(INDIRECT(Q$9&$AA$9),$N21,INDIRECT(Q$9&$AA$10))),0,(SUMIF(INDIRECT(Q$9&$AA$9),$N21,INDIRECT(Q$9&$AA$10)))) -> 0 | R21: =IF(ISERROR(SUMIF(INDIRECT(R$9&$AA$9),$N21,INDIRECT(R$9&$AA$10))),0,(SUMIF(INDIRECT(R$9&$AA$9),$N21,INDIRECT(R$9&$AA$10)))) -> 0 | S21: =IF(ISERROR(SUMIF(INDIRECT(S$9&$AA$9),$N21,INDIRECT(S$9&$AA$10))),0,(SUMIF(INDIRECT(S$9&$AA$9),$N21,INDIRECT(S$9&$AA$10)))) -> 0 | T21: =IF(ISERROR(SUMIF(INDIRECT(T$9&$AA$9),$N21,INDIRECT(T$9&$AA$10))),0,(SUMIF(INDIRECT(T$9&$AA$9),$N21,INDIRECT(T$9&$AA$10)))) -> 0 | U21: =IF(ISERROR(SUMIF(INDIRECT(U$9&$AA$9),$N21,INDIRECT(U$9&$AA$10))),0,(SUMIF(INDIRECT(U$9&$AA$9),$N21,INDIRECT(U$9&$AA$10)))) -> 0 | V21: =IF(ISERROR(SUMIF(INDIRECT(V$9&$AA$9),$N21,INDIRECT(V$9&$AA$10))),0,(SUMIF(INDIRECT(V$9&$AA$9),$N21,INDIRECT(V$9&$AA$10)))) -> 0 | ... Z21: =IF(ISERROR(SUMIF(INDIRECT(Z$9&$AA$9),$N21,INDIRECT(Z$9&$AA$10))),0,(SUMIF(INDIRECT(Z$9&$AA$9),$N21,INDIRECT(Z$9&$AA$10)))) -> 0
F22: =IF(Cadastro!#REF!="","",Cadastro!#REF!) -> #REF! | G22: =IF(Cadastro!#REF!="","",Cadastro!#REF!) -> #REF! | H22: =IF(Cadastro!#REF!="","",Cadastro!#REF!) -> #REF! | I22: =IF(ISERROR(SUM(O22:Z22)),0,(SUM(O22:Z22))) -> 0 | N22: =Cadastro!#REF! -> #REF! | O22: =IF(ISERROR(SUMIF(INDIRECT(O$9&$AA$9),$N22,INDIRECT(O$9&$AA$10))),0,(SUMIF(INDIRECT(O$9&$AA$9),$N22,INDIRECT(O$9&$AA$10)))) -> 0 | P22: =IF(ISERROR(SUMIF(INDIRECT(P$9&$AA$9),$N22,INDIRECT(P$9&$AA$10))),0,(SUMIF(INDIRECT(P$9&$AA$9),$N22,INDIRECT(P$9&$AA$10)))) -> 0 | Q22: =IF(ISERROR(SUMIF(INDIRECT(Q$9&$AA$9),$N22,INDIRECT(Q$9&$AA$10))),0,(SUMIF(INDIRECT(Q$9&$AA$9),$N22,INDIRECT(Q$9&$AA$10)))) -> 0 | R22: =IF(ISERROR(SUMIF(INDIRECT(R$9&$AA$9),$N22,INDIRECT(R$9&$AA$10))),0,(SUMIF(INDIRECT(R$9&$AA$9),$N22,INDIRECT(R$9&$AA$10)))) -> 0 | S22: =IF(ISERROR(SUMIF(INDIRECT(S$9&$AA$9),$N22,INDIRECT(S$9&$AA$10))),0,(SUMIF(INDIRECT(S$9&$AA$9),$N22,INDIRECT(S$9&$AA$10)))) -> 0 | T22: =IF(ISERROR(SUMIF(INDIRECT(T$9&$AA$9),$N22,INDIRECT(T$9&$AA$10))),0,(SUMIF(INDIRECT(T$9&$AA$9),$N22,INDIRECT(T$9&$AA$10)))) -> 0 | U22: =IF(ISERROR(SUMIF(INDIRECT(U$9&$AA$9),$N22,INDIRECT(U$9&$AA$10))),0,(SUMIF(INDIRECT(U$9&$AA$9),$N22,INDIRECT(U$9&$AA$10)))) -> 0 | V22: =IF(ISERROR(SUMIF(INDIRECT(V$9&$AA$9),$N22,INDIRECT(V$9&$AA$10))),0,(SUMIF(INDIRECT(V$9&$AA$9),$N22,INDIRECT(V$9&$AA$10)))) -> 0 | ... Z22: =IF(ISERROR(SUMIF(INDIRECT(Z$9&$AA$9),$N22,INDIRECT(Z$9&$AA$10))),0,(SUMIF(INDIRECT(Z$9&$AA$9),$N22,INDIRECT(Z$9&$AA$10)))) -> 0
F23: =IF(Cadastro!#REF!="","",Cadastro!#REF!) -> #REF! | G23: =IF(Cadastro!#REF!="","",Cadastro!#REF!) -> #REF! | H23: =IF(Cadastro!#REF!="","",Cadastro!#REF!) -> #REF! | I23: =IF(ISERROR(SUM(O23:Z23)),0,(SUM(O23:Z23))) -> 0 | N23: =Cadastro!#REF! -> #REF! | O23: =IF(ISERROR(SUMIF(INDIRECT(O$9&$AA$9),$N23,INDIRECT(O$9&$AA$10))),0,(SUMIF(INDIRECT(O$9&$AA$9),$N23,INDIRECT(O$9&$AA$10)))) -> 0 | P23: =IF(ISERROR(SUMIF(INDIRECT(P$9&$AA$9),$N23,INDIRECT(P$9&$AA$10))),0,(SUMIF(INDIRECT(P$9&$AA$9),$N23,INDIRECT(P$9&$AA$10)))) -> 0 | Q23: =IF(ISERROR(SUMIF(INDIRECT(Q$9&$AA$9),$N23,INDIRECT(Q$9&$AA$10))),0,(SUMIF(INDIRECT(Q$9&$AA$9),$N23,INDIRECT(Q$9&$AA$10)))) -> 0 | R23: =IF(ISERROR(SUMIF(INDIRECT(R$9&$AA$9),$N23,INDIRECT(R$9&$AA$10))),0,(SUMIF(INDIRECT(R$9&$AA$9),$N23,INDIRECT(R$9&$AA$10)))) -> 0 | S23: =IF(ISERROR(SUMIF(INDIRECT(S$9&$AA$9),$N23,INDIRECT(S$9&$AA$10))),0,(SUMIF(INDIRECT(S$9&$AA$9),$N23,INDIRECT(S$9&$AA$10)))) -> 0 | T23: =IF(ISERROR(SUMIF(INDIRECT(T$9&$AA$9),$N23,INDIRECT(T$9&$AA$10))),0,(SUMIF(INDIRECT(T$9&$AA$9),$N23,INDIRECT(T$9&$AA$10)))) -> 0 | U23: =IF(ISERROR(SUMIF(INDIRECT(U$9&$AA$9),$N23,INDIRECT(U$9&$AA$10))),0,(SUMIF(INDIRECT(U$9&$AA$9),$N23,INDIRECT(U$9&$AA$10)))) -> 0 | V23: =IF(ISERROR(SUMIF(INDIRECT(V$9&$AA$9),$N23,INDIRECT(V$9&$AA$10))),0,(SUMIF(INDIRECT(V$9&$AA$9),$N23,INDIRECT(V$9&$AA$10)))) -> 0 | ... Z23: =IF(ISERROR(SUMIF(INDIRECT(Z$9&$AA$9),$N23,INDIRECT(Z$9&$AA$10))),0,(SUMIF(INDIRECT(Z$9&$AA$9),$N23,INDIRECT(Z$9&$AA$10)))) -> 0
F24: =IF(Cadastro!#REF!="","",Cadastro!#REF!) -> #REF! | G24: =IF(Cadastro!#REF!="","",Cadastro!#REF!) -> #REF! | H24: =IF(Cadastro!#REF!="","",Cadastro!#REF!) -> #REF! | I24: =IF(ISERROR(SUM(O24:Z24)),0,(SUM(O24:Z24))) -> 0 | N24: =Cadastro!#REF! -> #REF! | O24: =IF(ISERROR(SUMIF(INDIRECT(O$9&$AA$9),$N24,INDIRECT(O$9&$AA$10))),0,(SUMIF(INDIRECT(O$9&$AA$9),$N24,INDIRECT(O$9&$AA$10)))) -> 0 | P24: =IF(ISERROR(SUMIF(INDIRECT(P$9&$AA$9),$N24,INDIRECT(P$9&$AA$10))),0,(SUMIF(INDIRECT(P$9&$AA$9),$N24,INDIRECT(P$9&$AA$10)))) -> 0 | Q24: =IF(ISERROR(SUMIF(INDIRECT(Q$9&$AA$9),$N24,INDIRECT(Q$9&$AA$10))),0,(SUMIF(INDIRECT(Q$9&$AA$9),$N24,INDIRECT(Q$9&$AA$10)))) -> 0 | R24: =IF(ISERROR(SUMIF(INDIRECT(R$9&$AA$9),$N24,INDIRECT(R$9&$AA$10))),0,(SUMIF(INDIRECT(R$9&$AA$9),$N24,INDIRECT(R$9&$AA$10)))) -> 0 | S24: =IF(ISERROR(SUMIF(INDIRECT(S$9&$AA$9),$N24,INDIRECT(S$9&$AA$10))),0,(SUMIF(INDIRECT(S$9&$AA$9),$N24,INDIRECT(S$9&$AA$10)))) -> 0 | T24: =IF(ISERROR(SUMIF(INDIRECT(T$9&$AA$9),$N24,INDIRECT(T$9&$AA$10))),0,(SUMIF(INDIRECT(T$9&$AA$9),$N24,INDIRECT(T$9&$AA$10)))) -> 0 | U24: =IF(ISERROR(SUMIF(INDIRECT(U$9&$AA$9),$N24,INDIRECT(U$9&$AA$10))),0,(SUMIF(INDIRECT(U$9&$AA$9),$N24,INDIRECT(U$9&$AA$10)))) -> 0 | V24: =IF(ISERROR(SUMIF(INDIRECT(V$9&$AA$9),$N24,INDIRECT(V$9&$AA$10))),0,(SUMIF(INDIRECT(V$9&$AA$9),$N24,INDIRECT(V$9&$AA$10)))) -> 0 | ... Z24: =IF(ISERROR(SUMIF(INDIRECT(Z$9&$AA$9),$N24,INDIRECT(Z$9&$AA$10))),0,(SUMIF(INDIRECT(Z$9&$AA$9),$N24,INDIRECT(Z$9&$AA$10)))) -> 0
F25: =IF(Cadastro!#REF!="","",Cadastro!#REF!) -> #REF! | G25: =IF(Cadastro!#REF!="","",Cadastro!#REF!) -> #REF! | H25: =IF(Cadastro!#REF!="","",Cadastro!#REF!) -> #REF! | I25: =IF(ISERROR(SUM(O25:Z25)),0,(SUM(O25:Z25))) -> 0 | N25: =Cadastro!#REF! -> #REF! | O25: =IF(ISERROR(SUMIF(INDIRECT(O$9&$AA$9),$N25,INDIRECT(O$9&$AA$10))),0,(SUMIF(INDIRECT(O$9&$AA$9),$N25,INDIRECT(O$9&$AA$10)))) -> 0 | P25: =IF(ISERROR(SUMIF(INDIRECT(P$9&$AA$9),$N25,INDIRECT(P$9&$AA$10))),0,(SUMIF(INDIRECT(P$9&$AA$9),$N25,INDIRECT(P$9&$AA$10)))) -> 0 | Q25: =IF(ISERROR(SUMIF(INDIRECT(Q$9&$AA$9),$N25,INDIRECT(Q$9&$AA$10))),0,(SUMIF(INDIRECT(Q$9&$AA$9),$N25,INDIRECT(Q$9&$AA$10)))) -> 0 | R25: =IF(ISERROR(SUMIF(INDIRECT(R$9&$AA$9),$N25,INDIRECT(R$9&$AA$10))),0,(SUMIF(INDIRECT(R$9&$AA$9),$N25,INDIRECT(R$9&$AA$10)))) -> 0 | S25: =IF(ISERROR(SUMIF(INDIRECT(S$9&$AA$9),$N25,INDIRECT(S$9&$AA$10))),0,(SUMIF(INDIRECT(S$9&$AA$9),$N25,INDIRECT(S$9&$AA$10)))) -> 0 | T25: =IF(ISERROR(SUMIF(INDIRECT(T$9&$AA$9),$N25,INDIRECT(T$9&$AA$10))),0,(SUMIF(INDIRECT(T$9&$AA$9),$N25,INDIRECT(T$9&$AA$10)))) -> 0 | U25: =IF(ISERROR(SUMIF(INDIRECT(U$9&$AA$9),$N25,INDIRECT(U$9&$AA$10))),0,(SUMIF(INDIRECT(U$9&$AA$9),$N25,INDIRECT(U$9&$AA$10)))) -> 0 | V25: =IF(ISERROR(SUMIF(INDIRECT(V$9&$AA$9),$N25,INDIRECT(V$9&$AA$10))),0,(SUMIF(INDIRECT(V$9&$AA$9),$N25,INDIRECT(V$9&$AA$10)))) -> 0 | ... Z25: =IF(ISERROR(SUMIF(INDIRECT(Z$9&$AA$9),$N25,INDIRECT(Z$9&$AA$10))),0,(SUMIF(INDIRECT(Z$9&$AA$9),$N25,INDIRECT(Z$9&$AA$10)))) -> 0
F26: =IF(Cadastro!#REF!="","",Cadastro!#REF!) -> #REF! | G26: =IF(Cadastro!#REF!="","",Cadastro!#REF!) -> #REF! | H26: =IF(Cadastro!#REF!="","",Cadastro!#REF!) -> #REF! | I26: =IF(ISERROR(SUM(O26:Z26)),0,(SUM(O26:Z26))) -> 0 | N26: =Cadastro!#REF! -> #REF! | O26: =IF(ISERROR(SUMIF(INDIRECT(O$9&$AA$9),$N26,INDIRECT(O$9&$AA$10))),0,(SUMIF(INDIRECT(O$9&$AA$9),$N26,INDIRECT(O$9&$AA$10)))) -> 0 | P26: =IF(ISERROR(SUMIF(INDIRECT(P$9&$AA$9),$N26,INDIRECT(P$9&$AA$10))),0,(SUMIF(INDIRECT(P$9&$AA$9),$N26,INDIRECT(P$9&$AA$10)))) -> 0 | Q26: =IF(ISERROR(SUMIF(INDIRECT(Q$9&$AA$9),$N26,INDIRECT(Q$9&$AA$10))),0,(SUMIF(INDIRECT(Q$9&$AA$9),$N26,INDIRECT(Q$9&$AA$10)))) -> 0 | R26: =IF(ISERROR(SUMIF(INDIRECT(R$9&$AA$9),$N26,INDIRECT(R$9&$AA$10))),0,(SUMIF(INDIRECT(R$9&$AA$9),$N26,INDIRECT(R$9&$AA$10)))) -> 0 | S26: =IF(ISERROR(SUMIF(INDIRECT(S$9&$AA$9),$N26,INDIRECT(S$9&$AA$10))),0,(SUMIF(INDIRECT(S$9&$AA$9),$N26,INDIRECT(S$9&$AA$10)))) -> 0 | T26: =IF(ISERROR(SUMIF(INDIRECT(T$9&$AA$9),$N26,INDIRECT(T$9&$AA$10))),0,(SUMIF(INDIRECT(T$9&$AA$9),$N26,INDIRECT(T$9&$AA$10)))) -> 0 | U26: =IF(ISERROR(SUMIF(INDIRECT(U$9&$AA$9),$N26,INDIRECT(U$9&$AA$10))),0,(SUMIF(INDIRECT(U$9&$AA$9),$N26,INDIRECT(U$9&$AA$10)))) -> 0 | V26: =IF(ISERROR(SUMIF(INDIRECT(V$9&$AA$9),$N26,INDIRECT(V$9&$AA$10))),0,(SUMIF(INDIRECT(V$9&$AA$9),$N26,INDIRECT(V$9&$AA$10)))) -> 0 | ... Z26: =IF(ISERROR(SUMIF(INDIRECT(Z$9&$AA$9),$N26,INDIRECT(Z$9&$AA$10))),0,(SUMIF(INDIRECT(Z$9&$AA$9),$N26,INDIRECT(Z$9&$AA$10)))) -> 0
F27: =IF(Cadastro!#REF!="","",Cadastro!#REF!) -> #REF! | G27: =IF(Cadastro!#REF!="","",Cadastro!#REF!) -> #REF! | H27: =IF(Cadastro!#REF!="","",Cadastro!#REF!) -> #REF! | I27: =IF(ISERROR(SUM(O27:Z27)),0,(SUM(O27:Z27))) -> 0 | N27: =Cadastro!#REF! -> #REF! | O27: =IF(ISERROR(SUMIF(INDIRECT(O$9&$AA$9),$N27,INDIRECT(O$9&$AA$10))),0,(SUMIF(INDIRECT(O$9&$AA$9),$N27,INDIRECT(O$9&$AA$10)))) -> 0 | P27: =IF(ISERROR(SUMIF(INDIRECT(P$9&$AA$9),$N27,INDIRECT(P$9&$AA$10))),0,(SUMIF(INDIRECT(P$9&$AA$9),$N27,INDIRECT(P$9&$AA$10)))) -> 0 | Q27: =IF(ISERROR(SUMIF(INDIRECT(Q$9&$AA$9),$N27,INDIRECT(Q$9&$AA$10))),0,(SUMIF(INDIRECT(Q$9&$AA$9),$N27,INDIRECT(Q$9&$AA$10)))) -> 0 | R27: =IF(ISERROR(SUMIF(INDIRECT(R$9&$AA$9),$N27,INDIRECT(R$9&$AA$10))),0,(SUMIF(INDIRECT(R$9&$AA$9),$N27,INDIRECT(R$9&$AA$10)))) -> 0 | S27: =IF(ISERROR(SUMIF(INDIRECT(S$9&$AA$9),$N27,INDIRECT(S$9&$AA$10))),0,(SUMIF(INDIRECT(S$9&$AA$9),$N27,INDIRECT(S$9&$AA$10)))) -> 0 | T27: =IF(ISERROR(SUMIF(INDIRECT(T$9&$AA$9),$N27,INDIRECT(T$9&$AA$10))),0,(SUMIF(INDIRECT(T$9&$AA$9),$N27,INDIRECT(T$9&$AA$10)))) -> 0 | U27: =IF(ISERROR(SUMIF(INDIRECT(U$9&$AA$9),$N27,INDIRECT(U$9&$AA$10))),0,(SUMIF(INDIRECT(U$9&$AA$9),$N27,INDIRECT(U$9&$AA$10)))) -> 0 | V27: =IF(ISERROR(SUMIF(INDIRECT(V$9&$AA$9),$N27,INDIRECT(V$9&$AA$10))),0,(SUMIF(INDIRECT(V$9&$AA$9),$N27,INDIRECT(V$9&$AA$10)))) -> 0 | ... Z27: =IF(ISERROR(SUMIF(INDIRECT(Z$9&$AA$9),$N27,INDIRECT(Z$9&$AA$10))),0,(SUMIF(INDIRECT(Z$9&$AA$9),$N27,INDIRECT(Z$9&$AA$10)))) -> 0
F28: =IF(Cadastro!#REF!="","",Cadastro!#REF!) -> #REF! | G28: =IF(Cadastro!#REF!="","",Cadastro!#REF!) -> #REF! | H28: =IF(Cadastro!#REF!="","",Cadastro!#REF!) -> #REF! | I28: =IF(ISERROR(SUM(O28:Z28)),0,(SUM(O28:Z28))) -> 0 | N28: =Cadastro!#REF! -> #REF! | O28: =IF(ISERROR(SUMIF(INDIRECT(O$9&$AA$9),$N28,INDIRECT(O$9&$AA$10))),0,(SUMIF(INDIRECT(O$9&$AA$9),$N28,INDIRECT(O$9&$AA$10)))) -> 0 | P28: =IF(ISERROR(SUMIF(INDIRECT(P$9&$AA$9),$N28,INDIRECT(P$9&$AA$10))),0,(SUMIF(INDIRECT(P$9&$AA$9),$N28,INDIRECT(P$9&$AA$10)))) -> 0 | Q28: =IF(ISERROR(SUMIF(INDIRECT(Q$9&$AA$9),$N28,INDIRECT(Q$9&$AA$10))),0,(SUMIF(INDIRECT(Q$9&$AA$9),$N28,INDIRECT(Q$9&$AA$10)))) -> 0 | R28: =IF(ISERROR(SUMIF(INDIRECT(R$9&$AA$9),$N28,INDIRECT(R$9&$AA$10))),0,(SUMIF(INDIRECT(R$9&$AA$9),$N28,INDIRECT(R$9&$AA$10)))) -> 0 | S28: =IF(ISERROR(SUMIF(INDIRECT(S$9&$AA$9),$N28,INDIRECT(S$9&$AA$10))),0,(SUMIF(INDIRECT(S$9&$AA$9),$N28,INDIRECT(S$9&$AA$10)))) -> 0 | T28: =IF(ISERROR(SUMIF(INDIRECT(T$9&$AA$9),$N28,INDIRECT(T$9&$AA$10))),0,(SUMIF(INDIRECT(T$9&$AA$9),$N28,INDIRECT(T$9&$AA$10)))) -> 0 | U28: =IF(ISERROR(SUMIF(INDIRECT(U$9&$AA$9),$N28,INDIRECT(U$9&$AA$10))),0,(SUMIF(INDIRECT(U$9&$AA$9),$N28,INDIRECT(U$9&$AA$10)))) -> 0 | V28: =IF(ISERROR(SUMIF(INDIRECT(V$9&$AA$9),$N28,INDIRECT(V$9&$AA$10))),0,(SUMIF(INDIRECT(V$9&$AA$9),$N28,INDIRECT(V$9&$AA$10)))) -> 0 | ... Z28: =IF(ISERROR(SUMIF(INDIRECT(Z$9&$AA$9),$N28,INDIRECT(Z$9&$AA$10))),0,(SUMIF(INDIRECT(Z$9&$AA$9),$N28,INDIRECT(Z$9&$AA$10)))) -> 0
F29: =IF(Cadastro!#REF!="","",Cadastro!#REF!) -> #REF! | G29: =IF(Cadastro!#REF!="","",Cadastro!#REF!) -> #REF! | H29: =IF(Cadastro!#REF!="","",Cadastro!#REF!) -> #REF! | I29: =IF(ISERROR(SUM(O29:Z29)),0,(SUM(O29:Z29))) -> 0 | N29: =Cadastro!#REF! -> #REF! | O29: =IF(ISERROR(SUMIF(INDIRECT(O$9&$AA$9),$N29,INDIRECT(O$9&$AA$10))),0,(SUMIF(INDIRECT(O$9&$AA$9),$N29,INDIRECT(O$9&$AA$10)))) -> 0 | P29: =IF(ISERROR(SUMIF(INDIRECT(P$9&$AA$9),$N29,INDIRECT(P$9&$AA$10))),0,(SUMIF(INDIRECT(P$9&$AA$9),$N29,INDIRECT(P$9&$AA$10)))) -> 0 | Q29: =IF(ISERROR(SUMIF(INDIRECT(Q$9&$AA$9),$N29,INDIRECT(Q$9&$AA$10))),0,(SUMIF(INDIRECT(Q$9&$AA$9),$N29,INDIRECT(Q$9&$AA$10)))) -> 0 | R29: =IF(ISERROR(SUMIF(INDIRECT(R$9&$AA$9),$N29,INDIRECT(R$9&$AA$10))),0,(SUMIF(INDIRECT(R$9&$AA$9),$N29,INDIRECT(R$9&$AA$10)))) -> 0 | S29: =IF(ISERROR(SUMIF(INDIRECT(S$9&$AA$9),$N29,INDIRECT(S$9&$AA$10))),0,(SUMIF(INDIRECT(S$9&$AA$9),$N29,INDIRECT(S$9&$AA$10)))) -> 0 | T29: =IF(ISERROR(SUMIF(INDIRECT(T$9&$AA$9),$N29,INDIRECT(T$9&$AA$10))),0,(SUMIF(INDIRECT(T$9&$AA$9),$N29,INDIRECT(T$9&$AA$10)))) -> 0 | U29: =IF(ISERROR(SUMIF(INDIRECT(U$9&$AA$9),$N29,INDIRECT(U$9&$AA$10))),0,(SUMIF(INDIRECT(U$9&$AA$9),$N29,INDIRECT(U$9&$AA$10)))) -> 0 | V29: =IF(ISERROR(SUMIF(INDIRECT(V$9&$AA$9),$N29,INDIRECT(V$9&$AA$10))),0,(SUMIF(INDIRECT(V$9&$AA$9),$N29,INDIRECT(V$9&$AA$10)))) -> 0 | ... Z29: =IF(ISERROR(SUMIF(INDIRECT(Z$9&$AA$9),$N29,INDIRECT(Z$9&$AA$10))),0,(SUMIF(INDIRECT(Z$9&$AA$9),$N29,INDIRECT(Z$9&$AA$10)))) -> 0
F30: =IF(Cadastro!#REF!="","",Cadastro!#REF!) -> #REF! | G30: =IF(Cadastro!#REF!="","",Cadastro!#REF!) -> #REF! | H30: =IF(Cadastro!#REF!="","",Cadastro!#REF!) -> #REF! | I30: =IF(ISERROR(SUM(O30:Z30)),0,(SUM(O30:Z30))) -> 0 | N30: =Cadastro!#REF! -> #REF! | O30: =IF(ISERROR(SUMIF(INDIRECT(O$9&$AA$9),$N30,INDIRECT(O$9&$AA$10))),0,(SUMIF(INDIRECT(O$9&$AA$9),$N30,INDIRECT(O$9&$AA$10)))) -> 0 | P30: =IF(ISERROR(SUMIF(INDIRECT(P$9&$AA$9),$N30,INDIRECT(P$9&$AA$10))),0,(SUMIF(INDIRECT(P$9&$AA$9),$N30,INDIRECT(P$9&$AA$10)))) -> 0 | Q30: =IF(ISERROR(SUMIF(INDIRECT(Q$9&$AA$9),$N30,INDIRECT(Q$9&$AA$10))),0,(SUMIF(INDIRECT(Q$9&$AA$9),$N30,INDIRECT(Q$9&$AA$10)))) -> 0 | R30: =IF(ISERROR(SUMIF(INDIRECT(R$9&$AA$9),$N30,INDIRECT(R$9&$AA$10))),0,(SUMIF(INDIRECT(R$9&$AA$9),$N30,INDIRECT(R$9&$AA$10)))) -> 0 | S30: =IF(ISERROR(SUMIF(INDIRECT(S$9&$AA$9),$N30,INDIRECT(S$9&$AA$10))),0,(SUMIF(INDIRECT(S$9&$AA$9),$N30,INDIRECT(S$9&$AA$10)))) -> 0 | T30: =IF(ISERROR(SUMIF(INDIRECT(T$9&$AA$9),$N30,INDIRECT(T$9&$AA$10))),0,(SUMIF(INDIRECT(T$9&$AA$9),$N30,INDIRECT(T$9&$AA$10)))) -> 0 | U30: =IF(ISERROR(SUMIF(INDIRECT(U$9&$AA$9),$N30,INDIRECT(U$9&$AA$10))),0,(SUMIF(INDIRECT(U$9&$AA$9),$N30,INDIRECT(U$9&$AA$10)))) -> 0 | V30: =IF(ISERROR(SUMIF(INDIRECT(V$9&$AA$9),$N30,INDIRECT(V$9&$AA$10))),0,(SUMIF(INDIRECT(V$9&$AA$9),$N30,INDIRECT(V$9&$AA$10)))) -> 0 | ... Z30: =IF(ISERROR(SUMIF(INDIRECT(Z$9&$AA$9),$N30,INDIRECT(Z$9&$AA$10))),0,(SUMIF(INDIRECT(Z$9&$AA$9),$N30,INDIRECT(Z$9&$AA$10)))) -> 0
... F61: =IF(Cadastro!#REF!="","",Cadastro!#REF!) -> #REF! | G61: =IF(Cadastro!#REF!="","",Cadastro!#REF!) -> #REF! | H61: =IF(Cadastro!#REF!="","",Cadastro!#REF!) -> #REF! | I61: =IF(ISERROR(SUM(O61:Z61)),0,(SUM(O61:Z61))) -> 0 | N61: =Cadastro!#REF! -> #REF! | O61: =IF(ISERROR(SUMIF(INDIRECT(O$9&$AA$9),$N61,INDIRECT(O$9&$AA$10))),0,(SUMIF(INDIRECT(O$9&$AA$9),$N61,INDIRECT(O$9&$AA$10)))) -> 0 | P61: =IF(ISERROR(SUMIF(INDIRECT(P$9&$AA$9),$N61,INDIRECT(P$9&$AA$10))),0,(SUMIF(INDIRECT(P$9&$AA$9),$N61,INDIRECT(P$9&$AA$10)))) -> 0 | Q61: =IF(ISERROR(SUMIF(INDIRECT(Q$9&$AA$9),$N61,INDIRECT(Q$9&$AA$10))),0,(SUMIF(INDIRECT(Q$9&$AA$9),$N61,INDIRECT(Q$9&$AA$10)))) -> 0 | R61: =IF(ISERROR(SUMIF(INDIRECT(R$9&$AA$9),$N61,INDIRECT(R$9&$AA$10))),0,(SUMIF(INDIRECT(R$9&$AA$9),$N61,INDIRECT(R$9&$AA$10)))) -> 0 | S61: =IF(ISERROR(SUMIF(INDIRECT(S$9&$AA$9),$N61,INDIRECT(S$9&$AA$10))),0,(SUMIF(INDIRECT(S$9&$AA$9),$N61,INDIRECT(S$9&$AA$10)))) -> 0 | T61: =IF(ISERROR(SUMIF(INDIRECT(T$9&$AA$9),$N61,INDIRECT(T$9&$AA$10))),0,(SUMIF(INDIRECT(T$9&$AA$9),$N61,INDIRECT(T$9&$AA$10)))) -> 0 | U61: =IF(ISERROR(SUMIF(INDIRECT(U$9&$AA$9),$N61,INDIRECT(U$9&$AA$10))),0,(SUMIF(INDIRECT(U$9&$AA$9),$N61,INDIRECT(U$9&$AA$10)))) -> 0 | V61: =IF(ISERROR(SUMIF(INDIRECT(V$9&$AA$9),$N61,INDIRECT(V$9&$AA$10))),0,(SUMIF(INDIRECT(V$9&$AA$9),$N61,INDIRECT(V$9&$AA$10)))) -> 0 | ... Z61: =IF(ISERROR(SUMIF(INDIRECT(Z$9&$AA$9),$N61,INDIRECT(Z$9&$AA$10))),0,(SUMIF(INDIRECT(Z$9&$AA$9),$N61,INDIRECT(Z$9&$AA$10)))) -> 0
F62: =IF(Cadastro!F12="","",Cadastro!F12) -> AGEU GUIRRA REIS | G62: =IF(Cadastro!#REF!="","",Cadastro!#REF!) -> #REF! | H62: =IF(Cadastro!#REF!="","",Cadastro!#REF!) -> #REF! | I62: =IF(ISERROR(SUM(O62:Z62)),0,(SUM(O62:Z62))) -> 0 | N62: =Cadastro!#REF! -> #REF! | O62: =IF(ISERROR(SUMIF(INDIRECT(O$9&$AA$9),$N62,INDIRECT(O$9&$AA$10))),0,(SUMIF(INDIRECT(O$9&$AA$9),$N62,INDIRECT(O$9&$AA$10)))) -> 0 | P62: =IF(ISERROR(SUMIF(INDIRECT(P$9&$AA$9),$N62,INDIRECT(P$9&$AA$10))),0,(SUMIF(INDIRECT(P$9&$AA$9),$N62,INDIRECT(P$9&$AA$10)))) -> 0 | Q62: =IF(ISERROR(SUMIF(INDIRECT(Q$9&$AA$9),$N62,INDIRECT(Q$9&$AA$10))),0,(SUMIF(INDIRECT(Q$9&$AA$9),$N62,INDIRECT(Q$9&$AA$10)))) -> 0 | R62: =IF(ISERROR(SUMIF(INDIRECT(R$9&$AA$9),$N62,INDIRECT(R$9&$AA$10))),0,(SUMIF(INDIRECT(R$9&$AA$9),$N62,INDIRECT(R$9&$AA$10)))) -> 0 | S62: =IF(ISERROR(SUMIF(INDIRECT(S$9&$AA$9),$N62,INDIRECT(S$9&$AA$10))),0,(SUMIF(INDIRECT(S$9&$AA$9),$N62,INDIRECT(S$9&$AA$10)))) -> 0 | T62: =IF(ISERROR(SUMIF(INDIRECT(T$9&$AA$9),$N62,INDIRECT(T$9&$AA$10))),0,(SUMIF(INDIRECT(T$9&$AA$9),$N62,INDIRECT(T$9&$AA$10)))) -> 0 | U62: =IF(ISERROR(SUMIF(INDIRECT(U$9&$AA$9),$N62,INDIRECT(U$9&$AA$10))),0,(SUMIF(INDIRECT(U$9&$AA$9),$N62,INDIRECT(U$9&$AA$10)))) -> 0 | V62: =IF(ISERROR(SUMIF(INDIRECT(V$9&$AA$9),$N62,INDIRECT(V$9&$AA$10))),0,(SUMIF(INDIRECT(V$9&$AA$9),$N62,INDIRECT(V$9&$AA$10)))) -> 0 | ... Z62: =IF(ISERROR(SUMIF(INDIRECT(Z$9&$AA$9),$N62,INDIRECT(Z$9&$AA$10))),0,(SUMIF(INDIRECT(Z$9&$AA$9),$N62,INDIRECT(Z$9&$AA$10)))) -> 0
F63: =IF(Cadastro!F64="","",Cadastro!F64) | G63: =IF(Cadastro!#REF!="","",Cadastro!#REF!) -> #REF! | H63: =IF(Cadastro!#REF!="","",Cadastro!#REF!) -> #REF! | I63: =IF(ISERROR(SUM(O63:Z63)),0,(SUM(O63:Z63))) -> 0 | N63: =Cadastro!#REF! -> #REF! | O63: =IF(ISERROR(SUMIF(INDIRECT(O$9&$AA$9),$N63,INDIRECT(O$9&$AA$10))),0,(SUMIF(INDIRECT(O$9&$AA$9),$N63,INDIRECT(O$9&$AA$10)))) -> 0 | P63: =IF(ISERROR(SUMIF(INDIRECT(P$9&$AA$9),$N63,INDIRECT(P$9&$AA$10))),0,(SUMIF(INDIRECT(P$9&$AA$9),$N63,INDIRECT(P$9&$AA$10)))) -> 0 | Q63: =IF(ISERROR(SUMIF(INDIRECT(Q$9&$AA$9),$N63,INDIRECT(Q$9&$AA$10))),0,(SUMIF(INDIRECT(Q$9&$AA$9),$N63,INDIRECT(Q$9&$AA$10)))) -> 0 | R63: =IF(ISERROR(SUMIF(INDIRECT(R$9&$AA$9),$N63,INDIRECT(R$9&$AA$10))),0,(SUMIF(INDIRECT(R$9&$AA$9),$N63,INDIRECT(R$9&$AA$10)))) -> 0 | S63: =IF(ISERROR(SUMIF(INDIRECT(S$9&$AA$9),$N63,INDIRECT(S$9&$AA$10))),0,(SUMIF(INDIRECT(S$9&$AA$9),$N63,INDIRECT(S$9&$AA$10)))) -> 0 | T63: =IF(ISERROR(SUMIF(INDIRECT(T$9&$AA$9),$N63,INDIRECT(T$9&$AA$10))),0,(SUMIF(INDIRECT(T$9&$AA$9),$N63,INDIRECT(T$9&$AA$10)))) -> 0 | U63: =IF(ISERROR(SUMIF(INDIRECT(U$9&$AA$9),$N63,INDIRECT(U$9&$AA$10))),0,(SUMIF(INDIRECT(U$9&$AA$9),$N63,INDIRECT(U$9&$AA$10)))) -> 0 | V63: =IF(ISERROR(SUMIF(INDIRECT(V$9&$AA$9),$N63,INDIRECT(V$9&$AA$10))),0,(SUMIF(INDIRECT(V$9&$AA$9),$N63,INDIRECT(V$9&$AA$10)))) -> 0 | ... Z63: =IF(ISERROR(SUMIF(INDIRECT(Z$9&$AA$9),$N63,INDIRECT(Z$9&$AA$10))),0,(SUMIF(INDIRECT(Z$9&$AA$9),$N63,INDIRECT(Z$9&$AA$10)))) -> 0
F64: =IF(Cadastro!F83="","",Cadastro!F83) | G64: =IF(Cadastro!#REF!="","",Cadastro!#REF!) -> #REF! | H64: =IF(Cadastro!#REF!="","",Cadastro!#REF!) -> #REF! | I64: =IF(ISERROR(SUM(O64:Z64)),0,(SUM(O64:Z64))) -> 0 | N64: =Cadastro!#REF! -> #REF! | O64: =IF(ISERROR(SUMIF(INDIRECT(O$9&$AA$9),$N64,INDIRECT(O$9&$AA$10))),0,(SUMIF(INDIRECT(O$9&$AA$9),$N64,INDIRECT(O$9&$AA$10)))) -> 0 | P64: =IF(ISERROR(SUMIF(INDIRECT(P$9&$AA$9),$N64,INDIRECT(P$9&$AA$10))),0,(SUMIF(INDIRECT(P$9&$AA$9),$N64,INDIRECT(P$9&$AA$10)))) -> 0 | Q64: =IF(ISERROR(SUMIF(INDIRECT(Q$9&$AA$9),$N64,INDIRECT(Q$9&$AA$10))),0,(SUMIF(INDIRECT(Q$9&$AA$9),$N64,INDIRECT(Q$9&$AA$10)))) -> 0 | R64: =IF(ISERROR(SUMIF(INDIRECT(R$9&$AA$9),$N64,INDIRECT(R$9&$AA$10))),0,(SUMIF(INDIRECT(R$9&$AA$9),$N64,INDIRECT(R$9&$AA$10)))) -> 0 | S64: =IF(ISERROR(SUMIF(INDIRECT(S$9&$AA$9),$N64,INDIRECT(S$9&$AA$10))),0,(SUMIF(INDIRECT(S$9&$AA$9),$N64,INDIRECT(S$9&$AA$10)))) -> 0 | T64: =IF(ISERROR(SUMIF(INDIRECT(T$9&$AA$9),$N64,INDIRECT(T$9&$AA$10))),0,(SUMIF(INDIRECT(T$9&$AA$9),$N64,INDIRECT(T$9&$AA$10)))) -> 0 | U64: =IF(ISERROR(SUMIF(INDIRECT(U$9&$AA$9),$N64,INDIRECT(U$9&$AA$10))),0,(SUMIF(INDIRECT(U$9&$AA$9),$N64,INDIRECT(U$9&$AA$10)))) -> 0 | V64: =IF(ISERROR(SUMIF(INDIRECT(V$9&$AA$9),$N64,INDIRECT(V$9&$AA$10))),0,(SUMIF(INDIRECT(V$9&$AA$9),$N64,INDIRECT(V$9&$AA$10)))) -> 0 | ... Z64: =IF(ISERROR(SUMIF(INDIRECT(Z$9&$AA$9),$N64,INDIRECT(Z$9&$AA$10))),0,(SUMIF(INDIRECT(Z$9&$AA$9),$N64,INDIRECT(Z$9&$AA$10)))) -> 0
F65: =IF(Cadastro!F84="","",Cadastro!F84) | G65: =IF(Cadastro!#REF!="","",Cadastro!#REF!) -> #REF! | H65: =IF(Cadastro!#REF!="","",Cadastro!#REF!) -> #REF! | I65: =IF(ISERROR(SUM(O65:Z65)),0,(SUM(O65:Z65))) -> 0 | N65: =Cadastro!#REF! -> #REF! | O65: =IF(ISERROR(SUMIF(INDIRECT(O$9&$AA$9),$N65,INDIRECT(O$9&$AA$10))),0,(SUMIF(INDIRECT(O$9&$AA$9),$N65,INDIRECT(O$9&$AA$10)))) -> 0 | P65: =IF(ISERROR(SUMIF(INDIRECT(P$9&$AA$9),$N65,INDIRECT(P$9&$AA$10))),0,(SUMIF(INDIRECT(P$9&$AA$9),$N65,INDIRECT(P$9&$AA$10)))) -> 0 | Q65: =IF(ISERROR(SUMIF(INDIRECT(Q$9&$AA$9),$N65,INDIRECT(Q$9&$AA$10))),0,(SUMIF(INDIRECT(Q$9&$AA$9),$N65,INDIRECT(Q$9&$AA$10)))) -> 0 | R65: =IF(ISERROR(SUMIF(INDIRECT(R$9&$AA$9),$N65,INDIRECT(R$9&$AA$10))),0,(SUMIF(INDIRECT(R$9&$AA$9),$N65,INDIRECT(R$9&$AA$10)))) -> 0 | S65: =IF(ISERROR(SUMIF(INDIRECT(S$9&$AA$9),$N65,INDIRECT(S$9&$AA$10))),0,(SUMIF(INDIRECT(S$9&$AA$9),$N65,INDIRECT(S$9&$AA$10)))) -> 0 | T65: =IF(ISERROR(SUMIF(INDIRECT(T$9&$AA$9),$N65,INDIRECT(T$9&$AA$10))),0,(SUMIF(INDIRECT(T$9&$AA$9),$N65,INDIRECT(T$9&$AA$10)))) -> 0 | U65: =IF(ISERROR(SUMIF(INDIRECT(U$9&$AA$9),$N65,INDIRECT(U$9&$AA$10))),0,(SUMIF(INDIRECT(U$9&$AA$9),$N65,INDIRECT(U$9&$AA$10)))) -> 0 | V65: =IF(ISERROR(SUMIF(INDIRECT(V$9&$AA$9),$N65,INDIRECT(V$9&$AA$10))),0,(SUMIF(INDIRECT(V$9&$AA$9),$N65,INDIRECT(V$9&$AA$10)))) -> 0 | ... Z65: =IF(ISERROR(SUMIF(INDIRECT(Z$9&$AA$9),$N65,INDIRECT(Z$9&$AA$10))),0,(SUMIF(INDIRECT(Z$9&$AA$9),$N65,INDIRECT(Z$9&$AA$10)))) -> 0
F66: =IF(Cadastro!F85="","",Cadastro!F85) | G66: =IF(Cadastro!#REF!="","",Cadastro!#REF!) -> #REF! | H66: =IF(Cadastro!#REF!="","",Cadastro!#REF!) -> #REF! | I66: =IF(ISERROR(SUM(O66:Z66)),0,(SUM(O66:Z66))) -> 0 | N66: =Cadastro!#REF! -> #REF! | O66: =IF(ISERROR(SUMIF(INDIRECT(O$9&$AA$9),$N66,INDIRECT(O$9&$AA$10))),0,(SUMIF(INDIRECT(O$9&$AA$9),$N66,INDIRECT(O$9&$AA$10)))) -> 0 | P66: =IF(ISERROR(SUMIF(INDIRECT(P$9&$AA$9),$N66,INDIRECT(P$9&$AA$10))),0,(SUMIF(INDIRECT(P$9&$AA$9),$N66,INDIRECT(P$9&$AA$10)))) -> 0 | Q66: =IF(ISERROR(SUMIF(INDIRECT(Q$9&$AA$9),$N66,INDIRECT(Q$9&$AA$10))),0,(SUMIF(INDIRECT(Q$9&$AA$9),$N66,INDIRECT(Q$9&$AA$10)))) -> 0 | R66: =IF(ISERROR(SUMIF(INDIRECT(R$9&$AA$9),$N66,INDIRECT(R$9&$AA$10))),0,(SUMIF(INDIRECT(R$9&$AA$9),$N66,INDIRECT(R$9&$AA$10)))) -> 0 | S66: =IF(ISERROR(SUMIF(INDIRECT(S$9&$AA$9),$N66,INDIRECT(S$9&$AA$10))),0,(SUMIF(INDIRECT(S$9&$AA$9),$N66,INDIRECT(S$9&$AA$10)))) -> 0 | T66: =IF(ISERROR(SUMIF(INDIRECT(T$9&$AA$9),$N66,INDIRECT(T$9&$AA$10))),0,(SUMIF(INDIRECT(T$9&$AA$9),$N66,INDIRECT(T$9&$AA$10)))) -> 0 | U66: =IF(ISERROR(SUMIF(INDIRECT(U$9&$AA$9),$N66,INDIRECT(U$9&$AA$10))),0,(SUMIF(INDIRECT(U$9&$AA$9),$N66,INDIRECT(U$9&$AA$10)))) -> 0 | V66: =IF(ISERROR(SUMIF(INDIRECT(V$9&$AA$9),$N66,INDIRECT(V$9&$AA$10))),0,(SUMIF(INDIRECT(V$9&$AA$9),$N66,INDIRECT(V$9&$AA$10)))) -> 0 | ... Z66: =IF(ISERROR(SUMIF(INDIRECT(Z$9&$AA$9),$N66,INDIRECT(Z$9&$AA$10))),0,(SUMIF(INDIRECT(Z$9&$AA$9),$N66,INDIRECT(Z$9&$AA$10)))) -> 0
F67: =IF(Cadastro!F86="","",Cadastro!F86) | G67: =IF(Cadastro!#REF!="","",Cadastro!#REF!) -> #REF! | H67: =IF(Cadastro!#REF!="","",Cadastro!#REF!) -> #REF! | I67: =IF(ISERROR(SUM(O67:Z67)),0,(SUM(O67:Z67))) -> 0 | N67: =Cadastro!#REF! -> #REF! | O67: =IF(ISERROR(SUMIF(INDIRECT(O$9&$AA$9),$N67,INDIRECT(O$9&$AA$10))),0,(SUMIF(INDIRECT(O$9&$AA$9),$N67,INDIRECT(O$9&$AA$10)))) -> 0 | P67: =IF(ISERROR(SUMIF(INDIRECT(P$9&$AA$9),$N67,INDIRECT(P$9&$AA$10))),0,(SUMIF(INDIRECT(P$9&$AA$9),$N67,INDIRECT(P$9&$AA$10)))) -> 0 | Q67: =IF(ISERROR(SUMIF(INDIRECT(Q$9&$AA$9),$N67,INDIRECT(Q$9&$AA$10))),0,(SUMIF(INDIRECT(Q$9&$AA$9),$N67,INDIRECT(Q$9&$AA$10)))) -> 0 | R67: =IF(ISERROR(SUMIF(INDIRECT(R$9&$AA$9),$N67,INDIRECT(R$9&$AA$10))),0,(SUMIF(INDIRECT(R$9&$AA$9),$N67,INDIRECT(R$9&$AA$10)))) -> 0 | S67: =IF(ISERROR(SUMIF(INDIRECT(S$9&$AA$9),$N67,INDIRECT(S$9&$AA$10))),0,(SUMIF(INDIRECT(S$9&$AA$9),$N67,INDIRECT(S$9&$AA$10)))) -> 0 | T67: =IF(ISERROR(SUMIF(INDIRECT(T$9&$AA$9),$N67,INDIRECT(T$9&$AA$10))),0,(SUMIF(INDIRECT(T$9&$AA$9),$N67,INDIRECT(T$9&$AA$10)))) -> 0 | U67: =IF(ISERROR(SUMIF(INDIRECT(U$9&$AA$9),$N67,INDIRECT(U$9&$AA$10))),0,(SUMIF(INDIRECT(U$9&$AA$9),$N67,INDIRECT(U$9&$AA$10)))) -> 0 | V67: =IF(ISERROR(SUMIF(INDIRECT(V$9&$AA$9),$N67,INDIRECT(V$9&$AA$10))),0,(SUMIF(INDIRECT(V$9&$AA$9),$N67,INDIRECT(V$9&$AA$10)))) -> 0 | ... Z67: =IF(ISERROR(SUMIF(INDIRECT(Z$9&$AA$9),$N67,INDIRECT(Z$9&$AA$10))),0,(SUMIF(INDIRECT(Z$9&$AA$9),$N67,INDIRECT(Z$9&$AA$10)))) -> 0
F68: =IF(Cadastro!F87="","",Cadastro!F87) | G68: =IF(Cadastro!#REF!="","",Cadastro!#REF!) -> #REF! | H68: =IF(Cadastro!#REF!="","",Cadastro!#REF!) -> #REF! | I68: =IF(ISERROR(SUM(O68:Z68)),0,(SUM(O68:Z68))) -> 0 | N68: =Cadastro!#REF! -> #REF! | O68: =IF(ISERROR(SUMIF(INDIRECT(O$9&$AA$9),$N68,INDIRECT(O$9&$AA$10))),0,(SUMIF(INDIRECT(O$9&$AA$9),$N68,INDIRECT(O$9&$AA$10)))) -> 0 | P68: =IF(ISERROR(SUMIF(INDIRECT(P$9&$AA$9),$N68,INDIRECT(P$9&$AA$10))),0,(SUMIF(INDIRECT(P$9&$AA$9),$N68,INDIRECT(P$9&$AA$10)))) -> 0 | Q68: =IF(ISERROR(SUMIF(INDIRECT(Q$9&$AA$9),$N68,INDIRECT(Q$9&$AA$10))),0,(SUMIF(INDIRECT(Q$9&$AA$9),$N68,INDIRECT(Q$9&$AA$10)))) -> 0 | R68: =IF(ISERROR(SUMIF(INDIRECT(R$9&$AA$9),$N68,INDIRECT(R$9&$AA$10))),0,(SUMIF(INDIRECT(R$9&$AA$9),$N68,INDIRECT(R$9&$AA$10)))) -> 0 | S68: =IF(ISERROR(SUMIF(INDIRECT(S$9&$AA$9),$N68,INDIRECT(S$9&$AA$10))),0,(SUMIF(INDIRECT(S$9&$AA$9),$N68,INDIRECT(S$9&$AA$10)))) -> 0 | T68: =IF(ISERROR(SUMIF(INDIRECT(T$9&$AA$9),$N68,INDIRECT(T$9&$AA$10))),0,(SUMIF(INDIRECT(T$9&$AA$9),$N68,INDIRECT(T$9&$AA$10)))) -> 0 | U68: =IF(ISERROR(SUMIF(INDIRECT(U$9&$AA$9),$N68,INDIRECT(U$9&$AA$10))),0,(SUMIF(INDIRECT(U$9&$AA$9),$N68,INDIRECT(U$9&$AA$10)))) -> 0 | V68: =IF(ISERROR(SUMIF(INDIRECT(V$9&$AA$9),$N68,INDIRECT(V$9&$AA$10))),0,(SUMIF(INDIRECT(V$9&$AA$9),$N68,INDIRECT(V$9&$AA$10)))) -> 0 | ... Z68: =IF(ISERROR(SUMIF(INDIRECT(Z$9&$AA$9),$N68,INDIRECT(Z$9&$AA$10))),0,(SUMIF(INDIRECT(Z$9&$AA$9),$N68,INDIRECT(Z$9&$AA$10)))) -> 0
F69: =IF(Cadastro!F88="","",Cadastro!F88) | G69: =IF(Cadastro!#REF!="","",Cadastro!#REF!) -> #REF! | H69: =IF(Cadastro!#REF!="","",Cadastro!#REF!) -> #REF! | I69: =IF(ISERROR(SUM(O69:Z69)),0,(SUM(O69:Z69))) -> 0 | N69: =Cadastro!#REF! -> #REF! | O69: =IF(ISERROR(SUMIF(INDIRECT(O$9&$AA$9),$N69,INDIRECT(O$9&$AA$10))),0,(SUMIF(INDIRECT(O$9&$AA$9),$N69,INDIRECT(O$9&$AA$10)))) -> 0 | P69: =IF(ISERROR(SUMIF(INDIRECT(P$9&$AA$9),$N69,INDIRECT(P$9&$AA$10))),0,(SUMIF(INDIRECT(P$9&$AA$9),$N69,INDIRECT(P$9&$AA$10)))) -> 0 | Q69: =IF(ISERROR(SUMIF(INDIRECT(Q$9&$AA$9),$N69,INDIRECT(Q$9&$AA$10))),0,(SUMIF(INDIRECT(Q$9&$AA$9),$N69,INDIRECT(Q$9&$AA$10)))) -> 0 | R69: =IF(ISERROR(SUMIF(INDIRECT(R$9&$AA$9),$N69,INDIRECT(R$9&$AA$10))),0,(SUMIF(INDIRECT(R$9&$AA$9),$N69,INDIRECT(R$9&$AA$10)))) -> 0 | S69: =IF(ISERROR(SUMIF(INDIRECT(S$9&$AA$9),$N69,INDIRECT(S$9&$AA$10))),0,(SUMIF(INDIRECT(S$9&$AA$9),$N69,INDIRECT(S$9&$AA$10)))) -> 0 | T69: =IF(ISERROR(SUMIF(INDIRECT(T$9&$AA$9),$N69,INDIRECT(T$9&$AA$10))),0,(SUMIF(INDIRECT(T$9&$AA$9),$N69,INDIRECT(T$9&$AA$10)))) -> 0 | U69: =IF(ISERROR(SUMIF(INDIRECT(U$9&$AA$9),$N69,INDIRECT(U$9&$AA$10))),0,(SUMIF(INDIRECT(U$9&$AA$9),$N69,INDIRECT(U$9&$AA$10)))) -> 0 | V69: =IF(ISERROR(SUMIF(INDIRECT(V$9&$AA$9),$N69,INDIRECT(V$9&$AA$10))),0,(SUMIF(INDIRECT(V$9&$AA$9),$N69,INDIRECT(V$9&$AA$10)))) -> 0 | ... Z69: =IF(ISERROR(SUMIF(INDIRECT(Z$9&$AA$9),$N69,INDIRECT(Z$9&$AA$10))),0,(SUMIF(INDIRECT(Z$9&$AA$9),$N69,INDIRECT(Z$9&$AA$10)))) -> 0
F70: =IF(Cadastro!F89="","",Cadastro!F89) | G70: =IF(Cadastro!#REF!="","",Cadastro!#REF!) -> #REF! | H70: =IF(Cadastro!#REF!="","",Cadastro!#REF!) -> #REF! | I70: =IF(ISERROR(SUM(O70:Z70)),0,(SUM(O70:Z70))) -> 0 | N70: =Cadastro!#REF! -> #REF! | O70: =IF(ISERROR(SUMIF(INDIRECT(O$9&$AA$9),$N70,INDIRECT(O$9&$AA$10))),0,(SUMIF(INDIRECT(O$9&$AA$9),$N70,INDIRECT(O$9&$AA$10)))) -> 0 | P70: =IF(ISERROR(SUMIF(INDIRECT(P$9&$AA$9),$N70,INDIRECT(P$9&$AA$10))),0,(SUMIF(INDIRECT(P$9&$AA$9),$N70,INDIRECT(P$9&$AA$10)))) -> 0 | Q70: =IF(ISERROR(SUMIF(INDIRECT(Q$9&$AA$9),$N70,INDIRECT(Q$9&$AA$10))),0,(SUMIF(INDIRECT(Q$9&$AA$9),$N70,INDIRECT(Q$9&$AA$10)))) -> 0 | R70: =IF(ISERROR(SUMIF(INDIRECT(R$9&$AA$9),$N70,INDIRECT(R$9&$AA$10))),0,(SUMIF(INDIRECT(R$9&$AA$9),$N70,INDIRECT(R$9&$AA$10)))) -> 0 | S70: =IF(ISERROR(SUMIF(INDIRECT(S$9&$AA$9),$N70,INDIRECT(S$9&$AA$10))),0,(SUMIF(INDIRECT(S$9&$AA$9),$N70,INDIRECT(S$9&$AA$10)))) -> 0 | T70: =IF(ISERROR(SUMIF(INDIRECT(T$9&$AA$9),$N70,INDIRECT(T$9&$AA$10))),0,(SUMIF(INDIRECT(T$9&$AA$9),$N70,INDIRECT(T$9&$AA$10)))) -> 0 | U70: =IF(ISERROR(SUMIF(INDIRECT(U$9&$AA$9),$N70,INDIRECT(U$9&$AA$10))),0,(SUMIF(INDIRECT(U$9&$AA$9),$N70,INDIRECT(U$9&$AA$10)))) -> 0 | V70: =IF(ISERROR(SUMIF(INDIRECT(V$9&$AA$9),$N70,INDIRECT(V$9&$AA$10))),0,(SUMIF(INDIRECT(V$9&$AA$9),$N70,INDIRECT(V$9&$AA$10)))) -> 0 | ... Z70: =IF(ISERROR(SUMIF(INDIRECT(Z$9&$AA$9),$N70,INDIRECT(Z$9&$AA$10))),0,(SUMIF(INDIRECT(Z$9&$AA$9),$N70,INDIRECT(Z$9&$AA$10)))) -> 0
F71: =IF(Cadastro!F90="","",Cadastro!F90) | G71: =IF(Cadastro!#REF!="","",Cadastro!#REF!) -> #REF! | H71: =IF(Cadastro!#REF!="","",Cadastro!#REF!) -> #REF! | I71: =IF(ISERROR(SUM(O71:Z71)),0,(SUM(O71:Z71))) -> 0 | N71: =Cadastro!#REF! -> #REF! | O71: =IF(ISERROR(SUMIF(INDIRECT(O$9&$AA$9),$N71,INDIRECT(O$9&$AA$10))),0,(SUMIF(INDIRECT(O$9&$AA$9),$N71,INDIRECT(O$9&$AA$10)))) -> 0 | P71: =IF(ISERROR(SUMIF(INDIRECT(P$9&$AA$9),$N71,INDIRECT(P$9&$AA$10))),0,(SUMIF(INDIRECT(P$9&$AA$9),$N71,INDIRECT(P$9&$AA$10)))) -> 0 | Q71: =IF(ISERROR(SUMIF(INDIRECT(Q$9&$AA$9),$N71,INDIRECT(Q$9&$AA$10))),0,(SUMIF(INDIRECT(Q$9&$AA$9),$N71,INDIRECT(Q$9&$AA$10)))) -> 0 | R71: =IF(ISERROR(SUMIF(INDIRECT(R$9&$AA$9),$N71,INDIRECT(R$9&$AA$10))),0,(SUMIF(INDIRECT(R$9&$AA$9),$N71,INDIRECT(R$9&$AA$10)))) -> 0 | S71: =IF(ISERROR(SUMIF(INDIRECT(S$9&$AA$9),$N71,INDIRECT(S$9&$AA$10))),0,(SUMIF(INDIRECT(S$9&$AA$9),$N71,INDIRECT(S$9&$AA$10)))) -> 0 | T71: =IF(ISERROR(SUMIF(INDIRECT(T$9&$AA$9),$N71,INDIRECT(T$9&$AA$10))),0,(SUMIF(INDIRECT(T$9&$AA$9),$N71,INDIRECT(T$9&$AA$10)))) -> 0 | U71: =IF(ISERROR(SUMIF(INDIRECT(U$9&$AA$9),$N71,INDIRECT(U$9&$AA$10))),0,(SUMIF(INDIRECT(U$9&$AA$9),$N71,INDIRECT(U$9&$AA$10)))) -> 0 | V71: =IF(ISERROR(SUMIF(INDIRECT(V$9&$AA$9),$N71,INDIRECT(V$9&$AA$10))),0,(SUMIF(INDIRECT(V$9&$AA$9),$N71,INDIRECT(V$9&$AA$10)))) -> 0 | ... Z71: =IF(ISERROR(SUMIF(INDIRECT(Z$9&$AA$9),$N71,INDIRECT(Z$9&$AA$10))),0,(SUMIF(INDIRECT(Z$9&$AA$9),$N71,INDIRECT(Z$9&$AA$10)))) -> 0
F72: =IF(Cadastro!F91="","",Cadastro!F91) | G72: =IF(Cadastro!#REF!="","",Cadastro!#REF!) -> #REF! | H72: =IF(Cadastro!#REF!="","",Cadastro!#REF!) -> #REF! | I72: =IF(ISERROR(SUM(O72:Z72)),0,(SUM(O72:Z72))) -> 0 | N72: =Cadastro!#REF! -> #REF! | O72: =IF(ISERROR(SUMIF(INDIRECT(O$9&$AA$9),$N72,INDIRECT(O$9&$AA$10))),0,(SUMIF(INDIRECT(O$9&$AA$9),$N72,INDIRECT(O$9&$AA$10)))) -> 0 | P72: =IF(ISERROR(SUMIF(INDIRECT(P$9&$AA$9),$N72,INDIRECT(P$9&$AA$10))),0,(SUMIF(INDIRECT(P$9&$AA$9),$N72,INDIRECT(P$9&$AA$10)))) -> 0 | Q72: =IF(ISERROR(SUMIF(INDIRECT(Q$9&$AA$9),$N72,INDIRECT(Q$9&$AA$10))),0,(SUMIF(INDIRECT(Q$9&$AA$9),$N72,INDIRECT(Q$9&$AA$10)))) -> 0 | R72: =IF(ISERROR(SUMIF(INDIRECT(R$9&$AA$9),$N72,INDIRECT(R$9&$AA$10))),0,(SUMIF(INDIRECT(R$9&$AA$9),$N72,INDIRECT(R$9&$AA$10)))) -> 0 | S72: =IF(ISERROR(SUMIF(INDIRECT(S$9&$AA$9),$N72,INDIRECT(S$9&$AA$10))),0,(SUMIF(INDIRECT(S$9&$AA$9),$N72,INDIRECT(S$9&$AA$10)))) -> 0 | T72: =IF(ISERROR(SUMIF(INDIRECT(T$9&$AA$9),$N72,INDIRECT(T$9&$AA$10))),0,(SUMIF(INDIRECT(T$9&$AA$9),$N72,INDIRECT(T$9&$AA$10)))) -> 0 | U72: =IF(ISERROR(SUMIF(INDIRECT(U$9&$AA$9),$N72,INDIRECT(U$9&$AA$10))),0,(SUMIF(INDIRECT(U$9&$AA$9),$N72,INDIRECT(U$9&$AA$10)))) -> 0 | V72: =IF(ISERROR(SUMIF(INDIRECT(V$9&$AA$9),$N72,INDIRECT(V$9&$AA$10))),0,(SUMIF(INDIRECT(V$9&$AA$9),$N72,INDIRECT(V$9&$AA$10)))) -> 0 | ... Z72: =IF(ISERROR(SUMIF(INDIRECT(Z$9&$AA$9),$N72,INDIRECT(Z$9&$AA$10))),0,(SUMIF(INDIRECT(Z$9&$AA$9),$N72,INDIRECT(Z$9&$AA$10)))) -> 0
F73: =IF(Cadastro!F92="","",Cadastro!F92) | G73: =IF(Cadastro!#REF!="","",Cadastro!#REF!) -> #REF! | H73: =IF(Cadastro!#REF!="","",Cadastro!#REF!) -> #REF! | I73: =IF(ISERROR(SUM(O73:Z73)),0,(SUM(O73:Z73))) -> 0 | N73: =Cadastro!#REF! -> #REF! | O73: =IF(ISERROR(SUMIF(INDIRECT(O$9&$AA$9),$N73,INDIRECT(O$9&$AA$10))),0,(SUMIF(INDIRECT(O$9&$AA$9),$N73,INDIRECT(O$9&$AA$10)))) -> 0 | P73: =IF(ISERROR(SUMIF(INDIRECT(P$9&$AA$9),$N73,INDIRECT(P$9&$AA$10))),0,(SUMIF(INDIRECT(P$9&$AA$9),$N73,INDIRECT(P$9&$AA$10)))) -> 0 | Q73: =IF(ISERROR(SUMIF(INDIRECT(Q$9&$AA$9),$N73,INDIRECT(Q$9&$AA$10))),0,(SUMIF(INDIRECT(Q$9&$AA$9),$N73,INDIRECT(Q$9&$AA$10)))) -> 0 | R73: =IF(ISERROR(SUMIF(INDIRECT(R$9&$AA$9),$N73,INDIRECT(R$9&$AA$10))),0,(SUMIF(INDIRECT(R$9&$AA$9),$N73,INDIRECT(R$9&$AA$10)))) -> 0 | S73: =IF(ISERROR(SUMIF(INDIRECT(S$9&$AA$9),$N73,INDIRECT(S$9&$AA$10))),0,(SUMIF(INDIRECT(S$9&$AA$9),$N73,INDIRECT(S$9&$AA$10)))) -> 0 | T73: =IF(ISERROR(SUMIF(INDIRECT(T$9&$AA$9),$N73,INDIRECT(T$9&$AA$10))),0,(SUMIF(INDIRECT(T$9&$AA$9),$N73,INDIRECT(T$9&$AA$10)))) -> 0 | U73: =IF(ISERROR(SUMIF(INDIRECT(U$9&$AA$9),$N73,INDIRECT(U$9&$AA$10))),0,(SUMIF(INDIRECT(U$9&$AA$9),$N73,INDIRECT(U$9&$AA$10)))) -> 0 | V73: =IF(ISERROR(SUMIF(INDIRECT(V$9&$AA$9),$N73,INDIRECT(V$9&$AA$10))),0,(SUMIF(INDIRECT(V$9&$AA$9),$N73,INDIRECT(V$9&$AA$10)))) -> 0 | ... Z73: =IF(ISERROR(SUMIF(INDIRECT(Z$9&$AA$9),$N73,INDIRECT(Z$9&$AA$10))),0,(SUMIF(INDIRECT(Z$9&$AA$9),$N73,INDIRECT(Z$9&$AA$10)))) -> 0
F74: =IF(Cadastro!F93="","",Cadastro!F93) | G74: =IF(Cadastro!#REF!="","",Cadastro!#REF!) -> #REF! | H74: =IF(Cadastro!#REF!="","",Cadastro!#REF!) -> #REF! | I74: =IF(ISERROR(SUM(O74:Z74)),0,(SUM(O74:Z74))) -> 0 | N74: =Cadastro!#REF! -> #REF! | O74: =IF(ISERROR(SUMIF(INDIRECT(O$9&$AA$9),$N74,INDIRECT(O$9&$AA$10))),0,(SUMIF(INDIRECT(O$9&$AA$9),$N74,INDIRECT(O$9&$AA$10)))) -> 0 | P74: =IF(ISERROR(SUMIF(INDIRECT(P$9&$AA$9),$N74,INDIRECT(P$9&$AA$10))),0,(SUMIF(INDIRECT(P$9&$AA$9),$N74,INDIRECT(P$9&$AA$10)))) -> 0 | Q74: =IF(ISERROR(SUMIF(INDIRECT(Q$9&$AA$9),$N74,INDIRECT(Q$9&$AA$10))),0,(SUMIF(INDIRECT(Q$9&$AA$9),$N74,INDIRECT(Q$9&$AA$10)))) -> 0 | R74: =IF(ISERROR(SUMIF(INDIRECT(R$9&$AA$9),$N74,INDIRECT(R$9&$AA$10))),0,(SUMIF(INDIRECT(R$9&$AA$9),$N74,INDIRECT(R$9&$AA$10)))) -> 0 | S74: =IF(ISERROR(SUMIF(INDIRECT(S$9&$AA$9),$N74,INDIRECT(S$9&$AA$10))),0,(SUMIF(INDIRECT(S$9&$AA$9),$N74,INDIRECT(S$9&$AA$10)))) -> 0 | T74: =IF(ISERROR(SUMIF(INDIRECT(T$9&$AA$9),$N74,INDIRECT(T$9&$AA$10))),0,(SUMIF(INDIRECT(T$9&$AA$9),$N74,INDIRECT(T$9&$AA$10)))) -> 0 | U74: =IF(ISERROR(SUMIF(INDIRECT(U$9&$AA$9),$N74,INDIRECT(U$9&$AA$10))),0,(SUMIF(INDIRECT(U$9&$AA$9),$N74,INDIRECT(U$9&$AA$10)))) -> 0 | V74: =IF(ISERROR(SUMIF(INDIRECT(V$9&$AA$9),$N74,INDIRECT(V$9&$AA$10))),0,(SUMIF(INDIRECT(V$9&$AA$9),$N74,INDIRECT(V$9&$AA$10)))) -> 0 | ... Z74: =IF(ISERROR(SUMIF(INDIRECT(Z$9&$AA$9),$N74,INDIRECT(Z$9&$AA$10))),0,(SUMIF(INDIRECT(Z$9&$AA$9),$N74,INDIRECT(Z$9&$AA$10)))) -> 0
F75: =IF(Cadastro!F94="","",Cadastro!F94) | G75: =IF(Cadastro!#REF!="","",Cadastro!#REF!) -> #REF! | H75: =IF(Cadastro!#REF!="","",Cadastro!#REF!) -> #REF! | I75: =IF(ISERROR(SUM(O75:Z75)),0,(SUM(O75:Z75))) -> 0 | N75: =Cadastro!#REF! -> #REF! | O75: =IF(ISERROR(SUMIF(INDIRECT(O$9&$AA$9),$N75,INDIRECT(O$9&$AA$10))),0,(SUMIF(INDIRECT(O$9&$AA$9),$N75,INDIRECT(O$9&$AA$10)))) -> 0 | P75: =IF(ISERROR(SUMIF(INDIRECT(P$9&$AA$9),$N75,INDIRECT(P$9&$AA$10))),0,(SUMIF(INDIRECT(P$9&$AA$9),$N75,INDIRECT(P$9&$AA$10)))) -> 0 | Q75: =IF(ISERROR(SUMIF(INDIRECT(Q$9&$AA$9),$N75,INDIRECT(Q$9&$AA$10))),0,(SUMIF(INDIRECT(Q$9&$AA$9),$N75,INDIRECT(Q$9&$AA$10)))) -> 0 | R75: =IF(ISERROR(SUMIF(INDIRECT(R$9&$AA$9),$N75,INDIRECT(R$9&$AA$10))),0,(SUMIF(INDIRECT(R$9&$AA$9),$N75,INDIRECT(R$9&$AA$10)))) -> 0 | S75: =IF(ISERROR(SUMIF(INDIRECT(S$9&$AA$9),$N75,INDIRECT(S$9&$AA$10))),0,(SUMIF(INDIRECT(S$9&$AA$9),$N75,INDIRECT(S$9&$AA$10)))) -> 0 | T75: =IF(ISERROR(SUMIF(INDIRECT(T$9&$AA$9),$N75,INDIRECT(T$9&$AA$10))),0,(SUMIF(INDIRECT(T$9&$AA$9),$N75,INDIRECT(T$9&$AA$10)))) -> 0 | U75: =IF(ISERROR(SUMIF(INDIRECT(U$9&$AA$9),$N75,INDIRECT(U$9&$AA$10))),0,(SUMIF(INDIRECT(U$9&$AA$9),$N75,INDIRECT(U$9&$AA$10)))) -> 0 | V75: =IF(ISERROR(SUMIF(INDIRECT(V$9&$AA$9),$N75,INDIRECT(V$9&$AA$10))),0,(SUMIF(INDIRECT(V$9&$AA$9),$N75,INDIRECT(V$9&$AA$10)))) -> 0 | ... Z75: =IF(ISERROR(SUMIF(INDIRECT(Z$9&$AA$9),$N75,INDIRECT(Z$9&$AA$10))),0,(SUMIF(INDIRECT(Z$9&$AA$9),$N75,INDIRECT(Z$9&$AA$10)))) -> 0
... F610: =IF(Cadastro!F629="","",Cadastro!F629) | G610: =IF(Cadastro!#REF!="","",Cadastro!#REF!) -> #REF! | H610: =IF(Cadastro!#REF!="","",Cadastro!#REF!) -> #REF! | I610: =IF(ISERROR(SUM(O610:Z610)),0,(SUM(O610:Z610))) -> 0 | N610: =Cadastro!#REF! -> #REF! | O610: =IF(ISERROR(SUMIF(INDIRECT(O$9&$AA$9),$N610,INDIRECT(O$9&$AA$10))),0,(SUMIF(INDIRECT(O$9&$AA$9),$N610,INDIRECT(O$9&$AA$10)))) -> 0 | P610: =IF(ISERROR(SUMIF(INDIRECT(P$9&$AA$9),$N610,INDIRECT(P$9&$AA$10))),0,(SUMIF(INDIRECT(P$9&$AA$9),$N610,INDIRECT(P$9&$AA$10)))) -> 0 | Q610: =IF(ISERROR(SUMIF(INDIRECT(Q$9&$AA$9),$N610,INDIRECT(Q$9&$AA$10))),0,(SUMIF(INDIRECT(Q$9&$AA$9),$N610,INDIRECT(Q$9&$AA$10)))) -> 0 | R610: =IF(ISERROR(SUMIF(INDIRECT(R$9&$AA$9),$N610,INDIRECT(R$9&$AA$10))),0,(SUMIF(INDIRECT(R$9&$AA$9),$N610,INDIRECT(R$9&$AA$10)))) -> 0 | S610: =IF(ISERROR(SUMIF(INDIRECT(S$9&$AA$9),$N610,INDIRECT(S$9&$AA$10))),0,(SUMIF(INDIRECT(S$9&$AA$9),$N610,INDIRECT(S$9&$AA$10)))) -> 0 | T610: =IF(ISERROR(SUMIF(INDIRECT(T$9&$AA$9),$N610,INDIRECT(T$9&$AA$10))),0,(SUMIF(INDIRECT(T$9&$AA$9),$N610,INDIRECT(T$9&$AA$10)))) -> 0 | U610: =IF(ISERROR(SUMIF(INDIRECT(U$9&$AA$9),$N610,INDIRECT(U$9&$AA$10))),0,(SUMIF(INDIRECT(U$9&$AA$9),$N610,INDIRECT(U$9&$AA$10)))) -> 0 | V610: =IF(ISERROR(SUMIF(INDIRECT(V$9&$AA$9),$N610,INDIRECT(V$9&$AA$10))),0,(SUMIF(INDIRECT(V$9&$AA$9),$N610,INDIRECT(V$9&$AA$10)))) -> 0 | ... Z610: =IF(ISERROR(SUMIF(INDIRECT(Z$9&$AA$9),$N610,INDIRECT(Z$9&$AA$10))),0,(SUMIF(INDIRECT(Z$9&$AA$9),$N610,INDIRECT(Z$9&$AA$10)))) -> 0
