Workbook

Sheet 0
A1: Sua Logo Aqui
D4: Planilha: Acompanhamento de Previsão de Vendas
D7: Olá, esperamos que esteja gostando da nossa planilha, sua opinião é muito importante para nós, acesse nosso canal e deixe seu comentário.
D11: Quer aprender excel? Confira nossas video-aulas: | I11: Clique Aqui | K11: Precisa de alguma planilha sob-medida para você? Entre em contato com nossa equipe!
D16: Você precisa de planilhas profissionais? Confira nossos modelos: | I16: Clique Aqui | K16: WhatsApp | M16: Email
K18: +55 077-98117-6733 | M18: contato@excelcoaching.com.br
D23: Caso você queira contribuir algum valor para incentivar com esse projeto, deixe sua contribuição. Clicando nos valores abaixo:

Sheet 1
A1: Sua Logo Aqui
D3: Nome da Empresa:
D7: Nome da oportunidade | E7: Agente de vendas | F7: Região de vendas | G7: Categoria de vendas | H7: Valor da previsão | I7: Fase de vendas | J7: Probabilidade de venda | K7: Fechamento de Previsão | L7: Previsão ponderada
D8: Adatum Corporation | E8: Agente de vendas 1 | F8: EUA - Nordeste | G8: Consultoria | H8: 150000 | I8: Aprovação formal | J8: 0.9 | K8: 44197 | L8: 135000
D9: Adventure Works | E9: Agente de vendas 2 | F9: EUA - Sudeste | G9: Produtos | H9: 145200 | I9: Oportunidade | J9: 0.1 | K9: 44228 | L9: 14520
D10: Alpine Ski House | E10: Agente de vendas 3 | F10: EUA - Centro-Norte | G10: Treinamento | H10: 162500 | I10: Necessidade Identificada | J10: 0.2 | K10: 44256 | L10: 32500
D11: Museu de Ciências Baldwin | E11: Agente de vendas 4 | F11: EUA - Centro-Sul | G11: Mistura | H11: 147500 | I11: Patrocínio | J11: 0.3 | K11: 44287 | L11: 44250
D12: Blue Yonder Airlines | E12: Agente de vendas 5 | F12: EUA - Noroeste | G12: Serviços Prof. | H12: 148000 | I12: Orçamento Validado | J12: 0.4 | K12: 44317 | L12: 59200
D13: City Power & Light | E13: Agente de vendas 1 | F13: EUA - Sudoeste | G13: Suporte | H13: 175000 | I13: Precisa de análise | J13: 0.5 | K13: 44348 | L13: 87500
D14: Coho Vineyard | E14: Agente de vendas 3 | F14: Canadá - Leste | G14: Mistura | H14: 149000 | I14: Solução proposta | J14: 0.6 | K14: 44378 | L14: 89400
D15: Coho Winery | E15: Agente de vendas 5 | F15: Canadá - Oeste | G15: Treinamento | H15: 142000 | I15: Proposta escrita | J15: 0.7 | K15: 44409 | L15: 99400
D16: Contoso, Ltd. | E16: Agente de vendas 3 | F16: EMEA - França | G16: Mistura | H16: 172500 | I16: Aprovação verbal | J16: 0.9 | K16: 44470 | L16: 155250
D17: Contoso Pharmaceuticals | E17: Agente de vendas 4 | F17: EMEA - Alemanha | G17: Produtos | H17: 163500 | I17: Patrocínio | J17: 0.2 | K17: 44501 | L17: 32700

Sheet 2
A1: Sua Logo Aqui
D3: Gráfico de Previsão de Vendas
E7: Mês Inicial | F7: 44197
D9: Mês | E9: Previsão mensal | F9: Cumulativo
R10: =D9 -> Mês | S10: Previsão mensal | T10: Cumulativo
D11: =DATE(YEAR($F$7),MONTH($F$7)+0,1) -> 44197 | E11: =SUMIFS(Tabela2[Previsão ponderada],Tabela2[Fechamento de Previsão],">="&'2'!D11,Tabela2[Fechamento de Previsão],"<="&DATE(YEAR('2'!D11),MONTH('2'!D11)+1,0)) -> 135000 | F11: =IF(ISNUMBER(F9),F9+E11,E11) -> 135000 | R11: =D11 -> 44197 | S11: =E11 -> 135000 | T11: =F11-E11 -> 0
D12: =DATE(YEAR($F$7),MONTH($F$7)+1,1) -> 44228 | E12: =SUMIFS(Tabela2[Previsão ponderada],Tabela2[Fechamento de Previsão],">="&'2'!D12,Tabela2[Fechamento de Previsão],"<="&DATE(YEAR('2'!D12),MONTH('2'!D12)+1,0)) -> 14520 | F12: =IF(ISNUMBER(F11),F11+E12,E12) -> 149520 | R12: =D12 -> 44228 | S12: =E12 -> 14520 | T12: =F12-E12 -> 135000
D13: =DATE(YEAR($F$7),MONTH($F$7)+2,1) -> 44256 | E13: =SUMIFS(Tabela2[Previsão ponderada],Tabela2[Fechamento de Previsão],">="&'2'!D13,Tabela2[Fechamento de Previsão],"<="&DATE(YEAR('2'!D13),MONTH('2'!D13)+1,0)) -> 32500 | F13: =IF(ISNUMBER(F12),F12+E13,E13) -> 182020 | R13: =D13 -> 44256 | S13: =E13 -> 32500 | T13: =F13-E13 -> 149520
D14: =DATE(YEAR($F$7),MONTH($F$7)+3,1) -> 44287 | E14: =SUMIFS(Tabela2[Previsão ponderada],Tabela2[Fechamento de Previsão],">="&'2'!D14,Tabela2[Fechamento de Previsão],"<="&DATE(YEAR('2'!D14),MONTH('2'!D14)+1,0)) -> 44250 | F14: =IF(ISNUMBER(F13),F13+E14,E14) -> 226270 | R14: =D14 -> 44287 | S14: =E14 -> 44250 | T14: =F14-E14 -> 182020
D15: =DATE(YEAR($F$7),MONTH($F$7)+4,1) -> 44317 | E15: =SUMIFS(Tabela2[Previsão ponderada],Tabela2[Fechamento de Previsão],">="&'2'!D15,Tabela2[Fechamento de Previsão],"<="&DATE(YEAR('2'!D15),MONTH('2'!D15)+1,0)) -> 59200 | F15: =IF(ISNUMBER(F14),F14+E15,E15) -> 285470 | R15: =D15 -> 44317 | S15: =E15 -> 59200 | T15: =F15-E15 -> 226270
D16: =DATE(YEAR($F$7),MONTH($F$7)+5,1) -> 44348 | E16: =SUMIFS(Tabela2[Previsão ponderada],Tabela2[Fechamento de Previsão],">="&'2'!D16,Tabela2[Fechamento de Previsão],"<="&DATE(YEAR('2'!D16),MONTH('2'!D16)+1,0)) -> 87500 | F16: =IF(ISNUMBER(F15),F15+E16,E16) -> 372970 | R16: =D16 -> 44348 | S16: =E16 -> 87500 | T16: =F16-E16 -> 285470
D17: =DATE(YEAR($F$7),MONTH($F$7)+6,1) -> 44378 | E17: =SUMIFS(Tabela2[Previsão ponderada],Tabela2[Fechamento de Previsão],">="&'2'!D17,Tabela2[Fechamento de Previsão],"<="&DATE(YEAR('2'!D17),MONTH('2'!D17)+1,0)) -> 89400 | F17: =IF(ISNUMBER(F16),F16+E17,E17) -> 462370 | R17: =D17 -> 44378 | S17: =E17 -> 89400 | T17: =F17-E17 -> 372970
D18: =DATE(YEAR($F$7),MONTH($F$7)+7,1) -> 44409 | E18: =SUMIFS(Tabela2[Previsão ponderada],Tabela2[Fechamento de Previsão],">="&'2'!D18,Tabela2[Fechamento de Previsão],"<="&DATE(YEAR('2'!D18),MONTH('2'!D18)+1,0)) -> 99400 | F18: =IF(ISNUMBER(F17),F17+E18,E18) -> 561770 | R18: =D18 -> 44409 | S18: =E18 -> 99400 | T18: =F18-E18 -> 462370
D19: =DATE(YEAR($F$7),MONTH($F$7)+8,1) -> 44440 | E19: =SUMIFS(Tabela2[Previsão ponderada],Tabela2[Fechamento de Previsão],">="&'2'!D19,Tabela2[Fechamento de Previsão],"<="&DATE(YEAR('2'!D19),MONTH('2'!D19)+1,0)) -> 0 | F19: =IF(ISNUMBER(F18),F18+E19,E19) -> 561770 | R19: =D19 -> 44440 | S19: =E19 -> 0 | T19: =F19-E19 -> 561770
D20: =DATE(YEAR($F$7),MONTH($F$7)+9,1) -> 44470 | E20: =SUMIFS(Tabela2[Previsão ponderada],Tabela2[Fechamento de Previsão],">="&'2'!D20,Tabela2[Fechamento de Previsão],"<="&DATE(YEAR('2'!D20),MONTH('2'!D20)+1,0)) -> 155250 | F20: =IF(ISNUMBER(F19),F19+E20,E20) -> 717020 | R20: =D20 -> 44470 | S20: =E20 -> 155250 | T20: =F20-E20 -> 561770
D21: =DATE(YEAR($F$7),MONTH($F$7)+10,1) -> 44501 | E21: =SUMIFS(Tabela2[Previsão ponderada],Tabela2[Fechamento de Previsão],">="&'2'!D21,Tabela2[Fechamento de Previsão],"<="&DATE(YEAR('2'!D21),MONTH('2'!D21)+1,0)) -> 32700 | F21: =IF(ISNUMBER(F20),F20+E21,E21) -> 749720 | R21: =D21 -> 44501 | S21: =E21 -> 32700 | T21: =F21-E21 -> 717020
D22: =DATE(YEAR($F$7),MONTH($F$7)+11,1) -> 44531 | E22: =SUMIFS(Tabela2[Previsão ponderada],Tabela2[Fechamento de Previsão],">="&'2'!D22,Tabela2[Fechamento de Previsão],"<="&DATE(YEAR('2'!D22),MONTH('2'!D22)+1,0)) -> 0 | F22: =IF(ISNUMBER(F21),F21+E22,E22) -> 749720 | R22: =D22 -> 44531 | S22: =E22 -> 0 | T22: =F22-E22 -> 749720
D23: =DATE(YEAR($F$7),MONTH($F$7)+12,1) -> 44562 | E23: =SUMIFS(Tabela2[Previsão ponderada],Tabela2[Fechamento de Previsão],">="&'2'!D23,Tabela2[Fechamento de Previsão],"<="&DATE(YEAR('2'!D23),MONTH('2'!D23)+1,0)) -> 0 | F23: =IF(ISNUMBER(F22),F22+E23,E23) -> 749720 | R23: =D23 -> 44562 | S23: =E23 -> 0 | T23: =F23-E23 -> 749720

Sheet 3
A1: Sua Logo Aqui
D3: Dados
D7: Agentes de vendas | F7: Regiões de vendas | H7: Categorias de vendas | J7: Fases de vendas
D8: Agente de vendas 1 | F8: EUA - Nordeste | H8: Consultoria | J8: Necessidade Identificada
D9: Agente de vendas 2 | F9: EUA - Sudeste | H9: Mistura | J9: Oportunidade
D10: Agente de vendas 3 | F10: EUA - Centro-Norte | H10: Produtos | J10: Precisa de análise
D11: Agente de vendas 4 | F11: EUA - Centro-Sul | H11: Serviços Prof. | J11: Solução proposta
D12: Agente de vendas 5 | F12: EUA - Noroeste | H12: Serviços | J12: Proposta escrita
F13: EUA - Sudoeste | H13: Suporte | J13: Aprovação verbal
F14: Canadá - Leste | H14: Treinamento | J14: Aprovação formal
F15: Canadá - Oeste | J15: Orçamento Validado
F16: EMEA - França | J16: Patrocínio
F17: EMEA - Alemanha
F18: EMEA - Itália
F19: EMEA - Outros
F20: APSA - Ásia
F21: APSA - Pacífico
F22: APSA - México
F23: APSA - Austrália
F24: APSA - Outros
F25: EMEA - Reino Unido
