Workbook

Sheet Início
A1: Sua Logo Aqui | AA1: ="V"&X5 -> V1
E2: Conferência de Resultados
X5: 1 | Y5: 10
S10: Valor do jogo Individual: | V10: 1.5
S11: Pontos | U11: Valor pago R$
S12: 11 | U12: 2.5 | Y12: Fixo
B13: Digite Os Números Sorteados | S13: 12 | U13: 5 | Y13: Fixo
B14: 1 | C14: 2 | D14: 3 | E14: 4 | F14: 5 | G14: 6 | H14: 25 | I14: 8 | J14: 9 | K14: 10 | L14: 17 | M14: 12 | N14: 13 | O14: 14 | P14: 15 | S14: 13 | U14: 7.5 | Y14: Fixo
S15: 14 | U15: 1000 | Y15: Médio (estimado)
S16: 15 | U16: 500000 | Y16: Médio (estimado)
B18: Cole os jogos realizados | U18: Você fez 11 pontos em | V18: =Apoio!J15 -> 0 | W18: =IF(V18<2,"cartão.","cartões.") -> cartão.
Q19: 1 | S19: =Apoio!Q23 | U19: 12 pontos em | V19: =Apoio!J16 -> 0 | W19: =IF(V19<2,"cartão.","cartões.") -> cartão.
Q20: 2 | S20: =Apoio!Q24 | U20: 13 pontos em | V20: =Apoio!J17 -> 0 | W20: =IF(V20<2,"cartão.","cartões.") -> cartão.
Q21: 3 | S21: =Apoio!Q25 | U21: 14 pontos em | V21: =Apoio!J18 -> 0 | W21: =IF(V21<2,"cartão.","cartões.") -> cartão.
Q22: 4 | S22: =Apoio!Q26 | U22: 15 pontos em | V22: =Apoio!J19 -> 0 | W22: =IF(V22<2,"cartão.","cartões.") -> cartão.
Q23: 5 | S23: =Apoio!Q27
Q24: 6 | S24: =Apoio!Q28 | U24: Gastou | V24: =Apoio!U17 -> 0
Q25: 7 | S25: =Apoio!Q29 | U25: Ganhou | V25: =Apoio!U18 -> 0
Q26: 8 | S26: =Apoio!Q30 | U26: =IF(V26<0,"Obteve um prejuízo de ", IF(V26>0,"Obteve um lucro de ","Obteve um resultado de ")) -> Obteve um resultado de | V26: =V25-V24 -> 0
Q27: 9 | S27: =Apoio!Q31
Q28: 10 | S28: =Apoio!Q32
Q29: 11 | S29: =Apoio!Q33
Q30: 12 | S30: =Apoio!Q34
Q31: 13 | S31: =Apoio!Q35
Q32: 14 | S32: =Apoio!Q36
Q33: 15 | S33: =Apoio!Q37
Q34: 16 | S34: =Apoio!Q38
Q35: 17 | S35: =Apoio!Q39
Q36: 18 | S36: =Apoio!Q40
Q37: 19 | S37: =Apoio!Q41
Q38: 20 | S38: =Apoio!Q42
... Q1018: 1000 | S1018: =Apoio!Q1022

Sheet Apoio
AH3: 1 | AI3: 2 | AJ3: 3 | AK3: 4 | AL3: 5 | AM3: 6 | AN3: 7 | AO3: 8 | AP3: 9 | AQ3: 10 | AR3: 11 | AS3: 12 | AT3: 13 | AU3: 14 | AV3: 15 | AW3: 16 | AX3: 17 | AY3: 18 | BA3: 20 | BB3: 21 | BC3: 22 | BD3: 23 | BE3: 24 | BF3: 25
S7: VALOR DO JOGO | W7: =Início!V10 -> 1.5
T9: Pontos | U9: Valor pago R$
S10: 11 | U10: =Início!U12 -> 2.5 | Y10: Fixo
S11: 12 | U11: =Início!U13 -> 5 | Y11: Fixo
A12: =Início!B14 -> 1 | B12: =Início!C14 -> 2 | C12: =Início!D14 -> 3 | D12: =Início!E14 -> 4 | E12: =Início!F14 -> 5 | F12: =Início!G14 -> 6 | G12: =Início!H14 -> 25 | H12: =Início!I14 -> 8 | ... O12: =Início!P14 -> 15 | S12: 13 | U12: =Início!U14 -> 7.5 | Y12: Fixo
S13: 14 | U13: =Início!U15 -> 1000 | Y13: Médio (estimado)
S14: 15 | U14: =Início!U16 -> 500000 | Y14: Médio (estimado)
I15: Você fez 11 pontos em | J15: =COUNTIF(AX23:AX3002,"=11") -> 0 | K15: =IF(J15<2,"cartão.","cartões.") -> cartão.
I16: 12 pontos em | J16: =COUNTIF(AX23:AX3002,"=12") -> 0 | K16: =IF(J16<2,"cartão.","cartões.") -> cartão.
I17: 13 pontos em | J17: =COUNTIF(AX23:AX3002,"=13") -> 0 | K17: =IF(J17<2,"cartão.","cartões.") -> cartão. | T17: Gastou R$ | U17: =(1000-AM20)*W7 -> 0
I18: 14 pontos em | J18: =COUNTIF(AX23:AX3002,"=14") -> 0 | K18: =IF(J18<2,"cartão.","cartões.") -> cartão. | T18: Ganhou R$ | U18: =(U10*J15)+(U11*J16)+(U12*J17)+(U13*J18)+(U14*J19) -> 0
I19: 15 pontos em | J19: =COUNTIF(AX23:AX3002,"=15") -> 0 | K19: =IF(J19<2,"cartão.","cartões.") -> cartão. | O19: =IF(U19<0,"Obteve um prejuízo de R$", IF(U19>0,"Obteve um lucro de R$","Obteve um resultado de R$")) -> Obteve um resultado de R$ | U19: =U18-U17 -> 0
AM20: =COUNTBLANK(A23:A1022) -> 1000
P22: JOGO
A23: =IF(Início!B19="","",Início!B19) | B23: =IF(Início!C19="","",Início!C19) | C23: =IF(Início!D19="","",Início!D19) | D23: =IF(Início!E19="","",Início!E19) | E23: =IF(Início!F19="","",Início!F19) | F23: =IF(Início!G19="","",Início!G19) | G23: =IF(Início!H19="","",Início!H19) | H23: =IF(Início!I19="","",Início!I19) | ... O23: =IF(Início!P19="","",Início!P19) | P23: 1 | Q23: =IF(AX23>10,AX23&" pontos neste cartão","") | AH23: =COUNTIF($A$12:$O$12,A23) -> 0 | AI23: =COUNTIF($A$12:$O$12,B23) -> 0 | AJ23: =COUNTIF($A$12:$O$12,C23) -> 0 | AK23: =COUNTIF($A$12:$O$12,D23) -> 0 | AL23: =COUNTIF($A$12:$O$12,E23) -> 0 | AM23: =COUNTIF($A$12:$O$12,F23) -> 0 | AN23: =COUNTIF($A$12:$O$12,G23) -> 0 | AO23: =COUNTIF($A$12:$O$12,H23) -> 0 | ... AV23: =COUNTIF($A$12:$O$12,O23) -> 0 | AX23: =COUNTIF(AH23:AV23,"=1") -> 0
A24: =IF(Início!B20="","",Início!B20) | B24: =IF(Início!C20="","",Início!C20) | C24: =IF(Início!D20="","",Início!D20) | D24: =IF(Início!E20="","",Início!E20) | E24: =IF(Início!F20="","",Início!F20) | F24: =IF(Início!G20="","",Início!G20) | G24: =IF(Início!H20="","",Início!H20) | H24: =IF(Início!I20="","",Início!I20) | ... O24: =IF(Início!P20="","",Início!P20) | P24: 2 | Q24: =IF(AX24>10,AX24&" pontos neste cartão","") | AH24: =COUNTIF($A$12:$O$12,A24) -> 0 | AI24: =COUNTIF($A$12:$O$12,B24) -> 0 | AJ24: =COUNTIF($A$12:$O$12,C24) -> 0 | AK24: =COUNTIF($A$12:$O$12,D24) -> 0 | AL24: =COUNTIF($A$12:$O$12,E24) -> 0 | AM24: =COUNTIF($A$12:$O$12,F24) -> 0 | AN24: =COUNTIF($A$12:$O$12,G24) -> 0 | AO24: =COUNTIF($A$12:$O$12,H24) -> 0 | ... AV24: =COUNTIF($A$12:$O$12,O24) -> 0 | AX24: =COUNTIF(AH24:AV24,"=1") -> 0
A25: =IF(Início!B21="","",Início!B21) | B25: =IF(Início!C21="","",Início!C21) | C25: =IF(Início!D21="","",Início!D21) | D25: =IF(Início!E21="","",Início!E21) | E25: =IF(Início!F21="","",Início!F21) | F25: =IF(Início!G21="","",Início!G21) | G25: =IF(Início!H21="","",Início!H21) | H25: =IF(Início!I21="","",Início!I21) | ... O25: =IF(Início!P21="","",Início!P21) | P25: 3 | Q25: =IF(AX25>10,AX25&" pontos neste cartão","") | AH25: =COUNTIF($A$12:$O$12,A25) -> 0 | AI25: =COUNTIF($A$12:$O$12,B25) -> 0 | AJ25: =COUNTIF($A$12:$O$12,C25) -> 0 | AK25: =COUNTIF($A$12:$O$12,D25) -> 0 | AL25: =COUNTIF($A$12:$O$12,E25) -> 0 | AM25: =COUNTIF($A$12:$O$12,F25) -> 0 | AN25: =COUNTIF($A$12:$O$12,G25) -> 0 | AO25: =COUNTIF($A$12:$O$12,H25) -> 0 | ... AV25: =COUNTIF($A$12:$O$12,O25) -> 0 | AX25: =COUNTIF(AH25:AV25,"=1") -> 0
A26: =IF(Início!B22="","",Início!B22) | B26: =IF(Início!C22="","",Início!C22) | C26: =IF(Início!D22="","",Início!D22) | D26: =IF(Início!E22="","",Início!E22) | E26: =IF(Início!F22="","",Início!F22) | F26: =IF(Início!G22="","",Início!G22) | G26: =IF(Início!H22="","",Início!H22) | H26: =IF(Início!I22="","",Início!I22) | ... O26: =IF(Início!P22="","",Início!P22) | P26: 4 | Q26: =IF(AX26>10,AX26&" pontos neste cartão","") | AH26: =COUNTIF($A$12:$O$12,A26) -> 0 | AI26: =COUNTIF($A$12:$O$12,B26) -> 0 | AJ26: =COUNTIF($A$12:$O$12,C26) -> 0 | AK26: =COUNTIF($A$12:$O$12,D26) -> 0 | AL26: =COUNTIF($A$12:$O$12,E26) -> 0 | AM26: =COUNTIF($A$12:$O$12,F26) -> 0 | AN26: =COUNTIF($A$12:$O$12,G26) -> 0 | AO26: =COUNTIF($A$12:$O$12,H26) -> 0 | ... AV26: =COUNTIF($A$12:$O$12,O26) -> 0 | AX26: =COUNTIF(AH26:AV26,"=1") -> 0
A27: =IF(Início!B23="","",Início!B23) | B27: =IF(Início!C23="","",Início!C23) | C27: =IF(Início!D23="","",Início!D23) | D27: =IF(Início!E23="","",Início!E23) | E27: =IF(Início!F23="","",Início!F23) | F27: =IF(Início!G23="","",Início!G23) | G27: =IF(Início!H23="","",Início!H23) | H27: =IF(Início!I23="","",Início!I23) | ... O27: =IF(Início!P23="","",Início!P23) | P27: 5 | Q27: =IF(AX27>10,AX27&" pontos neste cartão","") | AH27: =COUNTIF($A$12:$O$12,A27) -> 0 | AI27: =COUNTIF($A$12:$O$12,B27) -> 0 | AJ27: =COUNTIF($A$12:$O$12,C27) -> 0 | AK27: =COUNTIF($A$12:$O$12,D27) -> 0 | AL27: =COUNTIF($A$12:$O$12,E27) -> 0 | AM27: =COUNTIF($A$12:$O$12,F27) -> 0 | AN27: =COUNTIF($A$12:$O$12,G27) -> 0 | AO27: =COUNTIF($A$12:$O$12,H27) -> 0 | ... AV27: =COUNTIF($A$12:$O$12,O27) -> 0 | AX27: =COUNTIF(AH27:AV27,"=1") -> 0
A28: =IF(Início!B24="","",Início!B24) | B28: =IF(Início!C24="","",Início!C24) | C28: =IF(Início!D24="","",Início!D24) | D28: =IF(Início!E24="","",Início!E24) | E28: =IF(Início!F24="","",Início!F24) | F28: =IF(Início!G24="","",Início!G24) | G28: =IF(Início!H24="","",Início!H24) | H28: =IF(Início!I24="","",Início!I24) | ... O28: =IF(Início!P24="","",Início!P24) | P28: 6 | Q28: =IF(AX28>10,AX28&" pontos neste cartão","") | AH28: =COUNTIF($A$12:$O$12,A28) -> 0 | AI28: =COUNTIF($A$12:$O$12,B28) -> 0 | AJ28: =COUNTIF($A$12:$O$12,C28) -> 0 | AK28: =COUNTIF($A$12:$O$12,D28) -> 0 | AL28: =COUNTIF($A$12:$O$12,E28) -> 0 | AM28: =COUNTIF($A$12:$O$12,F28) -> 0 | AN28: =COUNTIF($A$12:$O$12,G28) -> 0 | AO28: =COUNTIF($A$12:$O$12,H28) -> 0 | ... AV28: =COUNTIF($A$12:$O$12,O28) -> 0 | AX28: =COUNTIF(AH28:AV28,"=1") -> 0
A29: =IF(Início!B25="","",Início!B25) | B29: =IF(Início!C25="","",Início!C25) | C29: =IF(Início!D25="","",Início!D25) | D29: =IF(Início!E25="","",Início!E25) | E29: =IF(Início!F25="","",Início!F25) | F29: =IF(Início!G25="","",Início!G25) | G29: =IF(Início!H25="","",Início!H25) | H29: =IF(Início!I25="","",Início!I25) | ... O29: =IF(Início!P25="","",Início!P25) | P29: 7 | Q29: =IF(AX29>10,AX29&" pontos neste cartão","") | AH29: =COUNTIF($A$12:$O$12,A29) -> 0 | AI29: =COUNTIF($A$12:$O$12,B29) -> 0 | AJ29: =COUNTIF($A$12:$O$12,C29) -> 0 | AK29: =COUNTIF($A$12:$O$12,D29) -> 0 | AL29: =COUNTIF($A$12:$O$12,E29) -> 0 | AM29: =COUNTIF($A$12:$O$12,F29) -> 0 | AN29: =COUNTIF($A$12:$O$12,G29) -> 0 | AO29: =COUNTIF($A$12:$O$12,H29) -> 0 | ... AV29: =COUNTIF($A$12:$O$12,O29) -> 0 | AX29: =COUNTIF(AH29:AV29,"=1") -> 0
A30: =IF(Início!B26="","",Início!B26) | B30: =IF(Início!C26="","",Início!C26) | C30: =IF(Início!D26="","",Início!D26) | D30: =IF(Início!E26="","",Início!E26) | E30: =IF(Início!F26="","",Início!F26) | F30: =IF(Início!G26="","",Início!G26) | G30: =IF(Início!H26="","",Início!H26) | H30: =IF(Início!I26="","",Início!I26) | ... O30: =IF(Início!P26="","",Início!P26) | P30: 8 | Q30: =IF(AX30>10,AX30&" pontos neste cartão","") | AH30: =COUNTIF($A$12:$O$12,A30) -> 0 | AI30: =COUNTIF($A$12:$O$12,B30) -> 0 | AJ30: =COUNTIF($A$12:$O$12,C30) -> 0 | AK30: =COUNTIF($A$12:$O$12,D30) -> 0 | AL30: =COUNTIF($A$12:$O$12,E30) -> 0 | AM30: =COUNTIF($A$12:$O$12,F30) -> 0 | AN30: =COUNTIF($A$12:$O$12,G30) -> 0 | AO30: =COUNTIF($A$12:$O$12,H30) -> 0 | ... AV30: =COUNTIF($A$12:$O$12,O30) -> 0 | AX30: =COUNTIF(AH30:AV30,"=1") -> 0
A31: =IF(Início!B27="","",Início!B27) | B31: =IF(Início!C27="","",Início!C27) | C31: =IF(Início!D27="","",Início!D27) | D31: =IF(Início!E27="","",Início!E27) | E31: =IF(Início!F27="","",Início!F27) | F31: =IF(Início!G27="","",Início!G27) | G31: =IF(Início!H27="","",Início!H27) | H31: =IF(Início!I27="","",Início!I27) | ... O31: =IF(Início!P27="","",Início!P27) | P31: 9 | Q31: =IF(AX31>10,AX31&" pontos neste cartão","") | AH31: =COUNTIF($A$12:$O$12,A31) -> 0 | AI31: =COUNTIF($A$12:$O$12,B31) -> 0 | AJ31: =COUNTIF($A$12:$O$12,C31) -> 0 | AK31: =COUNTIF($A$12:$O$12,D31) -> 0 | AL31: =COUNTIF($A$12:$O$12,E31) -> 0 | AM31: =COUNTIF($A$12:$O$12,F31) -> 0 | AN31: =COUNTIF($A$12:$O$12,G31) -> 0 | AO31: =COUNTIF($A$12:$O$12,H31) -> 0 | ... AV31: =COUNTIF($A$12:$O$12,O31) -> 0 | AX31: =COUNTIF(AH31:AV31,"=1") -> 0
A32: =IF(Início!B28="","",Início!B28) | B32: =IF(Início!C28="","",Início!C28) | C32: =IF(Início!D28="","",Início!D28) | D32: =IF(Início!E28="","",Início!E28) | E32: =IF(Início!F28="","",Início!F28) | F32: =IF(Início!G28="","",Início!G28) | G32: =IF(Início!H28="","",Início!H28) | H32: =IF(Início!I28="","",Início!I28) | ... O32: =IF(Início!P28="","",Início!P28) | P32: 10 | Q32: =IF(AX32>10,AX32&" pontos neste cartão","") | AH32: =COUNTIF($A$12:$O$12,A32) -> 0 | AI32: =COUNTIF($A$12:$O$12,B32) -> 0 | AJ32: =COUNTIF($A$12:$O$12,C32) -> 0 | AK32: =COUNTIF($A$12:$O$12,D32) -> 0 | AL32: =COUNTIF($A$12:$O$12,E32) -> 0 | AM32: =COUNTIF($A$12:$O$12,F32) -> 0 | AN32: =COUNTIF($A$12:$O$12,G32) -> 0 | AO32: =COUNTIF($A$12:$O$12,H32) -> 0 | ... AV32: =COUNTIF($A$12:$O$12,O32) -> 0 | AX32: =COUNTIF(AH32:AV32,"=1") -> 0
A33: =IF(Início!B29="","",Início!B29) | B33: =IF(Início!C29="","",Início!C29) | C33: =IF(Início!D29="","",Início!D29) | D33: =IF(Início!E29="","",Início!E29) | E33: =IF(Início!F29="","",Início!F29) | F33: =IF(Início!G29="","",Início!G29) | G33: =IF(Início!H29="","",Início!H29) | H33: =IF(Início!I29="","",Início!I29) | ... O33: =IF(Início!P29="","",Início!P29) | P33: 11 | Q33: =IF(AX33>10,AX33&" pontos neste cartão","") | AH33: =COUNTIF($A$12:$O$12,A33) -> 0 | AI33: =COUNTIF($A$12:$O$12,B33) -> 0 | AJ33: =COUNTIF($A$12:$O$12,C33) -> 0 | AK33: =COUNTIF($A$12:$O$12,D33) -> 0 | AL33: =COUNTIF($A$12:$O$12,E33) -> 0 | AM33: =COUNTIF($A$12:$O$12,F33) -> 0 | AN33: =COUNTIF($A$12:$O$12,G33) -> 0 | AO33: =COUNTIF($A$12:$O$12,H33) -> 0 | ... AV33: =COUNTIF($A$12:$O$12,O33) -> 0 | AX33: =COUNTIF(AH33:AV33,"=1") -> 0
A34: =IF(Início!B30="","",Início!B30) | B34: =IF(Início!C30="","",Início!C30) | C34: =IF(Início!D30="","",Início!D30) | D34: =IF(Início!E30="","",Início!E30) | E34: =IF(Início!F30="","",Início!F30) | F34: =IF(Início!G30="","",Início!G30) | G34: =IF(Início!H30="","",Início!H30) | H34: =IF(Início!I30="","",Início!I30) | ... O34: =IF(Início!P30="","",Início!P30) | P34: 12 | Q34: =IF(AX34>10,AX34&" pontos neste cartão","") | AH34: =COUNTIF($A$12:$O$12,A34) -> 0 | AI34: =COUNTIF($A$12:$O$12,B34) -> 0 | AJ34: =COUNTIF($A$12:$O$12,C34) -> 0 | AK34: =COUNTIF($A$12:$O$12,D34) -> 0 | AL34: =COUNTIF($A$12:$O$12,E34) -> 0 | AM34: =COUNTIF($A$12:$O$12,F34) -> 0 | AN34: =COUNTIF($A$12:$O$12,G34) -> 0 | AO34: =COUNTIF($A$12:$O$12,H34) -> 0 | ... AV34: =COUNTIF($A$12:$O$12,O34) -> 0 | AX34: =COUNTIF(AH34:AV34,"=1") -> 0
... A1022: =IF(Início!B1018="","",Início!B1018) | B1022: =IF(Início!C1018="","",Início!C1018) | C1022: =IF(Início!D1018="","",Início!D1018) | D1022: =IF(Início!E1018="","",Início!E1018) | E1022: =IF(Início!F1018="","",Início!F1018) | F1022: =IF(Início!G1018="","",Início!G1018) | G1022: =IF(Início!H1018="","",Início!H1018) | H1022: =IF(Início!I1018="","",Início!I1018) | ... O1022: =IF(Início!P1018="","",Início!P1018) | P1022: 1000 | Q1022: =IF(AX1022>10,AX1022&" pontos neste cartão","") | AH1022: =COUNTIF($A$12:$O$12,A1022) -> 0 | AI1022: =COUNTIF($A$12:$O$12,B1022) -> 0 | AJ1022: =COUNTIF($A$12:$O$12,C1022) -> 0 | AK1022: =COUNTIF($A$12:$O$12,D1022) -> 0 | AL1022: =COUNTIF($A$12:$O$12,E1022) -> 0 | AM1022: =COUNTIF($A$12:$O$12,F1022) -> 0 | AN1022: =COUNTIF($A$12:$O$12,G1022) -> 0 | AO1022: =COUNTIF($A$12:$O$12,H1022) -> 0 | ... AV1022: =COUNTIF($A$12:$O$12,O1022) -> 0 | AX1022: =COUNTIF(AH1022:AV1022,"=1") -> 0
A1023: =IF(Início!B1019="","",Início!B1019) | B1023: =IF(Início!C1019="","",Início!C1019) | C1023: =IF(Início!D1019="","",Início!D1019) | D1023: =IF(Início!E1019="","",Início!E1019) | E1023: =IF(Início!F1019="","",Início!F1019) | F1023: =IF(Início!G1019="","",Início!G1019) | G1023: =IF(Início!H1019="","",Início!H1019) | H1023: =IF(Início!I1019="","",Início!I1019) | ... O1023: =IF(Início!P1019="","",Início!P1019) | Q1023: =IF(AX1023>10,AX1023&" pontos neste cartão","") | AH1023: =COUNTIF($A$12:$O$12,A1023) -> 0 | AI1023: =COUNTIF($A$12:$O$12,B1023) -> 0 | AJ1023: =COUNTIF($A$12:$O$12,C1023) -> 0 | AK1023: =COUNTIF($A$12:$O$12,D1023) -> 0 | AL1023: =COUNTIF($A$12:$O$12,E1023) -> 0 | AM1023: =COUNTIF($A$12:$O$12,F1023) -> 0 | AN1023: =COUNTIF($A$12:$O$12,G1023) -> 0 | AO1023: =COUNTIF($A$12:$O$12,H1023) -> 0 | ... AV1023: =COUNTIF($A$12:$O$12,O1023) -> 0 | AX1023: =COUNTIF(AH1023:AV1023,"=1") -> 0
A1024: =IF(Início!B1020="","",Início!B1020) | B1024: =IF(Início!C1020="","",Início!C1020) | C1024: =IF(Início!D1020="","",Início!D1020) | D1024: =IF(Início!E1020="","",Início!E1020) | E1024: =IF(Início!F1020="","",Início!F1020) | F1024: =IF(Início!G1020="","",Início!G1020) | G1024: =IF(Início!H1020="","",Início!H1020) | H1024: =IF(Início!I1020="","",Início!I1020) | ... O1024: =IF(Início!P1020="","",Início!P1020) | Q1024: =IF(AX1024>10,AX1024&" pontos neste cartão","") | AH1024: =COUNTIF($A$12:$O$12,A1024) -> 0 | AI1024: =COUNTIF($A$12:$O$12,B1024) -> 0 | AJ1024: =COUNTIF($A$12:$O$12,C1024) -> 0 | AK1024: =COUNTIF($A$12:$O$12,D1024) -> 0 | AL1024: =COUNTIF($A$12:$O$12,E1024) -> 0 | AM1024: =COUNTIF($A$12:$O$12,F1024) -> 0 | AN1024: =COUNTIF($A$12:$O$12,G1024) -> 0 | AO1024: =COUNTIF($A$12:$O$12,H1024) -> 0 | ... AV1024: =COUNTIF($A$12:$O$12,O1024) -> 0 | AX1024: =COUNTIF(AH1024:AV1024,"=1") -> 0
A1025: =IF(Início!B1022="","",Início!B1022) | B1025: =IF(Início!C1022="","",Início!C1022) | C1025: =IF(Início!D1022="","",Início!D1022) | D1025: =IF(Início!E1022="","",Início!E1022) | E1025: =IF(Início!F1022="","",Início!F1022) | F1025: =IF(Início!G1022="","",Início!G1022) | G1025: =IF(Início!H1022="","",Início!H1022) | H1025: =IF(Início!I1022="","",Início!I1022) | ... O1025: =IF(Início!P1022="","",Início!P1022) | Q1025: =IF(AX1025>10,AX1025&" pontos neste cartão","") | AH1025: =COUNTIF($A$12:$O$12,A1025) -> 0 | AI1025: =COUNTIF($A$12:$O$12,B1025) -> 0 | AJ1025: =COUNTIF($A$12:$O$12,C1025) -> 0 | AK1025: =COUNTIF($A$12:$O$12,D1025) -> 0 | AL1025: =COUNTIF($A$12:$O$12,E1025) -> 0 | AM1025: =COUNTIF($A$12:$O$12,F1025) -> 0 | AN1025: =COUNTIF($A$12:$O$12,G1025) -> 0 | AO1025: =COUNTIF($A$12:$O$12,H1025) -> 0 | ... AV1025: =COUNTIF($A$12:$O$12,O1025) -> 0 | AX1025: =COUNTIF(AH1025:AV1025,"=1") -> 0
A1026: =IF(Início!B1023="","",Início!B1023) | B1026: =IF(Início!C1023="","",Início!C1023) | C1026: =IF(Início!D1023="","",Início!D1023) | D1026: =IF(Início!E1023="","",Início!E1023) | E1026: =IF(Início!F1023="","",Início!F1023) | F1026: =IF(Início!G1023="","",Início!G1023) | G1026: =IF(Início!H1023="","",Início!H1023) | H1026: =IF(Início!I1023="","",Início!I1023) | ... O1026: =IF(Início!P1023="","",Início!P1023) | Q1026: =IF(AX1026>10,AX1026&" pontos neste cartão","") | AH1026: =COUNTIF($A$12:$O$12,A1026) -> 0 | AI1026: =COUNTIF($A$12:$O$12,B1026) -> 0 | AJ1026: =COUNTIF($A$12:$O$12,C1026) -> 0 | AK1026: =COUNTIF($A$12:$O$12,D1026) -> 0 | AL1026: =COUNTIF($A$12:$O$12,E1026) -> 0 | AM1026: =COUNTIF($A$12:$O$12,F1026) -> 0 | AN1026: =COUNTIF($A$12:$O$12,G1026) -> 0 | AO1026: =COUNTIF($A$12:$O$12,H1026) -> 0 | ... AV1026: =COUNTIF($A$12:$O$12,O1026) -> 0 | AX1026: =COUNTIF(AH1026:AV1026,"=1") -> 0
A1027: =IF(Início!B1024="","",Início!B1024) | B1027: =IF(Início!C1024="","",Início!C1024) | C1027: =IF(Início!D1024="","",Início!D1024) | D1027: =IF(Início!E1024="","",Início!E1024) | E1027: =IF(Início!F1024="","",Início!F1024) | F1027: =IF(Início!G1024="","",Início!G1024) | G1027: =IF(Início!H1024="","",Início!H1024) | H1027: =IF(Início!I1024="","",Início!I1024) | ... O1027: =IF(Início!P1024="","",Início!P1024) | Q1027: =IF(AX1027>10,AX1027&" pontos neste cartão","") | AH1027: =COUNTIF($A$12:$O$12,A1027) -> 0 | AI1027: =COUNTIF($A$12:$O$12,B1027) -> 0 | AJ1027: =COUNTIF($A$12:$O$12,C1027) -> 0 | AK1027: =COUNTIF($A$12:$O$12,D1027) -> 0 | AL1027: =COUNTIF($A$12:$O$12,E1027) -> 0 | AM1027: =COUNTIF($A$12:$O$12,F1027) -> 0 | AN1027: =COUNTIF($A$12:$O$12,G1027) -> 0 | AO1027: =COUNTIF($A$12:$O$12,H1027) -> 0 | ... AV1027: =COUNTIF($A$12:$O$12,O1027) -> 0 | AX1027: =COUNTIF(AH1027:AV1027,"=1") -> 0
A1028: =IF(Início!B1025="","",Início!B1025) | B1028: =IF(Início!C1025="","",Início!C1025) | C1028: =IF(Início!D1025="","",Início!D1025) | D1028: =IF(Início!E1025="","",Início!E1025) | E1028: =IF(Início!F1025="","",Início!F1025) | F1028: =IF(Início!G1025="","",Início!G1025) | G1028: =IF(Início!H1025="","",Início!H1025) | H1028: =IF(Início!I1025="","",Início!I1025) | ... O1028: =IF(Início!P1025="","",Início!P1025) | Q1028: =IF(AX1028>10,AX1028&" pontos neste cartão","") | AH1028: =COUNTIF($A$12:$O$12,A1028) -> 0 | AI1028: =COUNTIF($A$12:$O$12,B1028) -> 0 | AJ1028: =COUNTIF($A$12:$O$12,C1028) -> 0 | AK1028: =COUNTIF($A$12:$O$12,D1028) -> 0 | AL1028: =COUNTIF($A$12:$O$12,E1028) -> 0 | AM1028: =COUNTIF($A$12:$O$12,F1028) -> 0 | AN1028: =COUNTIF($A$12:$O$12,G1028) -> 0 | AO1028: =COUNTIF($A$12:$O$12,H1028) -> 0 | ... AV1028: =COUNTIF($A$12:$O$12,O1028) -> 0 | AX1028: =COUNTIF(AH1028:AV1028,"=1") -> 0
A1029: =IF(Início!B1026="","",Início!B1026) | B1029: =IF(Início!C1026="","",Início!C1026) | C1029: =IF(Início!D1026="","",Início!D1026) | D1029: =IF(Início!E1026="","",Início!E1026) | E1029: =IF(Início!F1026="","",Início!F1026) | F1029: =IF(Início!G1026="","",Início!G1026) | G1029: =IF(Início!H1026="","",Início!H1026) | H1029: =IF(Início!I1026="","",Início!I1026) | ... O1029: =IF(Início!P1026="","",Início!P1026) | Q1029: =IF(AX1029>10,AX1029&" pontos neste cartão","") | AH1029: =COUNTIF($A$12:$O$12,A1029) -> 0 | AI1029: =COUNTIF($A$12:$O$12,B1029) -> 0 | AJ1029: =COUNTIF($A$12:$O$12,C1029) -> 0 | AK1029: =COUNTIF($A$12:$O$12,D1029) -> 0 | AL1029: =COUNTIF($A$12:$O$12,E1029) -> 0 | AM1029: =COUNTIF($A$12:$O$12,F1029) -> 0 | AN1029: =COUNTIF($A$12:$O$12,G1029) -> 0 | AO1029: =COUNTIF($A$12:$O$12,H1029) -> 0 | ... AV1029: =COUNTIF($A$12:$O$12,O1029) -> 0 | AX1029: =COUNTIF(AH1029:AV1029,"=1") -> 0
A1030: =IF(Início!B1027="","",Início!B1027) | B1030: =IF(Início!C1027="","",Início!C1027) | C1030: =IF(Início!D1027="","",Início!D1027) | D1030: =IF(Início!E1027="","",Início!E1027) | E1030: =IF(Início!F1027="","",Início!F1027) | F1030: =IF(Início!G1027="","",Início!G1027) | G1030: =IF(Início!H1027="","",Início!H1027) | H1030: =IF(Início!I1027="","",Início!I1027) | ... O1030: =IF(Início!P1027="","",Início!P1027) | Q1030: =IF(AX1030>10,AX1030&" pontos neste cartão","") | AH1030: =COUNTIF($A$12:$O$12,A1030) -> 0 | AI1030: =COUNTIF($A$12:$O$12,B1030) -> 0 | AJ1030: =COUNTIF($A$12:$O$12,C1030) -> 0 | AK1030: =COUNTIF($A$12:$O$12,D1030) -> 0 | AL1030: =COUNTIF($A$12:$O$12,E1030) -> 0 | AM1030: =COUNTIF($A$12:$O$12,F1030) -> 0 | AN1030: =COUNTIF($A$12:$O$12,G1030) -> 0 | AO1030: =COUNTIF($A$12:$O$12,H1030) -> 0 | ... AV1030: =COUNTIF($A$12:$O$12,O1030) -> 0 | AX1030: =COUNTIF(AH1030:AV1030,"=1") -> 0
A1031: =IF(Início!B1028="","",Início!B1028) | B1031: =IF(Início!C1028="","",Início!C1028) | C1031: =IF(Início!D1028="","",Início!D1028) | D1031: =IF(Início!E1028="","",Início!E1028) | E1031: =IF(Início!F1028="","",Início!F1028) | F1031: =IF(Início!G1028="","",Início!G1028) | G1031: =IF(Início!H1028="","",Início!H1028) | H1031: =IF(Início!I1028="","",Início!I1028) | ... O1031: =IF(Início!P1028="","",Início!P1028) | Q1031: =IF(AX1031>10,AX1031&" pontos neste cartão","") | AH1031: =COUNTIF($A$12:$O$12,A1031) -> 0 | AI1031: =COUNTIF($A$12:$O$12,B1031) -> 0 | AJ1031: =COUNTIF($A$12:$O$12,C1031) -> 0 | AK1031: =COUNTIF($A$12:$O$12,D1031) -> 0 | AL1031: =COUNTIF($A$12:$O$12,E1031) -> 0 | AM1031: =COUNTIF($A$12:$O$12,F1031) -> 0 | AN1031: =COUNTIF($A$12:$O$12,G1031) -> 0 | AO1031: =COUNTIF($A$12:$O$12,H1031) -> 0 | ... AV1031: =COUNTIF($A$12:$O$12,O1031) -> 0 | AX1031: =COUNTIF(AH1031:AV1031,"=1") -> 0
A1032: =IF(Início!B1029="","",Início!B1029) | B1032: =IF(Início!C1029="","",Início!C1029) | C1032: =IF(Início!D1029="","",Início!D1029) | D1032: =IF(Início!E1029="","",Início!E1029) | E1032: =IF(Início!F1029="","",Início!F1029) | F1032: =IF(Início!G1029="","",Início!G1029) | G1032: =IF(Início!H1029="","",Início!H1029) | H1032: =IF(Início!I1029="","",Início!I1029) | ... O1032: =IF(Início!P1029="","",Início!P1029) | Q1032: =IF(AX1032>10,AX1032&" pontos neste cartão","") | AH1032: =COUNTIF($A$12:$O$12,A1032) -> 0 | AI1032: =COUNTIF($A$12:$O$12,B1032) -> 0 | AJ1032: =COUNTIF($A$12:$O$12,C1032) -> 0 | AK1032: =COUNTIF($A$12:$O$12,D1032) -> 0 | AL1032: =COUNTIF($A$12:$O$12,E1032) -> 0 | AM1032: =COUNTIF($A$12:$O$12,F1032) -> 0 | AN1032: =COUNTIF($A$12:$O$12,G1032) -> 0 | AO1032: =COUNTIF($A$12:$O$12,H1032) -> 0 | ... AV1032: =COUNTIF($A$12:$O$12,O1032) -> 0 | AX1032: =COUNTIF(AH1032:AV1032,"=1") -> 0
A1033: =IF(Início!B1030="","",Início!B1030) | B1033: =IF(Início!C1030="","",Início!C1030) | C1033: =IF(Início!D1030="","",Início!D1030) | D1033: =IF(Início!E1030="","",Início!E1030) | E1033: =IF(Início!F1030="","",Início!F1030) | F1033: =IF(Início!G1030="","",Início!G1030) | G1033: =IF(Início!H1030="","",Início!H1030) | H1033: =IF(Início!I1030="","",Início!I1030) | ... O1033: =IF(Início!P1030="","",Início!P1030) | Q1033: =IF(AX1033>10,AX1033&" pontos neste cartão","") | AH1033: =COUNTIF($A$12:$O$12,A1033) -> 0 | AI1033: =COUNTIF($A$12:$O$12,B1033) -> 0 | AJ1033: =COUNTIF($A$12:$O$12,C1033) -> 0 | AK1033: =COUNTIF($A$12:$O$12,D1033) -> 0 | AL1033: =COUNTIF($A$12:$O$12,E1033) -> 0 | AM1033: =COUNTIF($A$12:$O$12,F1033) -> 0 | AN1033: =COUNTIF($A$12:$O$12,G1033) -> 0 | AO1033: =COUNTIF($A$12:$O$12,H1033) -> 0 | ... AV1033: =COUNTIF($A$12:$O$12,O1033) -> 0 | AX1033: =COUNTIF(AH1033:AV1033,"=1") -> 0
A1034: =IF(Início!B1031="","",Início!B1031) | B1034: =IF(Início!C1031="","",Início!C1031) | C1034: =IF(Início!D1031="","",Início!D1031) | D1034: =IF(Início!E1031="","",Início!E1031) | E1034: =IF(Início!F1031="","",Início!F1031) | F1034: =IF(Início!G1031="","",Início!G1031) | G1034: =IF(Início!H1031="","",Início!H1031) | H1034: =IF(Início!I1031="","",Início!I1031) | ... O1034: =IF(Início!P1031="","",Início!P1031) | Q1034: =IF(AX1034>10,AX1034&" pontos neste cartão","") | AH1034: =COUNTIF($A$12:$O$12,A1034) -> 0 | AI1034: =COUNTIF($A$12:$O$12,B1034) -> 0 | AJ1034: =COUNTIF($A$12:$O$12,C1034) -> 0 | AK1034: =COUNTIF($A$12:$O$12,D1034) -> 0 | AL1034: =COUNTIF($A$12:$O$12,E1034) -> 0 | AM1034: =COUNTIF($A$12:$O$12,F1034) -> 0 | AN1034: =COUNTIF($A$12:$O$12,G1034) -> 0 | AO1034: =COUNTIF($A$12:$O$12,H1034) -> 0 | ... AV1034: =COUNTIF($A$12:$O$12,O1034) -> 0 | AX1034: =COUNTIF(AH1034:AV1034,"=1") -> 0
...
