Workbook

Sheet Início
A1: Sua Logo Aqui | AA1: ="V"&X5 -> V1
E2: Desdobramento Lotofácil com 17 Números
X5: 1 | Y5: 10
T9: Opção 1: Se você acertar os 14 números fixos dos 17 escolhidos garante ao menos 1 cartela com 14 pontos. ( 70 volantes ) Opção 2: Se você acertar os 15 números fixos dos 17 escolhidos garante ao menos 1 cartela com 15 pontos. ( 132 volantes ) Opção 3: Se você acertar os 10 números fixos escolhidos e não sair nenhum dos 8 excluídos garante no mínimo uma cartela com 15 pontos. ( 21 volantes ) Opção 4: Se você acertar os 11 números fixos dos 17 escolhidos garante ao menos 1 cartela com 11 pontos. ( 21 volantes ) Opção 5: Se você acertar os 12 números fixos dos 17 escolhidos garante ao menos 1 cartela com 11 pontos. ( 7 volantes ) Opção 6: Se você acertar os 12 números fixos dos 17 escolhidos garante ao menos 1 cartela com 12 pontos. ( 28 volantes ) Opção 7: Se você acertar os 13 números fixos dos 17 escolhidos garante ao menos 1 cartela com 13 pontos. ( 40 volantes ) Opção 8: Se você acertar os 14 números fixos dos 17 escolhidos garante ao menos 1 cartela com 13 pontos. ( 8 volantes ) Opção 9: Se você acertar os 15 números fixos dos 17 escolhidos garante ao menos 1 cartela com 14 pontos. ( 8 volantes )
B16: Digite 17 Números Fixo | J16: ( Qualquer Ordem)
B17: 1 | C17: 2 | D17: 3 | E17: 4 | F17: 5 | G17: 6 | H17: 7 | I17: 8 | J17: 9 | K17: 10 | L17: 11 | M17: 12 | N17: 13 | O17: 14 | P17: 15 | Q17: 16 | R17: 22
B24: Opção 3:
B25: Digite 10 Números Fixo | J25: ( Qualquer Ordem)
B26: 1 | C26: 2 | D26: 3 | E26: 4 | F26: 5 | G26: 6 | H26: 7 | I26: 8 | J26: 9 | K26: 10
B27: Digite 8 Números Para Excluir
B28: 17 | C28: 18 | D28: 19 | E28: 20 | F28: 21 | G28: 22 | H28: 23 | I28: 24

Sheet Opcao1
AA1: ="V"&X5 -> V1
A2: Opção 1 ( 17 fixos )
X5: 1 | Y5: 10
B16: Total de 70 volantes
B18: =Apoio!A84 -> 1 | C18: =Apoio!B84 -> 2 | D18: =Apoio!C84 -> 3 | E18: =Apoio!D84 -> 4 | F18: =Apoio!E84 -> 5 | G18: =Apoio!F84 -> 6 | H18: =Apoio!G84 -> 7 | I18: =Apoio!H84 -> 8 | ... P18: =Apoio!O84 -> 16 | R18: 1
B19: =Apoio!A85 -> 1 | C19: =Apoio!B85 -> 2 | D19: =Apoio!C85 -> 3 | E19: =Apoio!D85 -> 4 | F19: =Apoio!E85 -> 5 | G19: =Apoio!F85 -> 6 | H19: =Apoio!G85 -> 7 | I19: =Apoio!H85 -> 8 | ... P19: =Apoio!O85 -> 16 | R19: 2
B20: =Apoio!A86 -> 1 | C20: =Apoio!B86 -> 2 | D20: =Apoio!C86 -> 3 | E20: =Apoio!D86 -> 4 | F20: =Apoio!E86 -> 5 | G20: =Apoio!F86 -> 6 | H20: =Apoio!G86 -> 7 | I20: =Apoio!H86 -> 8 | ... P20: =Apoio!O86 -> 22 | R20: 3
B21: =Apoio!A87 -> 1 | C21: =Apoio!B87 -> 2 | D21: =Apoio!C87 -> 3 | E21: =Apoio!D87 -> 4 | F21: =Apoio!E87 -> 5 | G21: =Apoio!F87 -> 6 | H21: =Apoio!G87 -> 7 | I21: =Apoio!H87 -> 8 | ... P21: =Apoio!O87 -> 16 | R21: 4
B22: =Apoio!A88 -> 1 | C22: =Apoio!B88 -> 2 | D22: =Apoio!C88 -> 3 | E22: =Apoio!D88 -> 4 | F22: =Apoio!E88 -> 5 | G22: =Apoio!F88 -> 6 | H22: =Apoio!G88 -> 7 | I22: =Apoio!H88 -> 8 | ... P22: =Apoio!O88 -> 22 | R22: 5
B23: =Apoio!A89 -> 1 | C23: =Apoio!B89 -> 2 | D23: =Apoio!C89 -> 3 | E23: =Apoio!D89 -> 4 | F23: =Apoio!E89 -> 5 | G23: =Apoio!F89 -> 6 | H23: =Apoio!G89 -> 7 | I23: =Apoio!H89 -> 8 | ... P23: =Apoio!O89 -> 22 | R23: 6
B24: =Apoio!A90 -> 1 | C24: =Apoio!B90 -> 2 | D24: =Apoio!C90 -> 3 | E24: =Apoio!D90 -> 4 | F24: =Apoio!E90 -> 5 | G24: =Apoio!F90 -> 6 | H24: =Apoio!G90 -> 7 | I24: =Apoio!H90 -> 8 | ... P24: =Apoio!O90 -> 16 | R24: 7
B25: =Apoio!A91 -> 1 | C25: =Apoio!B91 -> 2 | D25: =Apoio!C91 -> 3 | E25: =Apoio!D91 -> 4 | F25: =Apoio!E91 -> 5 | G25: =Apoio!F91 -> 6 | H25: =Apoio!G91 -> 7 | I25: =Apoio!H91 -> 8 | ... P25: =Apoio!O91 -> 22 | R25: 8
B26: =Apoio!A92 -> 1 | C26: =Apoio!B92 -> 2 | D26: =Apoio!C92 -> 3 | E26: =Apoio!D92 -> 4 | F26: =Apoio!E92 -> 5 | G26: =Apoio!F92 -> 6 | H26: =Apoio!G92 -> 7 | I26: =Apoio!H92 -> 8 | ... P26: =Apoio!O92 -> 22 | R26: 9
B27: =Apoio!A93 -> 1 | C27: =Apoio!B93 -> 2 | D27: =Apoio!C93 -> 3 | E27: =Apoio!D93 -> 4 | F27: =Apoio!E93 -> 5 | G27: =Apoio!F93 -> 6 | H27: =Apoio!G93 -> 7 | I27: =Apoio!H93 -> 8 | ... P27: =Apoio!O93 -> 22 | R27: 10
B28: =Apoio!A94 -> 1 | C28: =Apoio!B94 -> 2 | D28: =Apoio!C94 -> 3 | E28: =Apoio!D94 -> 4 | F28: =Apoio!E94 -> 5 | G28: =Apoio!F94 -> 6 | H28: =Apoio!G94 -> 7 | I28: =Apoio!H94 -> 8 | ... P28: =Apoio!O94 -> 22 | R28: 11
B29: =Apoio!A95 -> 1 | C29: =Apoio!B95 -> 2 | D29: =Apoio!C95 -> 3 | E29: =Apoio!D95 -> 4 | F29: =Apoio!E95 -> 5 | G29: =Apoio!F95 -> 6 | H29: =Apoio!G95 -> 7 | I29: =Apoio!H95 -> 8 | ... P29: =Apoio!O95 -> 16 | R29: 12
... B87: =Apoio!A153 -> 3 | C87: =Apoio!B153 -> 4 | D87: =Apoio!C153 -> 5 | E87: =Apoio!D153 -> 6 | F87: =Apoio!E153 -> 7 | G87: =Apoio!F153 -> 8 | H87: =Apoio!G153 -> 9 | I87: =Apoio!H153 -> 10 | ... P87: =Apoio!O153 -> 22 | R87: 70

Sheet Opcao2
AA1: ="V"&X5 -> V1
A2: Opção 2 ( 17 fixos )
X5: 1 | Y5: 10
B16: Total de 136 volantes
B18: =Apoio!AH151 -> 1 | C18: =Apoio!AI151 -> 2 | D18: =Apoio!AJ151 -> 3 | E18: =Apoio!AK151 -> 4 | F18: =Apoio!AL151 -> 5 | G18: =Apoio!AM151 -> 6 | H18: =Apoio!AN151 -> 7 | I18: =Apoio!AO151 -> 8 | ... P18: =Apoio!AV151 -> 15 | R18: 1 | T18: =Apoio!AH219 -> 1 | U18: =Apoio!AI219 -> 2 | V18: =Apoio!AJ219 -> 3 | W18: =Apoio!AK219 -> 4 | X18: =Apoio!AL219 -> 6 | Y18: =Apoio!AM219 -> 7 | Z18: =Apoio!AN219 -> 8 | AA18: =Apoio!AO219 -> 9 | ... AH18: =Apoio!AV219 -> 22 | AJ18: 69
B19: =Apoio!AH152 -> 1 | C19: =Apoio!AI152 -> 2 | D19: =Apoio!AJ152 -> 3 | E19: =Apoio!AK152 -> 4 | F19: =Apoio!AL152 -> 5 | G19: =Apoio!AM152 -> 6 | H19: =Apoio!AN152 -> 7 | I19: =Apoio!AO152 -> 8 | ... P19: =Apoio!AV152 -> 16 | R19: 2 | T19: =Apoio!AH220 -> 1 | U19: =Apoio!AI220 -> 2 | V19: =Apoio!AJ220 -> 3 | W19: =Apoio!AK220 -> 4 | X19: =Apoio!AL220 -> 6 | Y19: =Apoio!AM220 -> 7 | Z19: =Apoio!AN220 -> 8 | AA19: =Apoio!AO220 -> 9 | ... AH19: =Apoio!AV220 -> 22 | AJ19: 70
B20: =Apoio!AH153 -> 1 | C20: =Apoio!AI153 -> 2 | D20: =Apoio!AJ153 -> 3 | E20: =Apoio!AK153 -> 4 | F20: =Apoio!AL153 -> 5 | G20: =Apoio!AM153 -> 6 | H20: =Apoio!AN153 -> 7 | I20: =Apoio!AO153 -> 8 | ... P20: =Apoio!AV153 -> 22 | R20: 3 | T20: =Apoio!AH221 -> 1 | U20: =Apoio!AI221 -> 2 | V20: =Apoio!AJ221 -> 3 | W20: =Apoio!AK221 -> 4 | X20: =Apoio!AL221 -> 6 | Y20: =Apoio!AM221 -> 7 | Z20: =Apoio!AN221 -> 8 | AA20: =Apoio!AO221 -> 9 | ... AH20: =Apoio!AV221 -> 22 | AJ20: 71
B21: =Apoio!AH154 -> 1 | C21: =Apoio!AI154 -> 2 | D21: =Apoio!AJ154 -> 3 | E21: =Apoio!AK154 -> 4 | F21: =Apoio!AL154 -> 5 | G21: =Apoio!AM154 -> 6 | H21: =Apoio!AN154 -> 7 | I21: =Apoio!AO154 -> 8 | ... P21: =Apoio!AV154 -> 16 | R21: 4 | T21: =Apoio!AH222 -> 1 | U21: =Apoio!AI222 -> 2 | V21: =Apoio!AJ222 -> 3 | W21: =Apoio!AK222 -> 4 | X21: =Apoio!AL222 -> 6 | Y21: =Apoio!AM222 -> 7 | Z21: =Apoio!AN222 -> 8 | AA21: =Apoio!AO222 -> 9 | ... AH21: =Apoio!AV222 -> 22 | AJ21: 72
B22: =Apoio!AH155 -> 1 | C22: =Apoio!AI155 -> 2 | D22: =Apoio!AJ155 -> 3 | E22: =Apoio!AK155 -> 4 | F22: =Apoio!AL155 -> 5 | G22: =Apoio!AM155 -> 6 | H22: =Apoio!AN155 -> 7 | I22: =Apoio!AO155 -> 8 | ... P22: =Apoio!AV155 -> 22 | R22: 5 | T22: =Apoio!AH223 -> 1 | U22: =Apoio!AI223 -> 2 | V22: =Apoio!AJ223 -> 3 | W22: =Apoio!AK223 -> 4 | X22: =Apoio!AL223 -> 6 | Y22: =Apoio!AM223 -> 7 | Z22: =Apoio!AN223 -> 8 | AA22: =Apoio!AO223 -> 9 | ... AH22: =Apoio!AV223 -> 22 | AJ22: 73
B23: =Apoio!AH156 -> 1 | C23: =Apoio!AI156 -> 2 | D23: =Apoio!AJ156 -> 3 | E23: =Apoio!AK156 -> 4 | F23: =Apoio!AL156 -> 5 | G23: =Apoio!AM156 -> 6 | H23: =Apoio!AN156 -> 7 | I23: =Apoio!AO156 -> 8 | ... P23: =Apoio!AV156 -> 22 | R23: 6 | T23: =Apoio!AH224 -> 1 | U23: =Apoio!AI224 -> 2 | V23: =Apoio!AJ224 -> 3 | W23: =Apoio!AK224 -> 4 | X23: =Apoio!AL224 -> 6 | Y23: =Apoio!AM224 -> 7 | Z23: =Apoio!AN224 -> 8 | AA23: =Apoio!AO224 -> 9 | ... AH23: =Apoio!AV224 -> 22 | AJ23: 74
B24: =Apoio!AH157 -> 1 | C24: =Apoio!AI157 -> 2 | D24: =Apoio!AJ157 -> 3 | E24: =Apoio!AK157 -> 4 | F24: =Apoio!AL157 -> 5 | G24: =Apoio!AM157 -> 6 | H24: =Apoio!AN157 -> 7 | I24: =Apoio!AO157 -> 8 | ... P24: =Apoio!AV157 -> 16 | R24: 7 | T24: =Apoio!AH225 -> 1 | U24: =Apoio!AI225 -> 2 | V24: =Apoio!AJ225 -> 3 | W24: =Apoio!AK225 -> 4 | X24: =Apoio!AL225 -> 6 | Y24: =Apoio!AM225 -> 7 | Z24: =Apoio!AN225 -> 8 | AA24: =Apoio!AO225 -> 10 | ... AH24: =Apoio!AV225 -> 22 | AJ24: 75
B25: =Apoio!AH158 -> 1 | C25: =Apoio!AI158 -> 2 | D25: =Apoio!AJ158 -> 3 | E25: =Apoio!AK158 -> 4 | F25: =Apoio!AL158 -> 5 | G25: =Apoio!AM158 -> 6 | H25: =Apoio!AN158 -> 7 | I25: =Apoio!AO158 -> 8 | ... P25: =Apoio!AV158 -> 22 | R25: 8 | T25: =Apoio!AH226 -> 1 | U25: =Apoio!AI226 -> 2 | V25: =Apoio!AJ226 -> 3 | W25: =Apoio!AK226 -> 4 | X25: =Apoio!AL226 -> 6 | Y25: =Apoio!AM226 -> 7 | Z25: =Apoio!AN226 -> 9 | AA25: =Apoio!AO226 -> 10 | ... AH25: =Apoio!AV226 -> 22 | AJ25: 76
B26: =Apoio!AH159 -> 1 | C26: =Apoio!AI159 -> 2 | D26: =Apoio!AJ159 -> 3 | E26: =Apoio!AK159 -> 4 | F26: =Apoio!AL159 -> 5 | G26: =Apoio!AM159 -> 6 | H26: =Apoio!AN159 -> 7 | I26: =Apoio!AO159 -> 8 | ... P26: =Apoio!AV159 -> 22 | R26: 9 | T26: =Apoio!AH227 -> 1 | U26: =Apoio!AI227 -> 2 | V26: =Apoio!AJ227 -> 3 | W26: =Apoio!AK227 -> 4 | X26: =Apoio!AL227 -> 6 | Y26: =Apoio!AM227 -> 8 | Z26: =Apoio!AN227 -> 9 | AA26: =Apoio!AO227 -> 10 | ... AH26: =Apoio!AV227 -> 22 | AJ26: 77
B27: =Apoio!AH160 -> 1 | C27: =Apoio!AI160 -> 2 | D27: =Apoio!AJ160 -> 3 | E27: =Apoio!AK160 -> 4 | F27: =Apoio!AL160 -> 5 | G27: =Apoio!AM160 -> 6 | H27: =Apoio!AN160 -> 7 | I27: =Apoio!AO160 -> 8 | ... P27: =Apoio!AV160 -> 22 | R27: 10 | T27: =Apoio!AH228 -> 1 | U27: =Apoio!AI228 -> 2 | V27: =Apoio!AJ228 -> 3 | W27: =Apoio!AK228 -> 4 | X27: =Apoio!AL228 -> 7 | Y27: =Apoio!AM228 -> 8 | Z27: =Apoio!AN228 -> 9 | AA27: =Apoio!AO228 -> 10 | ... AH27: =Apoio!AV228 -> 22 | AJ27: 78
B28: =Apoio!AH161 -> 1 | C28: =Apoio!AI161 -> 2 | D28: =Apoio!AJ161 -> 3 | E28: =Apoio!AK161 -> 4 | F28: =Apoio!AL161 -> 5 | G28: =Apoio!AM161 -> 6 | H28: =Apoio!AN161 -> 7 | I28: =Apoio!AO161 -> 8 | ... P28: =Apoio!AV161 -> 16 | R28: 11 | T28: =Apoio!AH229 -> 1 | U28: =Apoio!AI229 -> 2 | V28: =Apoio!AJ229 -> 3 | W28: =Apoio!AK229 -> 5 | X28: =Apoio!AL229 -> 6 | Y28: =Apoio!AM229 -> 7 | Z28: =Apoio!AN229 -> 8 | AA28: =Apoio!AO229 -> 9 | ... AH28: =Apoio!AV229 -> 16 | AJ28: 79
B29: =Apoio!AH162 -> 1 | C29: =Apoio!AI162 -> 2 | D29: =Apoio!AJ162 -> 3 | E29: =Apoio!AK162 -> 4 | F29: =Apoio!AL162 -> 5 | G29: =Apoio!AM162 -> 6 | H29: =Apoio!AN162 -> 7 | I29: =Apoio!AO162 -> 8 | ... P29: =Apoio!AV162 -> 22 | R29: 12 | T29: =Apoio!AH230 -> 1 | U29: =Apoio!AI230 -> 2 | V29: =Apoio!AJ230 -> 3 | W29: =Apoio!AK230 -> 5 | X29: =Apoio!AL230 -> 6 | Y29: =Apoio!AM230 -> 7 | Z29: =Apoio!AN230 -> 8 | AA29: =Apoio!AO230 -> 9 | ... AH29: =Apoio!AV230 -> 22 | AJ29: 80
... B85: =Apoio!AH218 -> 1 | C85: =Apoio!AI218 -> 2 | D85: =Apoio!AJ218 -> 3 | E85: =Apoio!AK218 -> 4 | F85: =Apoio!AL218 -> 6 | G85: =Apoio!AM218 -> 7 | H85: =Apoio!AN218 -> 8 | I85: =Apoio!AO218 -> 9 | ... P85: =Apoio!AV218 -> 22 | R85: 68 | T85: =Apoio!AH286 -> 3 | U85: =Apoio!AI286 -> 4 | V85: =Apoio!AJ286 -> 5 | W85: =Apoio!AK286 -> 6 | X85: =Apoio!AL286 -> 7 | Y85: =Apoio!AM286 -> 8 | Z85: =Apoio!AN286 -> 9 | AA85: =Apoio!AO286 -> 10 | ... AH85: =Apoio!AV286 -> 22 | AJ85: 136

Sheet Opcao3
AA1: ="V"&X5 -> V1
A2: Opção 3 ( 10 fixos e 8 Excluídos )
X5: 1 | Y5: 10
B16: Total de 21 volantes
B18: =Apoio!BN33 -> 1 | C18: =Apoio!BO33 -> 2 | D18: =Apoio!BP33 -> 3 | E18: =Apoio!BQ33 -> 4 | F18: =Apoio!BR33 -> 5 | G18: =Apoio!BS33 -> 6 | H18: =Apoio!BT33 -> 7 | I18: =Apoio!BU33 -> 8 | ... P18: =Apoio!CB33 -> 15 | R18: 1
B19: =Apoio!BN34 -> 1 | C19: =Apoio!BO34 -> 2 | D19: =Apoio!BP34 -> 3 | E19: =Apoio!BQ34 -> 4 | F19: =Apoio!BR34 -> 5 | G19: =Apoio!BS34 -> 6 | H19: =Apoio!BT34 -> 7 | I19: =Apoio!BU34 -> 8 | ... P19: =Apoio!CB34 -> 16 | R19: 2
B20: =Apoio!BN35 -> 1 | C20: =Apoio!BO35 -> 2 | D20: =Apoio!BP35 -> 3 | E20: =Apoio!BQ35 -> 4 | F20: =Apoio!BR35 -> 5 | G20: =Apoio!BS35 -> 6 | H20: =Apoio!BT35 -> 7 | I20: =Apoio!BU35 -> 8 | ... P20: =Apoio!CB35 -> 25 | R20: 3
B21: =Apoio!BN36 -> 1 | C21: =Apoio!BO36 -> 2 | D21: =Apoio!BP36 -> 3 | E21: =Apoio!BQ36 -> 4 | F21: =Apoio!BR36 -> 5 | G21: =Apoio!BS36 -> 6 | H21: =Apoio!BT36 -> 7 | I21: =Apoio!BU36 -> 8 | ... P21: =Apoio!CB36 -> 16 | R21: 4
B22: =Apoio!BN37 -> 1 | C22: =Apoio!BO37 -> 2 | D22: =Apoio!BP37 -> 3 | E22: =Apoio!BQ37 -> 4 | F22: =Apoio!BR37 -> 5 | G22: =Apoio!BS37 -> 6 | H22: =Apoio!BT37 -> 7 | I22: =Apoio!BU37 -> 8 | ... P22: =Apoio!CB37 -> 25 | R22: 5
B23: =Apoio!BN38 -> 1 | C23: =Apoio!BO38 -> 2 | D23: =Apoio!BP38 -> 3 | E23: =Apoio!BQ38 -> 4 | F23: =Apoio!BR38 -> 5 | G23: =Apoio!BS38 -> 6 | H23: =Apoio!BT38 -> 7 | I23: =Apoio!BU38 -> 8 | ... P23: =Apoio!CB38 -> 25 | R23: 6
B24: =Apoio!BN39 -> 1 | C24: =Apoio!BO39 -> 2 | D24: =Apoio!BP39 -> 3 | E24: =Apoio!BQ39 -> 4 | F24: =Apoio!BR39 -> 5 | G24: =Apoio!BS39 -> 6 | H24: =Apoio!BT39 -> 7 | I24: =Apoio!BU39 -> 8 | ... P24: =Apoio!CB39 -> 16 | R24: 7
B25: =Apoio!BN40 -> 1 | C25: =Apoio!BO40 -> 2 | D25: =Apoio!BP40 -> 3 | E25: =Apoio!BQ40 -> 4 | F25: =Apoio!BR40 -> 5 | G25: =Apoio!BS40 -> 6 | H25: =Apoio!BT40 -> 7 | I25: =Apoio!BU40 -> 8 | ... P25: =Apoio!CB40 -> 25 | R25: 8
B26: =Apoio!BN41 -> 1 | C26: =Apoio!BO41 -> 2 | D26: =Apoio!BP41 -> 3 | E26: =Apoio!BQ41 -> 4 | F26: =Apoio!BR41 -> 5 | G26: =Apoio!BS41 -> 6 | H26: =Apoio!BT41 -> 7 | I26: =Apoio!BU41 -> 8 | ... P26: =Apoio!CB41 -> 25 | R26: 9
B27: =Apoio!BN42 -> 1 | C27: =Apoio!BO42 -> 2 | D27: =Apoio!BP42 -> 3 | E27: =Apoio!BQ42 -> 4 | F27: =Apoio!BR42 -> 5 | G27: =Apoio!BS42 -> 6 | H27: =Apoio!BT42 -> 7 | I27: =Apoio!BU42 -> 8 | ... P27: =Apoio!CB42 -> 25 | R27: 10
B28: =Apoio!BN43 -> 1 | C28: =Apoio!BO43 -> 2 | D28: =Apoio!BP43 -> 3 | E28: =Apoio!BQ43 -> 4 | F28: =Apoio!BR43 -> 5 | G28: =Apoio!BS43 -> 6 | H28: =Apoio!BT43 -> 7 | I28: =Apoio!BU43 -> 8 | ... P28: =Apoio!CB43 -> 16 | R28: 11
B29: =Apoio!BN44 -> 1 | C29: =Apoio!BO44 -> 2 | D29: =Apoio!BP44 -> 3 | E29: =Apoio!BQ44 -> 4 | F29: =Apoio!BR44 -> 5 | G29: =Apoio!BS44 -> 6 | H29: =Apoio!BT44 -> 7 | I29: =Apoio!BU44 -> 8 | ... P29: =Apoio!CB44 -> 25 | R29: 12
... B38: =Apoio!BN53 -> 1 | C38: =Apoio!BO53 -> 2 | D38: =Apoio!BP53 -> 3 | E38: =Apoio!BQ53 -> 4 | F38: =Apoio!BR53 -> 5 | G38: =Apoio!BS53 -> 6 | H38: =Apoio!BT53 -> 7 | I38: =Apoio!BU53 -> 8 | ... P38: =Apoio!CB53 -> 25 | R38: 21

Sheet Opcao4
AA1: ="V"&X5 -> V1
A2: Opção 4 ( 17 fixos )
X5: 1 | Y5: 10
B16: Total de 21 volantes
B18: =Apoio!CT32 -> 1 | C18: =Apoio!CU32 -> 2 | D18: =Apoio!CV32 -> 3 | E18: =Apoio!CW32 -> 4 | F18: =Apoio!CX32 -> 5 | G18: =Apoio!CY32 -> 6 | H18: =Apoio!CZ32 -> 7 | I18: =Apoio!DA32 -> 8 | ... P18: =Apoio!DH32 -> 15 | R18: 1
B19: =Apoio!CT33 -> 1 | C19: =Apoio!CU33 -> 2 | D19: =Apoio!CV33 -> 3 | E19: =Apoio!CW33 -> 4 | F19: =Apoio!CX33 -> 5 | G19: =Apoio!CY33 -> 6 | H19: =Apoio!CZ33 -> 7 | I19: =Apoio!DA33 -> 8 | ... P19: =Apoio!DH33 -> 22 | R19: 2
B20: =Apoio!CT34 -> 1 | C20: =Apoio!CU34 -> 2 | D20: =Apoio!CV34 -> 3 | E20: =Apoio!CW34 -> 4 | F20: =Apoio!CX34 -> 5 | G20: =Apoio!CY34 -> 6 | H20: =Apoio!CZ34 -> 7 | I20: =Apoio!DA34 -> 8 | ... P20: =Apoio!DH34 -> 22 | R20: 3
B21: =Apoio!CT35 -> 1 | C21: =Apoio!CU35 -> 2 | D21: =Apoio!CV35 -> 3 | E21: =Apoio!CW35 -> 4 | F21: =Apoio!CX35 -> 5 | G21: =Apoio!CY35 -> 6 | H21: =Apoio!CZ35 -> 7 | I21: =Apoio!DA35 -> 8 | ... P21: =Apoio!DH35 -> 22 | R21: 4
B22: =Apoio!CT36 -> 1 | C22: =Apoio!CU36 -> 2 | D22: =Apoio!CV36 -> 3 | E22: =Apoio!CW36 -> 4 | F22: =Apoio!CX36 -> 5 | G22: =Apoio!CY36 -> 6 | H22: =Apoio!CZ36 -> 7 | I22: =Apoio!DA36 -> 8 | ... P22: =Apoio!DH36 -> 22 | R22: 5
B23: =Apoio!CT37 -> 1 | C23: =Apoio!CU37 -> 2 | D23: =Apoio!CV37 -> 3 | E23: =Apoio!CW37 -> 4 | F23: =Apoio!CX37 -> 5 | G23: =Apoio!CY37 -> 6 | H23: =Apoio!CZ37 -> 7 | I23: =Apoio!DA37 -> 8 | ... P23: =Apoio!DH37 -> 22 | R23: 6
B24: =Apoio!CT38 -> 1 | C24: =Apoio!CU38 -> 2 | D24: =Apoio!CV38 -> 3 | E24: =Apoio!CW38 -> 4 | F24: =Apoio!CX38 -> 5 | G24: =Apoio!CY38 -> 6 | H24: =Apoio!CZ38 -> 7 | I24: =Apoio!DA38 -> 8 | ... P24: =Apoio!DH38 -> 22 | R24: 7
B25: =Apoio!CT39 -> 1 | C25: =Apoio!CU39 -> 2 | D25: =Apoio!CV39 -> 3 | E25: =Apoio!CW39 -> 4 | F25: =Apoio!CX39 -> 5 | G25: =Apoio!CY39 -> 6 | H25: =Apoio!CZ39 -> 7 | I25: =Apoio!DA39 -> 8 | ... P25: =Apoio!DH39 -> 16 | R25: 8
B26: =Apoio!CT40 -> 1 | C26: =Apoio!CU40 -> 2 | D26: =Apoio!CV40 -> 3 | E26: =Apoio!CW40 -> 4 | F26: =Apoio!CX40 -> 5 | G26: =Apoio!CY40 -> 6 | H26: =Apoio!CZ40 -> 7 | I26: =Apoio!DA40 -> 8 | ... P26: =Apoio!DH40 -> 22 | R26: 9
B27: =Apoio!CT41 -> 1 | C27: =Apoio!CU41 -> 2 | D27: =Apoio!CV41 -> 3 | E27: =Apoio!CW41 -> 4 | F27: =Apoio!CX41 -> 5 | G27: =Apoio!CY41 -> 6 | H27: =Apoio!CZ41 -> 7 | I27: =Apoio!DA41 -> 9 | ... P27: =Apoio!DH41 -> 22 | R27: 10
B28: =Apoio!CT42 -> 1 | C28: =Apoio!CU42 -> 2 | D28: =Apoio!CV42 -> 3 | E28: =Apoio!CW42 -> 4 | F28: =Apoio!CX42 -> 5 | G28: =Apoio!CY42 -> 8 | H28: =Apoio!CZ42 -> 9 | I28: =Apoio!DA42 -> 10 | ... P28: =Apoio!DH42 -> 22 | R28: 11
B29: =Apoio!CT43 -> 1 | C29: =Apoio!CU43 -> 2 | D29: =Apoio!CV43 -> 3 | E29: =Apoio!CW43 -> 4 | F29: =Apoio!CX43 -> 6 | G29: =Apoio!CY43 -> 8 | H29: =Apoio!CZ43 -> 9 | I29: =Apoio!DA43 -> 10 | ... P29: =Apoio!DH43 -> 22 | R29: 12
... B38: =Apoio!CT52 -> 2 | C38: =Apoio!CU52 -> 3 | D38: =Apoio!CV52 -> 4 | E38: =Apoio!CW52 -> 5 | F38: =Apoio!CX52 -> 6 | G38: =Apoio!CY52 -> 7 | H38: =Apoio!CZ52 -> 9 | I38: =Apoio!DA52 -> 10 | ... P38: =Apoio!DH52 -> 22 | R38: 21

Sheet Opcao5
AA1: ="V"&X5 -> V1
A2: Opção 5 ( 17 fixos )
X5: 1 | Y5: 10
B16: Total de 7 volantes
B18: =Apoio!BN88 -> 1 | C18: =Apoio!BO88 -> 2 | D18: =Apoio!BP88 -> 3 | E18: =Apoio!BQ88 -> 4 | F18: =Apoio!BR88 -> 5 | G18: =Apoio!BS88 -> 6 | H18: =Apoio!BT88 -> 7 | I18: =Apoio!BU88 -> 8 | ... P18: =Apoio!CB88 -> 16 | R18: 1
B19: =Apoio!BN89 -> 1 | C19: =Apoio!BO89 -> 2 | D19: =Apoio!BP89 -> 3 | E19: =Apoio!BQ89 -> 4 | F19: =Apoio!BR89 -> 5 | G19: =Apoio!BS89 -> 6 | H19: =Apoio!BT89 -> 7 | I19: =Apoio!BU89 -> 8 | ... P19: =Apoio!CB89 -> 22 | R19: 2
B20: =Apoio!BN90 -> 1 | C20: =Apoio!BO90 -> 2 | D20: =Apoio!BP90 -> 3 | E20: =Apoio!BQ90 -> 4 | F20: =Apoio!BR90 -> 5 | G20: =Apoio!BS90 -> 6 | H20: =Apoio!BT90 -> 7 | I20: =Apoio!BU90 -> 8 | ... P20: =Apoio!CB90 -> 22 | R20: 3
B21: =Apoio!BN91 -> 1 | C21: =Apoio!BO91 -> 2 | D21: =Apoio!BP91 -> 3 | E21: =Apoio!BQ91 -> 4 | F21: =Apoio!BR91 -> 5 | G21: =Apoio!BS91 -> 6 | H21: =Apoio!BT91 -> 8 | I21: =Apoio!BU91 -> 9 | ... P21: =Apoio!CB91 -> 16 | R21: 4
B22: =Apoio!BN92 -> 1 | C22: =Apoio!BO92 -> 2 | D22: =Apoio!BP92 -> 3 | E22: =Apoio!BQ92 -> 4 | F22: =Apoio!BR92 -> 7 | G22: =Apoio!BS92 -> 8 | H22: =Apoio!BT92 -> 9 | I22: =Apoio!BU92 -> 10 | ... P22: =Apoio!CB92 -> 22 | R22: 5
B23: =Apoio!BN93 -> 1 | C23: =Apoio!BO93 -> 2 | D23: =Apoio!BP93 -> 4 | E23: =Apoio!BQ93 -> 5 | F23: =Apoio!BR93 -> 6 | G23: =Apoio!BS93 -> 7 | H23: =Apoio!BT93 -> 8 | I23: =Apoio!BU93 -> 10 | ... P23: =Apoio!CB93 -> 22 | R23: 6
B24: =Apoio!BN94 -> 3 | C24: =Apoio!BO94 -> 4 | D24: =Apoio!BP94 -> 5 | E24: =Apoio!BQ94 -> 6 | F24: =Apoio!BR94 -> 7 | G24: =Apoio!BS94 -> 8 | H24: =Apoio!BT94 -> 9 | I24: =Apoio!BU94 -> 10 | ... P24: =Apoio!CB94 -> 22 | R24: 7

Sheet Opcao6
AA1: ="V"&X5 -> V1
A2: Opção 6 ( 17 fixos )
X5: 1 | Y5: 10
B16: Total de 28 volantes
B18: =Apoio!BN134 -> 1 | C18: =Apoio!BO134 -> 2 | D18: =Apoio!BP134 -> 3 | E18: =Apoio!BQ134 -> 4 | F18: =Apoio!BR134 -> 5 | G18: =Apoio!BS134 -> 6 | H18: =Apoio!BT134 -> 7 | I18: =Apoio!BU134 -> 8 | ... P18: =Apoio!CB134 -> 22 | R18: 1
B19: =Apoio!BN135 -> 1 | C19: =Apoio!BO135 -> 2 | D19: =Apoio!BP135 -> 3 | E19: =Apoio!BQ135 -> 4 | F19: =Apoio!BR135 -> 5 | G19: =Apoio!BS135 -> 6 | H19: =Apoio!BT135 -> 7 | I19: =Apoio!BU135 -> 8 | ... P19: =Apoio!CB135 -> 22 | R19: 2
B20: =Apoio!BN136 -> 1 | C20: =Apoio!BO136 -> 2 | D20: =Apoio!BP136 -> 3 | E20: =Apoio!BQ136 -> 4 | F20: =Apoio!BR136 -> 5 | G20: =Apoio!BS136 -> 6 | H20: =Apoio!BT136 -> 7 | I20: =Apoio!BU136 -> 8 | ... P20: =Apoio!CB136 -> 22 | R20: 3
B21: =Apoio!BN137 -> 1 | C21: =Apoio!BO137 -> 2 | D21: =Apoio!BP137 -> 3 | E21: =Apoio!BQ137 -> 4 | F21: =Apoio!BR137 -> 5 | G21: =Apoio!BS137 -> 6 | H21: =Apoio!BT137 -> 7 | I21: =Apoio!BU137 -> 8 | ... P21: =Apoio!CB137 -> 16 | R21: 4
B22: =Apoio!BN138 -> 1 | C22: =Apoio!BO138 -> 2 | D22: =Apoio!BP138 -> 3 | E22: =Apoio!BQ138 -> 4 | F22: =Apoio!BR138 -> 5 | G22: =Apoio!BS138 -> 6 | H22: =Apoio!BT138 -> 7 | I22: =Apoio!BU138 -> 8 | ... P22: =Apoio!CB138 -> 22 | R22: 5
B23: =Apoio!BN139 -> 1 | C23: =Apoio!BO139 -> 2 | D23: =Apoio!BP139 -> 3 | E23: =Apoio!BQ139 -> 4 | F23: =Apoio!BR139 -> 5 | G23: =Apoio!BS139 -> 6 | H23: =Apoio!BT139 -> 7 | I23: =Apoio!BU139 -> 8 | ... P23: =Apoio!CB139 -> 22 | R23: 6
B24: =Apoio!BN140 -> 1 | C24: =Apoio!BO140 -> 2 | D24: =Apoio!BP140 -> 3 | E24: =Apoio!BQ140 -> 4 | F24: =Apoio!BR140 -> 5 | G24: =Apoio!BS140 -> 6 | H24: =Apoio!BT140 -> 7 | I24: =Apoio!BU140 -> 8 | ... P24: =Apoio!CB140 -> 22 | R24: 7
B25: =Apoio!BN141 -> 1 | C25: =Apoio!BO141 -> 2 | D25: =Apoio!BP141 -> 3 | E25: =Apoio!BQ141 -> 4 | F25: =Apoio!BR141 -> 5 | G25: =Apoio!BS141 -> 6 | H25: =Apoio!BT141 -> 7 | I25: =Apoio!BU141 -> 8 | ... P25: =Apoio!CB141 -> 16 | R25: 8
B26: =Apoio!BN142 -> 1 | C26: =Apoio!BO142 -> 2 | D26: =Apoio!BP142 -> 3 | E26: =Apoio!BQ142 -> 4 | F26: =Apoio!BR142 -> 5 | G26: =Apoio!BS142 -> 6 | H26: =Apoio!BT142 -> 7 | I26: =Apoio!BU142 -> 8 | ... P26: =Apoio!CB142 -> 22 | R26: 9
B27: =Apoio!BN143 -> 1 | C27: =Apoio!BO143 -> 2 | D27: =Apoio!BP143 -> 3 | E27: =Apoio!BQ143 -> 4 | F27: =Apoio!BR143 -> 5 | G27: =Apoio!BS143 -> 6 | H27: =Apoio!BT143 -> 7 | I27: =Apoio!BU143 -> 9 | ... P27: =Apoio!CB143 -> 22 | R27: 10
B28: =Apoio!BN144 -> 1 | C28: =Apoio!BO144 -> 2 | D28: =Apoio!BP144 -> 3 | E28: =Apoio!BQ144 -> 4 | F28: =Apoio!BR144 -> 5 | G28: =Apoio!BS144 -> 6 | H28: =Apoio!BT144 -> 8 | I28: =Apoio!BU144 -> 9 | ... P28: =Apoio!CB144 -> 16 | R28: 11
B29: =Apoio!BN145 -> 1 | C29: =Apoio!BO145 -> 2 | D29: =Apoio!BP145 -> 3 | E29: =Apoio!BQ145 -> 4 | F29: =Apoio!BR145 -> 5 | G29: =Apoio!BS145 -> 6 | H29: =Apoio!BT145 -> 8 | I29: =Apoio!BU145 -> 9 | ... P29: =Apoio!CB145 -> 22 | R29: 12
... B45: =Apoio!BN161 -> 2 | C45: =Apoio!BO161 -> 3 | D45: =Apoio!BP161 -> 5 | E45: =Apoio!BQ161 -> 6 | F45: =Apoio!BR161 -> 7 | G45: =Apoio!BS161 -> 8 | H45: =Apoio!BT161 -> 9 | I45: =Apoio!BU161 -> 10 | ... P45: =Apoio!CB161 -> 22 | R45: 28

Sheet Opcao7
AA1: ="V"&X5 -> V1
A2: Opção 7 ( 17 fixos )
X5: 1 | Y5: 10
B16: Total de 40 volantes
B18: =Apoio!A206 -> 1 | C18: =Apoio!B206 -> 2 | D18: =Apoio!C206 -> 3 | E18: =Apoio!D206 -> 4 | F18: =Apoio!E206 -> 5 | G18: =Apoio!F206 -> 6 | H18: =Apoio!G206 -> 7 | I18: =Apoio!H206 -> 8 | ... P18: =Apoio!O206 -> 15 | R18: 1
B19: =Apoio!A207 -> 1 | C19: =Apoio!B207 -> 2 | D19: =Apoio!C207 -> 3 | E19: =Apoio!D207 -> 4 | F19: =Apoio!E207 -> 5 | G19: =Apoio!F207 -> 6 | H19: =Apoio!G207 -> 7 | I19: =Apoio!H207 -> 8 | ... P19: =Apoio!O207 -> 16 | R19: 2
B20: =Apoio!A208 -> 1 | C20: =Apoio!B208 -> 2 | D20: =Apoio!C208 -> 3 | E20: =Apoio!D208 -> 4 | F20: =Apoio!E208 -> 5 | G20: =Apoio!F208 -> 6 | H20: =Apoio!G208 -> 7 | I20: =Apoio!H208 -> 8 | ... P20: =Apoio!O208 -> 22 | R20: 3
B21: =Apoio!A209 -> 1 | C21: =Apoio!B209 -> 2 | D21: =Apoio!C209 -> 3 | E21: =Apoio!D209 -> 4 | F21: =Apoio!E209 -> 5 | G21: =Apoio!F209 -> 6 | H21: =Apoio!G209 -> 7 | I21: =Apoio!H209 -> 8 | ... P21: =Apoio!O209 -> 16 | R21: 4
B22: =Apoio!A210 -> 1 | C22: =Apoio!B210 -> 2 | D22: =Apoio!C210 -> 3 | E22: =Apoio!D210 -> 4 | F22: =Apoio!E210 -> 5 | G22: =Apoio!F210 -> 6 | H22: =Apoio!G210 -> 7 | I22: =Apoio!H210 -> 8 | ... P22: =Apoio!O210 -> 22 | R22: 5
B23: =Apoio!A211 -> 1 | C23: =Apoio!B211 -> 2 | D23: =Apoio!C211 -> 3 | E23: =Apoio!D211 -> 4 | F23: =Apoio!E211 -> 5 | G23: =Apoio!F211 -> 6 | H23: =Apoio!G211 -> 7 | I23: =Apoio!H211 -> 8 | ... P23: =Apoio!O211 -> 22 | R23: 6
B24: =Apoio!A212 -> 1 | C24: =Apoio!B212 -> 2 | D24: =Apoio!C212 -> 3 | E24: =Apoio!D212 -> 4 | F24: =Apoio!E212 -> 5 | G24: =Apoio!F212 -> 6 | H24: =Apoio!G212 -> 7 | I24: =Apoio!H212 -> 8 | ... P24: =Apoio!O212 -> 16 | R24: 7
B25: =Apoio!A213 -> 1 | C25: =Apoio!B213 -> 2 | D25: =Apoio!C213 -> 3 | E25: =Apoio!D213 -> 4 | F25: =Apoio!E213 -> 5 | G25: =Apoio!F213 -> 6 | H25: =Apoio!G213 -> 7 | I25: =Apoio!H213 -> 8 | ... P25: =Apoio!O213 -> 22 | R25: 8
B26: =Apoio!A214 -> 1 | C26: =Apoio!B214 -> 2 | D26: =Apoio!C214 -> 3 | E26: =Apoio!D214 -> 4 | F26: =Apoio!E214 -> 5 | G26: =Apoio!F214 -> 6 | H26: =Apoio!G214 -> 7 | I26: =Apoio!H214 -> 8 | ... P26: =Apoio!O214 -> 22 | R26: 9
B27: =Apoio!A215 -> 1 | C27: =Apoio!B215 -> 2 | D27: =Apoio!C215 -> 3 | E27: =Apoio!D215 -> 4 | F27: =Apoio!E215 -> 5 | G27: =Apoio!F215 -> 6 | H27: =Apoio!G215 -> 7 | I27: =Apoio!H215 -> 8 | ... P27: =Apoio!O215 -> 22 | R27: 10
B28: =Apoio!A216 -> 1 | C28: =Apoio!B216 -> 2 | D28: =Apoio!C216 -> 3 | E28: =Apoio!D216 -> 4 | F28: =Apoio!E216 -> 5 | G28: =Apoio!F216 -> 6 | H28: =Apoio!G216 -> 7 | I28: =Apoio!H216 -> 8 | ... P28: =Apoio!O216 -> 22 | R28: 11
B29: =Apoio!A217 -> 1 | C29: =Apoio!B217 -> 2 | D29: =Apoio!C217 -> 3 | E29: =Apoio!D217 -> 4 | F29: =Apoio!E217 -> 5 | G29: =Apoio!F217 -> 6 | H29: =Apoio!G217 -> 7 | I29: =Apoio!H217 -> 8 | ... P29: =Apoio!O217 -> 22 | R29: 12
... B57: =Apoio!A245 -> 3 | C57: =Apoio!B245 -> 4 | D57: =Apoio!C245 -> 5 | E57: =Apoio!D245 -> 6 | F57: =Apoio!E245 -> 7 | G57: =Apoio!F245 -> 8 | H57: =Apoio!G245 -> 9 | I57: =Apoio!H245 -> 10 | ... P57: =Apoio!O245 -> 22 | R57: 40

Sheet Opcao8
AA1: ="V"&X5 -> V1
A2: Opção 8 ( 17 fixos )
X5: 1 | Y5: 10
B16: Total de 8 volantes
B18: =Apoio!A264 -> 1 | C18: =Apoio!B264 -> 2 | D18: =Apoio!C264 -> 3 | E18: =Apoio!D264 -> 4 | F18: =Apoio!E264 -> 5 | G18: =Apoio!F264 -> 6 | H18: =Apoio!G264 -> 7 | I18: =Apoio!H264 -> 8 | ... P18: =Apoio!O264 -> 22 | R18: 1
B19: =Apoio!A265 -> 1 | C19: =Apoio!B265 -> 2 | D19: =Apoio!C265 -> 3 | E19: =Apoio!D265 -> 4 | F19: =Apoio!E265 -> 5 | G19: =Apoio!F265 -> 6 | H19: =Apoio!G265 -> 7 | I19: =Apoio!H265 -> 8 | ... P19: =Apoio!O265 -> 22 | R19: 2
B20: =Apoio!A266 -> 1 | C20: =Apoio!B266 -> 2 | D20: =Apoio!C266 -> 3 | E20: =Apoio!D266 -> 4 | F20: =Apoio!E266 -> 5 | G20: =Apoio!F266 -> 6 | H20: =Apoio!G266 -> 7 | I20: =Apoio!H266 -> 8 | ... P20: =Apoio!O266 -> 22 | R20: 3
B21: =Apoio!A267 -> 1 | C21: =Apoio!B267 -> 2 | D21: =Apoio!C267 -> 3 | E21: =Apoio!D267 -> 4 | F21: =Apoio!E267 -> 5 | G21: =Apoio!F267 -> 7 | H21: =Apoio!G267 -> 9 | I21: =Apoio!H267 -> 10 | ... P21: =Apoio!O267 -> 22 | R21: 4
B22: =Apoio!A268 -> 1 | C22: =Apoio!B268 -> 2 | D22: =Apoio!C268 -> 3 | E22: =Apoio!D268 -> 4 | F22: =Apoio!E268 -> 6 | G22: =Apoio!F268 -> 7 | H22: =Apoio!G268 -> 8 | I22: =Apoio!H268 -> 9 | ... P22: =Apoio!O268 -> 22 | R22: 5
B23: =Apoio!A269 -> 1 | C23: =Apoio!B269 -> 2 | D23: =Apoio!C269 -> 3 | E23: =Apoio!D269 -> 5 | F23: =Apoio!E269 -> 6 | G23: =Apoio!F269 -> 7 | H23: =Apoio!G269 -> 8 | I23: =Apoio!H269 -> 9 | ... P23: =Apoio!O269 -> 22 | R23: 6
B24: =Apoio!A270 -> 1 | C24: =Apoio!B270 -> 3 | D24: =Apoio!C270 -> 4 | E24: =Apoio!D270 -> 5 | F24: =Apoio!E270 -> 6 | G24: =Apoio!F270 -> 7 | H24: =Apoio!G270 -> 8 | I24: =Apoio!H270 -> 9 | ... P24: =Apoio!O270 -> 22 | R24: 7
B25: =Apoio!A271 -> 2 | C25: =Apoio!B271 -> 3 | D25: =Apoio!C271 -> 4 | E25: =Apoio!D271 -> 5 | F25: =Apoio!E271 -> 6 | G25: =Apoio!F271 -> 8 | H25: =Apoio!G271 -> 9 | I25: =Apoio!H271 -> 10 | ... P25: =Apoio!O271 -> 22 | R25: 8

Sheet Opcao9
AA1: ="V"&X5 -> V1
A2: Opção 9 ( 17 fixos )
X5: 1 | Y5: 10
B16: Total de 8 volantes
B18: =Apoio!BN180 -> 1 | C18: =Apoio!BO180 -> 2 | D18: =Apoio!BP180 -> 4 | E18: =Apoio!BQ180 -> 5 | F18: =Apoio!BR180 -> 7 | G18: =Apoio!BS180 -> 8 | H18: =Apoio!BT180 -> 9 | I18: =Apoio!BU180 -> 10 | ... P18: =Apoio!CB180 -> 22 | R18: 1
B19: =Apoio!BN181 -> 1 | C19: =Apoio!BO181 -> 2 | D19: =Apoio!BP181 -> 3 | E19: =Apoio!BQ181 -> 4 | F19: =Apoio!BR181 -> 5 | G19: =Apoio!BS181 -> 6 | H19: =Apoio!BT181 -> 7 | I19: =Apoio!BU181 -> 8 | ... P19: =Apoio!CB181 -> 22 | R19: 2
B20: =Apoio!BN182 -> 1 | C20: =Apoio!BO182 -> 2 | D20: =Apoio!BP182 -> 3 | E20: =Apoio!BQ182 -> 4 | F20: =Apoio!BR182 -> 5 | G20: =Apoio!BS182 -> 6 | H20: =Apoio!BT182 -> 8 | I20: =Apoio!BU182 -> 9 | ... P20: =Apoio!CB182 -> 22 | R20: 3
B21: =Apoio!BN183 -> 1 | C21: =Apoio!BO183 -> 3 | D21: =Apoio!BP183 -> 4 | E21: =Apoio!BQ183 -> 5 | F21: =Apoio!BR183 -> 6 | G21: =Apoio!BS183 -> 7 | H21: =Apoio!BT183 -> 8 | I21: =Apoio!BU183 -> 9 | ... P21: =Apoio!CB183 -> 22 | R21: 4
B22: =Apoio!BN184 -> 1 | C22: =Apoio!BO184 -> 2 | D22: =Apoio!BP184 -> 3 | E22: =Apoio!BQ184 -> 5 | F22: =Apoio!BR184 -> 6 | G22: =Apoio!BS184 -> 7 | H22: =Apoio!BT184 -> 8 | I22: =Apoio!BU184 -> 9 | ... P22: =Apoio!CB184 -> 16 | R22: 5
B23: =Apoio!BN185 -> 1 | C23: =Apoio!BO185 -> 2 | D23: =Apoio!BP185 -> 3 | E23: =Apoio!BQ185 -> 4 | F23: =Apoio!BR185 -> 5 | G23: =Apoio!BS185 -> 6 | H23: =Apoio!BT185 -> 7 | I23: =Apoio!BU185 -> 8 | ... P23: =Apoio!CB185 -> 22 | R23: 6
B24: =Apoio!BN186 -> 1 | C24: =Apoio!BO186 -> 2 | D24: =Apoio!BP186 -> 3 | E24: =Apoio!BQ186 -> 4 | F24: =Apoio!BR186 -> 5 | G24: =Apoio!BS186 -> 6 | H24: =Apoio!BT186 -> 7 | I24: =Apoio!BU186 -> 9 | ... P24: =Apoio!CB186 -> 22 | R24: 7
B25: =Apoio!BN187 -> 2 | C25: =Apoio!BO187 -> 3 | D25: =Apoio!BP187 -> 4 | E25: =Apoio!BQ187 -> 6 | F25: =Apoio!BR187 -> 7 | G25: =Apoio!BS187 -> 8 | H25: =Apoio!BT187 -> 9 | I25: =Apoio!BU187 -> 10 | ... P25: =Apoio!CB187 -> 22 | R25: 8

Sheet Apoio
BN1: 1 | BO1: 2 | BP1: 3 | BQ1: 4 | BR1: 5 | BS1: 6 | BT1: 7 | BU1: 8 | BV1: 9 | BW1: 10 | BX1: 11 | BY1: 12 | BZ1: 13 | CA1: 14 | CB1: 15 | CC1: 16 | CD1: 17 | CE1: 18 | CF1: 19 | CG1: 20 | CH1: 21 | CI1: 22 | CJ1: 23 | CK1: 24 | CL1: 25
BN2: =BN30 -> 1 | BO2: =BO30 -> 2 | BP2: =BP30 -> 3 | BQ2: =BQ30 -> 4 | BR2: =BR30 -> 5 | BS2: =BS30 -> 6 | BT2: =BT30 -> 7 | BU2: =BU30 -> 8 | ... BW2: =BW30 -> 10 | BX2: =BY67 -> 11 | BY2: =BZ67 -> 12 | BZ2: =CA67 -> 13 | CA2: =CB67 -> 14 | CB2: =CC67 -> 15 | CC2: =CD67 -> 16 | CD2: =CE67 -> 25 | CE2: =BN31 -> 17 | CF2: =BO31 -> 18 | CG2: =BP31 -> 19 | CH2: =BQ31 -> 20 | CI2: =BR31 -> 21 | CJ2: =BS31 -> 22 | CK2: =BT31 -> 23 | CL2: =BU31 -> 24
A3: 1 | B3: 2 | C3: 3 | D3: 4 | E3: 5 | F3: 6 | G3: 7 | H3: 8 | I3: 9 | J3: 10 | K3: 11 | L3: 12 | M3: 13 | N3: 14 | O3: 15 | P3: 16 | Q3: 17 | CT3: 1 | CU3: 2 | CV3: 3 | CW3: 4 | CX3: 5 | CY3: 6 | CZ3: 7 | DA3: 8 | DB3: 9 | DC3: 10 | DD3: 11 | DE3: 12 | DF3: 13 | DG3: 14 | DH3: 15 | DI3: 16 | DJ3: 17
A4: =Início!B17 -> 1 | B4: =Início!C17 -> 2 | C4: =Início!D17 -> 3 | D4: =Início!E17 -> 4 | E4: =Início!F17 -> 5 | F4: =Início!G17 -> 6 | G4: =Início!H17 -> 7 | H4: =Início!I17 -> 8 | ... Q4: =Início!R17 -> 22 | CT4: =Início!B17 -> 1 | CU4: =Início!C17 -> 2 | CV4: =Início!D17 -> 3 | CW4: =Início!E17 -> 4 | CX4: =Início!F17 -> 5 | CY4: =Início!G17 -> 6 | CZ4: =Início!H17 -> 7 | DA4: =Início!I17 -> 8 | ... DJ4: =Início!R17 -> 22
BN7: =LOOKUP(CD7,$BN$1:$CL$1,$BN$2:$CL$2) -> 1 | BO7: =LOOKUP(CE7,$BN$1:$CL$1,$BN$2:$CL$2) -> 2 | BP7: =LOOKUP(CF7,$BN$1:$CL$1,$BN$2:$CL$2) -> 3 | BQ7: =LOOKUP(CG7,$BN$1:$CL$1,$BN$2:$CL$2) -> 4 | BR7: =LOOKUP(CH7,$BN$1:$CL$1,$BN$2:$CL$2) -> 5 | BS7: =LOOKUP(CI7,$BN$1:$CL$1,$BN$2:$CL$2) -> 6 | BT7: =LOOKUP(CJ7,$BN$1:$CL$1,$BN$2:$CL$2) -> 7 | BU7: =LOOKUP(CK7,$BN$1:$CL$1,$BN$2:$CL$2) -> 8 | ... CB7: =LOOKUP(CR7,$BN$1:$CL$1,$BN$2:$CL$2) -> 15 | CD7: 1 | CE7: 2 | CF7: 3 | CG7: 4 | CH7: 5 | CI7: 6 | CJ7: 7 | CK7: 8 | CL7: 9 | CM7: 10 | CN7: 11 | CO7: 12 | CP7: 13 | CQ7: 14 | CR7: 15
BN8: =LOOKUP(CD8,$BN$1:$CL$1,$BN$2:$CL$2) -> 1 | BO8: =LOOKUP(CE8,$BN$1:$CL$1,$BN$2:$CL$2) -> 2 | BP8: =LOOKUP(CF8,$BN$1:$CL$1,$BN$2:$CL$2) -> 3 | BQ8: =LOOKUP(CG8,$BN$1:$CL$1,$BN$2:$CL$2) -> 4 | BR8: =LOOKUP(CH8,$BN$1:$CL$1,$BN$2:$CL$2) -> 5 | BS8: =LOOKUP(CI8,$BN$1:$CL$1,$BN$2:$CL$2) -> 6 | BT8: =LOOKUP(CJ8,$BN$1:$CL$1,$BN$2:$CL$2) -> 7 | BU8: =LOOKUP(CK8,$BN$1:$CL$1,$BN$2:$CL$2) -> 8 | ... CB8: =LOOKUP(CR8,$BN$1:$CL$1,$BN$2:$CL$2) -> 16 | CD8: 1 | CE8: 2 | CF8: 3 | CG8: 4 | CH8: 5 | CI8: 6 | CJ8: 7 | CK8: 8 | CL8: 9 | CM8: 10 | CN8: 11 | CO8: 12 | CP8: 13 | CQ8: 14 | CR8: 16
A9: =LOOKUP(Q9,$A$3:$Y$3,$A$4:$Y$4) -> 1 | B9: =LOOKUP(R9,$A$3:$Y$3,$A$4:$Y$4) -> 2 | C9: =LOOKUP(S9,$A$3:$Y$3,$A$4:$Y$4) -> 3 | D9: =LOOKUP(T9,$A$3:$Y$3,$A$4:$Y$4) -> 4 | E9: =LOOKUP(U9,$A$3:$Y$3,$A$4:$Y$4) -> 5 | F9: =LOOKUP(V9,$A$3:$Y$3,$A$4:$Y$4) -> 6 | G9: =LOOKUP(W9,$A$3:$Y$3,$A$4:$Y$4) -> 7 | H9: =LOOKUP(X9,$A$3:$Y$3,$A$4:$Y$4) -> 8 | ... O9: =LOOKUP(AE9,$A$3:$Y$3,$A$4:$Y$4) -> 16 | Q9: 1 | R9: 2 | S9: 3 | T9: 4 | U9: 5 | V9: 6 | W9: 7 | X9: 8 | Y9: 9 | Z9: 10 | AA9: 11 | AB9: 12 | AC9: 13 | AD9: 14 | AE9: 16 | AH9: =LOOKUP(AX9,$A$3:$Y$3,$A$4:$Y$4) -> 1 | AI9: =LOOKUP(AY9,$A$3:$Y$3,$A$4:$Y$4) -> 2 | AJ9: =LOOKUP(AZ9,$A$3:$Y$3,$A$4:$Y$4) -> 3 | AK9: =LOOKUP(BA9,$A$3:$Y$3,$A$4:$Y$4) -> 4 | AL9: =LOOKUP(BB9,$A$3:$Y$3,$A$4:$Y$4) -> 5 | AM9: =LOOKUP(BC9,$A$3:$Y$3,$A$4:$Y$4) -> 6 | AN9: =LOOKUP(BD9,$A$3:$Y$3,$A$4:$Y$4) -> 7 | AO9: =LOOKUP(BE9,$A$3:$Y$3,$A$4:$Y$4) -> 8 | ... AV9: =LOOKUP(BL9,$A$3:$Y$3,$A$4:$Y$4) -> 15 | AX9: 1 | AY9: 2 | AZ9: 3 | BA9: 4 | BB9: 5 | BC9: 6 | BD9: 7 | BE9: 8 | BF9: 9 | BG9: 10 | BH9: 11 | BI9: 12 | BJ9: 13 | BK9: 14 | BL9: 15 | BN9: =LOOKUP(CD9,$BN$1:$CL$1,$BN$2:$CL$2) -> 1 | BO9: =LOOKUP(CE9,$BN$1:$CL$1,$BN$2:$CL$2) -> 2 | BP9: =LOOKUP(CF9,$BN$1:$CL$1,$BN$2:$CL$2) -> 3 | BQ9: =LOOKUP(CG9,$BN$1:$CL$1,$BN$2:$CL$2) -> 4 | BR9: =LOOKUP(CH9,$BN$1:$CL$1,$BN$2:$CL$2) -> 5 | BS9: =LOOKUP(CI9,$BN$1:$CL$1,$BN$2:$CL$2) -> 6 | BT9: =LOOKUP(CJ9,$BN$1:$CL$1,$BN$2:$CL$2) -> 7 | BU9: =LOOKUP(CK9,$BN$1:$CL$1,$BN$2:$CL$2) -> 8 | ... CB9: =LOOKUP(CR9,$BN$1:$CL$1,$BN$2:$CL$2) -> 25 | CD9: 1 | CE9: 2 | CF9: 3 | CG9: 4 | CH9: 5 | CI9: 6 | CJ9: 7 | CK9: 8 | CL9: 9 | CM9: 10 | CN9: 11 | CO9: 12 | CP9: 13 | CQ9: 14 | CR9: 17 | CT9: =LOOKUP(DJ9,$CT$3:$DR$3,$CT$4:$DX$4) -> 1 | CU9: =LOOKUP(DK9,$CT$3:$DR$3,$CT$4:$DX$4) -> 2 | CV9: =LOOKUP(DL9,$CT$3:$DR$3,$CT$4:$DX$4) -> 3 | CW9: =LOOKUP(DM9,$CT$3:$DR$3,$CT$4:$DX$4) -> 4 | CX9: =LOOKUP(DN9,$CT$3:$DR$3,$CT$4:$DX$4) -> 5 | CY9: =LOOKUP(DO9,$CT$3:$DR$3,$CT$4:$DX$4) -> 6 | CZ9: =LOOKUP(DP9,$CT$3:$DR$3,$CT$4:$DX$4) -> 7 | DA9: =LOOKUP(DQ9,$CT$3:$DR$3,$CT$4:$DX$4) -> 8 | ... DH9: =LOOKUP(DX9,$CT$3:$DR$3,$CT$4:$DX$4) -> 15 | DJ9: 1 | DK9: 2 | DL9: 3 | DM9: 4 | DN9: 5 | DO9: 6 | DP9: 7 | DQ9: 8 | DR9: 9 | DS9: 10 | DT9: 11 | DU9: 12 | DV9: 13 | DW9: 14 | DX9: 15
A10: =LOOKUP(Q10,$A$3:$Y$3,$A$4:$Y$4) -> 1 | B10: =LOOKUP(R10,$A$3:$Y$3,$A$4:$Y$4) -> 2 | C10: =LOOKUP(S10,$A$3:$Y$3,$A$4:$Y$4) -> 3 | D10: =LOOKUP(T10,$A$3:$Y$3,$A$4:$Y$4) -> 4 | E10: =LOOKUP(U10,$A$3:$Y$3,$A$4:$Y$4) -> 5 | F10: =LOOKUP(V10,$A$3:$Y$3,$A$4:$Y$4) -> 6 | G10: =LOOKUP(W10,$A$3:$Y$3,$A$4:$Y$4) -> 7 | H10: =LOOKUP(X10,$A$3:$Y$3,$A$4:$Y$4) -> 8 | ... O10: =LOOKUP(AE10,$A$3:$Y$3,$A$4:$Y$4) -> 16 | Q10: 1 | R10: 2 | S10: 3 | T10: 4 | U10: 5 | V10: 6 | W10: 7 | X10: 8 | Y10: 9 | Z10: 10 | AA10: 11 | AB10: 12 | AC10: 13 | AD10: 15 | AE10: 16 | AH10: =LOOKUP(AX10,$A$3:$Y$3,$A$4:$Y$4) -> 1 | AI10: =LOOKUP(AY10,$A$3:$Y$3,$A$4:$Y$4) -> 2 | AJ10: =LOOKUP(AZ10,$A$3:$Y$3,$A$4:$Y$4) -> 3 | AK10: =LOOKUP(BA10,$A$3:$Y$3,$A$4:$Y$4) -> 4 | AL10: =LOOKUP(BB10,$A$3:$Y$3,$A$4:$Y$4) -> 5 | AM10: =LOOKUP(BC10,$A$3:$Y$3,$A$4:$Y$4) -> 6 | AN10: =LOOKUP(BD10,$A$3:$Y$3,$A$4:$Y$4) -> 7 | AO10: =LOOKUP(BE10,$A$3:$Y$3,$A$4:$Y$4) -> 8 | ... AV10: =LOOKUP(BL10,$A$3:$Y$3,$A$4:$Y$4) -> 16 | AX10: 1 | AY10: 2 | AZ10: 3 | BA10: 4 | BB10: 5 | BC10: 6 | BD10: 7 | BE10: 8 | BF10: 9 | BG10: 10 | BH10: 11 | BI10: 12 | BJ10: 13 | BK10: 14 | BL10: 16 | BN10: =LOOKUP(CD10,$BN$1:$CL$1,$BN$2:$CL$2) -> 1 | BO10: =LOOKUP(CE10,$BN$1:$CL$1,$BN$2:$CL$2) -> 2 | BP10: =LOOKUP(CF10,$BN$1:$CL$1,$BN$2:$CL$2) -> 3 | BQ10: =LOOKUP(CG10,$BN$1:$CL$1,$BN$2:$CL$2) -> 4 | BR10: =LOOKUP(CH10,$BN$1:$CL$1,$BN$2:$CL$2) -> 5 | BS10: =LOOKUP(CI10,$BN$1:$CL$1,$BN$2:$CL$2) -> 6 | BT10: =LOOKUP(CJ10,$BN$1:$CL$1,$BN$2:$CL$2) -> 7 | BU10: =LOOKUP(CK10,$BN$1:$CL$1,$BN$2:$CL$2) -> 8 | ... CB10: =LOOKUP(CR10,$BN$1:$CL$1,$BN$2:$CL$2) -> 16 | CD10: 1 | CE10: 2 | CF10: 3 | CG10: 4 | CH10: 5 | CI10: 6 | CJ10: 7 | CK10: 8 | CL10: 9 | CM10: 10 | CN10: 11 | CO10: 12 | CP10: 13 | CQ10: 15 | CR10: 16 | CT10: =LOOKUP(DJ10,$CT$3:$DR$3,$CT$4:$DX$4) -> 1 | CU10: =LOOKUP(DK10,$CT$3:$DR$3,$CT$4:$DX$4) -> 2 | CV10: =LOOKUP(DL10,$CT$3:$DR$3,$CT$4:$DX$4) -> 3 | CW10: =LOOKUP(DM10,$CT$3:$DR$3,$CT$4:$DX$4) -> 4 | CX10: =LOOKUP(DN10,$CT$3:$DR$3,$CT$4:$DX$4) -> 5 | CY10: =LOOKUP(DO10,$CT$3:$DR$3,$CT$4:$DX$4) -> 6 | CZ10: =LOOKUP(DP10,$CT$3:$DR$3,$CT$4:$DX$4) -> 7 | DA10: =LOOKUP(DQ10,$CT$3:$DR$3,$CT$4:$DX$4) -> 8 | ... DH10: =LOOKUP(DX10,$CT$3:$DR$3,$CT$4:$DX$4) -> 22 | DJ10: 1 | DK10: 2 | DL10: 3 | DM10: 4 | DN10: 5 | DO10: 6 | DP10: 7 | DQ10: 8 | DR10: 9 | DS10: 10 | DT10: 11 | DU10: 12 | DV10: 14 | DW10: 16 | DX10: 17
A11: =LOOKUP(Q11,$A$3:$Y$3,$A$4:$Y$4) -> 1 | B11: =LOOKUP(R11,$A$3:$Y$3,$A$4:$Y$4) -> 2 | C11: =LOOKUP(S11,$A$3:$Y$3,$A$4:$Y$4) -> 3 | D11: =LOOKUP(T11,$A$3:$Y$3,$A$4:$Y$4) -> 4 | E11: =LOOKUP(U11,$A$3:$Y$3,$A$4:$Y$4) -> 5 | F11: =LOOKUP(V11,$A$3:$Y$3,$A$4:$Y$4) -> 6 | G11: =LOOKUP(W11,$A$3:$Y$3,$A$4:$Y$4) -> 7 | H11: =LOOKUP(X11,$A$3:$Y$3,$A$4:$Y$4) -> 8 | ... O11: =LOOKUP(AE11,$A$3:$Y$3,$A$4:$Y$4) -> 22 | Q11: 1 | R11: 2 | S11: 3 | T11: 4 | U11: 5 | V11: 6 | W11: 7 | X11: 8 | Y11: 9 | Z11: 10 | AA11: 11 | AB11: 12 | AC11: 13 | AD11: 16 | AE11: 17 | AH11: =LOOKUP(AX11,$A$3:$Y$3,$A$4:$Y$4) -> 1 | AI11: =LOOKUP(AY11,$A$3:$Y$3,$A$4:$Y$4) -> 2 | AJ11: =LOOKUP(AZ11,$A$3:$Y$3,$A$4:$Y$4) -> 3 | AK11: =LOOKUP(BA11,$A$3:$Y$3,$A$4:$Y$4) -> 4 | AL11: =LOOKUP(BB11,$A$3:$Y$3,$A$4:$Y$4) -> 5 | AM11: =LOOKUP(BC11,$A$3:$Y$3,$A$4:$Y$4) -> 6 | AN11: =LOOKUP(BD11,$A$3:$Y$3,$A$4:$Y$4) -> 7 | AO11: =LOOKUP(BE11,$A$3:$Y$3,$A$4:$Y$4) -> 8 | ... AV11: =LOOKUP(BL11,$A$3:$Y$3,$A$4:$Y$4) -> 22 | AX11: 1 | AY11: 2 | AZ11: 3 | BA11: 4 | BB11: 5 | BC11: 6 | BD11: 7 | BE11: 8 | BF11: 9 | BG11: 10 | BH11: 11 | BI11: 12 | BJ11: 13 | BK11: 14 | BL11: 17 | BN11: =LOOKUP(CD11,$BN$1:$CL$1,$BN$2:$CL$2) -> 1 | BO11: =LOOKUP(CE11,$BN$1:$CL$1,$BN$2:$CL$2) -> 2 | BP11: =LOOKUP(CF11,$BN$1:$CL$1,$BN$2:$CL$2) -> 3 | BQ11: =LOOKUP(CG11,$BN$1:$CL$1,$BN$2:$CL$2) -> 4 | BR11: =LOOKUP(CH11,$BN$1:$CL$1,$BN$2:$CL$2) -> 5 | BS11: =LOOKUP(CI11,$BN$1:$CL$1,$BN$2:$CL$2) -> 6 | BT11: =LOOKUP(CJ11,$BN$1:$CL$1,$BN$2:$CL$2) -> 7 | BU11: =LOOKUP(CK11,$BN$1:$CL$1,$BN$2:$CL$2) -> 8 | ... CB11: =LOOKUP(CR11,$BN$1:$CL$1,$BN$2:$CL$2) -> 25 | CD11: 1 | CE11: 2 | CF11: 3 | CG11: 4 | CH11: 5 | CI11: 6 | CJ11: 7 | CK11: 8 | CL11: 9 | CM11: 10 | CN11: 11 | CO11: 12 | CP11: 13 | CQ11: 15 | CR11: 17 | CT11: =LOOKUP(DJ11,$CT$3:$DR$3,$CT$4:$DX$4) -> 1 | CU11: =LOOKUP(DK11,$CT$3:$DR$3,$CT$4:$DX$4) -> 2 | CV11: =LOOKUP(DL11,$CT$3:$DR$3,$CT$4:$DX$4) -> 3 | CW11: =LOOKUP(DM11,$CT$3:$DR$3,$CT$4:$DX$4) -> 4 | CX11: =LOOKUP(DN11,$CT$3:$DR$3,$CT$4:$DX$4) -> 5 | CY11: =LOOKUP(DO11,$CT$3:$DR$3,$CT$4:$DX$4) -> 6 | CZ11: =LOOKUP(DP11,$CT$3:$DR$3,$CT$4:$DX$4) -> 7 | DA11: =LOOKUP(DQ11,$CT$3:$DR$3,$CT$4:$DX$4) -> 8 | ... DH11: =LOOKUP(DX11,$CT$3:$DR$3,$CT$4:$DX$4) -> 22 | DJ11: 1 | DK11: 2 | DL11: 3 | DM11: 4 | DN11: 5 | DO11: 6 | DP11: 7 | DQ11: 8 | DR11: 9 | DS11: 10 | DT11: 11 | DU11: 13 | DV11: 14 | DW11: 16 | DX11: 17
A12: =LOOKUP(Q12,$A$3:$Y$3,$A$4:$Y$4) -> 1 | B12: =LOOKUP(R12,$A$3:$Y$3,$A$4:$Y$4) -> 2 | C12: =LOOKUP(S12,$A$3:$Y$3,$A$4:$Y$4) -> 3 | D12: =LOOKUP(T12,$A$3:$Y$3,$A$4:$Y$4) -> 4 | E12: =LOOKUP(U12,$A$3:$Y$3,$A$4:$Y$4) -> 5 | F12: =LOOKUP(V12,$A$3:$Y$3,$A$4:$Y$4) -> 6 | G12: =LOOKUP(W12,$A$3:$Y$3,$A$4:$Y$4) -> 7 | H12: =LOOKUP(X12,$A$3:$Y$3,$A$4:$Y$4) -> 8 | ... O12: =LOOKUP(AE12,$A$3:$Y$3,$A$4:$Y$4) -> 16 | Q12: 1 | R12: 2 | S12: 3 | T12: 4 | U12: 5 | V12: 6 | W12: 7 | X12: 8 | Y12: 9 | Z12: 10 | AA12: 11 | AB12: 12 | AC12: 14 | AD12: 15 | AE12: 16 | AH12: =LOOKUP(AX12,$A$3:$Y$3,$A$4:$Y$4) -> 1 | AI12: =LOOKUP(AY12,$A$3:$Y$3,$A$4:$Y$4) -> 2 | AJ12: =LOOKUP(AZ12,$A$3:$Y$3,$A$4:$Y$4) -> 3 | AK12: =LOOKUP(BA12,$A$3:$Y$3,$A$4:$Y$4) -> 4 | AL12: =LOOKUP(BB12,$A$3:$Y$3,$A$4:$Y$4) -> 5 | AM12: =LOOKUP(BC12,$A$3:$Y$3,$A$4:$Y$4) -> 6 | AN12: =LOOKUP(BD12,$A$3:$Y$3,$A$4:$Y$4) -> 7 | AO12: =LOOKUP(BE12,$A$3:$Y$3,$A$4:$Y$4) -> 8 | ... AV12: =LOOKUP(BL12,$A$3:$Y$3,$A$4:$Y$4) -> 16 | AX12: 1 | AY12: 2 | AZ12: 3 | BA12: 4 | BB12: 5 | BC12: 6 | BD12: 7 | BE12: 8 | BF12: 9 | BG12: 10 | BH12: 11 | BI12: 12 | BJ12: 13 | BK12: 15 | BL12: 16 | BN12: =LOOKUP(CD12,$BN$1:$CL$1,$BN$2:$CL$2) -> 1 | BO12: =LOOKUP(CE12,$BN$1:$CL$1,$BN$2:$CL$2) -> 2 | BP12: =LOOKUP(CF12,$BN$1:$CL$1,$BN$2:$CL$2) -> 3 | BQ12: =LOOKUP(CG12,$BN$1:$CL$1,$BN$2:$CL$2) -> 4 | BR12: =LOOKUP(CH12,$BN$1:$CL$1,$BN$2:$CL$2) -> 5 | BS12: =LOOKUP(CI12,$BN$1:$CL$1,$BN$2:$CL$2) -> 6 | BT12: =LOOKUP(CJ12,$BN$1:$CL$1,$BN$2:$CL$2) -> 7 | BU12: =LOOKUP(CK12,$BN$1:$CL$1,$BN$2:$CL$2) -> 8 | ... CB12: =LOOKUP(CR12,$BN$1:$CL$1,$BN$2:$CL$2) -> 25 | CD12: 1 | CE12: 2 | CF12: 3 | CG12: 4 | CH12: 5 | CI12: 6 | CJ12: 7 | CK12: 8 | CL12: 9 | CM12: 10 | CN12: 11 | CO12: 12 | CP12: 13 | CQ12: 16 | CR12: 17 | CT12: =LOOKUP(DJ12,$CT$3:$DR$3,$CT$4:$DX$4) -> 1 | CU12: =LOOKUP(DK12,$CT$3:$DR$3,$CT$4:$DX$4) -> 2 | CV12: =LOOKUP(DL12,$CT$3:$DR$3,$CT$4:$DX$4) -> 3 | CW12: =LOOKUP(DM12,$CT$3:$DR$3,$CT$4:$DX$4) -> 4 | CX12: =LOOKUP(DN12,$CT$3:$DR$3,$CT$4:$DX$4) -> 5 | CY12: =LOOKUP(DO12,$CT$3:$DR$3,$CT$4:$DX$4) -> 6 | CZ12: =LOOKUP(DP12,$CT$3:$DR$3,$CT$4:$DX$4) -> 7 | DA12: =LOOKUP(DQ12,$CT$3:$DR$3,$CT$4:$DX$4) -> 8 | ... DH12: =LOOKUP(DX12,$CT$3:$DR$3,$CT$4:$DX$4) -> 22 | DJ12: 1 | DK12: 2 | DL12: 3 | DM12: 4 | DN12: 5 | DO12: 6 | DP12: 7 | DQ12: 8 | DR12: 9 | DS12: 10 | DT12: 11 | DU12: 14 | DV12: 15 | DW12: 16 | DX12: 17
A13: =LOOKUP(Q13,$A$3:$Y$3,$A$4:$Y$4) -> 1 | B13: =LOOKUP(R13,$A$3:$Y$3,$A$4:$Y$4) -> 2 | C13: =LOOKUP(S13,$A$3:$Y$3,$A$4:$Y$4) -> 3 | D13: =LOOKUP(T13,$A$3:$Y$3,$A$4:$Y$4) -> 4 | E13: =LOOKUP(U13,$A$3:$Y$3,$A$4:$Y$4) -> 5 | F13: =LOOKUP(V13,$A$3:$Y$3,$A$4:$Y$4) -> 6 | G13: =LOOKUP(W13,$A$3:$Y$3,$A$4:$Y$4) -> 7 | H13: =LOOKUP(X13,$A$3:$Y$3,$A$4:$Y$4) -> 8 | ... O13: =LOOKUP(AE13,$A$3:$Y$3,$A$4:$Y$4) -> 22 | Q13: 1 | R13: 2 | S13: 3 | T13: 4 | U13: 5 | V13: 6 | W13: 7 | X13: 8 | Y13: 9 | Z13: 10 | AA13: 11 | AB13: 12 | AC13: 14 | AD13: 16 | AE13: 17 | AH13: =LOOKUP(AX13,$A$3:$Y$3,$A$4:$Y$4) -> 1 | AI13: =LOOKUP(AY13,$A$3:$Y$3,$A$4:$Y$4) -> 2 | AJ13: =LOOKUP(AZ13,$A$3:$Y$3,$A$4:$Y$4) -> 3 | AK13: =LOOKUP(BA13,$A$3:$Y$3,$A$4:$Y$4) -> 4 | AL13: =LOOKUP(BB13,$A$3:$Y$3,$A$4:$Y$4) -> 5 | AM13: =LOOKUP(BC13,$A$3:$Y$3,$A$4:$Y$4) -> 6 | AN13: =LOOKUP(BD13,$A$3:$Y$3,$A$4:$Y$4) -> 7 | AO13: =LOOKUP(BE13,$A$3:$Y$3,$A$4:$Y$4) -> 8 | ... AV13: =LOOKUP(BL13,$A$3:$Y$3,$A$4:$Y$4) -> 22 | AX13: 1 | AY13: 2 | AZ13: 3 | BA13: 4 | BB13: 5 | BC13: 6 | BD13: 7 | BE13: 8 | BF13: 9 | BG13: 10 | BH13: 11 | BI13: 12 | BJ13: 13 | BK13: 15 | BL13: 17 | BN13: =LOOKUP(CD13,$BN$1:$CL$1,$BN$2:$CL$2) -> 1 | BO13: =LOOKUP(CE13,$BN$1:$CL$1,$BN$2:$CL$2) -> 2 | BP13: =LOOKUP(CF13,$BN$1:$CL$1,$BN$2:$CL$2) -> 3 | BQ13: =LOOKUP(CG13,$BN$1:$CL$1,$BN$2:$CL$2) -> 4 | BR13: =LOOKUP(CH13,$BN$1:$CL$1,$BN$2:$CL$2) -> 5 | BS13: =LOOKUP(CI13,$BN$1:$CL$1,$BN$2:$CL$2) -> 6 | BT13: =LOOKUP(CJ13,$BN$1:$CL$1,$BN$2:$CL$2) -> 7 | BU13: =LOOKUP(CK13,$BN$1:$CL$1,$BN$2:$CL$2) -> 8 | ... CB13: =LOOKUP(CR13,$BN$1:$CL$1,$BN$2:$CL$2) -> 16 | CD13: 1 | CE13: 2 | CF13: 3 | CG13: 4 | CH13: 5 | CI13: 6 | CJ13: 7 | CK13: 8 | CL13: 9 | CM13: 10 | CN13: 11 | CO13: 12 | CP13: 14 | CQ13: 15 | CR13: 16 | CT13: =LOOKUP(DJ13,$CT$3:$DR$3,$CT$4:$DX$4) -> 1 | CU13: =LOOKUP(DK13,$CT$3:$DR$3,$CT$4:$DX$4) -> 2 | CV13: =LOOKUP(DL13,$CT$3:$DR$3,$CT$4:$DX$4) -> 3 | CW13: =LOOKUP(DM13,$CT$3:$DR$3,$CT$4:$DX$4) -> 4 | CX13: =LOOKUP(DN13,$CT$3:$DR$3,$CT$4:$DX$4) -> 5 | CY13: =LOOKUP(DO13,$CT$3:$DR$3,$CT$4:$DX$4) -> 6 | CZ13: =LOOKUP(DP13,$CT$3:$DR$3,$CT$4:$DX$4) -> 7 | DA13: =LOOKUP(DQ13,$CT$3:$DR$3,$CT$4:$DX$4) -> 8 | ... DH13: =LOOKUP(DX13,$CT$3:$DR$3,$CT$4:$DX$4) -> 22 | DJ13: 1 | DK13: 2 | DL13: 3 | DM13: 4 | DN13: 5 | DO13: 6 | DP13: 7 | DQ13: 8 | DR13: 9 | DS13: 10 | DT13: 12 | DU13: 13 | DV13: 14 | DW13: 16 | DX13: 17
A14: =LOOKUP(Q14,$A$3:$Y$3,$A$4:$Y$4) -> 1 | B14: =LOOKUP(R14,$A$3:$Y$3,$A$4:$Y$4) -> 2 | C14: =LOOKUP(S14,$A$3:$Y$3,$A$4:$Y$4) -> 3 | D14: =LOOKUP(T14,$A$3:$Y$3,$A$4:$Y$4) -> 4 | E14: =LOOKUP(U14,$A$3:$Y$3,$A$4:$Y$4) -> 5 | F14: =LOOKUP(V14,$A$3:$Y$3,$A$4:$Y$4) -> 6 | G14: =LOOKUP(W14,$A$3:$Y$3,$A$4:$Y$4) -> 7 | H14: =LOOKUP(X14,$A$3:$Y$3,$A$4:$Y$4) -> 8 | ... O14: =LOOKUP(AE14,$A$3:$Y$3,$A$4:$Y$4) -> 22 | Q14: 1 | R14: 2 | S14: 3 | T14: 4 | U14: 5 | V14: 6 | W14: 7 | X14: 8 | Y14: 9 | Z14: 10 | AA14: 11 | AB14: 12 | AC14: 15 | AD14: 16 | AE14: 17 | AH14: =LOOKUP(AX14,$A$3:$Y$3,$A$4:$Y$4) -> 1 | AI14: =LOOKUP(AY14,$A$3:$Y$3,$A$4:$Y$4) -> 2 | AJ14: =LOOKUP(AZ14,$A$3:$Y$3,$A$4:$Y$4) -> 3 | AK14: =LOOKUP(BA14,$A$3:$Y$3,$A$4:$Y$4) -> 4 | AL14: =LOOKUP(BB14,$A$3:$Y$3,$A$4:$Y$4) -> 5 | AM14: =LOOKUP(BC14,$A$3:$Y$3,$A$4:$Y$4) -> 6 | AN14: =LOOKUP(BD14,$A$3:$Y$3,$A$4:$Y$4) -> 7 | AO14: =LOOKUP(BE14,$A$3:$Y$3,$A$4:$Y$4) -> 8 | ... AV14: =LOOKUP(BL14,$A$3:$Y$3,$A$4:$Y$4) -> 22 | AX14: 1 | AY14: 2 | AZ14: 3 | BA14: 4 | BB14: 5 | BC14: 6 | BD14: 7 | BE14: 8 | BF14: 9 | BG14: 10 | BH14: 11 | BI14: 12 | BJ14: 13 | BK14: 16 | BL14: 17 | BN14: =LOOKUP(CD14,$BN$1:$CL$1,$BN$2:$CL$2) -> 1 | BO14: =LOOKUP(CE14,$BN$1:$CL$1,$BN$2:$CL$2) -> 2 | BP14: =LOOKUP(CF14,$BN$1:$CL$1,$BN$2:$CL$2) -> 3 | BQ14: =LOOKUP(CG14,$BN$1:$CL$1,$BN$2:$CL$2) -> 4 | BR14: =LOOKUP(CH14,$BN$1:$CL$1,$BN$2:$CL$2) -> 5 | BS14: =LOOKUP(CI14,$BN$1:$CL$1,$BN$2:$CL$2) -> 6 | BT14: =LOOKUP(CJ14,$BN$1:$CL$1,$BN$2:$CL$2) -> 7 | BU14: =LOOKUP(CK14,$BN$1:$CL$1,$BN$2:$CL$2) -> 8 | ... CB14: =LOOKUP(CR14,$BN$1:$CL$1,$BN$2:$CL$2) -> 25 | CD14: 1 | CE14: 2 | CF14: 3 | CG14: 4 | CH14: 5 | CI14: 6 | CJ14: 7 | CK14: 8 | CL14: 9 | CM14: 10 | CN14: 11 | CO14: 12 | CP14: 14 | CQ14: 15 | CR14: 17 | CT14: =LOOKUP(DJ14,$CT$3:$DR$3,$CT$4:$DX$4) -> 1 | CU14: =LOOKUP(DK14,$CT$3:$DR$3,$CT$4:$DX$4) -> 2 | CV14: =LOOKUP(DL14,$CT$3:$DR$3,$CT$4:$DX$4) -> 3 | CW14: =LOOKUP(DM14,$CT$3:$DR$3,$CT$4:$DX$4) -> 4 | CX14: =LOOKUP(DN14,$CT$3:$DR$3,$CT$4:$DX$4) -> 5 | CY14: =LOOKUP(DO14,$CT$3:$DR$3,$CT$4:$DX$4) -> 6 | CZ14: =LOOKUP(DP14,$CT$3:$DR$3,$CT$4:$DX$4) -> 7 | DA14: =LOOKUP(DQ14,$CT$3:$DR$3,$CT$4:$DX$4) -> 8 | ... DH14: =LOOKUP(DX14,$CT$3:$DR$3,$CT$4:$DX$4) -> 22 | DJ14: 1 | DK14: 2 | DL14: 3 | DM14: 4 | DN14: 5 | DO14: 6 | DP14: 7 | DQ14: 8 | DR14: 9 | DS14: 10 | DT14: 12 | DU14: 14 | DV14: 15 | DW14: 16 | DX14: 17
A15: =LOOKUP(Q15,$A$3:$Y$3,$A$4:$Y$4) -> 1 | B15: =LOOKUP(R15,$A$3:$Y$3,$A$4:$Y$4) -> 2 | C15: =LOOKUP(S15,$A$3:$Y$3,$A$4:$Y$4) -> 3 | D15: =LOOKUP(T15,$A$3:$Y$3,$A$4:$Y$4) -> 4 | E15: =LOOKUP(U15,$A$3:$Y$3,$A$4:$Y$4) -> 5 | F15: =LOOKUP(V15,$A$3:$Y$3,$A$4:$Y$4) -> 6 | G15: =LOOKUP(W15,$A$3:$Y$3,$A$4:$Y$4) -> 7 | H15: =LOOKUP(X15,$A$3:$Y$3,$A$4:$Y$4) -> 8 | ... O15: =LOOKUP(AE15,$A$3:$Y$3,$A$4:$Y$4) -> 16 | Q15: 1 | R15: 2 | S15: 3 | T15: 4 | U15: 5 | V15: 6 | W15: 7 | X15: 8 | Y15: 9 | Z15: 10 | AA15: 11 | AB15: 13 | AC15: 14 | AD15: 15 | AE15: 16 | AH15: =LOOKUP(AX15,$A$3:$Y$3,$A$4:$Y$4) -> 1 | AI15: =LOOKUP(AY15,$A$3:$Y$3,$A$4:$Y$4) -> 2 | AJ15: =LOOKUP(AZ15,$A$3:$Y$3,$A$4:$Y$4) -> 3 | AK15: =LOOKUP(BA15,$A$3:$Y$3,$A$4:$Y$4) -> 4 | AL15: =LOOKUP(BB15,$A$3:$Y$3,$A$4:$Y$4) -> 5 | AM15: =LOOKUP(BC15,$A$3:$Y$3,$A$4:$Y$4) -> 6 | AN15: =LOOKUP(BD15,$A$3:$Y$3,$A$4:$Y$4) -> 7 | AO15: =LOOKUP(BE15,$A$3:$Y$3,$A$4:$Y$4) -> 8 | ... AV15: =LOOKUP(BL15,$A$3:$Y$3,$A$4:$Y$4) -> 16 | AX15: 1 | AY15: 2 | AZ15: 3 | BA15: 4 | BB15: 5 | BC15: 6 | BD15: 7 | BE15: 8 | BF15: 9 | BG15: 10 | BH15: 11 | BI15: 12 | BJ15: 14 | BK15: 15 | BL15: 16 | BN15: =LOOKUP(CD15,$BN$1:$CL$1,$BN$2:$CL$2) -> 1 | BO15: =LOOKUP(CE15,$BN$1:$CL$1,$BN$2:$CL$2) -> 2 | BP15: =LOOKUP(CF15,$BN$1:$CL$1,$BN$2:$CL$2) -> 3 | BQ15: =LOOKUP(CG15,$BN$1:$CL$1,$BN$2:$CL$2) -> 4 | BR15: =LOOKUP(CH15,$BN$1:$CL$1,$BN$2:$CL$2) -> 5 | BS15: =LOOKUP(CI15,$BN$1:$CL$1,$BN$2:$CL$2) -> 6 | BT15: =LOOKUP(CJ15,$BN$1:$CL$1,$BN$2:$CL$2) -> 7 | BU15: =LOOKUP(CK15,$BN$1:$CL$1,$BN$2:$CL$2) -> 8 | ... CB15: =LOOKUP(CR15,$BN$1:$CL$1,$BN$2:$CL$2) -> 25 | CD15: 1 | CE15: 2 | CF15: 3 | CG15: 4 | CH15: 5 | CI15: 6 | CJ15: 7 | CK15: 8 | CL15: 9 | CM15: 10 | CN15: 11 | CO15: 12 | CP15: 14 | CQ15: 16 | CR15: 17 | CT15: =LOOKUP(DJ15,$CT$3:$DR$3,$CT$4:$DX$4) -> 1 | CU15: =LOOKUP(DK15,$CT$3:$DR$3,$CT$4:$DX$4) -> 2 | CV15: =LOOKUP(DL15,$CT$3:$DR$3,$CT$4:$DX$4) -> 3 | CW15: =LOOKUP(DM15,$CT$3:$DR$3,$CT$4:$DX$4) -> 4 | CX15: =LOOKUP(DN15,$CT$3:$DR$3,$CT$4:$DX$4) -> 5 | CY15: =LOOKUP(DO15,$CT$3:$DR$3,$CT$4:$DX$4) -> 6 | CZ15: =LOOKUP(DP15,$CT$3:$DR$3,$CT$4:$DX$4) -> 7 | DA15: =LOOKUP(DQ15,$CT$3:$DR$3,$CT$4:$DX$4) -> 8 | ... DH15: =LOOKUP(DX15,$CT$3:$DR$3,$CT$4:$DX$4) -> 22 | DJ15: 1 | DK15: 2 | DL15: 3 | DM15: 4 | DN15: 5 | DO15: 6 | DP15: 7 | DQ15: 8 | DR15: 9 | DS15: 10 | DT15: 13 | DU15: 14 | DV15: 15 | DW15: 16 | DX15: 17
A16: =LOOKUP(Q16,$A$3:$Y$3,$A$4:$Y$4) -> 1 | B16: =LOOKUP(R16,$A$3:$Y$3,$A$4:$Y$4) -> 2 | C16: =LOOKUP(S16,$A$3:$Y$3,$A$4:$Y$4) -> 3 | D16: =LOOKUP(T16,$A$3:$Y$3,$A$4:$Y$4) -> 4 | E16: =LOOKUP(U16,$A$3:$Y$3,$A$4:$Y$4) -> 5 | F16: =LOOKUP(V16,$A$3:$Y$3,$A$4:$Y$4) -> 6 | G16: =LOOKUP(W16,$A$3:$Y$3,$A$4:$Y$4) -> 7 | H16: =LOOKUP(X16,$A$3:$Y$3,$A$4:$Y$4) -> 8 | ... O16: =LOOKUP(AE16,$A$3:$Y$3,$A$4:$Y$4) -> 22 | Q16: 1 | R16: 2 | S16: 3 | T16: 4 | U16: 5 | V16: 6 | W16: 7 | X16: 8 | Y16: 9 | Z16: 10 | AA16: 11 | AB16: 13 | AC16: 14 | AD16: 16 | AE16: 17 | AH16: =LOOKUP(AX16,$A$3:$Y$3,$A$4:$Y$4) -> 1 | AI16: =LOOKUP(AY16,$A$3:$Y$3,$A$4:$Y$4) -> 2 | AJ16: =LOOKUP(AZ16,$A$3:$Y$3,$A$4:$Y$4) -> 3 | AK16: =LOOKUP(BA16,$A$3:$Y$3,$A$4:$Y$4) -> 4 | AL16: =LOOKUP(BB16,$A$3:$Y$3,$A$4:$Y$4) -> 5 | AM16: =LOOKUP(BC16,$A$3:$Y$3,$A$4:$Y$4) -> 6 | AN16: =LOOKUP(BD16,$A$3:$Y$3,$A$4:$Y$4) -> 7 | AO16: =LOOKUP(BE16,$A$3:$Y$3,$A$4:$Y$4) -> 8 | ... AV16: =LOOKUP(BL16,$A$3:$Y$3,$A$4:$Y$4) -> 22 | AX16: 1 | AY16: 2 | AZ16: 3 | BA16: 4 | BB16: 5 | BC16: 6 | BD16: 7 | BE16: 8 | BF16: 9 | BG16: 10 | BH16: 11 | BI16: 12 | BJ16: 14 | BK16: 15 | BL16: 17 | BN16: =LOOKUP(CD16,$BN$1:$CL$1,$BN$2:$CL$2) -> 1 | BO16: =LOOKUP(CE16,$BN$1:$CL$1,$BN$2:$CL$2) -> 2 | BP16: =LOOKUP(CF16,$BN$1:$CL$1,$BN$2:$CL$2) -> 3 | BQ16: =LOOKUP(CG16,$BN$1:$CL$1,$BN$2:$CL$2) -> 4 | BR16: =LOOKUP(CH16,$BN$1:$CL$1,$BN$2:$CL$2) -> 5 | BS16: =LOOKUP(CI16,$BN$1:$CL$1,$BN$2:$CL$2) -> 6 | BT16: =LOOKUP(CJ16,$BN$1:$CL$1,$BN$2:$CL$2) -> 7 | BU16: =LOOKUP(CK16,$BN$1:$CL$1,$BN$2:$CL$2) -> 8 | ... CB16: =LOOKUP(CR16,$BN$1:$CL$1,$BN$2:$CL$2) -> 25 | CD16: 1 | CE16: 2 | CF16: 3 | CG16: 4 | CH16: 5 | CI16: 6 | CJ16: 7 | CK16: 8 | CL16: 9 | CM16: 10 | CN16: 11 | CO16: 12 | CP16: 15 | CQ16: 16 | CR16: 17 | CT16: =LOOKUP(DJ16,$CT$3:$DR$3,$CT$4:$DX$4) -> 1 | CU16: =LOOKUP(DK16,$CT$3:$DR$3,$CT$4:$DX$4) -> 2 | CV16: =LOOKUP(DL16,$CT$3:$DR$3,$CT$4:$DX$4) -> 3 | CW16: =LOOKUP(DM16,$CT$3:$DR$3,$CT$4:$DX$4) -> 4 | CX16: =LOOKUP(DN16,$CT$3:$DR$3,$CT$4:$DX$4) -> 5 | CY16: =LOOKUP(DO16,$CT$3:$DR$3,$CT$4:$DX$4) -> 6 | CZ16: =LOOKUP(DP16,$CT$3:$DR$3,$CT$4:$DX$4) -> 7 | DA16: =LOOKUP(DQ16,$CT$3:$DR$3,$CT$4:$DX$4) -> 8 | ... DH16: =LOOKUP(DX16,$CT$3:$DR$3,$CT$4:$DX$4) -> 16 | DJ16: 1 | DK16: 2 | DL16: 3 | DM16: 4 | DN16: 5 | DO16: 6 | DP16: 7 | DQ16: 8 | DR16: 10 | DS16: 11 | DT16: 12 | DU16: 13 | DV16: 14 | DW16: 15 | DX16: 16
A17: =LOOKUP(Q17,$A$3:$Y$3,$A$4:$Y$4) -> 1 | B17: =LOOKUP(R17,$A$3:$Y$3,$A$4:$Y$4) -> 2 | C17: =LOOKUP(S17,$A$3:$Y$3,$A$4:$Y$4) -> 3 | D17: =LOOKUP(T17,$A$3:$Y$3,$A$4:$Y$4) -> 4 | E17: =LOOKUP(U17,$A$3:$Y$3,$A$4:$Y$4) -> 5 | F17: =LOOKUP(V17,$A$3:$Y$3,$A$4:$Y$4) -> 6 | G17: =LOOKUP(W17,$A$3:$Y$3,$A$4:$Y$4) -> 7 | H17: =LOOKUP(X17,$A$3:$Y$3,$A$4:$Y$4) -> 8 | ... O17: =LOOKUP(AE17,$A$3:$Y$3,$A$4:$Y$4) -> 22 | Q17: 1 | R17: 2 | S17: 3 | T17: 4 | U17: 5 | V17: 6 | W17: 7 | X17: 8 | Y17: 9 | Z17: 10 | AA17: 11 | AB17: 13 | AC17: 15 | AD17: 16 | AE17: 17 | AH17: =LOOKUP(AX17,$A$3:$Y$3,$A$4:$Y$4) -> 1 | AI17: =LOOKUP(AY17,$A$3:$Y$3,$A$4:$Y$4) -> 2 | AJ17: =LOOKUP(AZ17,$A$3:$Y$3,$A$4:$Y$4) -> 3 | AK17: =LOOKUP(BA17,$A$3:$Y$3,$A$4:$Y$4) -> 4 | AL17: =LOOKUP(BB17,$A$3:$Y$3,$A$4:$Y$4) -> 5 | AM17: =LOOKUP(BC17,$A$3:$Y$3,$A$4:$Y$4) -> 6 | AN17: =LOOKUP(BD17,$A$3:$Y$3,$A$4:$Y$4) -> 7 | AO17: =LOOKUP(BE17,$A$3:$Y$3,$A$4:$Y$4) -> 8 | ... AV17: =LOOKUP(BL17,$A$3:$Y$3,$A$4:$Y$4) -> 22 | AX17: 1 | AY17: 2 | AZ17: 3 | BA17: 4 | BB17: 5 | BC17: 6 | BD17: 7 | BE17: 8 | BF17: 9 | BG17: 10 | BH17: 11 | BI17: 12 | BJ17: 14 | BK17: 16 | BL17: 17 | BN17: =LOOKUP(CD17,$BN$1:$CL$1,$BN$2:$CL$2) -> 1 | BO17: =LOOKUP(CE17,$BN$1:$CL$1,$BN$2:$CL$2) -> 2 | BP17: =LOOKUP(CF17,$BN$1:$CL$1,$BN$2:$CL$2) -> 3 | BQ17: =LOOKUP(CG17,$BN$1:$CL$1,$BN$2:$CL$2) -> 4 | BR17: =LOOKUP(CH17,$BN$1:$CL$1,$BN$2:$CL$2) -> 5 | BS17: =LOOKUP(CI17,$BN$1:$CL$1,$BN$2:$CL$2) -> 6 | BT17: =LOOKUP(CJ17,$BN$1:$CL$1,$BN$2:$CL$2) -> 7 | BU17: =LOOKUP(CK17,$BN$1:$CL$1,$BN$2:$CL$2) -> 8 | ... CB17: =LOOKUP(CR17,$BN$1:$CL$1,$BN$2:$CL$2) -> 16 | CD17: 1 | CE17: 2 | CF17: 3 | CG17: 4 | CH17: 5 | CI17: 6 | CJ17: 7 | CK17: 8 | CL17: 9 | CM17: 10 | CN17: 11 | CO17: 13 | CP17: 14 | CQ17: 15 | CR17: 16 | CT17: =LOOKUP(DJ17,$CT$3:$DR$3,$CT$4:$DX$4) -> 1 | CU17: =LOOKUP(DK17,$CT$3:$DR$3,$CT$4:$DX$4) -> 2 | CV17: =LOOKUP(DL17,$CT$3:$DR$3,$CT$4:$DX$4) -> 3 | CW17: =LOOKUP(DM17,$CT$3:$DR$3,$CT$4:$DX$4) -> 4 | CX17: =LOOKUP(DN17,$CT$3:$DR$3,$CT$4:$DX$4) -> 5 | CY17: =LOOKUP(DO17,$CT$3:$DR$3,$CT$4:$DX$4) -> 6 | CZ17: =LOOKUP(DP17,$CT$3:$DR$3,$CT$4:$DX$4) -> 7 | DA17: =LOOKUP(DQ17,$CT$3:$DR$3,$CT$4:$DX$4) -> 8 | ... DH17: =LOOKUP(DX17,$CT$3:$DR$3,$CT$4:$DX$4) -> 22 | DJ17: 1 | DK17: 2 | DL17: 3 | DM17: 4 | DN17: 5 | DO17: 6 | DP17: 7 | DQ17: 8 | DR17: 10 | DS17: 11 | DT17: 12 | DU17: 13 | DV17: 14 | DW17: 15 | DX17: 17
A18: =LOOKUP(Q18,$A$3:$Y$3,$A$4:$Y$4) -> 1 | B18: =LOOKUP(R18,$A$3:$Y$3,$A$4:$Y$4) -> 2 | C18: =LOOKUP(S18,$A$3:$Y$3,$A$4:$Y$4) -> 3 | D18: =LOOKUP(T18,$A$3:$Y$3,$A$4:$Y$4) -> 4 | E18: =LOOKUP(U18,$A$3:$Y$3,$A$4:$Y$4) -> 5 | F18: =LOOKUP(V18,$A$3:$Y$3,$A$4:$Y$4) -> 6 | G18: =LOOKUP(W18,$A$3:$Y$3,$A$4:$Y$4) -> 7 | H18: =LOOKUP(X18,$A$3:$Y$3,$A$4:$Y$4) -> 8 | ... O18: =LOOKUP(AE18,$A$3:$Y$3,$A$4:$Y$4) -> 22 | Q18: 1 | R18: 2 | S18: 3 | T18: 4 | U18: 5 | V18: 6 | W18: 7 | X18: 8 | Y18: 9 | Z18: 10 | AA18: 11 | AB18: 14 | AC18: 15 | AD18: 16 | AE18: 17 | AH18: =LOOKUP(AX18,$A$3:$Y$3,$A$4:$Y$4) -> 1 | AI18: =LOOKUP(AY18,$A$3:$Y$3,$A$4:$Y$4) -> 2 | AJ18: =LOOKUP(AZ18,$A$3:$Y$3,$A$4:$Y$4) -> 3 | AK18: =LOOKUP(BA18,$A$3:$Y$3,$A$4:$Y$4) -> 4 | AL18: =LOOKUP(BB18,$A$3:$Y$3,$A$4:$Y$4) -> 5 | AM18: =LOOKUP(BC18,$A$3:$Y$3,$A$4:$Y$4) -> 6 | AN18: =LOOKUP(BD18,$A$3:$Y$3,$A$4:$Y$4) -> 7 | AO18: =LOOKUP(BE18,$A$3:$Y$3,$A$4:$Y$4) -> 8 | ... AV18: =LOOKUP(BL18,$A$3:$Y$3,$A$4:$Y$4) -> 22 | AX18: 1 | AY18: 2 | AZ18: 3 | BA18: 4 | BB18: 5 | BC18: 6 | BD18: 7 | BE18: 8 | BF18: 9 | BG18: 10 | BH18: 11 | BI18: 12 | BJ18: 15 | BK18: 16 | BL18: 17 | BN18: =LOOKUP(CD18,$BN$1:$CL$1,$BN$2:$CL$2) -> 1 | BO18: =LOOKUP(CE18,$BN$1:$CL$1,$BN$2:$CL$2) -> 2 | BP18: =LOOKUP(CF18,$BN$1:$CL$1,$BN$2:$CL$2) -> 3 | BQ18: =LOOKUP(CG18,$BN$1:$CL$1,$BN$2:$CL$2) -> 4 | BR18: =LOOKUP(CH18,$BN$1:$CL$1,$BN$2:$CL$2) -> 5 | BS18: =LOOKUP(CI18,$BN$1:$CL$1,$BN$2:$CL$2) -> 6 | BT18: =LOOKUP(CJ18,$BN$1:$CL$1,$BN$2:$CL$2) -> 7 | BU18: =LOOKUP(CK18,$BN$1:$CL$1,$BN$2:$CL$2) -> 8 | ... CB18: =LOOKUP(CR18,$BN$1:$CL$1,$BN$2:$CL$2) -> 25 | CD18: 1 | CE18: 2 | CF18: 3 | CG18: 4 | CH18: 5 | CI18: 6 | CJ18: 7 | CK18: 8 | CL18: 9 | CM18: 10 | CN18: 11 | CO18: 13 | CP18: 14 | CQ18: 15 | CR18: 17 | CT18: =LOOKUP(DJ18,$CT$3:$DR$3,$CT$4:$DX$4) -> 1 | CU18: =LOOKUP(DK18,$CT$3:$DR$3,$CT$4:$DX$4) -> 2 | CV18: =LOOKUP(DL18,$CT$3:$DR$3,$CT$4:$DX$4) -> 3 | CW18: =LOOKUP(DM18,$CT$3:$DR$3,$CT$4:$DX$4) -> 4 | CX18: =LOOKUP(DN18,$CT$3:$DR$3,$CT$4:$DX$4) -> 5 | CY18: =LOOKUP(DO18,$CT$3:$DR$3,$CT$4:$DX$4) -> 6 | CZ18: =LOOKUP(DP18,$CT$3:$DR$3,$CT$4:$DX$4) -> 7 | DA18: =LOOKUP(DQ18,$CT$3:$DR$3,$CT$4:$DX$4) -> 9 | ... DH18: =LOOKUP(DX18,$CT$3:$DR$3,$CT$4:$DX$4) -> 22 | DJ18: 1 | DK18: 2 | DL18: 3 | DM18: 4 | DN18: 5 | DO18: 6 | DP18: 7 | DQ18: 9 | DR18: 10 | DS18: 11 | DT18: 12 | DU18: 13 | DV18: 15 | DW18: 16 | DX18: 17
A19: =LOOKUP(Q19,$A$3:$Y$3,$A$4:$Y$4) -> 1 | B19: =LOOKUP(R19,$A$3:$Y$3,$A$4:$Y$4) -> 2 | C19: =LOOKUP(S19,$A$3:$Y$3,$A$4:$Y$4) -> 3 | D19: =LOOKUP(T19,$A$3:$Y$3,$A$4:$Y$4) -> 4 | E19: =LOOKUP(U19,$A$3:$Y$3,$A$4:$Y$4) -> 5 | F19: =LOOKUP(V19,$A$3:$Y$3,$A$4:$Y$4) -> 6 | G19: =LOOKUP(W19,$A$3:$Y$3,$A$4:$Y$4) -> 7 | H19: =LOOKUP(X19,$A$3:$Y$3,$A$4:$Y$4) -> 8 | ... O19: =LOOKUP(AE19,$A$3:$Y$3,$A$4:$Y$4) -> 22 | Q19: 1 | R19: 2 | S19: 3 | T19: 4 | U19: 5 | V19: 6 | W19: 7 | X19: 8 | Y19: 9 | Z19: 10 | AA19: 12 | AB19: 13 | AC19: 14 | AD19: 15 | AE19: 17 | AH19: =LOOKUP(AX19,$A$3:$Y$3,$A$4:$Y$4) -> 1 | AI19: =LOOKUP(AY19,$A$3:$Y$3,$A$4:$Y$4) -> 2 | AJ19: =LOOKUP(AZ19,$A$3:$Y$3,$A$4:$Y$4) -> 3 | AK19: =LOOKUP(BA19,$A$3:$Y$3,$A$4:$Y$4) -> 4 | AL19: =LOOKUP(BB19,$A$3:$Y$3,$A$4:$Y$4) -> 5 | AM19: =LOOKUP(BC19,$A$3:$Y$3,$A$4:$Y$4) -> 6 | AN19: =LOOKUP(BD19,$A$3:$Y$3,$A$4:$Y$4) -> 7 | AO19: =LOOKUP(BE19,$A$3:$Y$3,$A$4:$Y$4) -> 8 | ... AV19: =LOOKUP(BL19,$A$3:$Y$3,$A$4:$Y$4) -> 16 | AX19: 1 | AY19: 2 | AZ19: 3 | BA19: 4 | BB19: 5 | BC19: 6 | BD19: 7 | BE19: 8 | BF19: 9 | BG19: 10 | BH19: 11 | BI19: 13 | BJ19: 14 | BK19: 15 | BL19: 16 | BN19: =LOOKUP(CD19,$BN$1:$CL$1,$BN$2:$CL$2) -> 1 | BO19: =LOOKUP(CE19,$BN$1:$CL$1,$BN$2:$CL$2) -> 2 | BP19: =LOOKUP(CF19,$BN$1:$CL$1,$BN$2:$CL$2) -> 3 | BQ19: =LOOKUP(CG19,$BN$1:$CL$1,$BN$2:$CL$2) -> 4 | BR19: =LOOKUP(CH19,$BN$1:$CL$1,$BN$2:$CL$2) -> 5 | BS19: =LOOKUP(CI19,$BN$1:$CL$1,$BN$2:$CL$2) -> 6 | BT19: =LOOKUP(CJ19,$BN$1:$CL$1,$BN$2:$CL$2) -> 7 | BU19: =LOOKUP(CK19,$BN$1:$CL$1,$BN$2:$CL$2) -> 8 | ... CB19: =LOOKUP(CR19,$BN$1:$CL$1,$BN$2:$CL$2) -> 25 | CD19: 1 | CE19: 2 | CF19: 3 | CG19: 4 | CH19: 5 | CI19: 6 | CJ19: 7 | CK19: 8 | CL19: 9 | CM19: 10 | CN19: 11 | CO19: 13 | CP19: 14 | CQ19: 16 | CR19: 17 | CT19: =LOOKUP(DJ19,$CT$3:$DR$3,$CT$4:$DX$4) -> 1 | CU19: =LOOKUP(DK19,$CT$3:$DR$3,$CT$4:$DX$4) -> 2 | CV19: =LOOKUP(DL19,$CT$3:$DR$3,$CT$4:$DX$4) -> 3 | CW19: =LOOKUP(DM19,$CT$3:$DR$3,$CT$4:$DX$4) -> 4 | CX19: =LOOKUP(DN19,$CT$3:$DR$3,$CT$4:$DX$4) -> 5 | CY19: =LOOKUP(DO19,$CT$3:$DR$3,$CT$4:$DX$4) -> 8 | CZ19: =LOOKUP(DP19,$CT$3:$DR$3,$CT$4:$DX$4) -> 9 | DA19: =LOOKUP(DQ19,$CT$3:$DR$3,$CT$4:$DX$4) -> 10 | ... DH19: =LOOKUP(DX19,$CT$3:$DR$3,$CT$4:$DX$4) -> 22 | DJ19: 1 | DK19: 2 | DL19: 3 | DM19: 4 | DN19: 5 | DO19: 8 | DP19: 9 | DQ19: 10 | DR19: 11 | DS19: 12 | DT19: 13 | DU19: 14 | DV19: 15 | DW19: 16 | DX19: 17
A20: =LOOKUP(Q20,$A$3:$Y$3,$A$4:$Y$4) -> 1 | B20: =LOOKUP(R20,$A$3:$Y$3,$A$4:$Y$4) -> 2 | C20: =LOOKUP(S20,$A$3:$Y$3,$A$4:$Y$4) -> 3 | D20: =LOOKUP(T20,$A$3:$Y$3,$A$4:$Y$4) -> 4 | E20: =LOOKUP(U20,$A$3:$Y$3,$A$4:$Y$4) -> 5 | F20: =LOOKUP(V20,$A$3:$Y$3,$A$4:$Y$4) -> 6 | G20: =LOOKUP(W20,$A$3:$Y$3,$A$4:$Y$4) -> 7 | H20: =LOOKUP(X20,$A$3:$Y$3,$A$4:$Y$4) -> 8 | ... O20: =LOOKUP(AE20,$A$3:$Y$3,$A$4:$Y$4) -> 16 | Q20: 1 | R20: 2 | S20: 3 | T20: 4 | U20: 5 | V20: 6 | W20: 7 | X20: 8 | Y20: 9 | Z20: 11 | AA20: 12 | AB20: 13 | AC20: 14 | AD20: 15 | AE20: 16 | AH20: =LOOKUP(AX20,$A$3:$Y$3,$A$4:$Y$4) -> 1 | AI20: =LOOKUP(AY20,$A$3:$Y$3,$A$4:$Y$4) -> 2 | AJ20: =LOOKUP(AZ20,$A$3:$Y$3,$A$4:$Y$4) -> 3 | AK20: =LOOKUP(BA20,$A$3:$Y$3,$A$4:$Y$4) -> 4 | AL20: =LOOKUP(BB20,$A$3:$Y$3,$A$4:$Y$4) -> 5 | AM20: =LOOKUP(BC20,$A$3:$Y$3,$A$4:$Y$4) -> 6 | AN20: =LOOKUP(BD20,$A$3:$Y$3,$A$4:$Y$4) -> 7 | AO20: =LOOKUP(BE20,$A$3:$Y$3,$A$4:$Y$4) -> 8 | ... AV20: =LOOKUP(BL20,$A$3:$Y$3,$A$4:$Y$4) -> 22 | AX20: 1 | AY20: 2 | AZ20: 3 | BA20: 4 | BB20: 5 | BC20: 6 | BD20: 7 | BE20: 8 | BF20: 9 | BG20: 10 | BH20: 11 | BI20: 13 | BJ20: 14 | BK20: 15 | BL20: 17 | BN20: =LOOKUP(CD20,$BN$1:$CL$1,$BN$2:$CL$2) -> 1 | BO20: =LOOKUP(CE20,$BN$1:$CL$1,$BN$2:$CL$2) -> 2 | BP20: =LOOKUP(CF20,$BN$1:$CL$1,$BN$2:$CL$2) -> 3 | BQ20: =LOOKUP(CG20,$BN$1:$CL$1,$BN$2:$CL$2) -> 4 | BR20: =LOOKUP(CH20,$BN$1:$CL$1,$BN$2:$CL$2) -> 5 | BS20: =LOOKUP(CI20,$BN$1:$CL$1,$BN$2:$CL$2) -> 6 | BT20: =LOOKUP(CJ20,$BN$1:$CL$1,$BN$2:$CL$2) -> 7 | BU20: =LOOKUP(CK20,$BN$1:$CL$1,$BN$2:$CL$2) -> 8 | ... CB20: =LOOKUP(CR20,$BN$1:$CL$1,$BN$2:$CL$2) -> 25 | CD20: 1 | CE20: 2 | CF20: 3 | CG20: 4 | CH20: 5 | CI20: 6 | CJ20: 7 | CK20: 8 | CL20: 9 | CM20: 10 | CN20: 11 | CO20: 13 | CP20: 15 | CQ20: 16 | CR20: 17 | CT20: =LOOKUP(DJ20,$CT$3:$DR$3,$CT$4:$DX$4) -> 1 | CU20: =LOOKUP(DK20,$CT$3:$DR$3,$CT$4:$DX$4) -> 2 | CV20: =LOOKUP(DL20,$CT$3:$DR$3,$CT$4:$DX$4) -> 3 | CW20: =LOOKUP(DM20,$CT$3:$DR$3,$CT$4:$DX$4) -> 4 | CX20: =LOOKUP(DN20,$CT$3:$DR$3,$CT$4:$DX$4) -> 6 | CY20: =LOOKUP(DO20,$CT$3:$DR$3,$CT$4:$DX$4) -> 8 | CZ20: =LOOKUP(DP20,$CT$3:$DR$3,$CT$4:$DX$4) -> 9 | DA20: =LOOKUP(DQ20,$CT$3:$DR$3,$CT$4:$DX$4) -> 10 | ... DH20: =LOOKUP(DX20,$CT$3:$DR$3,$CT$4:$DX$4) -> 22 | DJ20: 1 | DK20: 2 | DL20: 3 | DM20: 4 | DN20: 6 | DO20: 8 | DP20: 9 | DQ20: 10 | DR20: 11 | DS20: 12 | DT20: 13 | DU20: 14 | DV20: 15 | DW20: 16 | DX20: 17
... A27: =LOOKUP(Q27,$A$3:$Y$3,$A$4:$Y$4) -> 1 | B27: =LOOKUP(R27,$A$3:$Y$3,$A$4:$Y$4) -> 2 | C27: =LOOKUP(S27,$A$3:$Y$3,$A$4:$Y$4) -> 3 | D27: =LOOKUP(T27,$A$3:$Y$3,$A$4:$Y$4) -> 4 | E27: =LOOKUP(U27,$A$3:$Y$3,$A$4:$Y$4) -> 5 | F27: =LOOKUP(V27,$A$3:$Y$3,$A$4:$Y$4) -> 6 | G27: =LOOKUP(W27,$A$3:$Y$3,$A$4:$Y$4) -> 7 | H27: =LOOKUP(X27,$A$3:$Y$3,$A$4:$Y$4) -> 9 | ... O27: =LOOKUP(AE27,$A$3:$Y$3,$A$4:$Y$4) -> 22 | Q27: 1 | R27: 2 | S27: 3 | T27: 4 | U27: 5 | V27: 6 | W27: 7 | X27: 9 | Y27: 10 | Z27: 11 | AA27: 12 | AB27: 13 | AC27: 14 | AD27: 15 | AE27: 17 | AH27: =LOOKUP(AX27,$A$3:$Y$3,$A$4:$Y$4) -> 1 | AI27: =LOOKUP(AY27,$A$3:$Y$3,$A$4:$Y$4) -> 2 | AJ27: =LOOKUP(AZ27,$A$3:$Y$3,$A$4:$Y$4) -> 3 | AK27: =LOOKUP(BA27,$A$3:$Y$3,$A$4:$Y$4) -> 4 | AL27: =LOOKUP(BB27,$A$3:$Y$3,$A$4:$Y$4) -> 5 | AM27: =LOOKUP(BC27,$A$3:$Y$3,$A$4:$Y$4) -> 6 | AN27: =LOOKUP(BD27,$A$3:$Y$3,$A$4:$Y$4) -> 7 | AO27: =LOOKUP(BE27,$A$3:$Y$3,$A$4:$Y$4) -> 8 | ... AV27: =LOOKUP(BL27,$A$3:$Y$3,$A$4:$Y$4) -> 22 | AX27: 1 | AY27: 2 | AZ27: 3 | BA27: 4 | BB27: 5 | BC27: 6 | BD27: 7 | BE27: 8 | BF27: 9 | BG27: 10 | BH27: 12 | BI27: 13 | BJ27: 15 | BK27: 16 | BL27: 17 | BN27: =LOOKUP(CD27,$BN$1:$CL$1,$BN$2:$CL$2) -> 1 | BO27: =LOOKUP(CE27,$BN$1:$CL$1,$BN$2:$CL$2) -> 2 | BP27: =LOOKUP(CF27,$BN$1:$CL$1,$BN$2:$CL$2) -> 3 | BQ27: =LOOKUP(CG27,$BN$1:$CL$1,$BN$2:$CL$2) -> 4 | BR27: =LOOKUP(CH27,$BN$1:$CL$1,$BN$2:$CL$2) -> 5 | BS27: =LOOKUP(CI27,$BN$1:$CL$1,$BN$2:$CL$2) -> 6 | BT27: =LOOKUP(CJ27,$BN$1:$CL$1,$BN$2:$CL$2) -> 7 | BU27: =LOOKUP(CK27,$BN$1:$CL$1,$BN$2:$CL$2) -> 8 | ... CB27: =LOOKUP(CR27,$BN$1:$CL$1,$BN$2:$CL$2) -> 25 | CD27: 1 | CE27: 2 | CF27: 3 | CG27: 4 | CH27: 5 | CI27: 6 | CJ27: 7 | CK27: 8 | CL27: 9 | CM27: 10 | CN27: 13 | CO27: 14 | CP27: 15 | CQ27: 16 | CR27: 17 | CT27: =LOOKUP(DJ27,$CT$3:$DR$3,$CT$4:$DX$4) -> 1 | CU27: =LOOKUP(DK27,$CT$3:$DR$3,$CT$4:$DX$4) -> 3 | CV27: =LOOKUP(DL27,$CT$3:$DR$3,$CT$4:$DX$4) -> 5 | CW27: =LOOKUP(DM27,$CT$3:$DR$3,$CT$4:$DX$4) -> 6 | CX27: =LOOKUP(DN27,$CT$3:$DR$3,$CT$4:$DX$4) -> 7 | CY27: =LOOKUP(DO27,$CT$3:$DR$3,$CT$4:$DX$4) -> 8 | CZ27: =LOOKUP(DP27,$CT$3:$DR$3,$CT$4:$DX$4) -> 9 | DA27: =LOOKUP(DQ27,$CT$3:$DR$3,$CT$4:$DX$4) -> 10 | ... DH27: =LOOKUP(DX27,$CT$3:$DR$3,$CT$4:$DX$4) -> 22 | DJ27: 1 | DK27: 3 | DL27: 5 | DM27: 6 | DN27: 7 | DO27: 8 | DP27: 9 | DQ27: 10 | DR27: 11 | DS27: 12 | DT27: 13 | DU27: 14 | DV27: 15 | DW27: 16 | DX27: 17
A28: =LOOKUP(Q28,$A$3:$Y$3,$A$4:$Y$4) -> 1 | B28: =LOOKUP(R28,$A$3:$Y$3,$A$4:$Y$4) -> 2 | C28: =LOOKUP(S28,$A$3:$Y$3,$A$4:$Y$4) -> 3 | D28: =LOOKUP(T28,$A$3:$Y$3,$A$4:$Y$4) -> 4 | E28: =LOOKUP(U28,$A$3:$Y$3,$A$4:$Y$4) -> 5 | F28: =LOOKUP(V28,$A$3:$Y$3,$A$4:$Y$4) -> 6 | G28: =LOOKUP(W28,$A$3:$Y$3,$A$4:$Y$4) -> 7 | H28: =LOOKUP(X28,$A$3:$Y$3,$A$4:$Y$4) -> 9 | ... O28: =LOOKUP(AE28,$A$3:$Y$3,$A$4:$Y$4) -> 22 | Q28: 1 | R28: 2 | S28: 3 | T28: 4 | U28: 5 | V28: 6 | W28: 7 | X28: 9 | Y28: 10 | Z28: 12 | AA28: 13 | AB28: 14 | AC28: 15 | AD28: 16 | AE28: 17 | AH28: =LOOKUP(AX28,$A$3:$Y$3,$A$4:$Y$4) -> 1 | AI28: =LOOKUP(AY28,$A$3:$Y$3,$A$4:$Y$4) -> 2 | AJ28: =LOOKUP(AZ28,$A$3:$Y$3,$A$4:$Y$4) -> 3 | AK28: =LOOKUP(BA28,$A$3:$Y$3,$A$4:$Y$4) -> 4 | AL28: =LOOKUP(BB28,$A$3:$Y$3,$A$4:$Y$4) -> 5 | AM28: =LOOKUP(BC28,$A$3:$Y$3,$A$4:$Y$4) -> 6 | AN28: =LOOKUP(BD28,$A$3:$Y$3,$A$4:$Y$4) -> 7 | AO28: =LOOKUP(BE28,$A$3:$Y$3,$A$4:$Y$4) -> 8 | ... AV28: =LOOKUP(BL28,$A$3:$Y$3,$A$4:$Y$4) -> 22 | AX28: 1 | AY28: 2 | AZ28: 3 | BA28: 4 | BB28: 5 | BC28: 6 | BD28: 7 | BE28: 8 | BF28: 9 | BG28: 10 | BH28: 12 | BI28: 14 | BJ28: 15 | BK28: 16 | BL28: 17 | CT28: =LOOKUP(DJ28,$CT$3:$DR$3,$CT$4:$DX$4) -> 2 | CU28: =LOOKUP(DK28,$CT$3:$DR$3,$CT$4:$DX$4) -> 3 | CV28: =LOOKUP(DL28,$CT$3:$DR$3,$CT$4:$DX$4) -> 4 | CW28: =LOOKUP(DM28,$CT$3:$DR$3,$CT$4:$DX$4) -> 5 | CX28: =LOOKUP(DN28,$CT$3:$DR$3,$CT$4:$DX$4) -> 6 | CY28: =LOOKUP(DO28,$CT$3:$DR$3,$CT$4:$DX$4) -> 7 | CZ28: =LOOKUP(DP28,$CT$3:$DR$3,$CT$4:$DX$4) -> 8 | DA28: =LOOKUP(DQ28,$CT$3:$DR$3,$CT$4:$DX$4) -> 9 | ... DH28: =LOOKUP(DX28,$CT$3:$DR$3,$CT$4:$DX$4) -> 22 | DJ28: 2 | DK28: 3 | DL28: 4 | DM28: 5 | DN28: 6 | DO28: 7 | DP28: 8 | DQ28: 9 | DR28: 10 | DS28: 11 | DT28: 12 | DU28: 13 | DV28: 15 | DW28: 16 | DX28: 17
A29: =LOOKUP(Q29,$A$3:$Y$3,$A$4:$Y$4) -> 1 | B29: =LOOKUP(R29,$A$3:$Y$3,$A$4:$Y$4) -> 2 | C29: =LOOKUP(S29,$A$3:$Y$3,$A$4:$Y$4) -> 3 | D29: =LOOKUP(T29,$A$3:$Y$3,$A$4:$Y$4) -> 4 | E29: =LOOKUP(U29,$A$3:$Y$3,$A$4:$Y$4) -> 5 | F29: =LOOKUP(V29,$A$3:$Y$3,$A$4:$Y$4) -> 6 | G29: =LOOKUP(W29,$A$3:$Y$3,$A$4:$Y$4) -> 7 | H29: =LOOKUP(X29,$A$3:$Y$3,$A$4:$Y$4) -> 10 | ... O29: =LOOKUP(AE29,$A$3:$Y$3,$A$4:$Y$4) -> 22 | Q29: 1 | R29: 2 | S29: 3 | T29: 4 | U29: 5 | V29: 6 | W29: 7 | X29: 10 | Y29: 11 | Z29: 12 | AA29: 13 | AB29: 14 | AC29: 15 | AD29: 16 | AE29: 17 | AH29: =LOOKUP(AX29,$A$3:$Y$3,$A$4:$Y$4) -> 1 | AI29: =LOOKUP(AY29,$A$3:$Y$3,$A$4:$Y$4) -> 2 | AJ29: =LOOKUP(AZ29,$A$3:$Y$3,$A$4:$Y$4) -> 3 | AK29: =LOOKUP(BA29,$A$3:$Y$3,$A$4:$Y$4) -> 4 | AL29: =LOOKUP(BB29,$A$3:$Y$3,$A$4:$Y$4) -> 5 | AM29: =LOOKUP(BC29,$A$3:$Y$3,$A$4:$Y$4) -> 6 | AN29: =LOOKUP(BD29,$A$3:$Y$3,$A$4:$Y$4) -> 7 | AO29: =LOOKUP(BE29,$A$3:$Y$3,$A$4:$Y$4) -> 8 | ... AV29: =LOOKUP(BL29,$A$3:$Y$3,$A$4:$Y$4) -> 22 | AX29: 1 | AY29: 2 | AZ29: 3 | BA29: 4 | BB29: 5 | BC29: 6 | BD29: 7 | BE29: 8 | BF29: 9 | BG29: 10 | BH29: 13 | BI29: 14 | BJ29: 15 | BK29: 16 | BL29: 17 | CT29: =LOOKUP(DJ29,$CT$3:$DR$3,$CT$4:$DX$4) -> 2 | CU29: =LOOKUP(DK29,$CT$3:$DR$3,$CT$4:$DX$4) -> 3 | CV29: =LOOKUP(DL29,$CT$3:$DR$3,$CT$4:$DX$4) -> 4 | CW29: =LOOKUP(DM29,$CT$3:$DR$3,$CT$4:$DX$4) -> 5 | CX29: =LOOKUP(DN29,$CT$3:$DR$3,$CT$4:$DX$4) -> 6 | CY29: =LOOKUP(DO29,$CT$3:$DR$3,$CT$4:$DX$4) -> 7 | CZ29: =LOOKUP(DP29,$CT$3:$DR$3,$CT$4:$DX$4) -> 9 | DA29: =LOOKUP(DQ29,$CT$3:$DR$3,$CT$4:$DX$4) -> 10 | ... DH29: =LOOKUP(DX29,$CT$3:$DR$3,$CT$4:$DX$4) -> 22 | DJ29: 2 | DK29: 3 | DL29: 4 | DM29: 5 | DN29: 6 | DO29: 7 | DP29: 9 | DQ29: 10 | DR29: 11 | DS29: 12 | DT29: 13 | DU29: 14 | DV29: 15 | DW29: 16 | DX29: 17
A30: =LOOKUP(Q30,$A$3:$Y$3,$A$4:$Y$4) -> 1 | B30: =LOOKUP(R30,$A$3:$Y$3,$A$4:$Y$4) -> 2 | C30: =LOOKUP(S30,$A$3:$Y$3,$A$4:$Y$4) -> 3 | D30: =LOOKUP(T30,$A$3:$Y$3,$A$4:$Y$4) -> 4 | E30: =LOOKUP(U30,$A$3:$Y$3,$A$4:$Y$4) -> 5 | F30: =LOOKUP(V30,$A$3:$Y$3,$A$4:$Y$4) -> 6 | G30: =LOOKUP(W30,$A$3:$Y$3,$A$4:$Y$4) -> 8 | H30: =LOOKUP(X30,$A$3:$Y$3,$A$4:$Y$4) -> 9 | ... O30: =LOOKUP(AE30,$A$3:$Y$3,$A$4:$Y$4) -> 22 | Q30: 1 | R30: 2 | S30: 3 | T30: 4 | U30: 5 | V30: 6 | W30: 8 | X30: 9 | Y30: 10 | Z30: 11 | AA30: 12 | AB30: 13 | AC30: 14 | AD30: 15 | AE30: 17 | AH30: =LOOKUP(AX30,$A$3:$Y$3,$A$4:$Y$4) -> 1 | AI30: =LOOKUP(AY30,$A$3:$Y$3,$A$4:$Y$4) -> 2 | AJ30: =LOOKUP(AZ30,$A$3:$Y$3,$A$4:$Y$4) -> 3 | AK30: =LOOKUP(BA30,$A$3:$Y$3,$A$4:$Y$4) -> 4 | AL30: =LOOKUP(BB30,$A$3:$Y$3,$A$4:$Y$4) -> 5 | AM30: =LOOKUP(BC30,$A$3:$Y$3,$A$4:$Y$4) -> 6 | AN30: =LOOKUP(BD30,$A$3:$Y$3,$A$4:$Y$4) -> 7 | AO30: =LOOKUP(BE30,$A$3:$Y$3,$A$4:$Y$4) -> 8 | ... AV30: =LOOKUP(BL30,$A$3:$Y$3,$A$4:$Y$4) -> 16 | AX30: 1 | AY30: 2 | AZ30: 3 | BA30: 4 | BB30: 5 | BC30: 6 | BD30: 7 | BE30: 8 | BF30: 9 | BG30: 11 | BH30: 12 | BI30: 13 | BJ30: 14 | BK30: 15 | BL30: 16 | BN30: =Início!B26 -> 1 | BO30: =Início!C26 -> 2 | BP30: =Início!D26 -> 3 | BQ30: =Início!E26 -> 4 | BR30: =Início!F26 -> 5 | BS30: =Início!G26 -> 6 | BT30: =Início!H26 -> 7 | BU30: =Início!I26 -> 8 | ... BW30: =Início!K26 -> 10
A31: =LOOKUP(Q31,$A$3:$Y$3,$A$4:$Y$4) -> 1 | B31: =LOOKUP(R31,$A$3:$Y$3,$A$4:$Y$4) -> 2 | C31: =LOOKUP(S31,$A$3:$Y$3,$A$4:$Y$4) -> 3 | D31: =LOOKUP(T31,$A$3:$Y$3,$A$4:$Y$4) -> 4 | E31: =LOOKUP(U31,$A$3:$Y$3,$A$4:$Y$4) -> 5 | F31: =LOOKUP(V31,$A$3:$Y$3,$A$4:$Y$4) -> 6 | G31: =LOOKUP(W31,$A$3:$Y$3,$A$4:$Y$4) -> 8 | H31: =LOOKUP(X31,$A$3:$Y$3,$A$4:$Y$4) -> 9 | ... O31: =LOOKUP(AE31,$A$3:$Y$3,$A$4:$Y$4) -> 22 | Q31: 1 | R31: 2 | S31: 3 | T31: 4 | U31: 5 | V31: 6 | W31: 8 | X31: 9 | Y31: 10 | Z31: 12 | AA31: 13 | AB31: 14 | AC31: 15 | AD31: 16 | AE31: 17 | AH31: =LOOKUP(AX31,$A$3:$Y$3,$A$4:$Y$4) -> 1 | AI31: =LOOKUP(AY31,$A$3:$Y$3,$A$4:$Y$4) -> 2 | AJ31: =LOOKUP(AZ31,$A$3:$Y$3,$A$4:$Y$4) -> 3 | AK31: =LOOKUP(BA31,$A$3:$Y$3,$A$4:$Y$4) -> 4 | AL31: =LOOKUP(BB31,$A$3:$Y$3,$A$4:$Y$4) -> 5 | AM31: =LOOKUP(BC31,$A$3:$Y$3,$A$4:$Y$4) -> 6 | AN31: =LOOKUP(BD31,$A$3:$Y$3,$A$4:$Y$4) -> 7 | AO31: =LOOKUP(BE31,$A$3:$Y$3,$A$4:$Y$4) -> 8 | ... AV31: =LOOKUP(BL31,$A$3:$Y$3,$A$4:$Y$4) -> 22 | AX31: 1 | AY31: 2 | AZ31: 3 | BA31: 4 | BB31: 5 | BC31: 6 | BD31: 7 | BE31: 8 | BF31: 9 | BG31: 11 | BH31: 12 | BI31: 13 | BJ31: 14 | BK31: 15 | BL31: 17 | BN31: =Início!B28 -> 17 | BO31: =Início!C28 -> 18 | BP31: =Início!D28 -> 19 | BQ31: =Início!E28 -> 20 | BR31: =Início!F28 -> 21 | BS31: =Início!G28 -> 22 | BT31: =Início!H28 -> 23 | BU31: =Início!I28 -> 24
A32: =LOOKUP(Q32,$A$3:$Y$3,$A$4:$Y$4) -> 1 | B32: =LOOKUP(R32,$A$3:$Y$3,$A$4:$Y$4) -> 2 | C32: =LOOKUP(S32,$A$3:$Y$3,$A$4:$Y$4) -> 3 | D32: =LOOKUP(T32,$A$3:$Y$3,$A$4:$Y$4) -> 4 | E32: =LOOKUP(U32,$A$3:$Y$3,$A$4:$Y$4) -> 5 | F32: =LOOKUP(V32,$A$3:$Y$3,$A$4:$Y$4) -> 6 | G32: =LOOKUP(W32,$A$3:$Y$3,$A$4:$Y$4) -> 8 | H32: =LOOKUP(X32,$A$3:$Y$3,$A$4:$Y$4) -> 10 | ... O32: =LOOKUP(AE32,$A$3:$Y$3,$A$4:$Y$4) -> 22 | Q32: 1 | R32: 2 | S32: 3 | T32: 4 | U32: 5 | V32: 6 | W32: 8 | X32: 10 | Y32: 11 | Z32: 12 | AA32: 13 | AB32: 14 | AC32: 15 | AD32: 16 | AE32: 17 | AH32: =LOOKUP(AX32,$A$3:$Y$3,$A$4:$Y$4) -> 1 | AI32: =LOOKUP(AY32,$A$3:$Y$3,$A$4:$Y$4) -> 2 | AJ32: =LOOKUP(AZ32,$A$3:$Y$3,$A$4:$Y$4) -> 3 | AK32: =LOOKUP(BA32,$A$3:$Y$3,$A$4:$Y$4) -> 4 | AL32: =LOOKUP(BB32,$A$3:$Y$3,$A$4:$Y$4) -> 5 | AM32: =LOOKUP(BC32,$A$3:$Y$3,$A$4:$Y$4) -> 6 | AN32: =LOOKUP(BD32,$A$3:$Y$3,$A$4:$Y$4) -> 7 | AO32: =LOOKUP(BE32,$A$3:$Y$3,$A$4:$Y$4) -> 8 | ... AV32: =LOOKUP(BL32,$A$3:$Y$3,$A$4:$Y$4) -> 22 | AX32: 1 | AY32: 2 | AZ32: 3 | BA32: 4 | BB32: 5 | BC32: 6 | BD32: 7 | BE32: 8 | BF32: 9 | BG32: 11 | BH32: 12 | BI32: 13 | BJ32: 14 | BK32: 16 | BL32: 17 | CT32: =SMALL($CT9:$DH9,CT$3) -> 1 | CU32: =SMALL($CT9:$DH9,CU$3) -> 2 | CV32: =SMALL($CT9:$DH9,CV$3) -> 3 | CW32: =SMALL($CT9:$DH9,CW$3) -> 4 | CX32: =SMALL($CT9:$DH9,CX$3) -> 5 | CY32: =SMALL($CT9:$DH9,CY$3) -> 6 | CZ32: =SMALL($CT9:$DH9,CZ$3) -> 7 | DA32: =SMALL($CT9:$DH9,DA$3) -> 8 | ... DH32: =SMALL($CT9:$DH9,DH$3) -> 15 | DJ32: 1
A33: =LOOKUP(Q33,$A$3:$Y$3,$A$4:$Y$4) -> 1 | B33: =LOOKUP(R33,$A$3:$Y$3,$A$4:$Y$4) -> 2 | C33: =LOOKUP(S33,$A$3:$Y$3,$A$4:$Y$4) -> 3 | D33: =LOOKUP(T33,$A$3:$Y$3,$A$4:$Y$4) -> 4 | E33: =LOOKUP(U33,$A$3:$Y$3,$A$4:$Y$4) -> 5 | F33: =LOOKUP(V33,$A$3:$Y$3,$A$4:$Y$4) -> 6 | G33: =LOOKUP(W33,$A$3:$Y$3,$A$4:$Y$4) -> 9 | H33: =LOOKUP(X33,$A$3:$Y$3,$A$4:$Y$4) -> 10 | ... O33: =LOOKUP(AE33,$A$3:$Y$3,$A$4:$Y$4) -> 22 | Q33: 1 | R33: 2 | S33: 3 | T33: 4 | U33: 5 | V33: 6 | W33: 9 | X33: 10 | Y33: 11 | Z33: 12 | AA33: 13 | AB33: 14 | AC33: 15 | AD33: 16 | AE33: 17 | AH33: =LOOKUP(AX33,$A$3:$Y$3,$A$4:$Y$4) -> 1 | AI33: =LOOKUP(AY33,$A$3:$Y$3,$A$4:$Y$4) -> 2 | AJ33: =LOOKUP(AZ33,$A$3:$Y$3,$A$4:$Y$4) -> 3 | AK33: =LOOKUP(BA33,$A$3:$Y$3,$A$4:$Y$4) -> 4 | AL33: =LOOKUP(BB33,$A$3:$Y$3,$A$4:$Y$4) -> 5 | AM33: =LOOKUP(BC33,$A$3:$Y$3,$A$4:$Y$4) -> 6 | AN33: =LOOKUP(BD33,$A$3:$Y$3,$A$4:$Y$4) -> 7 | AO33: =LOOKUP(BE33,$A$3:$Y$3,$A$4:$Y$4) -> 8 | ... AV33: =LOOKUP(BL33,$A$3:$Y$3,$A$4:$Y$4) -> 22 | AX33: 1 | AY33: 2 | AZ33: 3 | BA33: 4 | BB33: 5 | BC33: 6 | BD33: 7 | BE33: 8 | BF33: 9 | BG33: 11 | BH33: 12 | BI33: 13 | BJ33: 15 | BK33: 16 | BL33: 17 | BN33: =SMALL($BN7:$CB7,BN$1) -> 1 | BO33: =SMALL($BN7:$CB7,BO$1) -> 2 | BP33: =SMALL($BN7:$CB7,BP$1) -> 3 | BQ33: =SMALL($BN7:$CB7,BQ$1) -> 4 | BR33: =SMALL($BN7:$CB7,BR$1) -> 5 | BS33: =SMALL($BN7:$CB7,BS$1) -> 6 | BT33: =SMALL($BN7:$CB7,BT$1) -> 7 | BU33: =SMALL($BN7:$CB7,BU$1) -> 8 | ... CB33: =SMALL($BN7:$CB7,CB$1) -> 15 | CD33: 1 | CT33: =SMALL($CT10:$DH10,CT$3) -> 1 | CU33: =SMALL($CT10:$DH10,CU$3) -> 2 | CV33: =SMALL($CT10:$DH10,CV$3) -> 3 | CW33: =SMALL($CT10:$DH10,CW$3) -> 4 | CX33: =SMALL($CT10:$DH10,CX$3) -> 5 | CY33: =SMALL($CT10:$DH10,CY$3) -> 6 | CZ33: =SMALL($CT10:$DH10,CZ$3) -> 7 | DA33: =SMALL($CT10:$DH10,DA$3) -> 8 | ... DH33: =SMALL($CT10:$DH10,DH$3) -> 22 | DJ33: 2
A34: =LOOKUP(Q34,$A$3:$Y$3,$A$4:$Y$4) -> 1 | B34: =LOOKUP(R34,$A$3:$Y$3,$A$4:$Y$4) -> 2 | C34: =LOOKUP(S34,$A$3:$Y$3,$A$4:$Y$4) -> 3 | D34: =LOOKUP(T34,$A$3:$Y$3,$A$4:$Y$4) -> 4 | E34: =LOOKUP(U34,$A$3:$Y$3,$A$4:$Y$4) -> 5 | F34: =LOOKUP(V34,$A$3:$Y$3,$A$4:$Y$4) -> 7 | G34: =LOOKUP(W34,$A$3:$Y$3,$A$4:$Y$4) -> 8 | H34: =LOOKUP(X34,$A$3:$Y$3,$A$4:$Y$4) -> 9 | ... O34: =LOOKUP(AE34,$A$3:$Y$3,$A$4:$Y$4) -> 22 | Q34: 1 | R34: 2 | S34: 3 | T34: 4 | U34: 5 | V34: 7 | W34: 8 | X34: 9 | Y34: 10 | Z34: 11 | AA34: 12 | AB34: 13 | AC34: 14 | AD34: 15 | AE34: 17 | AH34: =LOOKUP(AX34,$A$3:$Y$3,$A$4:$Y$4) -> 1 | AI34: =LOOKUP(AY34,$A$3:$Y$3,$A$4:$Y$4) -> 2 | AJ34: =LOOKUP(AZ34,$A$3:$Y$3,$A$4:$Y$4) -> 3 | AK34: =LOOKUP(BA34,$A$3:$Y$3,$A$4:$Y$4) -> 4 | AL34: =LOOKUP(BB34,$A$3:$Y$3,$A$4:$Y$4) -> 5 | AM34: =LOOKUP(BC34,$A$3:$Y$3,$A$4:$Y$4) -> 6 | AN34: =LOOKUP(BD34,$A$3:$Y$3,$A$4:$Y$4) -> 7 | AO34: =LOOKUP(BE34,$A$3:$Y$3,$A$4:$Y$4) -> 8 | ... AV34: =LOOKUP(BL34,$A$3:$Y$3,$A$4:$Y$4) -> 22 | AX34: 1 | AY34: 2 | AZ34: 3 | BA34: 4 | BB34: 5 | BC34: 6 | BD34: 7 | BE34: 8 | BF34: 9 | BG34: 11 | BH34: 12 | BI34: 14 | BJ34: 15 | BK34: 16 | BL34: 17 | BN34: =SMALL($BN8:$CB8,BN$1) -> 1 | BO34: =SMALL($BN8:$CB8,BO$1) -> 2 | BP34: =SMALL($BN8:$CB8,BP$1) -> 3 | BQ34: =SMALL($BN8:$CB8,BQ$1) -> 4 | BR34: =SMALL($BN8:$CB8,BR$1) -> 5 | BS34: =SMALL($BN8:$CB8,BS$1) -> 6 | BT34: =SMALL($BN8:$CB8,BT$1) -> 7 | BU34: =SMALL($BN8:$CB8,BU$1) -> 8 | ... CB34: =SMALL($BN8:$CB8,CB$1) -> 16 | CD34: 2 | CT34: =SMALL($CT11:$DH11,CT$3) -> 1 | CU34: =SMALL($CT11:$DH11,CU$3) -> 2 | CV34: =SMALL($CT11:$DH11,CV$3) -> 3 | CW34: =SMALL($CT11:$DH11,CW$3) -> 4 | CX34: =SMALL($CT11:$DH11,CX$3) -> 5 | CY34: =SMALL($CT11:$DH11,CY$3) -> 6 | CZ34: =SMALL($CT11:$DH11,CZ$3) -> 7 | DA34: =SMALL($CT11:$DH11,DA$3) -> 8 | ... DH34: =SMALL($CT11:$DH11,DH$3) -> 22 | DJ34: 3
A35: =LOOKUP(Q35,$A$3:$Y$3,$A$4:$Y$4) -> 1 | B35: =LOOKUP(R35,$A$3:$Y$3,$A$4:$Y$4) -> 2 | C35: =LOOKUP(S35,$A$3:$Y$3,$A$4:$Y$4) -> 3 | D35: =LOOKUP(T35,$A$3:$Y$3,$A$4:$Y$4) -> 4 | E35: =LOOKUP(U35,$A$3:$Y$3,$A$4:$Y$4) -> 5 | F35: =LOOKUP(V35,$A$3:$Y$3,$A$4:$Y$4) -> 7 | G35: =LOOKUP(W35,$A$3:$Y$3,$A$4:$Y$4) -> 8 | H35: =LOOKUP(X35,$A$3:$Y$3,$A$4:$Y$4) -> 9 | ... O35: =LOOKUP(AE35,$A$3:$Y$3,$A$4:$Y$4) -> 22 | Q35: 1 | R35: 2 | S35: 3 | T35: 4 | U35: 5 | V35: 7 | W35: 8 | X35: 9 | Y35: 10 | Z35: 12 | AA35: 13 | AB35: 14 | AC35: 15 | AD35: 16 | AE35: 17 | AH35: =LOOKUP(AX35,$A$3:$Y$3,$A$4:$Y$4) -> 1 | AI35: =LOOKUP(AY35,$A$3:$Y$3,$A$4:$Y$4) -> 2 | AJ35: =LOOKUP(AZ35,$A$3:$Y$3,$A$4:$Y$4) -> 3 | AK35: =LOOKUP(BA35,$A$3:$Y$3,$A$4:$Y$4) -> 4 | AL35: =LOOKUP(BB35,$A$3:$Y$3,$A$4:$Y$4) -> 5 | AM35: =LOOKUP(BC35,$A$3:$Y$3,$A$4:$Y$4) -> 6 | AN35: =LOOKUP(BD35,$A$3:$Y$3,$A$4:$Y$4) -> 7 | AO35: =LOOKUP(BE35,$A$3:$Y$3,$A$4:$Y$4) -> 8 | ... AV35: =LOOKUP(BL35,$A$3:$Y$3,$A$4:$Y$4) -> 22 | AX35: 1 | AY35: 2 | AZ35: 3 | BA35: 4 | BB35: 5 | BC35: 6 | BD35: 7 | BE35: 8 | BF35: 9 | BG35: 11 | BH35: 13 | BI35: 14 | BJ35: 15 | BK35: 16 | BL35: 17 | BN35: =SMALL($BN9:$CB9,BN$1) -> 1 | BO35: =SMALL($BN9:$CB9,BO$1) -> 2 | BP35: =SMALL($BN9:$CB9,BP$1) -> 3 | BQ35: =SMALL($BN9:$CB9,BQ$1) -> 4 | BR35: =SMALL($BN9:$CB9,BR$1) -> 5 | BS35: =SMALL($BN9:$CB9,BS$1) -> 6 | BT35: =SMALL($BN9:$CB9,BT$1) -> 7 | BU35: =SMALL($BN9:$CB9,BU$1) -> 8 | ... CB35: =SMALL($BN9:$CB9,CB$1) -> 25 | CD35: 3 | CT35: =SMALL($CT12:$DH12,CT$3) -> 1 | CU35: =SMALL($CT12:$DH12,CU$3) -> 2 | CV35: =SMALL($CT12:$DH12,CV$3) -> 3 | CW35: =SMALL($CT12:$DH12,CW$3) -> 4 | CX35: =SMALL($CT12:$DH12,CX$3) -> 5 | CY35: =SMALL($CT12:$DH12,CY$3) -> 6 | CZ35: =SMALL($CT12:$DH12,CZ$3) -> 7 | DA35: =SMALL($CT12:$DH12,DA$3) -> 8 | ... DH35: =SMALL($CT12:$DH12,DH$3) -> 22 | DJ35: 4
A36: =LOOKUP(Q36,$A$3:$Y$3,$A$4:$Y$4) -> 1 | B36: =LOOKUP(R36,$A$3:$Y$3,$A$4:$Y$4) -> 2 | C36: =LOOKUP(S36,$A$3:$Y$3,$A$4:$Y$4) -> 3 | D36: =LOOKUP(T36,$A$3:$Y$3,$A$4:$Y$4) -> 4 | E36: =LOOKUP(U36,$A$3:$Y$3,$A$4:$Y$4) -> 5 | F36: =LOOKUP(V36,$A$3:$Y$3,$A$4:$Y$4) -> 7 | G36: =LOOKUP(W36,$A$3:$Y$3,$A$4:$Y$4) -> 8 | H36: =LOOKUP(X36,$A$3:$Y$3,$A$4:$Y$4) -> 10 | ... O36: =LOOKUP(AE36,$A$3:$Y$3,$A$4:$Y$4) -> 22 | Q36: 1 | R36: 2 | S36: 3 | T36: 4 | U36: 5 | V36: 7 | W36: 8 | X36: 10 | Y36: 11 | Z36: 12 | AA36: 13 | AB36: 14 | AC36: 15 | AD36: 16 | AE36: 17 | AH36: =LOOKUP(AX36,$A$3:$Y$3,$A$4:$Y$4) -> 1 | AI36: =LOOKUP(AY36,$A$3:$Y$3,$A$4:$Y$4) -> 2 | AJ36: =LOOKUP(AZ36,$A$3:$Y$3,$A$4:$Y$4) -> 3 | AK36: =LOOKUP(BA36,$A$3:$Y$3,$A$4:$Y$4) -> 4 | AL36: =LOOKUP(BB36,$A$3:$Y$3,$A$4:$Y$4) -> 5 | AM36: =LOOKUP(BC36,$A$3:$Y$3,$A$4:$Y$4) -> 6 | AN36: =LOOKUP(BD36,$A$3:$Y$3,$A$4:$Y$4) -> 7 | AO36: =LOOKUP(BE36,$A$3:$Y$3,$A$4:$Y$4) -> 8 | ... AV36: =LOOKUP(BL36,$A$3:$Y$3,$A$4:$Y$4) -> 22 | AX36: 1 | AY36: 2 | AZ36: 3 | BA36: 4 | BB36: 5 | BC36: 6 | BD36: 7 | BE36: 8 | BF36: 9 | BG36: 12 | BH36: 13 | BI36: 14 | BJ36: 15 | BK36: 16 | BL36: 17 | BN36: =SMALL($BN10:$CB10,BN$1) -> 1 | BO36: =SMALL($BN10:$CB10,BO$1) -> 2 | BP36: =SMALL($BN10:$CB10,BP$1) -> 3 | BQ36: =SMALL($BN10:$CB10,BQ$1) -> 4 | BR36: =SMALL($BN10:$CB10,BR$1) -> 5 | BS36: =SMALL($BN10:$CB10,BS$1) -> 6 | BT36: =SMALL($BN10:$CB10,BT$1) -> 7 | BU36: =SMALL($BN10:$CB10,BU$1) -> 8 | ... CB36: =SMALL($BN10:$CB10,CB$1) -> 16 | CD36: 4 | CT36: =SMALL($CT13:$DH13,CT$3) -> 1 | CU36: =SMALL($CT13:$DH13,CU$3) -> 2 | CV36: =SMALL($CT13:$DH13,CV$3) -> 3 | CW36: =SMALL($CT13:$DH13,CW$3) -> 4 | CX36: =SMALL($CT13:$DH13,CX$3) -> 5 | CY36: =SMALL($CT13:$DH13,CY$3) -> 6 | CZ36: =SMALL($CT13:$DH13,CZ$3) -> 7 | DA36: =SMALL($CT13:$DH13,DA$3) -> 8 | ... DH36: =SMALL($CT13:$DH13,DH$3) -> 22 | DJ36: 5
A37: =LOOKUP(Q37,$A$3:$Y$3,$A$4:$Y$4) -> 1 | B37: =LOOKUP(R37,$A$3:$Y$3,$A$4:$Y$4) -> 2 | C37: =LOOKUP(S37,$A$3:$Y$3,$A$4:$Y$4) -> 3 | D37: =LOOKUP(T37,$A$3:$Y$3,$A$4:$Y$4) -> 4 | E37: =LOOKUP(U37,$A$3:$Y$3,$A$4:$Y$4) -> 5 | F37: =LOOKUP(V37,$A$3:$Y$3,$A$4:$Y$4) -> 7 | G37: =LOOKUP(W37,$A$3:$Y$3,$A$4:$Y$4) -> 9 | H37: =LOOKUP(X37,$A$3:$Y$3,$A$4:$Y$4) -> 10 | ... O37: =LOOKUP(AE37,$A$3:$Y$3,$A$4:$Y$4) -> 22 | Q37: 1 | R37: 2 | S37: 3 | T37: 4 | U37: 5 | V37: 7 | W37: 9 | X37: 10 | Y37: 11 | Z37: 12 | AA37: 13 | AB37: 14 | AC37: 15 | AD37: 16 | AE37: 17 | AH37: =LOOKUP(AX37,$A$3:$Y$3,$A$4:$Y$4) -> 1 | AI37: =LOOKUP(AY37,$A$3:$Y$3,$A$4:$Y$4) -> 2 | AJ37: =LOOKUP(AZ37,$A$3:$Y$3,$A$4:$Y$4) -> 3 | AK37: =LOOKUP(BA37,$A$3:$Y$3,$A$4:$Y$4) -> 4 | AL37: =LOOKUP(BB37,$A$3:$Y$3,$A$4:$Y$4) -> 5 | AM37: =LOOKUP(BC37,$A$3:$Y$3,$A$4:$Y$4) -> 6 | AN37: =LOOKUP(BD37,$A$3:$Y$3,$A$4:$Y$4) -> 7 | AO37: =LOOKUP(BE37,$A$3:$Y$3,$A$4:$Y$4) -> 8 | ... AV37: =LOOKUP(BL37,$A$3:$Y$3,$A$4:$Y$4) -> 16 | AX37: 1 | AY37: 2 | AZ37: 3 | BA37: 4 | BB37: 5 | BC37: 6 | BD37: 7 | BE37: 8 | BF37: 10 | BG37: 11 | BH37: 12 | BI37: 13 | BJ37: 14 | BK37: 15 | BL37: 16 | BN37: =SMALL($BN11:$CB11,BN$1) -> 1 | BO37: =SMALL($BN11:$CB11,BO$1) -> 2 | BP37: =SMALL($BN11:$CB11,BP$1) -> 3 | BQ37: =SMALL($BN11:$CB11,BQ$1) -> 4 | BR37: =SMALL($BN11:$CB11,BR$1) -> 5 | BS37: =SMALL($BN11:$CB11,BS$1) -> 6 | BT37: =SMALL($BN11:$CB11,BT$1) -> 7 | BU37: =SMALL($BN11:$CB11,BU$1) -> 8 | ... CB37: =SMALL($BN11:$CB11,CB$1) -> 25 | CD37: 5 | CT37: =SMALL($CT14:$DH14,CT$3) -> 1 | CU37: =SMALL($CT14:$DH14,CU$3) -> 2 | CV37: =SMALL($CT14:$DH14,CV$3) -> 3 | CW37: =SMALL($CT14:$DH14,CW$3) -> 4 | CX37: =SMALL($CT14:$DH14,CX$3) -> 5 | CY37: =SMALL($CT14:$DH14,CY$3) -> 6 | CZ37: =SMALL($CT14:$DH14,CZ$3) -> 7 | DA37: =SMALL($CT14:$DH14,DA$3) -> 8 | ... DH37: =SMALL($CT14:$DH14,DH$3) -> 22 | DJ37: 6
A38: =LOOKUP(Q38,$A$3:$Y$3,$A$4:$Y$4) -> 1 | B38: =LOOKUP(R38,$A$3:$Y$3,$A$4:$Y$4) -> 2 | C38: =LOOKUP(S38,$A$3:$Y$3,$A$4:$Y$4) -> 3 | D38: =LOOKUP(T38,$A$3:$Y$3,$A$4:$Y$4) -> 4 | E38: =LOOKUP(U38,$A$3:$Y$3,$A$4:$Y$4) -> 5 | F38: =LOOKUP(V38,$A$3:$Y$3,$A$4:$Y$4) -> 8 | G38: =LOOKUP(W38,$A$3:$Y$3,$A$4:$Y$4) -> 9 | H38: =LOOKUP(X38,$A$3:$Y$3,$A$4:$Y$4) -> 10 | ... O38: =LOOKUP(AE38,$A$3:$Y$3,$A$4:$Y$4) -> 22 | Q38: 1 | R38: 2 | S38: 3 | T38: 4 | U38: 5 | V38: 8 | W38: 9 | X38: 10 | Y38: 11 | Z38: 12 | AA38: 13 | AB38: 14 | AC38: 15 | AD38: 16 | AE38: 17 | AH38: =LOOKUP(AX38,$A$3:$Y$3,$A$4:$Y$4) -> 1 | AI38: =LOOKUP(AY38,$A$3:$Y$3,$A$4:$Y$4) -> 2 | AJ38: =LOOKUP(AZ38,$A$3:$Y$3,$A$4:$Y$4) -> 3 | AK38: =LOOKUP(BA38,$A$3:$Y$3,$A$4:$Y$4) -> 4 | AL38: =LOOKUP(BB38,$A$3:$Y$3,$A$4:$Y$4) -> 5 | AM38: =LOOKUP(BC38,$A$3:$Y$3,$A$4:$Y$4) -> 6 | AN38: =LOOKUP(BD38,$A$3:$Y$3,$A$4:$Y$4) -> 7 | AO38: =LOOKUP(BE38,$A$3:$Y$3,$A$4:$Y$4) -> 8 | ... AV38: =LOOKUP(BL38,$A$3:$Y$3,$A$4:$Y$4) -> 22 | AX38: 1 | AY38: 2 | AZ38: 3 | BA38: 4 | BB38: 5 | BC38: 6 | BD38: 7 | BE38: 8 | BF38: 10 | BG38: 11 | BH38: 12 | BI38: 13 | BJ38: 14 | BK38: 15 | BL38: 17 | BN38: =SMALL($BN12:$CB12,BN$1) -> 1 | BO38: =SMALL($BN12:$CB12,BO$1) -> 2 | BP38: =SMALL($BN12:$CB12,BP$1) -> 3 | BQ38: =SMALL($BN12:$CB12,BQ$1) -> 4 | BR38: =SMALL($BN12:$CB12,BR$1) -> 5 | BS38: =SMALL($BN12:$CB12,BS$1) -> 6 | BT38: =SMALL($BN12:$CB12,BT$1) -> 7 | BU38: =SMALL($BN12:$CB12,BU$1) -> 8 | ... CB38: =SMALL($BN12:$CB12,CB$1) -> 25 | CD38: 6 | CT38: =SMALL($CT15:$DH15,CT$3) -> 1 | CU38: =SMALL($CT15:$DH15,CU$3) -> 2 | CV38: =SMALL($CT15:$DH15,CV$3) -> 3 | CW38: =SMALL($CT15:$DH15,CW$3) -> 4 | CX38: =SMALL($CT15:$DH15,CX$3) -> 5 | CY38: =SMALL($CT15:$DH15,CY$3) -> 6 | CZ38: =SMALL($CT15:$DH15,CZ$3) -> 7 | DA38: =SMALL($CT15:$DH15,DA$3) -> 8 | ... DH38: =SMALL($CT15:$DH15,DH$3) -> 22 | DJ38: 7
A39: =LOOKUP(Q39,$A$3:$Y$3,$A$4:$Y$4) -> 1 | B39: =LOOKUP(R39,$A$3:$Y$3,$A$4:$Y$4) -> 2 | C39: =LOOKUP(S39,$A$3:$Y$3,$A$4:$Y$4) -> 3 | D39: =LOOKUP(T39,$A$3:$Y$3,$A$4:$Y$4) -> 4 | E39: =LOOKUP(U39,$A$3:$Y$3,$A$4:$Y$4) -> 6 | F39: =LOOKUP(V39,$A$3:$Y$3,$A$4:$Y$4) -> 7 | G39: =LOOKUP(W39,$A$3:$Y$3,$A$4:$Y$4) -> 8 | H39: =LOOKUP(X39,$A$3:$Y$3,$A$4:$Y$4) -> 9 | ... O39: =LOOKUP(AE39,$A$3:$Y$3,$A$4:$Y$4) -> 22 | Q39: 1 | R39: 2 | S39: 3 | T39: 4 | U39: 6 | V39: 7 | W39: 8 | X39: 9 | Y39: 10 | Z39: 11 | AA39: 12 | AB39: 13 | AC39: 14 | AD39: 15 | AE39: 17 | AH39: =LOOKUP(AX39,$A$3:$Y$3,$A$4:$Y$4) -> 1 | AI39: =LOOKUP(AY39,$A$3:$Y$3,$A$4:$Y$4) -> 2 | AJ39: =LOOKUP(AZ39,$A$3:$Y$3,$A$4:$Y$4) -> 3 | AK39: =LOOKUP(BA39,$A$3:$Y$3,$A$4:$Y$4) -> 4 | AL39: =LOOKUP(BB39,$A$3:$Y$3,$A$4:$Y$4) -> 5 | AM39: =LOOKUP(BC39,$A$3:$Y$3,$A$4:$Y$4) -> 6 | AN39: =LOOKUP(BD39,$A$3:$Y$3,$A$4:$Y$4) -> 7 | AO39: =LOOKUP(BE39,$A$3:$Y$3,$A$4:$Y$4) -> 8 | ... AV39: =LOOKUP(BL39,$A$3:$Y$3,$A$4:$Y$4) -> 22 | AX39: 1 | AY39: 2 | AZ39: 3 | BA39: 4 | BB39: 5 | BC39: 6 | BD39: 7 | BE39: 8 | BF39: 10 | BG39: 11 | BH39: 12 | BI39: 13 | BJ39: 14 | BK39: 16 | BL39: 17 | BN39: =SMALL($BN13:$CB13,BN$1) -> 1 | BO39: =SMALL($BN13:$CB13,BO$1) -> 2 | BP39: =SMALL($BN13:$CB13,BP$1) -> 3 | BQ39: =SMALL($BN13:$CB13,BQ$1) -> 4 | BR39: =SMALL($BN13:$CB13,BR$1) -> 5 | BS39: =SMALL($BN13:$CB13,BS$1) -> 6 | BT39: =SMALL($BN13:$CB13,BT$1) -> 7 | BU39: =SMALL($BN13:$CB13,BU$1) -> 8 | ... CB39: =SMALL($BN13:$CB13,CB$1) -> 16 | CD39: 7 | CT39: =SMALL($CT16:$DH16,CT$3) -> 1 | CU39: =SMALL($CT16:$DH16,CU$3) -> 2 | CV39: =SMALL($CT16:$DH16,CV$3) -> 3 | CW39: =SMALL($CT16:$DH16,CW$3) -> 4 | CX39: =SMALL($CT16:$DH16,CX$3) -> 5 | CY39: =SMALL($CT16:$DH16,CY$3) -> 6 | CZ39: =SMALL($CT16:$DH16,CZ$3) -> 7 | DA39: =SMALL($CT16:$DH16,DA$3) -> 8 | ... DH39: =SMALL($CT16:$DH16,DH$3) -> 16 | DJ39: 8
A40: =LOOKUP(Q40,$A$3:$Y$3,$A$4:$Y$4) -> 1 | B40: =LOOKUP(R40,$A$3:$Y$3,$A$4:$Y$4) -> 2 | C40: =LOOKUP(S40,$A$3:$Y$3,$A$4:$Y$4) -> 3 | D40: =LOOKUP(T40,$A$3:$Y$3,$A$4:$Y$4) -> 4 | E40: =LOOKUP(U40,$A$3:$Y$3,$A$4:$Y$4) -> 6 | F40: =LOOKUP(V40,$A$3:$Y$3,$A$4:$Y$4) -> 7 | G40: =LOOKUP(W40,$A$3:$Y$3,$A$4:$Y$4) -> 8 | H40: =LOOKUP(X40,$A$3:$Y$3,$A$4:$Y$4) -> 9 | ... O40: =LOOKUP(AE40,$A$3:$Y$3,$A$4:$Y$4) -> 22 | Q40: 1 | R40: 2 | S40: 3 | T40: 4 | U40: 6 | V40: 7 | W40: 8 | X40: 9 | Y40: 10 | Z40: 12 | AA40: 13 | AB40: 14 | AC40: 15 | AD40: 16 | AE40: 17 | AH40: =LOOKUP(AX40,$A$3:$Y$3,$A$4:$Y$4) -> 1 | AI40: =LOOKUP(AY40,$A$3:$Y$3,$A$4:$Y$4) -> 2 | AJ40: =LOOKUP(AZ40,$A$3:$Y$3,$A$4:$Y$4) -> 3 | AK40: =LOOKUP(BA40,$A$3:$Y$3,$A$4:$Y$4) -> 4 | AL40: =LOOKUP(BB40,$A$3:$Y$3,$A$4:$Y$4) -> 5 | AM40: =LOOKUP(BC40,$A$3:$Y$3,$A$4:$Y$4) -> 6 | AN40: =LOOKUP(BD40,$A$3:$Y$3,$A$4:$Y$4) -> 7 | AO40: =LOOKUP(BE40,$A$3:$Y$3,$A$4:$Y$4) -> 8 | ... AV40: =LOOKUP(BL40,$A$3:$Y$3,$A$4:$Y$4) -> 22 | AX40: 1 | AY40: 2 | AZ40: 3 | BA40: 4 | BB40: 5 | BC40: 6 | BD40: 7 | BE40: 8 | BF40: 10 | BG40: 11 | BH40: 12 | BI40: 13 | BJ40: 15 | BK40: 16 | BL40: 17 | BN40: =SMALL($BN14:$CB14,BN$1) -> 1 | BO40: =SMALL($BN14:$CB14,BO$1) -> 2 | BP40: =SMALL($BN14:$CB14,BP$1) -> 3 | BQ40: =SMALL($BN14:$CB14,BQ$1) -> 4 | BR40: =SMALL($BN14:$CB14,BR$1) -> 5 | BS40: =SMALL($BN14:$CB14,BS$1) -> 6 | BT40: =SMALL($BN14:$CB14,BT$1) -> 7 | BU40: =SMALL($BN14:$CB14,BU$1) -> 8 | ... CB40: =SMALL($BN14:$CB14,CB$1) -> 25 | CD40: 8 | CT40: =SMALL($CT17:$DH17,CT$3) -> 1 | CU40: =SMALL($CT17:$DH17,CU$3) -> 2 | CV40: =SMALL($CT17:$DH17,CV$3) -> 3 | CW40: =SMALL($CT17:$DH17,CW$3) -> 4 | CX40: =SMALL($CT17:$DH17,CX$3) -> 5 | CY40: =SMALL($CT17:$DH17,CY$3) -> 6 | CZ40: =SMALL($CT17:$DH17,CZ$3) -> 7 | DA40: =SMALL($CT17:$DH17,DA$3) -> 8 | ... DH40: =SMALL($CT17:$DH17,DH$3) -> 22 | DJ40: 9
A41: =LOOKUP(Q41,$A$3:$Y$3,$A$4:$Y$4) -> 1 | B41: =LOOKUP(R41,$A$3:$Y$3,$A$4:$Y$4) -> 2 | C41: =LOOKUP(S41,$A$3:$Y$3,$A$4:$Y$4) -> 3 | D41: =LOOKUP(T41,$A$3:$Y$3,$A$4:$Y$4) -> 4 | E41: =LOOKUP(U41,$A$3:$Y$3,$A$4:$Y$4) -> 6 | F41: =LOOKUP(V41,$A$3:$Y$3,$A$4:$Y$4) -> 7 | G41: =LOOKUP(W41,$A$3:$Y$3,$A$4:$Y$4) -> 8 | H41: =LOOKUP(X41,$A$3:$Y$3,$A$4:$Y$4) -> 10 | ... O41: =LOOKUP(AE41,$A$3:$Y$3,$A$4:$Y$4) -> 22 | Q41: 1 | R41: 2 | S41: 3 | T41: 4 | U41: 6 | V41: 7 | W41: 8 | X41: 10 | Y41: 11 | Z41: 12 | AA41: 13 | AB41: 14 | AC41: 15 | AD41: 16 | AE41: 17 | AH41: =LOOKUP(AX41,$A$3:$Y$3,$A$4:$Y$4) -> 1 | AI41: =LOOKUP(AY41,$A$3:$Y$3,$A$4:$Y$4) -> 2 | AJ41: =LOOKUP(AZ41,$A$3:$Y$3,$A$4:$Y$4) -> 3 | AK41: =LOOKUP(BA41,$A$3:$Y$3,$A$4:$Y$4) -> 4 | AL41: =LOOKUP(BB41,$A$3:$Y$3,$A$4:$Y$4) -> 5 | AM41: =LOOKUP(BC41,$A$3:$Y$3,$A$4:$Y$4) -> 6 | AN41: =LOOKUP(BD41,$A$3:$Y$3,$A$4:$Y$4) -> 7 | AO41: =LOOKUP(BE41,$A$3:$Y$3,$A$4:$Y$4) -> 8 | ... AV41: =LOOKUP(BL41,$A$3:$Y$3,$A$4:$Y$4) -> 22 | AX41: 1 | AY41: 2 | AZ41: 3 | BA41: 4 | BB41: 5 | BC41: 6 | BD41: 7 | BE41: 8 | BF41: 10 | BG41: 11 | BH41: 12 | BI41: 14 | BJ41: 15 | BK41: 16 | BL41: 17 | BN41: =SMALL($BN15:$CB15,BN$1) -> 1 | BO41: =SMALL($BN15:$CB15,BO$1) -> 2 | BP41: =SMALL($BN15:$CB15,BP$1) -> 3 | BQ41: =SMALL($BN15:$CB15,BQ$1) -> 4 | BR41: =SMALL($BN15:$CB15,BR$1) -> 5 | BS41: =SMALL($BN15:$CB15,BS$1) -> 6 | BT41: =SMALL($BN15:$CB15,BT$1) -> 7 | BU41: =SMALL($BN15:$CB15,BU$1) -> 8 | ... CB41: =SMALL($BN15:$CB15,CB$1) -> 25 | CD41: 9 | CT41: =SMALL($CT18:$DH18,CT$3) -> 1 | CU41: =SMALL($CT18:$DH18,CU$3) -> 2 | CV41: =SMALL($CT18:$DH18,CV$3) -> 3 | CW41: =SMALL($CT18:$DH18,CW$3) -> 4 | CX41: =SMALL($CT18:$DH18,CX$3) -> 5 | CY41: =SMALL($CT18:$DH18,CY$3) -> 6 | CZ41: =SMALL($CT18:$DH18,CZ$3) -> 7 | DA41: =SMALL($CT18:$DH18,DA$3) -> 9 | ... DH41: =SMALL($CT18:$DH18,DH$3) -> 22 | DJ41: 10
A42: =LOOKUP(Q42,$A$3:$Y$3,$A$4:$Y$4) -> 1 | B42: =LOOKUP(R42,$A$3:$Y$3,$A$4:$Y$4) -> 2 | C42: =LOOKUP(S42,$A$3:$Y$3,$A$4:$Y$4) -> 3 | D42: =LOOKUP(T42,$A$3:$Y$3,$A$4:$Y$4) -> 4 | E42: =LOOKUP(U42,$A$3:$Y$3,$A$4:$Y$4) -> 6 | F42: =LOOKUP(V42,$A$3:$Y$3,$A$4:$Y$4) -> 7 | G42: =LOOKUP(W42,$A$3:$Y$3,$A$4:$Y$4) -> 9 | H42: =LOOKUP(X42,$A$3:$Y$3,$A$4:$Y$4) -> 10 | ... O42: =LOOKUP(AE42,$A$3:$Y$3,$A$4:$Y$4) -> 22 | Q42: 1 | R42: 2 | S42: 3 | T42: 4 | U42: 6 | V42: 7 | W42: 9 | X42: 10 | Y42: 11 | Z42: 12 | AA42: 13 | AB42: 14 | AC42: 15 | AD42: 16 | AE42: 17 | AH42: =LOOKUP(AX42,$A$3:$Y$3,$A$4:$Y$4) -> 1 | AI42: =LOOKUP(AY42,$A$3:$Y$3,$A$4:$Y$4) -> 2 | AJ42: =LOOKUP(AZ42,$A$3:$Y$3,$A$4:$Y$4) -> 3 | AK42: =LOOKUP(BA42,$A$3:$Y$3,$A$4:$Y$4) -> 4 | AL42: =LOOKUP(BB42,$A$3:$Y$3,$A$4:$Y$4) -> 5 | AM42: =LOOKUP(BC42,$A$3:$Y$3,$A$4:$Y$4) -> 6 | AN42: =LOOKUP(BD42,$A$3:$Y$3,$A$4:$Y$4) -> 7 | AO42: =LOOKUP(BE42,$A$3:$Y$3,$A$4:$Y$4) -> 8 | ... AV42: =LOOKUP(BL42,$A$3:$Y$3,$A$4:$Y$4) -> 22 | AX42: 1 | AY42: 2 | AZ42: 3 | BA42: 4 | BB42: 5 | BC42: 6 | BD42: 7 | BE42: 8 | BF42: 10 | BG42: 11 | BH42: 13 | BI42: 14 | BJ42: 15 | BK42: 16 | BL42: 17 | BN42: =SMALL($BN16:$CB16,BN$1) -> 1 | BO42: =SMALL($BN16:$CB16,BO$1) -> 2 | BP42: =SMALL($BN16:$CB16,BP$1) -> 3 | BQ42: =SMALL($BN16:$CB16,BQ$1) -> 4 | BR42: =SMALL($BN16:$CB16,BR$1) -> 5 | BS42: =SMALL($BN16:$CB16,BS$1) -> 6 | BT42: =SMALL($BN16:$CB16,BT$1) -> 7 | BU42: =SMALL($BN16:$CB16,BU$1) -> 8 | ... CB42: =SMALL($BN16:$CB16,CB$1) -> 25 | CD42: 10 | CT42: =SMALL($CT19:$DH19,CT$3) -> 1 | CU42: =SMALL($CT19:$DH19,CU$3) -> 2 | CV42: =SMALL($CT19:$DH19,CV$3) -> 3 | CW42: =SMALL($CT19:$DH19,CW$3) -> 4 | CX42: =SMALL($CT19:$DH19,CX$3) -> 5 | CY42: =SMALL($CT19:$DH19,CY$3) -> 8 | CZ42: =SMALL($CT19:$DH19,CZ$3) -> 9 | DA42: =SMALL($CT19:$DH19,DA$3) -> 10 | ... DH42: =SMALL($CT19:$DH19,DH$3) -> 22 | DJ42: 11
A43: =LOOKUP(Q43,$A$3:$Y$3,$A$4:$Y$4) -> 1 | B43: =LOOKUP(R43,$A$3:$Y$3,$A$4:$Y$4) -> 2 | C43: =LOOKUP(S43,$A$3:$Y$3,$A$4:$Y$4) -> 3 | D43: =LOOKUP(T43,$A$3:$Y$3,$A$4:$Y$4) -> 4 | E43: =LOOKUP(U43,$A$3:$Y$3,$A$4:$Y$4) -> 6 | F43: =LOOKUP(V43,$A$3:$Y$3,$A$4:$Y$4) -> 8 | G43: =LOOKUP(W43,$A$3:$Y$3,$A$4:$Y$4) -> 9 | H43: =LOOKUP(X43,$A$3:$Y$3,$A$4:$Y$4) -> 10 | ... O43: =LOOKUP(AE43,$A$3:$Y$3,$A$4:$Y$4) -> 22 | Q43: 1 | R43: 2 | S43: 3 | T43: 4 | U43: 6 | V43: 8 | W43: 9 | X43: 10 | Y43: 11 | Z43: 12 | AA43: 13 | AB43: 14 | AC43: 15 | AD43: 16 | AE43: 17 | AH43: =LOOKUP(AX43,$A$3:$Y$3,$A$4:$Y$4) -> 1 | AI43: =LOOKUP(AY43,$A$3:$Y$3,$A$4:$Y$4) -> 2 | AJ43: =LOOKUP(AZ43,$A$3:$Y$3,$A$4:$Y$4) -> 3 | AK43: =LOOKUP(BA43,$A$3:$Y$3,$A$4:$Y$4) -> 4 | AL43: =LOOKUP(BB43,$A$3:$Y$3,$A$4:$Y$4) -> 5 | AM43: =LOOKUP(BC43,$A$3:$Y$3,$A$4:$Y$4) -> 6 | AN43: =LOOKUP(BD43,$A$3:$Y$3,$A$4:$Y$4) -> 7 | AO43: =LOOKUP(BE43,$A$3:$Y$3,$A$4:$Y$4) -> 8 | ... AV43: =LOOKUP(BL43,$A$3:$Y$3,$A$4:$Y$4) -> 22 | AX43: 1 | AY43: 2 | AZ43: 3 | BA43: 4 | BB43: 5 | BC43: 6 | BD43: 7 | BE43: 8 | BF43: 10 | BG43: 12 | BH43: 13 | BI43: 14 | BJ43: 15 | BK43: 16 | BL43: 17 | BN43: =SMALL($BN17:$CB17,BN$1) -> 1 | BO43: =SMALL($BN17:$CB17,BO$1) -> 2 | BP43: =SMALL($BN17:$CB17,BP$1) -> 3 | BQ43: =SMALL($BN17:$CB17,BQ$1) -> 4 | BR43: =SMALL($BN17:$CB17,BR$1) -> 5 | BS43: =SMALL($BN17:$CB17,BS$1) -> 6 | BT43: =SMALL($BN17:$CB17,BT$1) -> 7 | BU43: =SMALL($BN17:$CB17,BU$1) -> 8 | ... CB43: =SMALL($BN17:$CB17,CB$1) -> 16 | CD43: 11 | CT43: =SMALL($CT20:$DH20,CT$3) -> 1 | CU43: =SMALL($CT20:$DH20,CU$3) -> 2 | CV43: =SMALL($CT20:$DH20,CV$3) -> 3 | CW43: =SMALL($CT20:$DH20,CW$3) -> 4 | CX43: =SMALL($CT20:$DH20,CX$3) -> 6 | CY43: =SMALL($CT20:$DH20,CY$3) -> 8 | CZ43: =SMALL($CT20:$DH20,CZ$3) -> 9 | DA43: =SMALL($CT20:$DH20,DA$3) -> 10 | ... DH43: =SMALL($CT20:$DH20,DH$3) -> 22 | DJ43: 12
A44: =LOOKUP(Q44,$A$3:$Y$3,$A$4:$Y$4) -> 1 | B44: =LOOKUP(R44,$A$3:$Y$3,$A$4:$Y$4) -> 2 | C44: =LOOKUP(S44,$A$3:$Y$3,$A$4:$Y$4) -> 3 | D44: =LOOKUP(T44,$A$3:$Y$3,$A$4:$Y$4) -> 4 | E44: =LOOKUP(U44,$A$3:$Y$3,$A$4:$Y$4) -> 7 | F44: =LOOKUP(V44,$A$3:$Y$3,$A$4:$Y$4) -> 8 | G44: =LOOKUP(W44,$A$3:$Y$3,$A$4:$Y$4) -> 9 | H44: =LOOKUP(X44,$A$3:$Y$3,$A$4:$Y$4) -> 10 | ... O44: =LOOKUP(AE44,$A$3:$Y$3,$A$4:$Y$4) -> 22 | Q44: 1 | R44: 2 | S44: 3 | T44: 4 | U44: 7 | V44: 8 | W44: 9 | X44: 10 | Y44: 11 | Z44: 12 | AA44: 13 | AB44: 14 | AC44: 15 | AD44: 16 | AE44: 17 | AH44: =LOOKUP(AX44,$A$3:$Y$3,$A$4:$Y$4) -> 1 | AI44: =LOOKUP(AY44,$A$3:$Y$3,$A$4:$Y$4) -> 2 | AJ44: =LOOKUP(AZ44,$A$3:$Y$3,$A$4:$Y$4) -> 3 | AK44: =LOOKUP(BA44,$A$3:$Y$3,$A$4:$Y$4) -> 4 | AL44: =LOOKUP(BB44,$A$3:$Y$3,$A$4:$Y$4) -> 5 | AM44: =LOOKUP(BC44,$A$3:$Y$3,$A$4:$Y$4) -> 6 | AN44: =LOOKUP(BD44,$A$3:$Y$3,$A$4:$Y$4) -> 7 | AO44: =LOOKUP(BE44,$A$3:$Y$3,$A$4:$Y$4) -> 8 | ... AV44: =LOOKUP(BL44,$A$3:$Y$3,$A$4:$Y$4) -> 22 | AX44: 1 | AY44: 2 | AZ44: 3 | BA44: 4 | BB44: 5 | BC44: 6 | BD44: 7 | BE44: 8 | BF44: 11 | BG44: 12 | BH44: 13 | BI44: 14 | BJ44: 15 | BK44: 16 | BL44: 17 | BN44: =SMALL($BN18:$CB18,BN$1) -> 1 | BO44: =SMALL($BN18:$CB18,BO$1) -> 2 | BP44: =SMALL($BN18:$CB18,BP$1) -> 3 | BQ44: =SMALL($BN18:$CB18,BQ$1) -> 4 | BR44: =SMALL($BN18:$CB18,BR$1) -> 5 | BS44: =SMALL($BN18:$CB18,BS$1) -> 6 | BT44: =SMALL($BN18:$CB18,BT$1) -> 7 | BU44: =SMALL($BN18:$CB18,BU$1) -> 8 | ... CB44: =SMALL($BN18:$CB18,CB$1) -> 25 | CD44: 12 | CT44: =SMALL($CT21:$DH21,CT$3) -> 1 | CU44: =SMALL($CT21:$DH21,CU$3) -> 2 | CV44: =SMALL($CT21:$DH21,CV$3) -> 3 | CW44: =SMALL($CT21:$DH21,CW$3) -> 4 | CX44: =SMALL($CT21:$DH21,CX$3) -> 7 | CY44: =SMALL($CT21:$DH21,CY$3) -> 8 | CZ44: =SMALL($CT21:$DH21,CZ$3) -> 9 | DA44: =SMALL($CT21:$DH21,DA$3) -> 10 | ... DH44: =SMALL($CT21:$DH21,DH$3) -> 22 | DJ44: 13
... A52: =LOOKUP(Q52,$A$3:$Y$3,$A$4:$Y$4) -> 1 | B52: =LOOKUP(R52,$A$3:$Y$3,$A$4:$Y$4) -> 2 | C52: =LOOKUP(S52,$A$3:$Y$3,$A$4:$Y$4) -> 4 | D52: =LOOKUP(T52,$A$3:$Y$3,$A$4:$Y$4) -> 5 | E52: =LOOKUP(U52,$A$3:$Y$3,$A$4:$Y$4) -> 6 | F52: =LOOKUP(V52,$A$3:$Y$3,$A$4:$Y$4) -> 7 | G52: =LOOKUP(W52,$A$3:$Y$3,$A$4:$Y$4) -> 8 | H52: =LOOKUP(X52,$A$3:$Y$3,$A$4:$Y$4) -> 9 | ... O52: =LOOKUP(AE52,$A$3:$Y$3,$A$4:$Y$4) -> 22 | Q52: 1 | R52: 2 | S52: 4 | T52: 5 | U52: 6 | V52: 7 | W52: 8 | X52: 9 | Y52: 10 | Z52: 11 | AA52: 12 | AB52: 13 | AC52: 14 | AD52: 15 | AE52: 17 | AH52: =LOOKUP(AX52,$A$3:$Y$3,$A$4:$Y$4) -> 1 | AI52: =LOOKUP(AY52,$A$3:$Y$3,$A$4:$Y$4) -> 2 | AJ52: =LOOKUP(AZ52,$A$3:$Y$3,$A$4:$Y$4) -> 3 | AK52: =LOOKUP(BA52,$A$3:$Y$3,$A$4:$Y$4) -> 4 | AL52: =LOOKUP(BB52,$A$3:$Y$3,$A$4:$Y$4) -> 5 | AM52: =LOOKUP(BC52,$A$3:$Y$3,$A$4:$Y$4) -> 6 | AN52: =LOOKUP(BD52,$A$3:$Y$3,$A$4:$Y$4) -> 7 | AO52: =LOOKUP(BE52,$A$3:$Y$3,$A$4:$Y$4) -> 9 | ... AV52: =LOOKUP(BL52,$A$3:$Y$3,$A$4:$Y$4) -> 22 | AX52: 1 | AY52: 2 | AZ52: 3 | BA52: 4 | BB52: 5 | BC52: 6 | BD52: 7 | BE52: 9 | BF52: 11 | BG52: 12 | BH52: 13 | BI52: 14 | BJ52: 15 | BK52: 16 | BL52: 17 | BN52: =SMALL($BN26:$CB26,BN$1) -> 1 | BO52: =SMALL($BN26:$CB26,BO$1) -> 2 | BP52: =SMALL($BN26:$CB26,BP$1) -> 3 | BQ52: =SMALL($BN26:$CB26,BQ$1) -> 4 | BR52: =SMALL($BN26:$CB26,BR$1) -> 5 | BS52: =SMALL($BN26:$CB26,BS$1) -> 6 | BT52: =SMALL($BN26:$CB26,BT$1) -> 7 | BU52: =SMALL($BN26:$CB26,BU$1) -> 8 | ... CB52: =SMALL($BN26:$CB26,CB$1) -> 25 | CD52: 20 | CT52: =SMALL($CT29:$DH29,CT$3) -> 2 | CU52: =SMALL($CT29:$DH29,CU$3) -> 3 | CV52: =SMALL($CT29:$DH29,CV$3) -> 4 | CW52: =SMALL($CT29:$DH29,CW$3) -> 5 | CX52: =SMALL($CT29:$DH29,CX$3) -> 6 | CY52: =SMALL($CT29:$DH29,CY$3) -> 7 | CZ52: =SMALL($CT29:$DH29,CZ$3) -> 9 | DA52: =SMALL($CT29:$DH29,DA$3) -> 10 | ... DH52: =SMALL($CT29:$DH29,DH$3) -> 22 | DJ52: 21
A53: =LOOKUP(Q53,$A$3:$Y$3,$A$4:$Y$4) -> 1 | B53: =LOOKUP(R53,$A$3:$Y$3,$A$4:$Y$4) -> 2 | C53: =LOOKUP(S53,$A$3:$Y$3,$A$4:$Y$4) -> 4 | D53: =LOOKUP(T53,$A$3:$Y$3,$A$4:$Y$4) -> 5 | E53: =LOOKUP(U53,$A$3:$Y$3,$A$4:$Y$4) -> 6 | F53: =LOOKUP(V53,$A$3:$Y$3,$A$4:$Y$4) -> 7 | G53: =LOOKUP(W53,$A$3:$Y$3,$A$4:$Y$4) -> 8 | H53: =LOOKUP(X53,$A$3:$Y$3,$A$4:$Y$4) -> 9 | ... O53: =LOOKUP(AE53,$A$3:$Y$3,$A$4:$Y$4) -> 22 | Q53: 1 | R53: 2 | S53: 4 | T53: 5 | U53: 6 | V53: 7 | W53: 8 | X53: 9 | Y53: 10 | Z53: 12 | AA53: 13 | AB53: 14 | AC53: 15 | AD53: 16 | AE53: 17 | AH53: =LOOKUP(AX53,$A$3:$Y$3,$A$4:$Y$4) -> 1 | AI53: =LOOKUP(AY53,$A$3:$Y$3,$A$4:$Y$4) -> 2 | AJ53: =LOOKUP(AZ53,$A$3:$Y$3,$A$4:$Y$4) -> 3 | AK53: =LOOKUP(BA53,$A$3:$Y$3,$A$4:$Y$4) -> 4 | AL53: =LOOKUP(BB53,$A$3:$Y$3,$A$4:$Y$4) -> 5 | AM53: =LOOKUP(BC53,$A$3:$Y$3,$A$4:$Y$4) -> 6 | AN53: =LOOKUP(BD53,$A$3:$Y$3,$A$4:$Y$4) -> 7 | AO53: =LOOKUP(BE53,$A$3:$Y$3,$A$4:$Y$4) -> 10 | ... AV53: =LOOKUP(BL53,$A$3:$Y$3,$A$4:$Y$4) -> 22 | AX53: 1 | AY53: 2 | AZ53: 3 | BA53: 4 | BB53: 5 | BC53: 6 | BD53: 7 | BE53: 10 | BF53: 11 | BG53: 12 | BH53: 13 | BI53: 14 | BJ53: 15 | BK53: 16 | BL53: 17 | BN53: =SMALL($BN27:$CB27,BN$1) -> 1 | BO53: =SMALL($BN27:$CB27,BO$1) -> 2 | BP53: =SMALL($BN27:$CB27,BP$1) -> 3 | BQ53: =SMALL($BN27:$CB27,BQ$1) -> 4 | BR53: =SMALL($BN27:$CB27,BR$1) -> 5 | BS53: =SMALL($BN27:$CB27,BS$1) -> 6 | BT53: =SMALL($BN27:$CB27,BT$1) -> 7 | BU53: =SMALL($BN27:$CB27,BU$1) -> 8 | ... CB53: =SMALL($BN27:$CB27,CB$1) -> 25 | CD53: 21
A54: =LOOKUP(Q54,$A$3:$Y$3,$A$4:$Y$4) -> 1 | B54: =LOOKUP(R54,$A$3:$Y$3,$A$4:$Y$4) -> 2 | C54: =LOOKUP(S54,$A$3:$Y$3,$A$4:$Y$4) -> 4 | D54: =LOOKUP(T54,$A$3:$Y$3,$A$4:$Y$4) -> 5 | E54: =LOOKUP(U54,$A$3:$Y$3,$A$4:$Y$4) -> 6 | F54: =LOOKUP(V54,$A$3:$Y$3,$A$4:$Y$4) -> 7 | G54: =LOOKUP(W54,$A$3:$Y$3,$A$4:$Y$4) -> 8 | H54: =LOOKUP(X54,$A$3:$Y$3,$A$4:$Y$4) -> 10 | ... O54: =LOOKUP(AE54,$A$3:$Y$3,$A$4:$Y$4) -> 22 | Q54: 1 | R54: 2 | S54: 4 | T54: 5 | U54: 6 | V54: 7 | W54: 8 | X54: 10 | Y54: 11 | Z54: 12 | AA54: 13 | AB54: 14 | AC54: 15 | AD54: 16 | AE54: 17 | AH54: =LOOKUP(AX54,$A$3:$Y$3,$A$4:$Y$4) -> 1 | AI54: =LOOKUP(AY54,$A$3:$Y$3,$A$4:$Y$4) -> 2 | AJ54: =LOOKUP(AZ54,$A$3:$Y$3,$A$4:$Y$4) -> 3 | AK54: =LOOKUP(BA54,$A$3:$Y$3,$A$4:$Y$4) -> 4 | AL54: =LOOKUP(BB54,$A$3:$Y$3,$A$4:$Y$4) -> 5 | AM54: =LOOKUP(BC54,$A$3:$Y$3,$A$4:$Y$4) -> 6 | AN54: =LOOKUP(BD54,$A$3:$Y$3,$A$4:$Y$4) -> 8 | AO54: =LOOKUP(BE54,$A$3:$Y$3,$A$4:$Y$4) -> 9 | ... AV54: =LOOKUP(BL54,$A$3:$Y$3,$A$4:$Y$4) -> 16 | AX54: 1 | AY54: 2 | AZ54: 3 | BA54: 4 | BB54: 5 | BC54: 6 | BD54: 8 | BE54: 9 | BF54: 10 | BG54: 11 | BH54: 12 | BI54: 13 | BJ54: 14 | BK54: 15 | BL54: 16
A55: =LOOKUP(Q55,$A$3:$Y$3,$A$4:$Y$4) -> 1 | B55: =LOOKUP(R55,$A$3:$Y$3,$A$4:$Y$4) -> 2 | C55: =LOOKUP(S55,$A$3:$Y$3,$A$4:$Y$4) -> 4 | D55: =LOOKUP(T55,$A$3:$Y$3,$A$4:$Y$4) -> 5 | E55: =LOOKUP(U55,$A$3:$Y$3,$A$4:$Y$4) -> 6 | F55: =LOOKUP(V55,$A$3:$Y$3,$A$4:$Y$4) -> 7 | G55: =LOOKUP(W55,$A$3:$Y$3,$A$4:$Y$4) -> 9 | H55: =LOOKUP(X55,$A$3:$Y$3,$A$4:$Y$4) -> 10 | ... O55: =LOOKUP(AE55,$A$3:$Y$3,$A$4:$Y$4) -> 22 | Q55: 1 | R55: 2 | S55: 4 | T55: 5 | U55: 6 | V55: 7 | W55: 9 | X55: 10 | Y55: 11 | Z55: 12 | AA55: 13 | AB55: 14 | AC55: 15 | AD55: 16 | AE55: 17 | AH55: =LOOKUP(AX55,$A$3:$Y$3,$A$4:$Y$4) -> 1 | AI55: =LOOKUP(AY55,$A$3:$Y$3,$A$4:$Y$4) -> 2 | AJ55: =LOOKUP(AZ55,$A$3:$Y$3,$A$4:$Y$4) -> 3 | AK55: =LOOKUP(BA55,$A$3:$Y$3,$A$4:$Y$4) -> 4 | AL55: =LOOKUP(BB55,$A$3:$Y$3,$A$4:$Y$4) -> 5 | AM55: =LOOKUP(BC55,$A$3:$Y$3,$A$4:$Y$4) -> 6 | AN55: =LOOKUP(BD55,$A$3:$Y$3,$A$4:$Y$4) -> 8 | AO55: =LOOKUP(BE55,$A$3:$Y$3,$A$4:$Y$4) -> 9 | ... AV55: =LOOKUP(BL55,$A$3:$Y$3,$A$4:$Y$4) -> 22 | AX55: 1 | AY55: 2 | AZ55: 3 | BA55: 4 | BB55: 5 | BC55: 6 | BD55: 8 | BE55: 9 | BF55: 10 | BG55: 11 | BH55: 12 | BI55: 13 | BJ55: 14 | BK55: 15 | BL55: 17
A56: =LOOKUP(Q56,$A$3:$Y$3,$A$4:$Y$4) -> 1 | B56: =LOOKUP(R56,$A$3:$Y$3,$A$4:$Y$4) -> 2 | C56: =LOOKUP(S56,$A$3:$Y$3,$A$4:$Y$4) -> 4 | D56: =LOOKUP(T56,$A$3:$Y$3,$A$4:$Y$4) -> 5 | E56: =LOOKUP(U56,$A$3:$Y$3,$A$4:$Y$4) -> 6 | F56: =LOOKUP(V56,$A$3:$Y$3,$A$4:$Y$4) -> 8 | G56: =LOOKUP(W56,$A$3:$Y$3,$A$4:$Y$4) -> 9 | H56: =LOOKUP(X56,$A$3:$Y$3,$A$4:$Y$4) -> 10 | ... O56: =LOOKUP(AE56,$A$3:$Y$3,$A$4:$Y$4) -> 22 | Q56: 1 | R56: 2 | S56: 4 | T56: 5 | U56: 6 | V56: 8 | W56: 9 | X56: 10 | Y56: 11 | Z56: 12 | AA56: 13 | AB56: 14 | AC56: 15 | AD56: 16 | AE56: 17 | AH56: =LOOKUP(AX56,$A$3:$Y$3,$A$4:$Y$4) -> 1 | AI56: =LOOKUP(AY56,$A$3:$Y$3,$A$4:$Y$4) -> 2 | AJ56: =LOOKUP(AZ56,$A$3:$Y$3,$A$4:$Y$4) -> 3 | AK56: =LOOKUP(BA56,$A$3:$Y$3,$A$4:$Y$4) -> 4 | AL56: =LOOKUP(BB56,$A$3:$Y$3,$A$4:$Y$4) -> 5 | AM56: =LOOKUP(BC56,$A$3:$Y$3,$A$4:$Y$4) -> 6 | AN56: =LOOKUP(BD56,$A$3:$Y$3,$A$4:$Y$4) -> 8 | AO56: =LOOKUP(BE56,$A$3:$Y$3,$A$4:$Y$4) -> 9 | ... AV56: =LOOKUP(BL56,$A$3:$Y$3,$A$4:$Y$4) -> 22 | AX56: 1 | AY56: 2 | AZ56: 3 | BA56: 4 | BB56: 5 | BC56: 6 | BD56: 8 | BE56: 9 | BF56: 10 | BG56: 11 | BH56: 12 | BI56: 13 | BJ56: 14 | BK56: 16 | BL56: 17 | BN56: 1 | BO56: 2 | BP56: 3 | BQ56: 4 | BR56: 5 | BS56: 6 | BT56: 7 | BU56: 8 | BV56: 9 | BW56: 10 | BX56: 11 | BY56: 12 | BZ56: 13 | CA56: 14 | CB56: 15 | CC56: 16 | CD56: 17 | CE56: 18 | CF56: 19 | CG56: 20 | CH56: 21 | CI56: 22 | CJ56: 23 | CK56: 24 | CL56: 25
A57: =LOOKUP(Q57,$A$3:$Y$3,$A$4:$Y$4) -> 1 | B57: =LOOKUP(R57,$A$3:$Y$3,$A$4:$Y$4) -> 2 | C57: =LOOKUP(S57,$A$3:$Y$3,$A$4:$Y$4) -> 4 | D57: =LOOKUP(T57,$A$3:$Y$3,$A$4:$Y$4) -> 5 | E57: =LOOKUP(U57,$A$3:$Y$3,$A$4:$Y$4) -> 7 | F57: =LOOKUP(V57,$A$3:$Y$3,$A$4:$Y$4) -> 8 | G57: =LOOKUP(W57,$A$3:$Y$3,$A$4:$Y$4) -> 9 | H57: =LOOKUP(X57,$A$3:$Y$3,$A$4:$Y$4) -> 10 | ... O57: =LOOKUP(AE57,$A$3:$Y$3,$A$4:$Y$4) -> 22 | Q57: 1 | R57: 2 | S57: 4 | T57: 5 | U57: 7 | V57: 8 | W57: 9 | X57: 10 | Y57: 11 | Z57: 12 | AA57: 13 | AB57: 14 | AC57: 15 | AD57: 16 | AE57: 17 | AH57: =LOOKUP(AX57,$A$3:$Y$3,$A$4:$Y$4) -> 1 | AI57: =LOOKUP(AY57,$A$3:$Y$3,$A$4:$Y$4) -> 2 | AJ57: =LOOKUP(AZ57,$A$3:$Y$3,$A$4:$Y$4) -> 3 | AK57: =LOOKUP(BA57,$A$3:$Y$3,$A$4:$Y$4) -> 4 | AL57: =LOOKUP(BB57,$A$3:$Y$3,$A$4:$Y$4) -> 5 | AM57: =LOOKUP(BC57,$A$3:$Y$3,$A$4:$Y$4) -> 6 | AN57: =LOOKUP(BD57,$A$3:$Y$3,$A$4:$Y$4) -> 8 | AO57: =LOOKUP(BE57,$A$3:$Y$3,$A$4:$Y$4) -> 9 | ... AV57: =LOOKUP(BL57,$A$3:$Y$3,$A$4:$Y$4) -> 22 | AX57: 1 | AY57: 2 | AZ57: 3 | BA57: 4 | BB57: 5 | BC57: 6 | BD57: 8 | BE57: 9 | BF57: 10 | BG57: 11 | BH57: 12 | BI57: 13 | BJ57: 15 | BK57: 16 | BL57: 17 | BN57: =BN30 -> 1 | BO57: =BO30 -> 2 | BP57: =BP30 -> 3 | BQ57: =BQ30 -> 4 | BR57: =BR30 -> 5 | BS57: =BS30 -> 6 | BT57: =BT30 -> 7 | BU57: =BU30 -> 8 | ... BW57: =BW30 -> 10
A58: =LOOKUP(Q58,$A$3:$Y$3,$A$4:$Y$4) -> 1 | B58: =LOOKUP(R58,$A$3:$Y$3,$A$4:$Y$4) -> 2 | C58: =LOOKUP(S58,$A$3:$Y$3,$A$4:$Y$4) -> 4 | D58: =LOOKUP(T58,$A$3:$Y$3,$A$4:$Y$4) -> 6 | E58: =LOOKUP(U58,$A$3:$Y$3,$A$4:$Y$4) -> 7 | F58: =LOOKUP(V58,$A$3:$Y$3,$A$4:$Y$4) -> 8 | G58: =LOOKUP(W58,$A$3:$Y$3,$A$4:$Y$4) -> 9 | H58: =LOOKUP(X58,$A$3:$Y$3,$A$4:$Y$4) -> 10 | ... O58: =LOOKUP(AE58,$A$3:$Y$3,$A$4:$Y$4) -> 22 | Q58: 1 | R58: 2 | S58: 4 | T58: 6 | U58: 7 | V58: 8 | W58: 9 | X58: 10 | Y58: 11 | Z58: 12 | AA58: 13 | AB58: 14 | AC58: 15 | AD58: 16 | AE58: 17 | AH58: =LOOKUP(AX58,$A$3:$Y$3,$A$4:$Y$4) -> 1 | AI58: =LOOKUP(AY58,$A$3:$Y$3,$A$4:$Y$4) -> 2 | AJ58: =LOOKUP(AZ58,$A$3:$Y$3,$A$4:$Y$4) -> 3 | AK58: =LOOKUP(BA58,$A$3:$Y$3,$A$4:$Y$4) -> 4 | AL58: =LOOKUP(BB58,$A$3:$Y$3,$A$4:$Y$4) -> 5 | AM58: =LOOKUP(BC58,$A$3:$Y$3,$A$4:$Y$4) -> 6 | AN58: =LOOKUP(BD58,$A$3:$Y$3,$A$4:$Y$4) -> 8 | AO58: =LOOKUP(BE58,$A$3:$Y$3,$A$4:$Y$4) -> 9 | ... AV58: =LOOKUP(BL58,$A$3:$Y$3,$A$4:$Y$4) -> 22 | AX58: 1 | AY58: 2 | AZ58: 3 | BA58: 4 | BB58: 5 | BC58: 6 | BD58: 8 | BE58: 9 | BF58: 10 | BG58: 11 | BH58: 12 | BI58: 14 | BJ58: 15 | BK58: 16 | BL58: 17 | BN58: =BN2 -> 1 | BO58: =BO2 -> 2 | BP58: =BP2 -> 3 | BQ58: =BQ2 -> 4 | BR58: =BR2 -> 5 | BS58: =BS2 -> 6 | BT58: =BT2 -> 7 | BU58: =BU2 -> 8 | ... BW58: =BW2 -> 10
A59: =LOOKUP(Q59,$A$3:$Y$3,$A$4:$Y$4) -> 1 | B59: =LOOKUP(R59,$A$3:$Y$3,$A$4:$Y$4) -> 2 | C59: =LOOKUP(S59,$A$3:$Y$3,$A$4:$Y$4) -> 5 | D59: =LOOKUP(T59,$A$3:$Y$3,$A$4:$Y$4) -> 6 | E59: =LOOKUP(U59,$A$3:$Y$3,$A$4:$Y$4) -> 7 | F59: =LOOKUP(V59,$A$3:$Y$3,$A$4:$Y$4) -> 8 | G59: =LOOKUP(W59,$A$3:$Y$3,$A$4:$Y$4) -> 9 | H59: =LOOKUP(X59,$A$3:$Y$3,$A$4:$Y$4) -> 10 | ... O59: =LOOKUP(AE59,$A$3:$Y$3,$A$4:$Y$4) -> 22 | Q59: 1 | R59: 2 | S59: 5 | T59: 6 | U59: 7 | V59: 8 | W59: 9 | X59: 10 | Y59: 11 | Z59: 12 | AA59: 13 | AB59: 14 | AC59: 15 | AD59: 16 | AE59: 17 | AH59: =LOOKUP(AX59,$A$3:$Y$3,$A$4:$Y$4) -> 1 | AI59: =LOOKUP(AY59,$A$3:$Y$3,$A$4:$Y$4) -> 2 | AJ59: =LOOKUP(AZ59,$A$3:$Y$3,$A$4:$Y$4) -> 3 | AK59: =LOOKUP(BA59,$A$3:$Y$3,$A$4:$Y$4) -> 4 | AL59: =LOOKUP(BB59,$A$3:$Y$3,$A$4:$Y$4) -> 5 | AM59: =LOOKUP(BC59,$A$3:$Y$3,$A$4:$Y$4) -> 6 | AN59: =LOOKUP(BD59,$A$3:$Y$3,$A$4:$Y$4) -> 8 | AO59: =LOOKUP(BE59,$A$3:$Y$3,$A$4:$Y$4) -> 9 | ... AV59: =LOOKUP(BL59,$A$3:$Y$3,$A$4:$Y$4) -> 22 | AX59: 1 | AY59: 2 | AZ59: 3 | BA59: 4 | BB59: 5 | BC59: 6 | BD59: 8 | BE59: 9 | BF59: 10 | BG59: 11 | BH59: 13 | BI59: 14 | BJ59: 15 | BK59: 16 | BL59: 17 | BN59: =COUNTIF($BN$56:$CL$57,BN56) -> 2 | BO59: =COUNTIF($BN$56:$CL$57,BO56) -> 2 | BP59: =COUNTIF($BN$56:$CL$57,BP56) -> 2 | BQ59: =COUNTIF($BN$56:$CL$57,BQ56) -> 2 | BR59: =COUNTIF($BN$56:$CL$57,BR56) -> 2 | BS59: =COUNTIF($BN$56:$CL$57,BS56) -> 2 | BT59: =COUNTIF($BN$56:$CL$57,BT56) -> 2 | BU59: =COUNTIF($BN$56:$CL$57,BU56) -> 2 | ... CL59: =COUNTIF($BN$56:$CL$57,CL56) -> 1
A60: =LOOKUP(Q60,$A$3:$Y$3,$A$4:$Y$4) -> 1 | B60: =LOOKUP(R60,$A$3:$Y$3,$A$4:$Y$4) -> 3 | C60: =LOOKUP(S60,$A$3:$Y$3,$A$4:$Y$4) -> 4 | D60: =LOOKUP(T60,$A$3:$Y$3,$A$4:$Y$4) -> 5 | E60: =LOOKUP(U60,$A$3:$Y$3,$A$4:$Y$4) -> 6 | F60: =LOOKUP(V60,$A$3:$Y$3,$A$4:$Y$4) -> 7 | G60: =LOOKUP(W60,$A$3:$Y$3,$A$4:$Y$4) -> 8 | H60: =LOOKUP(X60,$A$3:$Y$3,$A$4:$Y$4) -> 9 | ... O60: =LOOKUP(AE60,$A$3:$Y$3,$A$4:$Y$4) -> 22 | Q60: 1 | R60: 3 | S60: 4 | T60: 5 | U60: 6 | V60: 7 | W60: 8 | X60: 9 | Y60: 10 | Z60: 11 | AA60: 12 | AB60: 13 | AC60: 14 | AD60: 15 | AE60: 17 | AH60: =LOOKUP(AX60,$A$3:$Y$3,$A$4:$Y$4) -> 1 | AI60: =LOOKUP(AY60,$A$3:$Y$3,$A$4:$Y$4) -> 2 | AJ60: =LOOKUP(AZ60,$A$3:$Y$3,$A$4:$Y$4) -> 3 | AK60: =LOOKUP(BA60,$A$3:$Y$3,$A$4:$Y$4) -> 4 | AL60: =LOOKUP(BB60,$A$3:$Y$3,$A$4:$Y$4) -> 5 | AM60: =LOOKUP(BC60,$A$3:$Y$3,$A$4:$Y$4) -> 6 | AN60: =LOOKUP(BD60,$A$3:$Y$3,$A$4:$Y$4) -> 8 | AO60: =LOOKUP(BE60,$A$3:$Y$3,$A$4:$Y$4) -> 9 | ... AV60: =LOOKUP(BL60,$A$3:$Y$3,$A$4:$Y$4) -> 22 | AX60: 1 | AY60: 2 | AZ60: 3 | BA60: 4 | BB60: 5 | BC60: 6 | BD60: 8 | BE60: 9 | BF60: 10 | BG60: 12 | BH60: 13 | BI60: 14 | BJ60: 15 | BK60: 16 | BL60: 17 | BN60: =IF(BN59=1,BN56,0) -> 0 | BO60: =IF(BO59=1,BO56,0) -> 0 | BP60: =IF(BP59=1,BP56,0) -> 0 | BQ60: =IF(BQ59=1,BQ56,0) -> 0 | BR60: =IF(BR59=1,BR56,0) -> 0 | BS60: =IF(BS59=1,BS56,0) -> 0 | BT60: =IF(BT59=1,BT56,0) -> 0 | BU60: =IF(BU59=1,BU56,0) -> 0 | ... CL60: =IF(CL59=1,CL56,0) -> 25
A61: =LOOKUP(Q61,$A$3:$Y$3,$A$4:$Y$4) -> 1 | B61: =LOOKUP(R61,$A$3:$Y$3,$A$4:$Y$4) -> 3 | C61: =LOOKUP(S61,$A$3:$Y$3,$A$4:$Y$4) -> 4 | D61: =LOOKUP(T61,$A$3:$Y$3,$A$4:$Y$4) -> 5 | E61: =LOOKUP(U61,$A$3:$Y$3,$A$4:$Y$4) -> 6 | F61: =LOOKUP(V61,$A$3:$Y$3,$A$4:$Y$4) -> 7 | G61: =LOOKUP(W61,$A$3:$Y$3,$A$4:$Y$4) -> 8 | H61: =LOOKUP(X61,$A$3:$Y$3,$A$4:$Y$4) -> 9 | ... O61: =LOOKUP(AE61,$A$3:$Y$3,$A$4:$Y$4) -> 22 | Q61: 1 | R61: 3 | S61: 4 | T61: 5 | U61: 6 | V61: 7 | W61: 8 | X61: 9 | Y61: 10 | Z61: 12 | AA61: 13 | AB61: 14 | AC61: 15 | AD61: 16 | AE61: 17 | AH61: =LOOKUP(AX61,$A$3:$Y$3,$A$4:$Y$4) -> 1 | AI61: =LOOKUP(AY61,$A$3:$Y$3,$A$4:$Y$4) -> 2 | AJ61: =LOOKUP(AZ61,$A$3:$Y$3,$A$4:$Y$4) -> 3 | AK61: =LOOKUP(BA61,$A$3:$Y$3,$A$4:$Y$4) -> 4 | AL61: =LOOKUP(BB61,$A$3:$Y$3,$A$4:$Y$4) -> 5 | AM61: =LOOKUP(BC61,$A$3:$Y$3,$A$4:$Y$4) -> 6 | AN61: =LOOKUP(BD61,$A$3:$Y$3,$A$4:$Y$4) -> 8 | AO61: =LOOKUP(BE61,$A$3:$Y$3,$A$4:$Y$4) -> 9 | ... AV61: =LOOKUP(BL61,$A$3:$Y$3,$A$4:$Y$4) -> 22 | AX61: 1 | AY61: 2 | AZ61: 3 | BA61: 4 | BB61: 5 | BC61: 6 | BD61: 8 | BE61: 9 | BF61: 11 | BG61: 12 | BH61: 13 | BI61: 14 | BJ61: 15 | BK61: 16 | BL61: 17 | BN61: =LARGE($BN$60:$CL$60,BN56) -> 25 | BO61: =LARGE($BN$60:$CL$60,BO56) -> 24 | BP61: =LARGE($BN$60:$CL$60,BP56) -> 23 | BQ61: =LARGE($BN$60:$CL$60,BQ56) -> 22 | BR61: =LARGE($BN$60:$CL$60,BR56) -> 21 | BS61: =LARGE($BN$60:$CL$60,BS56) -> 20 | BT61: =LARGE($BN$60:$CL$60,BT56) -> 19 | BU61: =LARGE($BN$60:$CL$60,BU56) -> 18 | ... CL61: =LARGE($BN$60:$CL$60,CL56) -> 0
A62: =LOOKUP(Q62,$A$3:$Y$3,$A$4:$Y$4) -> 1 | B62: =LOOKUP(R62,$A$3:$Y$3,$A$4:$Y$4) -> 3 | C62: =LOOKUP(S62,$A$3:$Y$3,$A$4:$Y$4) -> 4 | D62: =LOOKUP(T62,$A$3:$Y$3,$A$4:$Y$4) -> 5 | E62: =LOOKUP(U62,$A$3:$Y$3,$A$4:$Y$4) -> 6 | F62: =LOOKUP(V62,$A$3:$Y$3,$A$4:$Y$4) -> 7 | G62: =LOOKUP(W62,$A$3:$Y$3,$A$4:$Y$4) -> 8 | H62: =LOOKUP(X62,$A$3:$Y$3,$A$4:$Y$4) -> 10 | ... O62: =LOOKUP(AE62,$A$3:$Y$3,$A$4:$Y$4) -> 22 | Q62: 1 | R62: 3 | S62: 4 | T62: 5 | U62: 6 | V62: 7 | W62: 8 | X62: 10 | Y62: 11 | Z62: 12 | AA62: 13 | AB62: 14 | AC62: 15 | AD62: 16 | AE62: 17 | AH62: =LOOKUP(AX62,$A$3:$Y$3,$A$4:$Y$4) -> 1 | AI62: =LOOKUP(AY62,$A$3:$Y$3,$A$4:$Y$4) -> 2 | AJ62: =LOOKUP(AZ62,$A$3:$Y$3,$A$4:$Y$4) -> 3 | AK62: =LOOKUP(BA62,$A$3:$Y$3,$A$4:$Y$4) -> 4 | AL62: =LOOKUP(BB62,$A$3:$Y$3,$A$4:$Y$4) -> 5 | AM62: =LOOKUP(BC62,$A$3:$Y$3,$A$4:$Y$4) -> 6 | AN62: =LOOKUP(BD62,$A$3:$Y$3,$A$4:$Y$4) -> 8 | AO62: =LOOKUP(BE62,$A$3:$Y$3,$A$4:$Y$4) -> 10 | ... AV62: =LOOKUP(BL62,$A$3:$Y$3,$A$4:$Y$4) -> 22 | AX62: 1 | AY62: 2 | AZ62: 3 | BA62: 4 | BB62: 5 | BC62: 6 | BD62: 8 | BE62: 10 | BF62: 11 | BG62: 12 | BH62: 13 | BI62: 14 | BJ62: 15 | BK62: 16 | BL62: 17 | BN62: =SMALL($BN$61:$CI$61,BN56) -> 0 | BO62: =SMALL($BN$61:$CI$61,BO56) -> 0 | BP62: =SMALL($BN$61:$CI$61,BP56) -> 0 | BQ62: =SMALL($BN$61:$CI$61,BQ56) -> 0 | BR62: =SMALL($BN$61:$CI$61,BR56) -> 0 | BS62: =SMALL($BN$61:$CI$61,BS56) -> 0 | BT62: =SMALL($BN$61:$CI$61,BT56) -> 0 | BU62: =SMALL($BN$61:$CI$61,BU56) -> 11 | ... CI62: =SMALL($BN$61:$CI$61,CI56) -> 25
A63: =LOOKUP(Q63,$A$3:$Y$3,$A$4:$Y$4) -> 1 | B63: =LOOKUP(R63,$A$3:$Y$3,$A$4:$Y$4) -> 3 | C63: =LOOKUP(S63,$A$3:$Y$3,$A$4:$Y$4) -> 4 | D63: =LOOKUP(T63,$A$3:$Y$3,$A$4:$Y$4) -> 5 | E63: =LOOKUP(U63,$A$3:$Y$3,$A$4:$Y$4) -> 6 | F63: =LOOKUP(V63,$A$3:$Y$3,$A$4:$Y$4) -> 7 | G63: =LOOKUP(W63,$A$3:$Y$3,$A$4:$Y$4) -> 9 | H63: =LOOKUP(X63,$A$3:$Y$3,$A$4:$Y$4) -> 10 | ... O63: =LOOKUP(AE63,$A$3:$Y$3,$A$4:$Y$4) -> 22 | Q63: 1 | R63: 3 | S63: 4 | T63: 5 | U63: 6 | V63: 7 | W63: 9 | X63: 10 | Y63: 11 | Z63: 12 | AA63: 13 | AB63: 14 | AC63: 15 | AD63: 16 | AE63: 17 | AH63: =LOOKUP(AX63,$A$3:$Y$3,$A$4:$Y$4) -> 1 | AI63: =LOOKUP(AY63,$A$3:$Y$3,$A$4:$Y$4) -> 2 | AJ63: =LOOKUP(AZ63,$A$3:$Y$3,$A$4:$Y$4) -> 3 | AK63: =LOOKUP(BA63,$A$3:$Y$3,$A$4:$Y$4) -> 4 | AL63: =LOOKUP(BB63,$A$3:$Y$3,$A$4:$Y$4) -> 5 | AM63: =LOOKUP(BC63,$A$3:$Y$3,$A$4:$Y$4) -> 6 | AN63: =LOOKUP(BD63,$A$3:$Y$3,$A$4:$Y$4) -> 9 | AO63: =LOOKUP(BE63,$A$3:$Y$3,$A$4:$Y$4) -> 10 | ... AV63: =LOOKUP(BL63,$A$3:$Y$3,$A$4:$Y$4) -> 22 | AX63: 1 | AY63: 2 | AZ63: 3 | BA63: 4 | BB63: 5 | BC63: 6 | BD63: 9 | BE63: 10 | BF63: 11 | BG63: 12 | BH63: 13 | BI63: 14 | BJ63: 15 | BK63: 16 | BL63: 17 | BN63: =CE2 -> 17 | BO63: =CF2 -> 18 | BP63: =CG2 -> 19 | BQ63: =CH2 -> 20 | BR63: =CI2 -> 21 | BS63: =CJ2 -> 22 | BT63: =CK2 -> 23 | BU63: =CL2 -> 24
A64: =LOOKUP(Q64,$A$3:$Y$3,$A$4:$Y$4) -> 1 | B64: =LOOKUP(R64,$A$3:$Y$3,$A$4:$Y$4) -> 3 | C64: =LOOKUP(S64,$A$3:$Y$3,$A$4:$Y$4) -> 4 | D64: =LOOKUP(T64,$A$3:$Y$3,$A$4:$Y$4) -> 5 | E64: =LOOKUP(U64,$A$3:$Y$3,$A$4:$Y$4) -> 6 | F64: =LOOKUP(V64,$A$3:$Y$3,$A$4:$Y$4) -> 8 | G64: =LOOKUP(W64,$A$3:$Y$3,$A$4:$Y$4) -> 9 | H64: =LOOKUP(X64,$A$3:$Y$3,$A$4:$Y$4) -> 10 | ... O64: =LOOKUP(AE64,$A$3:$Y$3,$A$4:$Y$4) -> 22 | Q64: 1 | R64: 3 | S64: 4 | T64: 5 | U64: 6 | V64: 8 | W64: 9 | X64: 10 | Y64: 11 | Z64: 12 | AA64: 13 | AB64: 14 | AC64: 15 | AD64: 16 | AE64: 17 | AH64: =LOOKUP(AX64,$A$3:$Y$3,$A$4:$Y$4) -> 1 | AI64: =LOOKUP(AY64,$A$3:$Y$3,$A$4:$Y$4) -> 2 | AJ64: =LOOKUP(AZ64,$A$3:$Y$3,$A$4:$Y$4) -> 3 | AK64: =LOOKUP(BA64,$A$3:$Y$3,$A$4:$Y$4) -> 4 | AL64: =LOOKUP(BB64,$A$3:$Y$3,$A$4:$Y$4) -> 5 | AM64: =LOOKUP(BC64,$A$3:$Y$3,$A$4:$Y$4) -> 7 | AN64: =LOOKUP(BD64,$A$3:$Y$3,$A$4:$Y$4) -> 8 | AO64: =LOOKUP(BE64,$A$3:$Y$3,$A$4:$Y$4) -> 9 | ... AV64: =LOOKUP(BL64,$A$3:$Y$3,$A$4:$Y$4) -> 16 | AX64: 1 | AY64: 2 | AZ64: 3 | BA64: 4 | BB64: 5 | BC64: 7 | BD64: 8 | BE64: 9 | BF64: 10 | BG64: 11 | BH64: 12 | BI64: 13 | BJ64: 14 | BK64: 15 | BL64: 16 | BN64: =COUNTIF($BN$62:$CL$63,BN62) -> 7 | BO64: =COUNTIF($BN$62:$CL$63,BO62) -> 7 | BP64: =COUNTIF($BN$62:$CL$63,BP62) -> 7 | BQ64: =COUNTIF($BN$62:$CL$63,BQ62) -> 7 | BR64: =COUNTIF($BN$62:$CL$63,BR62) -> 7 | BS64: =COUNTIF($BN$62:$CL$63,BS62) -> 7 | BT64: =COUNTIF($BN$62:$CL$63,BT62) -> 7 | BU64: =COUNTIF($BN$62:$CL$63,BU62) -> 1 | ... CI64: =COUNTIF($BN$62:$CL$63,CI62) -> 1
A65: =LOOKUP(Q65,$A$3:$Y$3,$A$4:$Y$4) -> 1 | B65: =LOOKUP(R65,$A$3:$Y$3,$A$4:$Y$4) -> 3 | C65: =LOOKUP(S65,$A$3:$Y$3,$A$4:$Y$4) -> 4 | D65: =LOOKUP(T65,$A$3:$Y$3,$A$4:$Y$4) -> 5 | E65: =LOOKUP(U65,$A$3:$Y$3,$A$4:$Y$4) -> 7 | F65: =LOOKUP(V65,$A$3:$Y$3,$A$4:$Y$4) -> 8 | G65: =LOOKUP(W65,$A$3:$Y$3,$A$4:$Y$4) -> 9 | H65: =LOOKUP(X65,$A$3:$Y$3,$A$4:$Y$4) -> 10 | ... O65: =LOOKUP(AE65,$A$3:$Y$3,$A$4:$Y$4) -> 22 | Q65: 1 | R65: 3 | S65: 4 | T65: 5 | U65: 7 | V65: 8 | W65: 9 | X65: 10 | Y65: 11 | Z65: 12 | AA65: 13 | AB65: 14 | AC65: 15 | AD65: 16 | AE65: 17 | AH65: =LOOKUP(AX65,$A$3:$Y$3,$A$4:$Y$4) -> 1 | AI65: =LOOKUP(AY65,$A$3:$Y$3,$A$4:$Y$4) -> 2 | AJ65: =LOOKUP(AZ65,$A$3:$Y$3,$A$4:$Y$4) -> 3 | AK65: =LOOKUP(BA65,$A$3:$Y$3,$A$4:$Y$4) -> 4 | AL65: =LOOKUP(BB65,$A$3:$Y$3,$A$4:$Y$4) -> 5 | AM65: =LOOKUP(BC65,$A$3:$Y$3,$A$4:$Y$4) -> 7 | AN65: =LOOKUP(BD65,$A$3:$Y$3,$A$4:$Y$4) -> 8 | AO65: =LOOKUP(BE65,$A$3:$Y$3,$A$4:$Y$4) -> 9 | ... AV65: =LOOKUP(BL65,$A$3:$Y$3,$A$4:$Y$4) -> 22 | AX65: 1 | AY65: 2 | AZ65: 3 | BA65: 4 | BB65: 5 | BC65: 7 | BD65: 8 | BE65: 9 | BF65: 10 | BG65: 11 | BH65: 12 | BI65: 13 | BJ65: 14 | BK65: 15 | BL65: 17 | BN65: =IF(BN64=1,BN62,0) -> 0 | BO65: =IF(BO64=1,BO62,0) -> 0 | BP65: =IF(BP64=1,BP62,0) -> 0 | BQ65: =IF(BQ64=1,BQ62,0) -> 0 | BR65: =IF(BR64=1,BR62,0) -> 0 | BS65: =IF(BS64=1,BS62,0) -> 0 | BT65: =IF(BT64=1,BT62,0) -> 0 | BU65: =IF(BU64=1,BU62,0) -> 11 | ... CI65: =IF(CI64=1,CI62,0) -> 25
A66: =LOOKUP(Q66,$A$3:$Y$3,$A$4:$Y$4) -> 1 | B66: =LOOKUP(R66,$A$3:$Y$3,$A$4:$Y$4) -> 3 | C66: =LOOKUP(S66,$A$3:$Y$3,$A$4:$Y$4) -> 4 | D66: =LOOKUP(T66,$A$3:$Y$3,$A$4:$Y$4) -> 6 | E66: =LOOKUP(U66,$A$3:$Y$3,$A$4:$Y$4) -> 7 | F66: =LOOKUP(V66,$A$3:$Y$3,$A$4:$Y$4) -> 8 | G66: =LOOKUP(W66,$A$3:$Y$3,$A$4:$Y$4) -> 9 | H66: =LOOKUP(X66,$A$3:$Y$3,$A$4:$Y$4) -> 10 | ... O66: =LOOKUP(AE66,$A$3:$Y$3,$A$4:$Y$4) -> 22 | Q66: 1 | R66: 3 | S66: 4 | T66: 6 | U66: 7 | V66: 8 | W66: 9 | X66: 10 | Y66: 11 | Z66: 12 | AA66: 13 | AB66: 14 | AC66: 15 | AD66: 16 | AE66: 17 | AH66: =LOOKUP(AX66,$A$3:$Y$3,$A$4:$Y$4) -> 1 | AI66: =LOOKUP(AY66,$A$3:$Y$3,$A$4:$Y$4) -> 2 | AJ66: =LOOKUP(AZ66,$A$3:$Y$3,$A$4:$Y$4) -> 3 | AK66: =LOOKUP(BA66,$A$3:$Y$3,$A$4:$Y$4) -> 4 | AL66: =LOOKUP(BB66,$A$3:$Y$3,$A$4:$Y$4) -> 5 | AM66: =LOOKUP(BC66,$A$3:$Y$3,$A$4:$Y$4) -> 7 | AN66: =LOOKUP(BD66,$A$3:$Y$3,$A$4:$Y$4) -> 8 | AO66: =LOOKUP(BE66,$A$3:$Y$3,$A$4:$Y$4) -> 9 | ... AV66: =LOOKUP(BL66,$A$3:$Y$3,$A$4:$Y$4) -> 22 | AX66: 1 | AY66: 2 | AZ66: 3 | BA66: 4 | BB66: 5 | BC66: 7 | BD66: 8 | BE66: 9 | BF66: 10 | BG66: 11 | BH66: 12 | BI66: 13 | BJ66: 14 | BK66: 16 | BL66: 17 | BN66: =LARGE($BN$65:$CI$65,BN56) -> 25 | BO66: =LARGE($BN$65:$CI$65,BO56) -> 16 | BP66: =LARGE($BN$65:$CI$65,BP56) -> 15 | BQ66: =LARGE($BN$65:$CI$65,BQ56) -> 14 | BR66: =LARGE($BN$65:$CI$65,BR56) -> 13 | BS66: =LARGE($BN$65:$CI$65,BS56) -> 12 | BT66: =LARGE($BN$65:$CI$65,BT56) -> 11 | BU66: =LARGE($BN$65:$CI$65,BU56) -> 0 | ... CE66: =LARGE($BN$65:$CI$65,CE56) -> 0
A67: =LOOKUP(Q67,$A$3:$Y$3,$A$4:$Y$4) -> 1 | B67: =LOOKUP(R67,$A$3:$Y$3,$A$4:$Y$4) -> 3 | C67: =LOOKUP(S67,$A$3:$Y$3,$A$4:$Y$4) -> 5 | D67: =LOOKUP(T67,$A$3:$Y$3,$A$4:$Y$4) -> 6 | E67: =LOOKUP(U67,$A$3:$Y$3,$A$4:$Y$4) -> 7 | F67: =LOOKUP(V67,$A$3:$Y$3,$A$4:$Y$4) -> 8 | G67: =LOOKUP(W67,$A$3:$Y$3,$A$4:$Y$4) -> 9 | H67: =LOOKUP(X67,$A$3:$Y$3,$A$4:$Y$4) -> 10 | ... O67: =LOOKUP(AE67,$A$3:$Y$3,$A$4:$Y$4) -> 22 | Q67: 1 | R67: 3 | S67: 5 | T67: 6 | U67: 7 | V67: 8 | W67: 9 | X67: 10 | Y67: 11 | Z67: 12 | AA67: 13 | AB67: 14 | AC67: 15 | AD67: 16 | AE67: 17 | AH67: =LOOKUP(AX67,$A$3:$Y$3,$A$4:$Y$4) -> 1 | AI67: =LOOKUP(AY67,$A$3:$Y$3,$A$4:$Y$4) -> 2 | AJ67: =LOOKUP(AZ67,$A$3:$Y$3,$A$4:$Y$4) -> 3 | AK67: =LOOKUP(BA67,$A$3:$Y$3,$A$4:$Y$4) -> 4 | AL67: =LOOKUP(BB67,$A$3:$Y$3,$A$4:$Y$4) -> 5 | AM67: =LOOKUP(BC67,$A$3:$Y$3,$A$4:$Y$4) -> 7 | AN67: =LOOKUP(BD67,$A$3:$Y$3,$A$4:$Y$4) -> 8 | AO67: =LOOKUP(BE67,$A$3:$Y$3,$A$4:$Y$4) -> 9 | ... AV67: =LOOKUP(BL67,$A$3:$Y$3,$A$4:$Y$4) -> 22 | AX67: 1 | AY67: 2 | AZ67: 3 | BA67: 4 | BB67: 5 | BC67: 7 | BD67: 8 | BE67: 9 | BF67: 10 | BG67: 11 | BH67: 12 | BI67: 13 | BJ67: 15 | BK67: 16 | BL67: 17 | BN67: =SMALL($BN$66:$CE$66,BN56) -> 0 | BO67: =SMALL($BN$66:$CE$66,BO56) -> 0 | BP67: =SMALL($BN$66:$CE$66,BP56) -> 0 | BQ67: =SMALL($BN$66:$CE$66,BQ56) -> 0 | BR67: =SMALL($BN$66:$CE$66,BR56) -> 0 | BS67: =SMALL($BN$66:$CE$66,BS56) -> 0 | BT67: =SMALL($BN$66:$CE$66,BT56) -> 0 | BU67: =SMALL($BN$66:$CE$66,BU56) -> 0 | ... CE67: =SMALL($BN$66:$CE$66,CE56) -> 25
A68: =LOOKUP(Q68,$A$3:$Y$3,$A$4:$Y$4) -> 1 | B68: =LOOKUP(R68,$A$3:$Y$3,$A$4:$Y$4) -> 4 | C68: =LOOKUP(S68,$A$3:$Y$3,$A$4:$Y$4) -> 5 | D68: =LOOKUP(T68,$A$3:$Y$3,$A$4:$Y$4) -> 6 | E68: =LOOKUP(U68,$A$3:$Y$3,$A$4:$Y$4) -> 7 | F68: =LOOKUP(V68,$A$3:$Y$3,$A$4:$Y$4) -> 8 | G68: =LOOKUP(W68,$A$3:$Y$3,$A$4:$Y$4) -> 9 | H68: =LOOKUP(X68,$A$3:$Y$3,$A$4:$Y$4) -> 10 | ... O68: =LOOKUP(AE68,$A$3:$Y$3,$A$4:$Y$4) -> 22 | Q68: 1 | R68: 4 | S68: 5 | T68: 6 | U68: 7 | V68: 8 | W68: 9 | X68: 10 | Y68: 11 | Z68: 12 | AA68: 13 | AB68: 14 | AC68: 15 | AD68: 16 | AE68: 17 | AH68: =LOOKUP(AX68,$A$3:$Y$3,$A$4:$Y$4) -> 1 | AI68: =LOOKUP(AY68,$A$3:$Y$3,$A$4:$Y$4) -> 2 | AJ68: =LOOKUP(AZ68,$A$3:$Y$3,$A$4:$Y$4) -> 3 | AK68: =LOOKUP(BA68,$A$3:$Y$3,$A$4:$Y$4) -> 4 | AL68: =LOOKUP(BB68,$A$3:$Y$3,$A$4:$Y$4) -> 5 | AM68: =LOOKUP(BC68,$A$3:$Y$3,$A$4:$Y$4) -> 7 | AN68: =LOOKUP(BD68,$A$3:$Y$3,$A$4:$Y$4) -> 8 | AO68: =LOOKUP(BE68,$A$3:$Y$3,$A$4:$Y$4) -> 9 | ... AV68: =LOOKUP(BL68,$A$3:$Y$3,$A$4:$Y$4) -> 22 | AX68: 1 | AY68: 2 | AZ68: 3 | BA68: 4 | BB68: 5 | BC68: 7 | BD68: 8 | BE68: 9 | BF68: 10 | BG68: 11 | BH68: 12 | BI68: 14 | BJ68: 15 | BK68: 16 | BL68: 17
A69: =LOOKUP(Q69,$A$3:$Y$3,$A$4:$Y$4) -> 2 | B69: =LOOKUP(R69,$A$3:$Y$3,$A$4:$Y$4) -> 3 | C69: =LOOKUP(S69,$A$3:$Y$3,$A$4:$Y$4) -> 4 | D69: =LOOKUP(T69,$A$3:$Y$3,$A$4:$Y$4) -> 5 | E69: =LOOKUP(U69,$A$3:$Y$3,$A$4:$Y$4) -> 6 | F69: =LOOKUP(V69,$A$3:$Y$3,$A$4:$Y$4) -> 7 | G69: =LOOKUP(W69,$A$3:$Y$3,$A$4:$Y$4) -> 8 | H69: =LOOKUP(X69,$A$3:$Y$3,$A$4:$Y$4) -> 9 | ... O69: =LOOKUP(AE69,$A$3:$Y$3,$A$4:$Y$4) -> 22 | Q69: 2 | R69: 3 | S69: 4 | T69: 5 | U69: 6 | V69: 7 | W69: 8 | X69: 9 | Y69: 10 | Z69: 11 | AA69: 12 | AB69: 13 | AC69: 14 | AD69: 15 | AE69: 17 | AH69: =LOOKUP(AX69,$A$3:$Y$3,$A$4:$Y$4) -> 1 | AI69: =LOOKUP(AY69,$A$3:$Y$3,$A$4:$Y$4) -> 2 | AJ69: =LOOKUP(AZ69,$A$3:$Y$3,$A$4:$Y$4) -> 3 | AK69: =LOOKUP(BA69,$A$3:$Y$3,$A$4:$Y$4) -> 4 | AL69: =LOOKUP(BB69,$A$3:$Y$3,$A$4:$Y$4) -> 5 | AM69: =LOOKUP(BC69,$A$3:$Y$3,$A$4:$Y$4) -> 7 | AN69: =LOOKUP(BD69,$A$3:$Y$3,$A$4:$Y$4) -> 8 | AO69: =LOOKUP(BE69,$A$3:$Y$3,$A$4:$Y$4) -> 9 | ... AV69: =LOOKUP(BL69,$A$3:$Y$3,$A$4:$Y$4) -> 22 | AX69: 1 | AY69: 2 | AZ69: 3 | BA69: 4 | BB69: 5 | BC69: 7 | BD69: 8 | BE69: 9 | BF69: 10 | BG69: 11 | BH69: 13 | BI69: 14 | BJ69: 15 | BK69: 16 | BL69: 17
A70: =LOOKUP(Q70,$A$3:$Y$3,$A$4:$Y$4) -> 2 | B70: =LOOKUP(R70,$A$3:$Y$3,$A$4:$Y$4) -> 3 | C70: =LOOKUP(S70,$A$3:$Y$3,$A$4:$Y$4) -> 4 | D70: =LOOKUP(T70,$A$3:$Y$3,$A$4:$Y$4) -> 5 | E70: =LOOKUP(U70,$A$3:$Y$3,$A$4:$Y$4) -> 6 | F70: =LOOKUP(V70,$A$3:$Y$3,$A$4:$Y$4) -> 7 | G70: =LOOKUP(W70,$A$3:$Y$3,$A$4:$Y$4) -> 8 | H70: =LOOKUP(X70,$A$3:$Y$3,$A$4:$Y$4) -> 9 | ... O70: =LOOKUP(AE70,$A$3:$Y$3,$A$4:$Y$4) -> 22 | Q70: 2 | R70: 3 | S70: 4 | T70: 5 | U70: 6 | V70: 7 | W70: 8 | X70: 9 | Y70: 10 | Z70: 12 | AA70: 13 | AB70: 14 | AC70: 15 | AD70: 16 | AE70: 17 | AH70: =LOOKUP(AX70,$A$3:$Y$3,$A$4:$Y$4) -> 1 | AI70: =LOOKUP(AY70,$A$3:$Y$3,$A$4:$Y$4) -> 2 | AJ70: =LOOKUP(AZ70,$A$3:$Y$3,$A$4:$Y$4) -> 3 | AK70: =LOOKUP(BA70,$A$3:$Y$3,$A$4:$Y$4) -> 4 | AL70: =LOOKUP(BB70,$A$3:$Y$3,$A$4:$Y$4) -> 5 | AM70: =LOOKUP(BC70,$A$3:$Y$3,$A$4:$Y$4) -> 7 | AN70: =LOOKUP(BD70,$A$3:$Y$3,$A$4:$Y$4) -> 8 | AO70: =LOOKUP(BE70,$A$3:$Y$3,$A$4:$Y$4) -> 9 | ... AV70: =LOOKUP(BL70,$A$3:$Y$3,$A$4:$Y$4) -> 22 | AX70: 1 | AY70: 2 | AZ70: 3 | BA70: 4 | BB70: 5 | BC70: 7 | BD70: 8 | BE70: 9 | BF70: 10 | BG70: 12 | BH70: 13 | BI70: 14 | BJ70: 15 | BK70: 16 | BL70: 17
A71: =LOOKUP(Q71,$A$3:$Y$3,$A$4:$Y$4) -> 2 | B71: =LOOKUP(R71,$A$3:$Y$3,$A$4:$Y$4) -> 3 | C71: =LOOKUP(S71,$A$3:$Y$3,$A$4:$Y$4) -> 4 | D71: =LOOKUP(T71,$A$3:$Y$3,$A$4:$Y$4) -> 5 | E71: =LOOKUP(U71,$A$3:$Y$3,$A$4:$Y$4) -> 6 | F71: =LOOKUP(V71,$A$3:$Y$3,$A$4:$Y$4) -> 7 | G71: =LOOKUP(W71,$A$3:$Y$3,$A$4:$Y$4) -> 8 | H71: =LOOKUP(X71,$A$3:$Y$3,$A$4:$Y$4) -> 10 | ... O71: =LOOKUP(AE71,$A$3:$Y$3,$A$4:$Y$4) -> 22 | Q71: 2 | R71: 3 | S71: 4 | T71: 5 | U71: 6 | V71: 7 | W71: 8 | X71: 10 | Y71: 11 | Z71: 12 | AA71: 13 | AB71: 14 | AC71: 15 | AD71: 16 | AE71: 17 | AH71: =LOOKUP(AX71,$A$3:$Y$3,$A$4:$Y$4) -> 1 | AI71: =LOOKUP(AY71,$A$3:$Y$3,$A$4:$Y$4) -> 2 | AJ71: =LOOKUP(AZ71,$A$3:$Y$3,$A$4:$Y$4) -> 3 | AK71: =LOOKUP(BA71,$A$3:$Y$3,$A$4:$Y$4) -> 4 | AL71: =LOOKUP(BB71,$A$3:$Y$3,$A$4:$Y$4) -> 5 | AM71: =LOOKUP(BC71,$A$3:$Y$3,$A$4:$Y$4) -> 7 | AN71: =LOOKUP(BD71,$A$3:$Y$3,$A$4:$Y$4) -> 8 | AO71: =LOOKUP(BE71,$A$3:$Y$3,$A$4:$Y$4) -> 9 | ... AV71: =LOOKUP(BL71,$A$3:$Y$3,$A$4:$Y$4) -> 22 | AX71: 1 | AY71: 2 | AZ71: 3 | BA71: 4 | BB71: 5 | BC71: 7 | BD71: 8 | BE71: 9 | BF71: 11 | BG71: 12 | BH71: 13 | BI71: 14 | BJ71: 15 | BK71: 16 | BL71: 17
A72: =LOOKUP(Q72,$A$3:$Y$3,$A$4:$Y$4) -> 2 | B72: =LOOKUP(R72,$A$3:$Y$3,$A$4:$Y$4) -> 3 | C72: =LOOKUP(S72,$A$3:$Y$3,$A$4:$Y$4) -> 4 | D72: =LOOKUP(T72,$A$3:$Y$3,$A$4:$Y$4) -> 5 | E72: =LOOKUP(U72,$A$3:$Y$3,$A$4:$Y$4) -> 6 | F72: =LOOKUP(V72,$A$3:$Y$3,$A$4:$Y$4) -> 7 | G72: =LOOKUP(W72,$A$3:$Y$3,$A$4:$Y$4) -> 9 | H72: =LOOKUP(X72,$A$3:$Y$3,$A$4:$Y$4) -> 10 | ... O72: =LOOKUP(AE72,$A$3:$Y$3,$A$4:$Y$4) -> 22 | Q72: 2 | R72: 3 | S72: 4 | T72: 5 | U72: 6 | V72: 7 | W72: 9 | X72: 10 | Y72: 11 | Z72: 12 | AA72: 13 | AB72: 14 | AC72: 15 | AD72: 16 | AE72: 17 | AH72: =LOOKUP(AX72,$A$3:$Y$3,$A$4:$Y$4) -> 1 | AI72: =LOOKUP(AY72,$A$3:$Y$3,$A$4:$Y$4) -> 2 | AJ72: =LOOKUP(AZ72,$A$3:$Y$3,$A$4:$Y$4) -> 3 | AK72: =LOOKUP(BA72,$A$3:$Y$3,$A$4:$Y$4) -> 4 | AL72: =LOOKUP(BB72,$A$3:$Y$3,$A$4:$Y$4) -> 5 | AM72: =LOOKUP(BC72,$A$3:$Y$3,$A$4:$Y$4) -> 7 | AN72: =LOOKUP(BD72,$A$3:$Y$3,$A$4:$Y$4) -> 8 | AO72: =LOOKUP(BE72,$A$3:$Y$3,$A$4:$Y$4) -> 10 | ... AV72: =LOOKUP(BL72,$A$3:$Y$3,$A$4:$Y$4) -> 22 | AX72: 1 | AY72: 2 | AZ72: 3 | BA72: 4 | BB72: 5 | BC72: 7 | BD72: 8 | BE72: 10 | BF72: 11 | BG72: 12 | BH72: 13 | BI72: 14 | BJ72: 15 | BK72: 16 | BL72: 17 | BN72: 1 | BO72: 2 | BP72: 3 | BQ72: 4 | BR72: 5 | BS72: 6 | BT72: 7 | BU72: 8 | BV72: 9 | BW72: 10 | BX72: 11 | BY72: 12 | BZ72: 13 | CA72: 14 | CB72: 15 | CC72: 16 | CD72: 17
A73: =LOOKUP(Q73,$A$3:$Y$3,$A$4:$Y$4) -> 2 | B73: =LOOKUP(R73,$A$3:$Y$3,$A$4:$Y$4) -> 3 | C73: =LOOKUP(S73,$A$3:$Y$3,$A$4:$Y$4) -> 4 | D73: =LOOKUP(T73,$A$3:$Y$3,$A$4:$Y$4) -> 5 | E73: =LOOKUP(U73,$A$3:$Y$3,$A$4:$Y$4) -> 6 | F73: =LOOKUP(V73,$A$3:$Y$3,$A$4:$Y$4) -> 8 | G73: =LOOKUP(W73,$A$3:$Y$3,$A$4:$Y$4) -> 9 | H73: =LOOKUP(X73,$A$3:$Y$3,$A$4:$Y$4) -> 10 | ... O73: =LOOKUP(AE73,$A$3:$Y$3,$A$4:$Y$4) -> 22 | Q73: 2 | R73: 3 | S73: 4 | T73: 5 | U73: 6 | V73: 8 | W73: 9 | X73: 10 | Y73: 11 | Z73: 12 | AA73: 13 | AB73: 14 | AC73: 15 | AD73: 16 | AE73: 17 | AH73: =LOOKUP(AX73,$A$3:$Y$3,$A$4:$Y$4) -> 1 | AI73: =LOOKUP(AY73,$A$3:$Y$3,$A$4:$Y$4) -> 2 | AJ73: =LOOKUP(AZ73,$A$3:$Y$3,$A$4:$Y$4) -> 3 | AK73: =LOOKUP(BA73,$A$3:$Y$3,$A$4:$Y$4) -> 4 | AL73: =LOOKUP(BB73,$A$3:$Y$3,$A$4:$Y$4) -> 5 | AM73: =LOOKUP(BC73,$A$3:$Y$3,$A$4:$Y$4) -> 7 | AN73: =LOOKUP(BD73,$A$3:$Y$3,$A$4:$Y$4) -> 9 | AO73: =LOOKUP(BE73,$A$3:$Y$3,$A$4:$Y$4) -> 10 | ... AV73: =LOOKUP(BL73,$A$3:$Y$3,$A$4:$Y$4) -> 22 | AX73: 1 | AY73: 2 | AZ73: 3 | BA73: 4 | BB73: 5 | BC73: 7 | BD73: 9 | BE73: 10 | BF73: 11 | BG73: 12 | BH73: 13 | BI73: 14 | BJ73: 15 | BK73: 16 | BL73: 17 | BN73: =Início!B17 -> 1 | BO73: =Início!C17 -> 2 | BP73: =Início!D17 -> 3 | BQ73: =Início!E17 -> 4 | BR73: =Início!F17 -> 5 | BS73: =Início!G17 -> 6 | BT73: =Início!H17 -> 7 | BU73: =Início!I17 -> 8 | ... CD73: =Início!R17 -> 22
A74: =LOOKUP(Q74,$A$3:$Y$3,$A$4:$Y$4) -> 2 | B74: =LOOKUP(R74,$A$3:$Y$3,$A$4:$Y$4) -> 3 | C74: =LOOKUP(S74,$A$3:$Y$3,$A$4:$Y$4) -> 4 | D74: =LOOKUP(T74,$A$3:$Y$3,$A$4:$Y$4) -> 5 | E74: =LOOKUP(U74,$A$3:$Y$3,$A$4:$Y$4) -> 7 | F74: =LOOKUP(V74,$A$3:$Y$3,$A$4:$Y$4) -> 8 | G74: =LOOKUP(W74,$A$3:$Y$3,$A$4:$Y$4) -> 9 | H74: =LOOKUP(X74,$A$3:$Y$3,$A$4:$Y$4) -> 10 | ... O74: =LOOKUP(AE74,$A$3:$Y$3,$A$4:$Y$4) -> 22 | Q74: 2 | R74: 3 | S74: 4 | T74: 5 | U74: 7 | V74: 8 | W74: 9 | X74: 10 | Y74: 11 | Z74: 12 | AA74: 13 | AB74: 14 | AC74: 15 | AD74: 16 | AE74: 17 | AH74: =LOOKUP(AX74,$A$3:$Y$3,$A$4:$Y$4) -> 1 | AI74: =LOOKUP(AY74,$A$3:$Y$3,$A$4:$Y$4) -> 2 | AJ74: =LOOKUP(AZ74,$A$3:$Y$3,$A$4:$Y$4) -> 3 | AK74: =LOOKUP(BA74,$A$3:$Y$3,$A$4:$Y$4) -> 4 | AL74: =LOOKUP(BB74,$A$3:$Y$3,$A$4:$Y$4) -> 5 | AM74: =LOOKUP(BC74,$A$3:$Y$3,$A$4:$Y$4) -> 8 | AN74: =LOOKUP(BD74,$A$3:$Y$3,$A$4:$Y$4) -> 9 | AO74: =LOOKUP(BE74,$A$3:$Y$3,$A$4:$Y$4) -> 10 | ... AV74: =LOOKUP(BL74,$A$3:$Y$3,$A$4:$Y$4) -> 22 | AX74: 1 | AY74: 2 | AZ74: 3 | BA74: 4 | BB74: 5 | BC74: 8 | BD74: 9 | BE74: 10 | BF74: 11 | BG74: 12 | BH74: 13 | BI74: 14 | BJ74: 15 | BK74: 16 | BL74: 17
A75: =LOOKUP(Q75,$A$3:$Y$3,$A$4:$Y$4) -> 2 | B75: =LOOKUP(R75,$A$3:$Y$3,$A$4:$Y$4) -> 3 | C75: =LOOKUP(S75,$A$3:$Y$3,$A$4:$Y$4) -> 4 | D75: =LOOKUP(T75,$A$3:$Y$3,$A$4:$Y$4) -> 6 | E75: =LOOKUP(U75,$A$3:$Y$3,$A$4:$Y$4) -> 7 | F75: =LOOKUP(V75,$A$3:$Y$3,$A$4:$Y$4) -> 8 | G75: =LOOKUP(W75,$A$3:$Y$3,$A$4:$Y$4) -> 9 | H75: =LOOKUP(X75,$A$3:$Y$3,$A$4:$Y$4) -> 10 | ... O75: =LOOKUP(AE75,$A$3:$Y$3,$A$4:$Y$4) -> 22 | Q75: 2 | R75: 3 | S75: 4 | T75: 6 | U75: 7 | V75: 8 | W75: 9 | X75: 10 | Y75: 11 | Z75: 12 | AA75: 13 | AB75: 14 | AC75: 15 | AD75: 16 | AE75: 17 | AH75: =LOOKUP(AX75,$A$3:$Y$3,$A$4:$Y$4) -> 1 | AI75: =LOOKUP(AY75,$A$3:$Y$3,$A$4:$Y$4) -> 2 | AJ75: =LOOKUP(AZ75,$A$3:$Y$3,$A$4:$Y$4) -> 3 | AK75: =LOOKUP(BA75,$A$3:$Y$3,$A$4:$Y$4) -> 4 | AL75: =LOOKUP(BB75,$A$3:$Y$3,$A$4:$Y$4) -> 6 | AM75: =LOOKUP(BC75,$A$3:$Y$3,$A$4:$Y$4) -> 7 | AN75: =LOOKUP(BD75,$A$3:$Y$3,$A$4:$Y$4) -> 8 | AO75: =LOOKUP(BE75,$A$3:$Y$3,$A$4:$Y$4) -> 9 | ... AV75: =LOOKUP(BL75,$A$3:$Y$3,$A$4:$Y$4) -> 16 | AX75: 1 | AY75: 2 | AZ75: 3 | BA75: 4 | BB75: 6 | BC75: 7 | BD75: 8 | BE75: 9 | BF75: 10 | BG75: 11 | BH75: 12 | BI75: 13 | BJ75: 14 | BK75: 15 | BL75: 16
A76: =LOOKUP(Q76,$A$3:$Y$3,$A$4:$Y$4) -> 2 | B76: =LOOKUP(R76,$A$3:$Y$3,$A$4:$Y$4) -> 3 | C76: =LOOKUP(S76,$A$3:$Y$3,$A$4:$Y$4) -> 5 | D76: =LOOKUP(T76,$A$3:$Y$3,$A$4:$Y$4) -> 6 | E76: =LOOKUP(U76,$A$3:$Y$3,$A$4:$Y$4) -> 7 | F76: =LOOKUP(V76,$A$3:$Y$3,$A$4:$Y$4) -> 8 | G76: =LOOKUP(W76,$A$3:$Y$3,$A$4:$Y$4) -> 9 | H76: =LOOKUP(X76,$A$3:$Y$3,$A$4:$Y$4) -> 10 | ... O76: =LOOKUP(AE76,$A$3:$Y$3,$A$4:$Y$4) -> 22 | Q76: 2 | R76: 3 | S76: 5 | T76: 6 | U76: 7 | V76: 8 | W76: 9 | X76: 10 | Y76: 11 | Z76: 12 | AA76: 13 | AB76: 14 | AC76: 15 | AD76: 16 | AE76: 17 | AH76: =LOOKUP(AX76,$A$3:$Y$3,$A$4:$Y$4) -> 1 | AI76: =LOOKUP(AY76,$A$3:$Y$3,$A$4:$Y$4) -> 2 | AJ76: =LOOKUP(AZ76,$A$3:$Y$3,$A$4:$Y$4) -> 3 | AK76: =LOOKUP(BA76,$A$3:$Y$3,$A$4:$Y$4) -> 4 | AL76: =LOOKUP(BB76,$A$3:$Y$3,$A$4:$Y$4) -> 6 | AM76: =LOOKUP(BC76,$A$3:$Y$3,$A$4:$Y$4) -> 7 | AN76: =LOOKUP(BD76,$A$3:$Y$3,$A$4:$Y$4) -> 8 | AO76: =LOOKUP(BE76,$A$3:$Y$3,$A$4:$Y$4) -> 9 | ... AV76: =LOOKUP(BL76,$A$3:$Y$3,$A$4:$Y$4) -> 22 | AX76: 1 | AY76: 2 | AZ76: 3 | BA76: 4 | BB76: 6 | BC76: 7 | BD76: 8 | BE76: 9 | BF76: 10 | BG76: 11 | BH76: 12 | BI76: 13 | BJ76: 14 | BK76: 15 | BL76: 17
A77: =LOOKUP(Q77,$A$3:$Y$3,$A$4:$Y$4) -> 2 | B77: =LOOKUP(R77,$A$3:$Y$3,$A$4:$Y$4) -> 4 | C77: =LOOKUP(S77,$A$3:$Y$3,$A$4:$Y$4) -> 5 | D77: =LOOKUP(T77,$A$3:$Y$3,$A$4:$Y$4) -> 6 | E77: =LOOKUP(U77,$A$3:$Y$3,$A$4:$Y$4) -> 7 | F77: =LOOKUP(V77,$A$3:$Y$3,$A$4:$Y$4) -> 8 | G77: =LOOKUP(W77,$A$3:$Y$3,$A$4:$Y$4) -> 9 | H77: =LOOKUP(X77,$A$3:$Y$3,$A$4:$Y$4) -> 10 | ... O77: =LOOKUP(AE77,$A$3:$Y$3,$A$4:$Y$4) -> 22 | Q77: 2 | R77: 4 | S77: 5 | T77: 6 | U77: 7 | V77: 8 | W77: 9 | X77: 10 | Y77: 11 | Z77: 12 | AA77: 13 | AB77: 14 | AC77: 15 | AD77: 16 | AE77: 17 | AH77: =LOOKUP(AX77,$A$3:$Y$3,$A$4:$Y$4) -> 1 | AI77: =LOOKUP(AY77,$A$3:$Y$3,$A$4:$Y$4) -> 2 | AJ77: =LOOKUP(AZ77,$A$3:$Y$3,$A$4:$Y$4) -> 3 | AK77: =LOOKUP(BA77,$A$3:$Y$3,$A$4:$Y$4) -> 4 | AL77: =LOOKUP(BB77,$A$3:$Y$3,$A$4:$Y$4) -> 6 | AM77: =LOOKUP(BC77,$A$3:$Y$3,$A$4:$Y$4) -> 7 | AN77: =LOOKUP(BD77,$A$3:$Y$3,$A$4:$Y$4) -> 8 | AO77: =LOOKUP(BE77,$A$3:$Y$3,$A$4:$Y$4) -> 9 | ... AV77: =LOOKUP(BL77,$A$3:$Y$3,$A$4:$Y$4) -> 22 | AX77: 1 | AY77: 2 | AZ77: 3 | BA77: 4 | BB77: 6 | BC77: 7 | BD77: 8 | BE77: 9 | BF77: 10 | BG77: 11 | BH77: 12 | BI77: 13 | BJ77: 14 | BK77: 16 | BL77: 17
A78: =LOOKUP(Q78,$A$3:$Y$3,$A$4:$Y$4) -> 3 | B78: =LOOKUP(R78,$A$3:$Y$3,$A$4:$Y$4) -> 4 | C78: =LOOKUP(S78,$A$3:$Y$3,$A$4:$Y$4) -> 5 | D78: =LOOKUP(T78,$A$3:$Y$3,$A$4:$Y$4) -> 6 | E78: =LOOKUP(U78,$A$3:$Y$3,$A$4:$Y$4) -> 7 | F78: =LOOKUP(V78,$A$3:$Y$3,$A$4:$Y$4) -> 8 | G78: =LOOKUP(W78,$A$3:$Y$3,$A$4:$Y$4) -> 9 | H78: =LOOKUP(X78,$A$3:$Y$3,$A$4:$Y$4) -> 10 | ... O78: =LOOKUP(AE78,$A$3:$Y$3,$A$4:$Y$4) -> 22 | Q78: 3 | R78: 4 | S78: 5 | T78: 6 | U78: 7 | V78: 8 | W78: 9 | X78: 10 | Y78: 11 | Z78: 12 | AA78: 13 | AB78: 14 | AC78: 15 | AD78: 16 | AE78: 17 | AH78: =LOOKUP(AX78,$A$3:$Y$3,$A$4:$Y$4) -> 1 | AI78: =LOOKUP(AY78,$A$3:$Y$3,$A$4:$Y$4) -> 2 | AJ78: =LOOKUP(AZ78,$A$3:$Y$3,$A$4:$Y$4) -> 3 | AK78: =LOOKUP(BA78,$A$3:$Y$3,$A$4:$Y$4) -> 4 | AL78: =LOOKUP(BB78,$A$3:$Y$3,$A$4:$Y$4) -> 6 | AM78: =LOOKUP(BC78,$A$3:$Y$3,$A$4:$Y$4) -> 7 | AN78: =LOOKUP(BD78,$A$3:$Y$3,$A$4:$Y$4) -> 8 | AO78: =LOOKUP(BE78,$A$3:$Y$3,$A$4:$Y$4) -> 9 | ... AV78: =LOOKUP(BL78,$A$3:$Y$3,$A$4:$Y$4) -> 22 | AX78: 1 | AY78: 2 | AZ78: 3 | BA78: 4 | BB78: 6 | BC78: 7 | BD78: 8 | BE78: 9 | BF78: 10 | BG78: 11 | BH78: 12 | BI78: 13 | BJ78: 15 | BK78: 16 | BL78: 17 | BN78: =LOOKUP(CD78,$BN$72:$CL$72,$BN$73:$CR$73) -> 1 | BO78: =LOOKUP(CE78,$BN$72:$CL$72,$BN$73:$CR$73) -> 2 | BP78: =LOOKUP(CF78,$BN$72:$CL$72,$BN$73:$CR$73) -> 3 | BQ78: =LOOKUP(CG78,$BN$72:$CL$72,$BN$73:$CR$73) -> 4 | BR78: =LOOKUP(CH78,$BN$72:$CL$72,$BN$73:$CR$73) -> 5 | BS78: =LOOKUP(CI78,$BN$72:$CL$72,$BN$73:$CR$73) -> 6 | BT78: =LOOKUP(CJ78,$BN$72:$CL$72,$BN$73:$CR$73) -> 7 | BU78: =LOOKUP(CK78,$BN$72:$CL$72,$BN$73:$CR$73) -> 8 | ... CB78: =LOOKUP(CR78,$BN$72:$CL$72,$BN$73:$CR$73) -> 16 | CD78: 1 | CE78: 2 | CF78: 3 | CG78: 4 | CH78: 5 | CI78: 6 | CJ78: 7 | CK78: 8 | CL78: 9 | CM78: 10 | CN78: 11 | CO78: 12 | CP78: 14 | CQ78: 15 | CR78: 16
AH79: =LOOKUP(AX79,$A$3:$Y$3,$A$4:$Y$4) -> 1 | AI79: =LOOKUP(AY79,$A$3:$Y$3,$A$4:$Y$4) -> 2 | AJ79: =LOOKUP(AZ79,$A$3:$Y$3,$A$4:$Y$4) -> 3 | AK79: =LOOKUP(BA79,$A$3:$Y$3,$A$4:$Y$4) -> 4 | AL79: =LOOKUP(BB79,$A$3:$Y$3,$A$4:$Y$4) -> 6 | AM79: =LOOKUP(BC79,$A$3:$Y$3,$A$4:$Y$4) -> 7 | AN79: =LOOKUP(BD79,$A$3:$Y$3,$A$4:$Y$4) -> 8 | AO79: =LOOKUP(BE79,$A$3:$Y$3,$A$4:$Y$4) -> 9 | ... AV79: =LOOKUP(BL79,$A$3:$Y$3,$A$4:$Y$4) -> 22 | AX79: 1 | AY79: 2 | AZ79: 3 | BA79: 4 | BB79: 6 | BC79: 7 | BD79: 8 | BE79: 9 | BF79: 10 | BG79: 11 | BH79: 12 | BI79: 14 | BJ79: 15 | BK79: 16 | BL79: 17 | BN79: =LOOKUP(CD79,$BN$72:$CL$72,$BN$73:$CR$73) -> 1 | BO79: =LOOKUP(CE79,$BN$72:$CL$72,$BN$73:$CR$73) -> 2 | BP79: =LOOKUP(CF79,$BN$72:$CL$72,$BN$73:$CR$73) -> 3 | BQ79: =LOOKUP(CG79,$BN$72:$CL$72,$BN$73:$CR$73) -> 4 | BR79: =LOOKUP(CH79,$BN$72:$CL$72,$BN$73:$CR$73) -> 5 | BS79: =LOOKUP(CI79,$BN$72:$CL$72,$BN$73:$CR$73) -> 6 | BT79: =LOOKUP(CJ79,$BN$72:$CL$72,$BN$73:$CR$73) -> 7 | BU79: =LOOKUP(CK79,$BN$72:$CL$72,$BN$73:$CR$73) -> 8 | ... CB79: =LOOKUP(CR79,$BN$72:$CL$72,$BN$73:$CR$73) -> 22 | CD79: 1 | CE79: 2 | CF79: 3 | CG79: 4 | CH79: 5 | CI79: 6 | CJ79: 7 | CK79: 8 | CL79: 9 | CM79: 10 | CN79: 13 | CO79: 14 | CP79: 15 | CQ79: 16 | CR79: 17
AH80: =LOOKUP(AX80,$A$3:$Y$3,$A$4:$Y$4) -> 1 | AI80: =LOOKUP(AY80,$A$3:$Y$3,$A$4:$Y$4) -> 2 | AJ80: =LOOKUP(AZ80,$A$3:$Y$3,$A$4:$Y$4) -> 3 | AK80: =LOOKUP(BA80,$A$3:$Y$3,$A$4:$Y$4) -> 4 | AL80: =LOOKUP(BB80,$A$3:$Y$3,$A$4:$Y$4) -> 6 | AM80: =LOOKUP(BC80,$A$3:$Y$3,$A$4:$Y$4) -> 7 | AN80: =LOOKUP(BD80,$A$3:$Y$3,$A$4:$Y$4) -> 8 | AO80: =LOOKUP(BE80,$A$3:$Y$3,$A$4:$Y$4) -> 9 | ... AV80: =LOOKUP(BL80,$A$3:$Y$3,$A$4:$Y$4) -> 22 | AX80: 1 | AY80: 2 | AZ80: 3 | BA80: 4 | BB80: 6 | BC80: 7 | BD80: 8 | BE80: 9 | BF80: 10 | BG80: 11 | BH80: 13 | BI80: 14 | BJ80: 15 | BK80: 16 | BL80: 17 | BN80: =LOOKUP(CD80,$BN$72:$CL$72,$BN$73:$CR$73) -> 1 | BO80: =LOOKUP(CE80,$BN$72:$CL$72,$BN$73:$CR$73) -> 2 | BP80: =LOOKUP(CF80,$BN$72:$CL$72,$BN$73:$CR$73) -> 3 | BQ80: =LOOKUP(CG80,$BN$72:$CL$72,$BN$73:$CR$73) -> 4 | BR80: =LOOKUP(CH80,$BN$72:$CL$72,$BN$73:$CR$73) -> 5 | BS80: =LOOKUP(CI80,$BN$72:$CL$72,$BN$73:$CR$73) -> 6 | BT80: =LOOKUP(CJ80,$BN$72:$CL$72,$BN$73:$CR$73) -> 7 | BU80: =LOOKUP(CK80,$BN$72:$CL$72,$BN$73:$CR$73) -> 8 | ... CB80: =LOOKUP(CR80,$BN$72:$CL$72,$BN$73:$CR$73) -> 22 | CD80: 1 | CE80: 2 | CF80: 3 | CG80: 4 | CH80: 5 | CI80: 6 | CJ80: 7 | CK80: 8 | CL80: 9 | CM80: 11 | CN80: 12 | CO80: 13 | CP80: 14 | CQ80: 16 | CR80: 17
AH81: =LOOKUP(AX81,$A$3:$Y$3,$A$4:$Y$4) -> 1 | AI81: =LOOKUP(AY81,$A$3:$Y$3,$A$4:$Y$4) -> 2 | AJ81: =LOOKUP(AZ81,$A$3:$Y$3,$A$4:$Y$4) -> 3 | AK81: =LOOKUP(BA81,$A$3:$Y$3,$A$4:$Y$4) -> 4 | AL81: =LOOKUP(BB81,$A$3:$Y$3,$A$4:$Y$4) -> 6 | AM81: =LOOKUP(BC81,$A$3:$Y$3,$A$4:$Y$4) -> 7 | AN81: =LOOKUP(BD81,$A$3:$Y$3,$A$4:$Y$4) -> 8 | AO81: =LOOKUP(BE81,$A$3:$Y$3,$A$4:$Y$4) -> 9 | ... AV81: =LOOKUP(BL81,$A$3:$Y$3,$A$4:$Y$4) -> 22 | AX81: 1 | AY81: 2 | AZ81: 3 | BA81: 4 | BB81: 6 | BC81: 7 | BD81: 8 | BE81: 9 | BF81: 10 | BG81: 12 | BH81: 13 | BI81: 14 | BJ81: 15 | BK81: 16 | BL81: 17 | BN81: =LOOKUP(CD81,$BN$72:$CL$72,$BN$73:$CR$73) -> 1 | BO81: =LOOKUP(CE81,$BN$72:$CL$72,$BN$73:$CR$73) -> 2 | BP81: =LOOKUP(CF81,$BN$72:$CL$72,$BN$73:$CR$73) -> 3 | BQ81: =LOOKUP(CG81,$BN$72:$CL$72,$BN$73:$CR$73) -> 4 | BR81: =LOOKUP(CH81,$BN$72:$CL$72,$BN$73:$CR$73) -> 5 | BS81: =LOOKUP(CI81,$BN$72:$CL$72,$BN$73:$CR$73) -> 6 | BT81: =LOOKUP(CJ81,$BN$72:$CL$72,$BN$73:$CR$73) -> 8 | BU81: =LOOKUP(CK81,$BN$72:$CL$72,$BN$73:$CR$73) -> 9 | ... CB81: =LOOKUP(CR81,$BN$72:$CL$72,$BN$73:$CR$73) -> 16 | CD81: 1 | CE81: 2 | CF81: 3 | CG81: 4 | CH81: 5 | CI81: 6 | CJ81: 8 | CK81: 9 | CL81: 10 | CM81: 11 | CN81: 12 | CO81: 13 | CP81: 14 | CQ81: 15 | CR81: 16
AH82: =LOOKUP(AX82,$A$3:$Y$3,$A$4:$Y$4) -> 1 | AI82: =LOOKUP(AY82,$A$3:$Y$3,$A$4:$Y$4) -> 2 | AJ82: =LOOKUP(AZ82,$A$3:$Y$3,$A$4:$Y$4) -> 3 | AK82: =LOOKUP(BA82,$A$3:$Y$3,$A$4:$Y$4) -> 4 | AL82: =LOOKUP(BB82,$A$3:$Y$3,$A$4:$Y$4) -> 6 | AM82: =LOOKUP(BC82,$A$3:$Y$3,$A$4:$Y$4) -> 7 | AN82: =LOOKUP(BD82,$A$3:$Y$3,$A$4:$Y$4) -> 8 | AO82: =LOOKUP(BE82,$A$3:$Y$3,$A$4:$Y$4) -> 9 | ... AV82: =LOOKUP(BL82,$A$3:$Y$3,$A$4:$Y$4) -> 22 | AX82: 1 | AY82: 2 | AZ82: 3 | BA82: 4 | BB82: 6 | BC82: 7 | BD82: 8 | BE82: 9 | BF82: 11 | BG82: 12 | BH82: 13 | BI82: 14 | BJ82: 15 | BK82: 16 | BL82: 17 | BN82: =LOOKUP(CD82,$BN$72:$CL$72,$BN$73:$CR$73) -> 1 | BO82: =LOOKUP(CE82,$BN$72:$CL$72,$BN$73:$CR$73) -> 2 | BP82: =LOOKUP(CF82,$BN$72:$CL$72,$BN$73:$CR$73) -> 3 | BQ82: =LOOKUP(CG82,$BN$72:$CL$72,$BN$73:$CR$73) -> 4 | BR82: =LOOKUP(CH82,$BN$72:$CL$72,$BN$73:$CR$73) -> 7 | BS82: =LOOKUP(CI82,$BN$72:$CL$72,$BN$73:$CR$73) -> 8 | BT82: =LOOKUP(CJ82,$BN$72:$CL$72,$BN$73:$CR$73) -> 9 | BU82: =LOOKUP(CK82,$BN$72:$CL$72,$BN$73:$CR$73) -> 10 | ... CB82: =LOOKUP(CR82,$BN$72:$CL$72,$BN$73:$CR$73) -> 22 | CD82: 1 | CE82: 2 | CF82: 3 | CG82: 4 | CH82: 7 | CI82: 8 | CJ82: 9 | CK82: 10 | CL82: 11 | CM82: 12 | CN82: 13 | CO82: 14 | CP82: 15 | CQ82: 16 | CR82: 17
AH83: =LOOKUP(AX83,$A$3:$Y$3,$A$4:$Y$4) -> 1 | AI83: =LOOKUP(AY83,$A$3:$Y$3,$A$4:$Y$4) -> 2 | AJ83: =LOOKUP(AZ83,$A$3:$Y$3,$A$4:$Y$4) -> 3 | AK83: =LOOKUP(BA83,$A$3:$Y$3,$A$4:$Y$4) -> 4 | AL83: =LOOKUP(BB83,$A$3:$Y$3,$A$4:$Y$4) -> 6 | AM83: =LOOKUP(BC83,$A$3:$Y$3,$A$4:$Y$4) -> 7 | AN83: =LOOKUP(BD83,$A$3:$Y$3,$A$4:$Y$4) -> 8 | AO83: =LOOKUP(BE83,$A$3:$Y$3,$A$4:$Y$4) -> 10 | ... AV83: =LOOKUP(BL83,$A$3:$Y$3,$A$4:$Y$4) -> 22 | AX83: 1 | AY83: 2 | AZ83: 3 | BA83: 4 | BB83: 6 | BC83: 7 | BD83: 8 | BE83: 10 | BF83: 11 | BG83: 12 | BH83: 13 | BI83: 14 | BJ83: 15 | BK83: 16 | BL83: 17 | BN83: =LOOKUP(CD83,$BN$72:$CL$72,$BN$73:$CR$73) -> 1 | BO83: =LOOKUP(CE83,$BN$72:$CL$72,$BN$73:$CR$73) -> 2 | BP83: =LOOKUP(CF83,$BN$72:$CL$72,$BN$73:$CR$73) -> 4 | BQ83: =LOOKUP(CG83,$BN$72:$CL$72,$BN$73:$CR$73) -> 5 | BR83: =LOOKUP(CH83,$BN$72:$CL$72,$BN$73:$CR$73) -> 6 | BS83: =LOOKUP(CI83,$BN$72:$CL$72,$BN$73:$CR$73) -> 7 | BT83: =LOOKUP(CJ83,$BN$72:$CL$72,$BN$73:$CR$73) -> 8 | BU83: =LOOKUP(CK83,$BN$72:$CL$72,$BN$73:$CR$73) -> 10 | ... CB83: =LOOKUP(CR83,$BN$72:$CL$72,$BN$73:$CR$73) -> 22 | CD83: 1 | CE83: 2 | CF83: 4 | CG83: 5 | CH83: 6 | CI83: 7 | CJ83: 8 | CK83: 10 | CL83: 11 | CM83: 12 | CN83: 13 | CO83: 14 | CP83: 15 | CQ83: 16 | CR83: 17
A84: =SMALL($A9:$O9,A$3) -> 1 | B84: =SMALL($A9:$O9,B$3) -> 2 | C84: =SMALL($A9:$O9,C$3) -> 3 | D84: =SMALL($A9:$O9,D$3) -> 4 | E84: =SMALL($A9:$O9,E$3) -> 5 | F84: =SMALL($A9:$O9,F$3) -> 6 | G84: =SMALL($A9:$O9,G$3) -> 7 | H84: =SMALL($A9:$O9,H$3) -> 8 | ... O84: =SMALL($A9:$O9,O$3) -> 16 | R84: 1 | AH84: =LOOKUP(AX84,$A$3:$Y$3,$A$4:$Y$4) -> 1 | AI84: =LOOKUP(AY84,$A$3:$Y$3,$A$4:$Y$4) -> 2 | AJ84: =LOOKUP(AZ84,$A$3:$Y$3,$A$4:$Y$4) -> 3 | AK84: =LOOKUP(BA84,$A$3:$Y$3,$A$4:$Y$4) -> 4 | AL84: =LOOKUP(BB84,$A$3:$Y$3,$A$4:$Y$4) -> 6 | AM84: =LOOKUP(BC84,$A$3:$Y$3,$A$4:$Y$4) -> 7 | AN84: =LOOKUP(BD84,$A$3:$Y$3,$A$4:$Y$4) -> 9 | AO84: =LOOKUP(BE84,$A$3:$Y$3,$A$4:$Y$4) -> 10 | ... AV84: =LOOKUP(BL84,$A$3:$Y$3,$A$4:$Y$4) -> 22 | AX84: 1 | AY84: 2 | AZ84: 3 | BA84: 4 | BB84: 6 | BC84: 7 | BD84: 9 | BE84: 10 | BF84: 11 | BG84: 12 | BH84: 13 | BI84: 14 | BJ84: 15 | BK84: 16 | BL84: 17 | BN84: =LOOKUP(CD84,$BN$72:$CL$72,$BN$73:$CR$73) -> 3 | BO84: =LOOKUP(CE84,$BN$72:$CL$72,$BN$73:$CR$73) -> 4 | BP84: =LOOKUP(CF84,$BN$72:$CL$72,$BN$73:$CR$73) -> 5 | BQ84: =LOOKUP(CG84,$BN$72:$CL$72,$BN$73:$CR$73) -> 6 | BR84: =LOOKUP(CH84,$BN$72:$CL$72,$BN$73:$CR$73) -> 7 | BS84: =LOOKUP(CI84,$BN$72:$CL$72,$BN$73:$CR$73) -> 8 | BT84: =LOOKUP(CJ84,$BN$72:$CL$72,$BN$73:$CR$73) -> 9 | BU84: =LOOKUP(CK84,$BN$72:$CL$72,$BN$73:$CR$73) -> 10 | ... CB84: =LOOKUP(CR84,$BN$72:$CL$72,$BN$73:$CR$73) -> 22 | CD84: 3 | CE84: 4 | CF84: 5 | CG84: 6 | CH84: 7 | CI84: 8 | CJ84: 9 | CK84: 10 | CL84: 11 | CM84: 12 | CN84: 13 | CO84: 14 | CP84: 15 | CQ84: 16 | CR84: 17
A85: =SMALL($A10:$O10,A$3) -> 1 | B85: =SMALL($A10:$O10,B$3) -> 2 | C85: =SMALL($A10:$O10,C$3) -> 3 | D85: =SMALL($A10:$O10,D$3) -> 4 | E85: =SMALL($A10:$O10,E$3) -> 5 | F85: =SMALL($A10:$O10,F$3) -> 6 | G85: =SMALL($A10:$O10,G$3) -> 7 | H85: =SMALL($A10:$O10,H$3) -> 8 | ... O85: =SMALL($A10:$O10,O$3) -> 16 | R85: 2 | AH85: =LOOKUP(AX85,$A$3:$Y$3,$A$4:$Y$4) -> 1 | AI85: =LOOKUP(AY85,$A$3:$Y$3,$A$4:$Y$4) -> 2 | AJ85: =LOOKUP(AZ85,$A$3:$Y$3,$A$4:$Y$4) -> 3 | AK85: =LOOKUP(BA85,$A$3:$Y$3,$A$4:$Y$4) -> 4 | AL85: =LOOKUP(BB85,$A$3:$Y$3,$A$4:$Y$4) -> 6 | AM85: =LOOKUP(BC85,$A$3:$Y$3,$A$4:$Y$4) -> 8 | AN85: =LOOKUP(BD85,$A$3:$Y$3,$A$4:$Y$4) -> 9 | AO85: =LOOKUP(BE85,$A$3:$Y$3,$A$4:$Y$4) -> 10 | ... AV85: =LOOKUP(BL85,$A$3:$Y$3,$A$4:$Y$4) -> 22 | AX85: 1 | AY85: 2 | AZ85: 3 | BA85: 4 | BB85: 6 | BC85: 8 | BD85: 9 | BE85: 10 | BF85: 11 | BG85: 12 | BH85: 13 | BI85: 14 | BJ85: 15 | BK85: 16 | BL85: 17
A86: =SMALL($A11:$O11,A$3) -> 1 | B86: =SMALL($A11:$O11,B$3) -> 2 | C86: =SMALL($A11:$O11,C$3) -> 3 | D86: =SMALL($A11:$O11,D$3) -> 4 | E86: =SMALL($A11:$O11,E$3) -> 5 | F86: =SMALL($A11:$O11,F$3) -> 6 | G86: =SMALL($A11:$O11,G$3) -> 7 | H86: =SMALL($A11:$O11,H$3) -> 8 | ... O86: =SMALL($A11:$O11,O$3) -> 22 | R86: 3 | AH86: =LOOKUP(AX86,$A$3:$Y$3,$A$4:$Y$4) -> 1 | AI86: =LOOKUP(AY86,$A$3:$Y$3,$A$4:$Y$4) -> 2 | AJ86: =LOOKUP(AZ86,$A$3:$Y$3,$A$4:$Y$4) -> 3 | AK86: =LOOKUP(BA86,$A$3:$Y$3,$A$4:$Y$4) -> 4 | AL86: =LOOKUP(BB86,$A$3:$Y$3,$A$4:$Y$4) -> 7 | AM86: =LOOKUP(BC86,$A$3:$Y$3,$A$4:$Y$4) -> 8 | AN86: =LOOKUP(BD86,$A$3:$Y$3,$A$4:$Y$4) -> 9 | AO86: =LOOKUP(BE86,$A$3:$Y$3,$A$4:$Y$4) -> 10 | ... AV86: =LOOKUP(BL86,$A$3:$Y$3,$A$4:$Y$4) -> 22 | AX86: 1 | AY86: 2 | AZ86: 3 | BA86: 4 | BB86: 7 | BC86: 8 | BD86: 9 | BE86: 10 | BF86: 11 | BG86: 12 | BH86: 13 | BI86: 14 | BJ86: 15 | BK86: 16 | BL86: 17
A87: =SMALL($A12:$O12,A$3) -> 1 | B87: =SMALL($A12:$O12,B$3) -> 2 | C87: =SMALL($A12:$O12,C$3) -> 3 | D87: =SMALL($A12:$O12,D$3) -> 4 | E87: =SMALL($A12:$O12,E$3) -> 5 | F87: =SMALL($A12:$O12,F$3) -> 6 | G87: =SMALL($A12:$O12,G$3) -> 7 | H87: =SMALL($A12:$O12,H$3) -> 8 | ... O87: =SMALL($A12:$O12,O$3) -> 16 | R87: 4 | AH87: =LOOKUP(AX87,$A$3:$Y$3,$A$4:$Y$4) -> 1 | AI87: =LOOKUP(AY87,$A$3:$Y$3,$A$4:$Y$4) -> 2 | AJ87: =LOOKUP(AZ87,$A$3:$Y$3,$A$4:$Y$4) -> 3 | AK87: =LOOKUP(BA87,$A$3:$Y$3,$A$4:$Y$4) -> 5 | AL87: =LOOKUP(BB87,$A$3:$Y$3,$A$4:$Y$4) -> 6 | AM87: =LOOKUP(BC87,$A$3:$Y$3,$A$4:$Y$4) -> 7 | AN87: =LOOKUP(BD87,$A$3:$Y$3,$A$4:$Y$4) -> 8 | AO87: =LOOKUP(BE87,$A$3:$Y$3,$A$4:$Y$4) -> 9 | ... AV87: =LOOKUP(BL87,$A$3:$Y$3,$A$4:$Y$4) -> 16 | AX87: 1 | AY87: 2 | AZ87: 3 | BA87: 5 | BB87: 6 | BC87: 7 | BD87: 8 | BE87: 9 | BF87: 10 | BG87: 11 | BH87: 12 | BI87: 13 | BJ87: 14 | BK87: 15 | BL87: 16
A88: =SMALL($A13:$O13,A$3) -> 1 | B88: =SMALL($A13:$O13,B$3) -> 2 | C88: =SMALL($A13:$O13,C$3) -> 3 | D88: =SMALL($A13:$O13,D$3) -> 4 | E88: =SMALL($A13:$O13,E$3) -> 5 | F88: =SMALL($A13:$O13,F$3) -> 6 | G88: =SMALL($A13:$O13,G$3) -> 7 | H88: =SMALL($A13:$O13,H$3) -> 8 | ... O88: =SMALL($A13:$O13,O$3) -> 22 | R88: 5 | AH88: =LOOKUP(AX88,$A$3:$Y$3,$A$4:$Y$4) -> 1 | AI88: =LOOKUP(AY88,$A$3:$Y$3,$A$4:$Y$4) -> 2 | AJ88: =LOOKUP(AZ88,$A$3:$Y$3,$A$4:$Y$4) -> 3 | AK88: =LOOKUP(BA88,$A$3:$Y$3,$A$4:$Y$4) -> 5 | AL88: =LOOKUP(BB88,$A$3:$Y$3,$A$4:$Y$4) -> 6 | AM88: =LOOKUP(BC88,$A$3:$Y$3,$A$4:$Y$4) -> 7 | AN88: =LOOKUP(BD88,$A$3:$Y$3,$A$4:$Y$4) -> 8 | AO88: =LOOKUP(BE88,$A$3:$Y$3,$A$4:$Y$4) -> 9 | ... AV88: =LOOKUP(BL88,$A$3:$Y$3,$A$4:$Y$4) -> 22 | AX88: 1 | AY88: 2 | AZ88: 3 | BA88: 5 | BB88: 6 | BC88: 7 | BD88: 8 | BE88: 9 | BF88: 10 | BG88: 11 | BH88: 12 | BI88: 13 | BJ88: 14 | BK88: 15 | BL88: 17 | BN88: =SMALL($BN78:$CB78,BN$72) -> 1 | BO88: =SMALL($BN78:$CB78,BO$72) -> 2 | BP88: =SMALL($BN78:$CB78,BP$72) -> 3 | BQ88: =SMALL($BN78:$CB78,BQ$72) -> 4 | BR88: =SMALL($BN78:$CB78,BR$72) -> 5 | BS88: =SMALL($BN78:$CB78,BS$72) -> 6 | BT88: =SMALL($BN78:$CB78,BT$72) -> 7 | BU88: =SMALL($BN78:$CB78,BU$72) -> 8 | ... CB88: =SMALL($BN78:$CB78,CB$72) -> 16 | CD88: 1
A89: =SMALL($A14:$O14,A$3) -> 1 | B89: =SMALL($A14:$O14,B$3) -> 2 | C89: =SMALL($A14:$O14,C$3) -> 3 | D89: =SMALL($A14:$O14,D$3) -> 4 | E89: =SMALL($A14:$O14,E$3) -> 5 | F89: =SMALL($A14:$O14,F$3) -> 6 | G89: =SMALL($A14:$O14,G$3) -> 7 | H89: =SMALL($A14:$O14,H$3) -> 8 | ... O89: =SMALL($A14:$O14,O$3) -> 22 | R89: 6 | AH89: =LOOKUP(AX89,$A$3:$Y$3,$A$4:$Y$4) -> 1 | AI89: =LOOKUP(AY89,$A$3:$Y$3,$A$4:$Y$4) -> 2 | AJ89: =LOOKUP(AZ89,$A$3:$Y$3,$A$4:$Y$4) -> 3 | AK89: =LOOKUP(BA89,$A$3:$Y$3,$A$4:$Y$4) -> 5 | AL89: =LOOKUP(BB89,$A$3:$Y$3,$A$4:$Y$4) -> 6 | AM89: =LOOKUP(BC89,$A$3:$Y$3,$A$4:$Y$4) -> 7 | AN89: =LOOKUP(BD89,$A$3:$Y$3,$A$4:$Y$4) -> 8 | AO89: =LOOKUP(BE89,$A$3:$Y$3,$A$4:$Y$4) -> 9 | ... AV89: =LOOKUP(BL89,$A$3:$Y$3,$A$4:$Y$4) -> 22 | AX89: 1 | AY89: 2 | AZ89: 3 | BA89: 5 | BB89: 6 | BC89: 7 | BD89: 8 | BE89: 9 | BF89: 10 | BG89: 11 | BH89: 12 | BI89: 13 | BJ89: 14 | BK89: 16 | BL89: 17 | BN89: =SMALL($BN79:$CB79,BN$72) -> 1 | BO89: =SMALL($BN79:$CB79,BO$72) -> 2 | BP89: =SMALL($BN79:$CB79,BP$72) -> 3 | BQ89: =SMALL($BN79:$CB79,BQ$72) -> 4 | BR89: =SMALL($BN79:$CB79,BR$72) -> 5 | BS89: =SMALL($BN79:$CB79,BS$72) -> 6 | BT89: =SMALL($BN79:$CB79,BT$72) -> 7 | BU89: =SMALL($BN79:$CB79,BU$72) -> 8 | ... CB89: =SMALL($BN79:$CB79,CB$72) -> 22 | CD89: 2
A90: =SMALL($A15:$O15,A$3) -> 1 | B90: =SMALL($A15:$O15,B$3) -> 2 | C90: =SMALL($A15:$O15,C$3) -> 3 | D90: =SMALL($A15:$O15,D$3) -> 4 | E90: =SMALL($A15:$O15,E$3) -> 5 | F90: =SMALL($A15:$O15,F$3) -> 6 | G90: =SMALL($A15:$O15,G$3) -> 7 | H90: =SMALL($A15:$O15,H$3) -> 8 | ... O90: =SMALL($A15:$O15,O$3) -> 16 | R90: 7 | AH90: =LOOKUP(AX90,$A$3:$Y$3,$A$4:$Y$4) -> 1 | AI90: =LOOKUP(AY90,$A$3:$Y$3,$A$4:$Y$4) -> 2 | AJ90: =LOOKUP(AZ90,$A$3:$Y$3,$A$4:$Y$4) -> 3 | AK90: =LOOKUP(BA90,$A$3:$Y$3,$A$4:$Y$4) -> 5 | AL90: =LOOKUP(BB90,$A$3:$Y$3,$A$4:$Y$4) -> 6 | AM90: =LOOKUP(BC90,$A$3:$Y$3,$A$4:$Y$4) -> 7 | AN90: =LOOKUP(BD90,$A$3:$Y$3,$A$4:$Y$4) -> 8 | AO90: =LOOKUP(BE90,$A$3:$Y$3,$A$4:$Y$4) -> 9 | ... AV90: =LOOKUP(BL90,$A$3:$Y$3,$A$4:$Y$4) -> 22 | AX90: 1 | AY90: 2 | AZ90: 3 | BA90: 5 | BB90: 6 | BC90: 7 | BD90: 8 | BE90: 9 | BF90: 10 | BG90: 11 | BH90: 12 | BI90: 13 | BJ90: 15 | BK90: 16 | BL90: 17 | BN90: =SMALL($BN80:$CB80,BN$72) -> 1 | BO90: =SMALL($BN80:$CB80,BO$72) -> 2 | BP90: =SMALL($BN80:$CB80,BP$72) -> 3 | BQ90: =SMALL($BN80:$CB80,BQ$72) -> 4 | BR90: =SMALL($BN80:$CB80,BR$72) -> 5 | BS90: =SMALL($BN80:$CB80,BS$72) -> 6 | BT90: =SMALL($BN80:$CB80,BT$72) -> 7 | BU90: =SMALL($BN80:$CB80,BU$72) -> 8 | ... CB90: =SMALL($BN80:$CB80,CB$72) -> 22 | CD90: 3
A91: =SMALL($A16:$O16,A$3) -> 1 | B91: =SMALL($A16:$O16,B$3) -> 2 | C91: =SMALL($A16:$O16,C$3) -> 3 | D91: =SMALL($A16:$O16,D$3) -> 4 | E91: =SMALL($A16:$O16,E$3) -> 5 | F91: =SMALL($A16:$O16,F$3) -> 6 | G91: =SMALL($A16:$O16,G$3) -> 7 | H91: =SMALL($A16:$O16,H$3) -> 8 | ... O91: =SMALL($A16:$O16,O$3) -> 22 | R91: 8 | AH91: =LOOKUP(AX91,$A$3:$Y$3,$A$4:$Y$4) -> 1 | AI91: =LOOKUP(AY91,$A$3:$Y$3,$A$4:$Y$4) -> 2 | AJ91: =LOOKUP(AZ91,$A$3:$Y$3,$A$4:$Y$4) -> 3 | AK91: =LOOKUP(BA91,$A$3:$Y$3,$A$4:$Y$4) -> 5 | AL91: =LOOKUP(BB91,$A$3:$Y$3,$A$4:$Y$4) -> 6 | AM91: =LOOKUP(BC91,$A$3:$Y$3,$A$4:$Y$4) -> 7 | AN91: =LOOKUP(BD91,$A$3:$Y$3,$A$4:$Y$4) -> 8 | AO91: =LOOKUP(BE91,$A$3:$Y$3,$A$4:$Y$4) -> 9 | ... AV91: =LOOKUP(BL91,$A$3:$Y$3,$A$4:$Y$4) -> 22 | AX91: 1 | AY91: 2 | AZ91: 3 | BA91: 5 | BB91: 6 | BC91: 7 | BD91: 8 | BE91: 9 | BF91: 10 | BG91: 11 | BH91: 12 | BI91: 14 | BJ91: 15 | BK91: 16 | BL91: 17 | BN91: =SMALL($BN81:$CB81,BN$72) -> 1 | BO91: =SMALL($BN81:$CB81,BO$72) -> 2 | BP91: =SMALL($BN81:$CB81,BP$72) -> 3 | BQ91: =SMALL($BN81:$CB81,BQ$72) -> 4 | BR91: =SMALL($BN81:$CB81,BR$72) -> 5 | BS91: =SMALL($BN81:$CB81,BS$72) -> 6 | BT91: =SMALL($BN81:$CB81,BT$72) -> 8 | BU91: =SMALL($BN81:$CB81,BU$72) -> 9 | ... CB91: =SMALL($BN81:$CB81,CB$72) -> 16 | CD91: 4
A92: =SMALL($A17:$O17,A$3) -> 1 | B92: =SMALL($A17:$O17,B$3) -> 2 | C92: =SMALL($A17:$O17,C$3) -> 3 | D92: =SMALL($A17:$O17,D$3) -> 4 | E92: =SMALL($A17:$O17,E$3) -> 5 | F92: =SMALL($A17:$O17,F$3) -> 6 | G92: =SMALL($A17:$O17,G$3) -> 7 | H92: =SMALL($A17:$O17,H$3) -> 8 | ... O92: =SMALL($A17:$O17,O$3) -> 22 | R92: 9 | AH92: =LOOKUP(AX92,$A$3:$Y$3,$A$4:$Y$4) -> 1 | AI92: =LOOKUP(AY92,$A$3:$Y$3,$A$4:$Y$4) -> 2 | AJ92: =LOOKUP(AZ92,$A$3:$Y$3,$A$4:$Y$4) -> 3 | AK92: =LOOKUP(BA92,$A$3:$Y$3,$A$4:$Y$4) -> 5 | AL92: =LOOKUP(BB92,$A$3:$Y$3,$A$4:$Y$4) -> 6 | AM92: =LOOKUP(BC92,$A$3:$Y$3,$A$4:$Y$4) -> 7 | AN92: =LOOKUP(BD92,$A$3:$Y$3,$A$4:$Y$4) -> 8 | AO92: =LOOKUP(BE92,$A$3:$Y$3,$A$4:$Y$4) -> 9 | ... AV92: =LOOKUP(BL92,$A$3:$Y$3,$A$4:$Y$4) -> 22 | AX92: 1 | AY92: 2 | AZ92: 3 | BA92: 5 | BB92: 6 | BC92: 7 | BD92: 8 | BE92: 9 | BF92: 10 | BG92: 11 | BH92: 13 | BI92: 14 | BJ92: 15 | BK92: 16 | BL92: 17 | BN92: =SMALL($BN82:$CB82,BN$72) -> 1 | BO92: =SMALL($BN82:$CB82,BO$72) -> 2 | BP92: =SMALL($BN82:$CB82,BP$72) -> 3 | BQ92: =SMALL($BN82:$CB82,BQ$72) -> 4 | BR92: =SMALL($BN82:$CB82,BR$72) -> 7 | BS92: =SMALL($BN82:$CB82,BS$72) -> 8 | BT92: =SMALL($BN82:$CB82,BT$72) -> 9 | BU92: =SMALL($BN82:$CB82,BU$72) -> 10 | ... CB92: =SMALL($BN82:$CB82,CB$72) -> 22 | CD92: 5
A93: =SMALL($A18:$O18,A$3) -> 1 | B93: =SMALL($A18:$O18,B$3) -> 2 | C93: =SMALL($A18:$O18,C$3) -> 3 | D93: =SMALL($A18:$O18,D$3) -> 4 | E93: =SMALL($A18:$O18,E$3) -> 5 | F93: =SMALL($A18:$O18,F$3) -> 6 | G93: =SMALL($A18:$O18,G$3) -> 7 | H93: =SMALL($A18:$O18,H$3) -> 8 | ... O93: =SMALL($A18:$O18,O$3) -> 22 | R93: 10 | AH93: =LOOKUP(AX93,$A$3:$Y$3,$A$4:$Y$4) -> 1 | AI93: =LOOKUP(AY93,$A$3:$Y$3,$A$4:$Y$4) -> 2 | AJ93: =LOOKUP(AZ93,$A$3:$Y$3,$A$4:$Y$4) -> 3 | AK93: =LOOKUP(BA93,$A$3:$Y$3,$A$4:$Y$4) -> 5 | AL93: =LOOKUP(BB93,$A$3:$Y$3,$A$4:$Y$4) -> 6 | AM93: =LOOKUP(BC93,$A$3:$Y$3,$A$4:$Y$4) -> 7 | AN93: =LOOKUP(BD93,$A$3:$Y$3,$A$4:$Y$4) -> 8 | AO93: =LOOKUP(BE93,$A$3:$Y$3,$A$4:$Y$4) -> 9 | ... AV93: =LOOKUP(BL93,$A$3:$Y$3,$A$4:$Y$4) -> 22 | AX93: 1 | AY93: 2 | AZ93: 3 | BA93: 5 | BB93: 6 | BC93: 7 | BD93: 8 | BE93: 9 | BF93: 10 | BG93: 12 | BH93: 13 | BI93: 14 | BJ93: 15 | BK93: 16 | BL93: 17 | BN93: =SMALL($BN83:$CB83,BN$72) -> 1 | BO93: =SMALL($BN83:$CB83,BO$72) -> 2 | BP93: =SMALL($BN83:$CB83,BP$72) -> 4 | BQ93: =SMALL($BN83:$CB83,BQ$72) -> 5 | BR93: =SMALL($BN83:$CB83,BR$72) -> 6 | BS93: =SMALL($BN83:$CB83,BS$72) -> 7 | BT93: =SMALL($BN83:$CB83,BT$72) -> 8 | BU93: =SMALL($BN83:$CB83,BU$72) -> 10 | ... CB93: =SMALL($BN83:$CB83,CB$72) -> 22 | CD93: 6
A94: =SMALL($A19:$O19,A$3) -> 1 | B94: =SMALL($A19:$O19,B$3) -> 2 | C94: =SMALL($A19:$O19,C$3) -> 3 | D94: =SMALL($A19:$O19,D$3) -> 4 | E94: =SMALL($A19:$O19,E$3) -> 5 | F94: =SMALL($A19:$O19,F$3) -> 6 | G94: =SMALL($A19:$O19,G$3) -> 7 | H94: =SMALL($A19:$O19,H$3) -> 8 | ... O94: =SMALL($A19:$O19,O$3) -> 22 | R94: 11 | AH94: =LOOKUP(AX94,$A$3:$Y$3,$A$4:$Y$4) -> 1 | AI94: =LOOKUP(AY94,$A$3:$Y$3,$A$4:$Y$4) -> 2 | AJ94: =LOOKUP(AZ94,$A$3:$Y$3,$A$4:$Y$4) -> 3 | AK94: =LOOKUP(BA94,$A$3:$Y$3,$A$4:$Y$4) -> 5 | AL94: =LOOKUP(BB94,$A$3:$Y$3,$A$4:$Y$4) -> 6 | AM94: =LOOKUP(BC94,$A$3:$Y$3,$A$4:$Y$4) -> 7 | AN94: =LOOKUP(BD94,$A$3:$Y$3,$A$4:$Y$4) -> 8 | AO94: =LOOKUP(BE94,$A$3:$Y$3,$A$4:$Y$4) -> 9 | ... AV94: =LOOKUP(BL94,$A$3:$Y$3,$A$4:$Y$4) -> 22 | AX94: 1 | AY94: 2 | AZ94: 3 | BA94: 5 | BB94: 6 | BC94: 7 | BD94: 8 | BE94: 9 | BF94: 11 | BG94: 12 | BH94: 13 | BI94: 14 | BJ94: 15 | BK94: 16 | BL94: 17 | BN94: =SMALL($BN84:$CB84,BN$72) -> 3 | BO94: =SMALL($BN84:$CB84,BO$72) -> 4 | BP94: =SMALL($BN84:$CB84,BP$72) -> 5 | BQ94: =SMALL($BN84:$CB84,BQ$72) -> 6 | BR94: =SMALL($BN84:$CB84,BR$72) -> 7 | BS94: =SMALL($BN84:$CB84,BS$72) -> 8 | BT94: =SMALL($BN84:$CB84,BT$72) -> 9 | BU94: =SMALL($BN84:$CB84,BU$72) -> 10 | ... CB94: =SMALL($BN84:$CB84,CB$72) -> 22 | CD94: 7
A95: =SMALL($A20:$O20,A$3) -> 1 | B95: =SMALL($A20:$O20,B$3) -> 2 | C95: =SMALL($A20:$O20,C$3) -> 3 | D95: =SMALL($A20:$O20,D$3) -> 4 | E95: =SMALL($A20:$O20,E$3) -> 5 | F95: =SMALL($A20:$O20,F$3) -> 6 | G95: =SMALL($A20:$O20,G$3) -> 7 | H95: =SMALL($A20:$O20,H$3) -> 8 | ... O95: =SMALL($A20:$O20,O$3) -> 16 | R95: 12 | AH95: =LOOKUP(AX95,$A$3:$Y$3,$A$4:$Y$4) -> 1 | AI95: =LOOKUP(AY95,$A$3:$Y$3,$A$4:$Y$4) -> 2 | AJ95: =LOOKUP(AZ95,$A$3:$Y$3,$A$4:$Y$4) -> 3 | AK95: =LOOKUP(BA95,$A$3:$Y$3,$A$4:$Y$4) -> 5 | AL95: =LOOKUP(BB95,$A$3:$Y$3,$A$4:$Y$4) -> 6 | AM95: =LOOKUP(BC95,$A$3:$Y$3,$A$4:$Y$4) -> 7 | AN95: =LOOKUP(BD95,$A$3:$Y$3,$A$4:$Y$4) -> 8 | AO95: =LOOKUP(BE95,$A$3:$Y$3,$A$4:$Y$4) -> 10 | ... AV95: =LOOKUP(BL95,$A$3:$Y$3,$A$4:$Y$4) -> 22 | AX95: 1 | AY95: 2 | AZ95: 3 | BA95: 5 | BB95: 6 | BC95: 7 | BD95: 8 | BE95: 10 | BF95: 11 | BG95: 12 | BH95: 13 | BI95: 14 | BJ95: 15 | BK95: 16 | BL95: 17
A96: =SMALL($A21:$O21,A$3) -> 1 | B96: =SMALL($A21:$O21,B$3) -> 2 | C96: =SMALL($A21:$O21,C$3) -> 3 | D96: =SMALL($A21:$O21,D$3) -> 4 | E96: =SMALL($A21:$O21,E$3) -> 5 | F96: =SMALL($A21:$O21,F$3) -> 6 | G96: =SMALL($A21:$O21,G$3) -> 7 | H96: =SMALL($A21:$O21,H$3) -> 8 | ... O96: =SMALL($A21:$O21,O$3) -> 22 | R96: 13 | AH96: =LOOKUP(AX96,$A$3:$Y$3,$A$4:$Y$4) -> 1 | AI96: =LOOKUP(AY96,$A$3:$Y$3,$A$4:$Y$4) -> 2 | AJ96: =LOOKUP(AZ96,$A$3:$Y$3,$A$4:$Y$4) -> 3 | AK96: =LOOKUP(BA96,$A$3:$Y$3,$A$4:$Y$4) -> 5 | AL96: =LOOKUP(BB96,$A$3:$Y$3,$A$4:$Y$4) -> 6 | AM96: =LOOKUP(BC96,$A$3:$Y$3,$A$4:$Y$4) -> 7 | AN96: =LOOKUP(BD96,$A$3:$Y$3,$A$4:$Y$4) -> 9 | AO96: =LOOKUP(BE96,$A$3:$Y$3,$A$4:$Y$4) -> 10 | ... AV96: =LOOKUP(BL96,$A$3:$Y$3,$A$4:$Y$4) -> 22 | AX96: 1 | AY96: 2 | AZ96: 3 | BA96: 5 | BB96: 6 | BC96: 7 | BD96: 9 | BE96: 10 | BF96: 11 | BG96: 12 | BH96: 13 | BI96: 14 | BJ96: 15 | BK96: 16 | BL96: 17
A97: =SMALL($A22:$O22,A$3) -> 1 | B97: =SMALL($A22:$O22,B$3) -> 2 | C97: =SMALL($A22:$O22,C$3) -> 3 | D97: =SMALL($A22:$O22,D$3) -> 4 | E97: =SMALL($A22:$O22,E$3) -> 5 | F97: =SMALL($A22:$O22,F$3) -> 6 | G97: =SMALL($A22:$O22,G$3) -> 7 | H97: =SMALL($A22:$O22,H$3) -> 8 | ... O97: =SMALL($A22:$O22,O$3) -> 22 | R97: 14 | AH97: =LOOKUP(AX97,$A$3:$Y$3,$A$4:$Y$4) -> 1 | AI97: =LOOKUP(AY97,$A$3:$Y$3,$A$4:$Y$4) -> 2 | AJ97: =LOOKUP(AZ97,$A$3:$Y$3,$A$4:$Y$4) -> 3 | AK97: =LOOKUP(BA97,$A$3:$Y$3,$A$4:$Y$4) -> 5 | AL97: =LOOKUP(BB97,$A$3:$Y$3,$A$4:$Y$4) -> 6 | AM97: =LOOKUP(BC97,$A$3:$Y$3,$A$4:$Y$4) -> 8 | AN97: =LOOKUP(BD97,$A$3:$Y$3,$A$4:$Y$4) -> 9 | AO97: =LOOKUP(BE97,$A$3:$Y$3,$A$4:$Y$4) -> 10 | ... AV97: =LOOKUP(BL97,$A$3:$Y$3,$A$4:$Y$4) -> 22 | AX97: 1 | AY97: 2 | AZ97: 3 | BA97: 5 | BB97: 6 | BC97: 8 | BD97: 9 | BE97: 10 | BF97: 11 | BG97: 12 | BH97: 13 | BI97: 14 | BJ97: 15 | BK97: 16 | BL97: 17 | BN97: 1 | BO97: 2 | BP97: 3 | BQ97: 4 | BR97: 5 | BS97: 6 | BT97: 7 | BU97: 8 | BV97: 9 | BW97: 10 | BX97: 11 | BY97: 12 | BZ97: 13 | CA97: 14 | CB97: 15 | CC97: 16 | CD97: 17
A98: =SMALL($A23:$O23,A$3) -> 1 | B98: =SMALL($A23:$O23,B$3) -> 2 | C98: =SMALL($A23:$O23,C$3) -> 3 | D98: =SMALL($A23:$O23,D$3) -> 4 | E98: =SMALL($A23:$O23,E$3) -> 5 | F98: =SMALL($A23:$O23,F$3) -> 6 | G98: =SMALL($A23:$O23,G$3) -> 7 | H98: =SMALL($A23:$O23,H$3) -> 8 | ... O98: =SMALL($A23:$O23,O$3) -> 22 | R98: 15 | AH98: =LOOKUP(AX98,$A$3:$Y$3,$A$4:$Y$4) -> 1 | AI98: =LOOKUP(AY98,$A$3:$Y$3,$A$4:$Y$4) -> 2 | AJ98: =LOOKUP(AZ98,$A$3:$Y$3,$A$4:$Y$4) -> 3 | AK98: =LOOKUP(BA98,$A$3:$Y$3,$A$4:$Y$4) -> 5 | AL98: =LOOKUP(BB98,$A$3:$Y$3,$A$4:$Y$4) -> 7 | AM98: =LOOKUP(BC98,$A$3:$Y$3,$A$4:$Y$4) -> 8 | AN98: =LOOKUP(BD98,$A$3:$Y$3,$A$4:$Y$4) -> 9 | AO98: =LOOKUP(BE98,$A$3:$Y$3,$A$4:$Y$4) -> 10 | ... AV98: =LOOKUP(BL98,$A$3:$Y$3,$A$4:$Y$4) -> 22 | AX98: 1 | AY98: 2 | AZ98: 3 | BA98: 5 | BB98: 7 | BC98: 8 | BD98: 9 | BE98: 10 | BF98: 11 | BG98: 12 | BH98: 13 | BI98: 14 | BJ98: 15 | BK98: 16 | BL98: 17 | BN98: =Início!B17 -> 1 | BO98: =Início!C17 -> 2 | BP98: =Início!D17 -> 3 | BQ98: =Início!E17 -> 4 | BR98: =Início!F17 -> 5 | BS98: =Início!G17 -> 6 | BT98: =Início!H17 -> 7 | BU98: =Início!I17 -> 8 | ... CD98: =Início!R17 -> 22
A99: =SMALL($A24:$O24,A$3) -> 1 | B99: =SMALL($A24:$O24,B$3) -> 2 | C99: =SMALL($A24:$O24,C$3) -> 3 | D99: =SMALL($A24:$O24,D$3) -> 4 | E99: =SMALL($A24:$O24,E$3) -> 5 | F99: =SMALL($A24:$O24,F$3) -> 6 | G99: =SMALL($A24:$O24,G$3) -> 7 | H99: =SMALL($A24:$O24,H$3) -> 8 | ... O99: =SMALL($A24:$O24,O$3) -> 22 | R99: 16 | AH99: =LOOKUP(AX99,$A$3:$Y$3,$A$4:$Y$4) -> 1 | AI99: =LOOKUP(AY99,$A$3:$Y$3,$A$4:$Y$4) -> 2 | AJ99: =LOOKUP(AZ99,$A$3:$Y$3,$A$4:$Y$4) -> 3 | AK99: =LOOKUP(BA99,$A$3:$Y$3,$A$4:$Y$4) -> 6 | AL99: =LOOKUP(BB99,$A$3:$Y$3,$A$4:$Y$4) -> 7 | AM99: =LOOKUP(BC99,$A$3:$Y$3,$A$4:$Y$4) -> 8 | AN99: =LOOKUP(BD99,$A$3:$Y$3,$A$4:$Y$4) -> 9 | AO99: =LOOKUP(BE99,$A$3:$Y$3,$A$4:$Y$4) -> 10 | ... AV99: =LOOKUP(BL99,$A$3:$Y$3,$A$4:$Y$4) -> 22 | AX99: 1 | AY99: 2 | AZ99: 3 | BA99: 6 | BB99: 7 | BC99: 8 | BD99: 9 | BE99: 10 | BF99: 11 | BG99: 12 | BH99: 13 | BI99: 14 | BJ99: 15 | BK99: 16 | BL99: 17
A100: =SMALL($A25:$O25,A$3) -> 1 | B100: =SMALL($A25:$O25,B$3) -> 2 | C100: =SMALL($A25:$O25,C$3) -> 3 | D100: =SMALL($A25:$O25,D$3) -> 4 | E100: =SMALL($A25:$O25,E$3) -> 5 | F100: =SMALL($A25:$O25,F$3) -> 6 | G100: =SMALL($A25:$O25,G$3) -> 7 | H100: =SMALL($A25:$O25,H$3) -> 8 | ... O100: =SMALL($A25:$O25,O$3) -> 22 | R100: 17 | AH100: =LOOKUP(AX100,$A$3:$Y$3,$A$4:$Y$4) -> 1 | AI100: =LOOKUP(AY100,$A$3:$Y$3,$A$4:$Y$4) -> 2 | AJ100: =LOOKUP(AZ100,$A$3:$Y$3,$A$4:$Y$4) -> 4 | AK100: =LOOKUP(BA100,$A$3:$Y$3,$A$4:$Y$4) -> 5 | AL100: =LOOKUP(BB100,$A$3:$Y$3,$A$4:$Y$4) -> 6 | AM100: =LOOKUP(BC100,$A$3:$Y$3,$A$4:$Y$4) -> 7 | AN100: =LOOKUP(BD100,$A$3:$Y$3,$A$4:$Y$4) -> 8 | AO100: =LOOKUP(BE100,$A$3:$Y$3,$A$4:$Y$4) -> 9 | ... AV100: =LOOKUP(BL100,$A$3:$Y$3,$A$4:$Y$4) -> 16 | AX100: 1 | AY100: 2 | AZ100: 4 | BA100: 5 | BB100: 6 | BC100: 7 | BD100: 8 | BE100: 9 | BF100: 10 | BG100: 11 | BH100: 12 | BI100: 13 | BJ100: 14 | BK100: 15 | BL100: 16
A101: =SMALL($A26:$O26,A$3) -> 1 | B101: =SMALL($A26:$O26,B$3) -> 2 | C101: =SMALL($A26:$O26,C$3) -> 3 | D101: =SMALL($A26:$O26,D$3) -> 4 | E101: =SMALL($A26:$O26,E$3) -> 5 | F101: =SMALL($A26:$O26,F$3) -> 6 | G101: =SMALL($A26:$O26,G$3) -> 7 | H101: =SMALL($A26:$O26,H$3) -> 8 | ... O101: =SMALL($A26:$O26,O$3) -> 22 | R101: 18 | AH101: =LOOKUP(AX101,$A$3:$Y$3,$A$4:$Y$4) -> 1 | AI101: =LOOKUP(AY101,$A$3:$Y$3,$A$4:$Y$4) -> 2 | AJ101: =LOOKUP(AZ101,$A$3:$Y$3,$A$4:$Y$4) -> 4 | AK101: =LOOKUP(BA101,$A$3:$Y$3,$A$4:$Y$4) -> 5 | AL101: =LOOKUP(BB101,$A$3:$Y$3,$A$4:$Y$4) -> 6 | AM101: =LOOKUP(BC101,$A$3:$Y$3,$A$4:$Y$4) -> 7 | AN101: =LOOKUP(BD101,$A$3:$Y$3,$A$4:$Y$4) -> 8 | AO101: =LOOKUP(BE101,$A$3:$Y$3,$A$4:$Y$4) -> 9 | ... AV101: =LOOKUP(BL101,$A$3:$Y$3,$A$4:$Y$4) -> 22 | AX101: 1 | AY101: 2 | AZ101: 4 | BA101: 5 | BB101: 6 | BC101: 7 | BD101: 8 | BE101: 9 | BF101: 10 | BG101: 11 | BH101: 12 | BI101: 13 | BJ101: 14 | BK101: 15 | BL101: 17
A102: =SMALL($A27:$O27,A$3) -> 1 | B102: =SMALL($A27:$O27,B$3) -> 2 | C102: =SMALL($A27:$O27,C$3) -> 3 | D102: =SMALL($A27:$O27,D$3) -> 4 | E102: =SMALL($A27:$O27,E$3) -> 5 | F102: =SMALL($A27:$O27,F$3) -> 6 | G102: =SMALL($A27:$O27,G$3) -> 7 | H102: =SMALL($A27:$O27,H$3) -> 9 | ... O102: =SMALL($A27:$O27,O$3) -> 22 | R102: 19 | AH102: =LOOKUP(AX102,$A$3:$Y$3,$A$4:$Y$4) -> 1 | AI102: =LOOKUP(AY102,$A$3:$Y$3,$A$4:$Y$4) -> 2 | AJ102: =LOOKUP(AZ102,$A$3:$Y$3,$A$4:$Y$4) -> 4 | AK102: =LOOKUP(BA102,$A$3:$Y$3,$A$4:$Y$4) -> 5 | AL102: =LOOKUP(BB102,$A$3:$Y$3,$A$4:$Y$4) -> 6 | AM102: =LOOKUP(BC102,$A$3:$Y$3,$A$4:$Y$4) -> 7 | AN102: =LOOKUP(BD102,$A$3:$Y$3,$A$4:$Y$4) -> 8 | AO102: =LOOKUP(BE102,$A$3:$Y$3,$A$4:$Y$4) -> 9 | ... AV102: =LOOKUP(BL102,$A$3:$Y$3,$A$4:$Y$4) -> 22 | AX102: 1 | AY102: 2 | AZ102: 4 | BA102: 5 | BB102: 6 | BC102: 7 | BD102: 8 | BE102: 9 | BF102: 10 | BG102: 11 | BH102: 12 | BI102: 13 | BJ102: 14 | BK102: 16 | BL102: 17
A103: =SMALL($A28:$O28,A$3) -> 1 | B103: =SMALL($A28:$O28,B$3) -> 2 | C103: =SMALL($A28:$O28,C$3) -> 3 | D103: =SMALL($A28:$O28,D$3) -> 4 | E103: =SMALL($A28:$O28,E$3) -> 5 | F103: =SMALL($A28:$O28,F$3) -> 6 | G103: =SMALL($A28:$O28,G$3) -> 7 | H103: =SMALL($A28:$O28,H$3) -> 9 | ... O103: =SMALL($A28:$O28,O$3) -> 22 | R103: 20 | AH103: =LOOKUP(AX103,$A$3:$Y$3,$A$4:$Y$4) -> 1 | AI103: =LOOKUP(AY103,$A$3:$Y$3,$A$4:$Y$4) -> 2 | AJ103: =LOOKUP(AZ103,$A$3:$Y$3,$A$4:$Y$4) -> 4 | AK103: =LOOKUP(BA103,$A$3:$Y$3,$A$4:$Y$4) -> 5 | AL103: =LOOKUP(BB103,$A$3:$Y$3,$A$4:$Y$4) -> 6 | AM103: =LOOKUP(BC103,$A$3:$Y$3,$A$4:$Y$4) -> 7 | AN103: =LOOKUP(BD103,$A$3:$Y$3,$A$4:$Y$4) -> 8 | AO103: =LOOKUP(BE103,$A$3:$Y$3,$A$4:$Y$4) -> 9 | ... AV103: =LOOKUP(BL103,$A$3:$Y$3,$A$4:$Y$4) -> 22 | AX103: 1 | AY103: 2 | AZ103: 4 | BA103: 5 | BB103: 6 | BC103: 7 | BD103: 8 | BE103: 9 | BF103: 10 | BG103: 11 | BH103: 12 | BI103: 13 | BJ103: 15 | BK103: 16 | BL103: 17 | BN103: =LOOKUP(CD103,$BN$97:$CL$97,$BN$98:$CR$98) -> 1 | BO103: =LOOKUP(CE103,$BN$97:$CL$97,$BN$98:$CR$98) -> 2 | BP103: =LOOKUP(CF103,$BN$97:$CL$97,$BN$98:$CR$98) -> 3 | BQ103: =LOOKUP(CG103,$BN$97:$CL$97,$BN$98:$CR$98) -> 4 | BR103: =LOOKUP(CH103,$BN$97:$CL$97,$BN$98:$CR$98) -> 5 | BS103: =LOOKUP(CI103,$BN$97:$CL$97,$BN$98:$CR$98) -> 6 | BT103: =LOOKUP(CJ103,$BN$97:$CL$97,$BN$98:$CR$98) -> 7 | BU103: =LOOKUP(CK103,$BN$97:$CL$97,$BN$98:$CR$98) -> 8 | ... CB103: =LOOKUP(CR103,$BN$97:$CL$97,$BN$98:$CR$98) -> 22 | CD103: 1 | CE103: 2 | CF103: 3 | CG103: 4 | CH103: 5 | CI103: 6 | CJ103: 7 | CK103: 8 | CL103: 9 | CM103: 10 | CN103: 11 | CO103: 12 | CP103: 13 | CQ103: 14 | CR103: 17
A104: =SMALL($A29:$O29,A$3) -> 1 | B104: =SMALL($A29:$O29,B$3) -> 2 | C104: =SMALL($A29:$O29,C$3) -> 3 | D104: =SMALL($A29:$O29,D$3) -> 4 | E104: =SMALL($A29:$O29,E$3) -> 5 | F104: =SMALL($A29:$O29,F$3) -> 6 | G104: =SMALL($A29:$O29,G$3) -> 7 | H104: =SMALL($A29:$O29,H$3) -> 10 | ... O104: =SMALL($A29:$O29,O$3) -> 22 | R104: 21 | AH104: =LOOKUP(AX104,$A$3:$Y$3,$A$4:$Y$4) -> 1 | AI104: =LOOKUP(AY104,$A$3:$Y$3,$A$4:$Y$4) -> 2 | AJ104: =LOOKUP(AZ104,$A$3:$Y$3,$A$4:$Y$4) -> 4 | AK104: =LOOKUP(BA104,$A$3:$Y$3,$A$4:$Y$4) -> 5 | AL104: =LOOKUP(BB104,$A$3:$Y$3,$A$4:$Y$4) -> 6 | AM104: =LOOKUP(BC104,$A$3:$Y$3,$A$4:$Y$4) -> 7 | AN104: =LOOKUP(BD104,$A$3:$Y$3,$A$4:$Y$4) -> 8 | AO104: =LOOKUP(BE104,$A$3:$Y$3,$A$4:$Y$4) -> 9 | ... AV104: =LOOKUP(BL104,$A$3:$Y$3,$A$4:$Y$4) -> 22 | AX104: 1 | AY104: 2 | AZ104: 4 | BA104: 5 | BB104: 6 | BC104: 7 | BD104: 8 | BE104: 9 | BF104: 10 | BG104: 11 | BH104: 12 | BI104: 14 | BJ104: 15 | BK104: 16 | BL104: 17 | BN104: =LOOKUP(CD104,$BN$97:$CL$97,$BN$98:$CR$98) -> 1 | BO104: =LOOKUP(CE104,$BN$97:$CL$97,$BN$98:$CR$98) -> 2 | BP104: =LOOKUP(CF104,$BN$97:$CL$97,$BN$98:$CR$98) -> 3 | BQ104: =LOOKUP(CG104,$BN$97:$CL$97,$BN$98:$CR$98) -> 4 | BR104: =LOOKUP(CH104,$BN$97:$CL$97,$BN$98:$CR$98) -> 5 | BS104: =LOOKUP(CI104,$BN$97:$CL$97,$BN$98:$CR$98) -> 6 | BT104: =LOOKUP(CJ104,$BN$97:$CL$97,$BN$98:$CR$98) -> 7 | BU104: =LOOKUP(CK104,$BN$97:$CL$97,$BN$98:$CR$98) -> 8 | ... CB104: =LOOKUP(CR104,$BN$97:$CL$97,$BN$98:$CR$98) -> 22 | CD104: 1 | CE104: 2 | CF104: 3 | CG104: 4 | CH104: 5 | CI104: 6 | CJ104: 7 | CK104: 8 | CL104: 9 | CM104: 10 | CN104: 11 | CO104: 12 | CP104: 14 | CQ104: 15 | CR104: 17
A105: =SMALL($A30:$O30,A$3) -> 1 | B105: =SMALL($A30:$O30,B$3) -> 2 | C105: =SMALL($A30:$O30,C$3) -> 3 | D105: =SMALL($A30:$O30,D$3) -> 4 | E105: =SMALL($A30:$O30,E$3) -> 5 | F105: =SMALL($A30:$O30,F$3) -> 6 | G105: =SMALL($A30:$O30,G$3) -> 8 | H105: =SMALL($A30:$O30,H$3) -> 9 | ... O105: =SMALL($A30:$O30,O$3) -> 22 | R105: 22 | AH105: =LOOKUP(AX105,$A$3:$Y$3,$A$4:$Y$4) -> 1 | AI105: =LOOKUP(AY105,$A$3:$Y$3,$A$4:$Y$4) -> 2 | AJ105: =LOOKUP(AZ105,$A$3:$Y$3,$A$4:$Y$4) -> 4 | AK105: =LOOKUP(BA105,$A$3:$Y$3,$A$4:$Y$4) -> 5 | AL105: =LOOKUP(BB105,$A$3:$Y$3,$A$4:$Y$4) -> 6 | AM105: =LOOKUP(BC105,$A$3:$Y$3,$A$4:$Y$4) -> 7 | AN105: =LOOKUP(BD105,$A$3:$Y$3,$A$4:$Y$4) -> 8 | AO105: =LOOKUP(BE105,$A$3:$Y$3,$A$4:$Y$4) -> 9 | ... AV105: =LOOKUP(BL105,$A$3:$Y$3,$A$4:$Y$4) -> 22 | AX105: 1 | AY105: 2 | AZ105: 4 | BA105: 5 | BB105: 6 | BC105: 7 | BD105: 8 | BE105: 9 | BF105: 10 | BG105: 11 | BH105: 13 | BI105: 14 | BJ105: 15 | BK105: 16 | BL105: 17 | BN105: =LOOKUP(CD105,$BN$97:$CL$97,$BN$98:$CR$98) -> 1 | BO105: =LOOKUP(CE105,$BN$97:$CL$97,$BN$98:$CR$98) -> 2 | BP105: =LOOKUP(CF105,$BN$97:$CL$97,$BN$98:$CR$98) -> 3 | BQ105: =LOOKUP(CG105,$BN$97:$CL$97,$BN$98:$CR$98) -> 4 | BR105: =LOOKUP(CH105,$BN$97:$CL$97,$BN$98:$CR$98) -> 5 | BS105: =LOOKUP(CI105,$BN$97:$CL$97,$BN$98:$CR$98) -> 6 | BT105: =LOOKUP(CJ105,$BN$97:$CL$97,$BN$98:$CR$98) -> 7 | BU105: =LOOKUP(CK105,$BN$97:$CL$97,$BN$98:$CR$98) -> 8 | ... CB105: =LOOKUP(CR105,$BN$97:$CL$97,$BN$98:$CR$98) -> 22 | CD105: 1 | CE105: 2 | CF105: 3 | CG105: 4 | CH105: 5 | CI105: 6 | CJ105: 7 | CK105: 8 | CL105: 9 | CM105: 10 | CN105: 11 | CO105: 12 | CP105: 14 | CQ105: 16 | CR105: 17
A106: =SMALL($A31:$O31,A$3) -> 1 | B106: =SMALL($A31:$O31,B$3) -> 2 | C106: =SMALL($A31:$O31,C$3) -> 3 | D106: =SMALL($A31:$O31,D$3) -> 4 | E106: =SMALL($A31:$O31,E$3) -> 5 | F106: =SMALL($A31:$O31,F$3) -> 6 | G106: =SMALL($A31:$O31,G$3) -> 8 | H106: =SMALL($A31:$O31,H$3) -> 9 | ... O106: =SMALL($A31:$O31,O$3) -> 22 | R106: 23 | AH106: =LOOKUP(AX106,$A$3:$Y$3,$A$4:$Y$4) -> 1 | AI106: =LOOKUP(AY106,$A$3:$Y$3,$A$4:$Y$4) -> 2 | AJ106: =LOOKUP(AZ106,$A$3:$Y$3,$A$4:$Y$4) -> 4 | AK106: =LOOKUP(BA106,$A$3:$Y$3,$A$4:$Y$4) -> 5 | AL106: =LOOKUP(BB106,$A$3:$Y$3,$A$4:$Y$4) -> 6 | AM106: =LOOKUP(BC106,$A$3:$Y$3,$A$4:$Y$4) -> 7 | AN106: =LOOKUP(BD106,$A$3:$Y$3,$A$4:$Y$4) -> 8 | AO106: =LOOKUP(BE106,$A$3:$Y$3,$A$4:$Y$4) -> 9 | ... AV106: =LOOKUP(BL106,$A$3:$Y$3,$A$4:$Y$4) -> 22 | AX106: 1 | AY106: 2 | AZ106: 4 | BA106: 5 | BB106: 6 | BC106: 7 | BD106: 8 | BE106: 9 | BF106: 10 | BG106: 12 | BH106: 13 | BI106: 14 | BJ106: 15 | BK106: 16 | BL106: 17 | BN106: =LOOKUP(CD106,$BN$97:$CL$97,$BN$98:$CR$98) -> 1 | BO106: =LOOKUP(CE106,$BN$97:$CL$97,$BN$98:$CR$98) -> 2 | BP106: =LOOKUP(CF106,$BN$97:$CL$97,$BN$98:$CR$98) -> 3 | BQ106: =LOOKUP(CG106,$BN$97:$CL$97,$BN$98:$CR$98) -> 4 | BR106: =LOOKUP(CH106,$BN$97:$CL$97,$BN$98:$CR$98) -> 5 | BS106: =LOOKUP(CI106,$BN$97:$CL$97,$BN$98:$CR$98) -> 6 | BT106: =LOOKUP(CJ106,$BN$97:$CL$97,$BN$98:$CR$98) -> 7 | BU106: =LOOKUP(CK106,$BN$97:$CL$97,$BN$98:$CR$98) -> 8 | ... CB106: =LOOKUP(CR106,$BN$97:$CL$97,$BN$98:$CR$98) -> 16 | CD106: 1 | CE106: 2 | CF106: 3 | CG106: 4 | CH106: 5 | CI106: 6 | CJ106: 7 | CK106: 8 | CL106: 9 | CM106: 10 | CN106: 11 | CO106: 13 | CP106: 14 | CQ106: 15 | CR106: 16
A107: =SMALL($A32:$O32,A$3) -> 1 | B107: =SMALL($A32:$O32,B$3) -> 2 | C107: =SMALL($A32:$O32,C$3) -> 3 | D107: =SMALL($A32:$O32,D$3) -> 4 | E107: =SMALL($A32:$O32,E$3) -> 5 | F107: =SMALL($A32:$O32,F$3) -> 6 | G107: =SMALL($A32:$O32,G$3) -> 8 | H107: =SMALL($A32:$O32,H$3) -> 10 | ... O107: =SMALL($A32:$O32,O$3) -> 22 | R107: 24 | AH107: =LOOKUP(AX107,$A$3:$Y$3,$A$4:$Y$4) -> 1 | AI107: =LOOKUP(AY107,$A$3:$Y$3,$A$4:$Y$4) -> 2 | AJ107: =LOOKUP(AZ107,$A$3:$Y$3,$A$4:$Y$4) -> 4 | AK107: =LOOKUP(BA107,$A$3:$Y$3,$A$4:$Y$4) -> 5 | AL107: =LOOKUP(BB107,$A$3:$Y$3,$A$4:$Y$4) -> 6 | AM107: =LOOKUP(BC107,$A$3:$Y$3,$A$4:$Y$4) -> 7 | AN107: =LOOKUP(BD107,$A$3:$Y$3,$A$4:$Y$4) -> 8 | AO107: =LOOKUP(BE107,$A$3:$Y$3,$A$4:$Y$4) -> 9 | ... AV107: =LOOKUP(BL107,$A$3:$Y$3,$A$4:$Y$4) -> 22 | AX107: 1 | AY107: 2 | AZ107: 4 | BA107: 5 | BB107: 6 | BC107: 7 | BD107: 8 | BE107: 9 | BF107: 11 | BG107: 12 | BH107: 13 | BI107: 14 | BJ107: 15 | BK107: 16 | BL107: 17 | BN107: =LOOKUP(CD107,$BN$97:$CL$97,$BN$98:$CR$98) -> 1 | BO107: =LOOKUP(CE107,$BN$97:$CL$97,$BN$98:$CR$98) -> 2 | BP107: =LOOKUP(CF107,$BN$97:$CL$97,$BN$98:$CR$98) -> 3 | BQ107: =LOOKUP(CG107,$BN$97:$CL$97,$BN$98:$CR$98) -> 4 | BR107: =LOOKUP(CH107,$BN$97:$CL$97,$BN$98:$CR$98) -> 5 | BS107: =LOOKUP(CI107,$BN$97:$CL$97,$BN$98:$CR$98) -> 6 | BT107: =LOOKUP(CJ107,$BN$97:$CL$97,$BN$98:$CR$98) -> 7 | BU107: =LOOKUP(CK107,$BN$97:$CL$97,$BN$98:$CR$98) -> 8 | ... CB107: =LOOKUP(CR107,$BN$97:$CL$97,$BN$98:$CR$98) -> 22 | CD107: 1 | CE107: 2 | CF107: 3 | CG107: 4 | CH107: 5 | CI107: 6 | CJ107: 7 | CK107: 8 | CL107: 9 | CM107: 10 | CN107: 12 | CO107: 13 | CP107: 14 | CQ107: 15 | CR107: 17
A108: =SMALL($A33:$O33,A$3) -> 1 | B108: =SMALL($A33:$O33,B$3) -> 2 | C108: =SMALL($A33:$O33,C$3) -> 3 | D108: =SMALL($A33:$O33,D$3) -> 4 | E108: =SMALL($A33:$O33,E$3) -> 5 | F108: =SMALL($A33:$O33,F$3) -> 6 | G108: =SMALL($A33:$O33,G$3) -> 9 | H108: =SMALL($A33:$O33,H$3) -> 10 | ... O108: =SMALL($A33:$O33,O$3) -> 22 | R108: 25 | AH108: =LOOKUP(AX108,$A$3:$Y$3,$A$4:$Y$4) -> 1 | AI108: =LOOKUP(AY108,$A$3:$Y$3,$A$4:$Y$4) -> 2 | AJ108: =LOOKUP(AZ108,$A$3:$Y$3,$A$4:$Y$4) -> 4 | AK108: =LOOKUP(BA108,$A$3:$Y$3,$A$4:$Y$4) -> 5 | AL108: =LOOKUP(BB108,$A$3:$Y$3,$A$4:$Y$4) -> 6 | AM108: =LOOKUP(BC108,$A$3:$Y$3,$A$4:$Y$4) -> 7 | AN108: =LOOKUP(BD108,$A$3:$Y$3,$A$4:$Y$4) -> 8 | AO108: =LOOKUP(BE108,$A$3:$Y$3,$A$4:$Y$4) -> 10 | ... AV108: =LOOKUP(BL108,$A$3:$Y$3,$A$4:$Y$4) -> 22 | AX108: 1 | AY108: 2 | AZ108: 4 | BA108: 5 | BB108: 6 | BC108: 7 | BD108: 8 | BE108: 10 | BF108: 11 | BG108: 12 | BH108: 13 | BI108: 14 | BJ108: 15 | BK108: 16 | BL108: 17 | BN108: =LOOKUP(CD108,$BN$97:$CL$97,$BN$98:$CR$98) -> 1 | BO108: =LOOKUP(CE108,$BN$97:$CL$97,$BN$98:$CR$98) -> 2 | BP108: =LOOKUP(CF108,$BN$97:$CL$97,$BN$98:$CR$98) -> 3 | BQ108: =LOOKUP(CG108,$BN$97:$CL$97,$BN$98:$CR$98) -> 4 | BR108: =LOOKUP(CH108,$BN$97:$CL$97,$BN$98:$CR$98) -> 5 | BS108: =LOOKUP(CI108,$BN$97:$CL$97,$BN$98:$CR$98) -> 6 | BT108: =LOOKUP(CJ108,$BN$97:$CL$97,$BN$98:$CR$98) -> 7 | BU108: =LOOKUP(CK108,$BN$97:$CL$97,$BN$98:$CR$98) -> 8 | ... CB108: =LOOKUP(CR108,$BN$97:$CL$97,$BN$98:$CR$98) -> 22 | CD108: 1 | CE108: 2 | CF108: 3 | CG108: 4 | CH108: 5 | CI108: 6 | CJ108: 7 | CK108: 8 | CL108: 9 | CM108: 10 | CN108: 12 | CO108: 13 | CP108: 14 | CQ108: 16 | CR108: 17
A109: =SMALL($A34:$O34,A$3) -> 1 | B109: =SMALL($A34:$O34,B$3) -> 2 | C109: =SMALL($A34:$O34,C$3) -> 3 | D109: =SMALL($A34:$O34,D$3) -> 4 | E109: =SMALL($A34:$O34,E$3) -> 5 | F109: =SMALL($A34:$O34,F$3) -> 7 | G109: =SMALL($A34:$O34,G$3) -> 8 | H109: =SMALL($A34:$O34,H$3) -> 9 | ... O109: =SMALL($A34:$O34,O$3) -> 22 | R109: 26 | AH109: =LOOKUP(AX109,$A$3:$Y$3,$A$4:$Y$4) -> 1 | AI109: =LOOKUP(AY109,$A$3:$Y$3,$A$4:$Y$4) -> 2 | AJ109: =LOOKUP(AZ109,$A$3:$Y$3,$A$4:$Y$4) -> 4 | AK109: =LOOKUP(BA109,$A$3:$Y$3,$A$4:$Y$4) -> 5 | AL109: =LOOKUP(BB109,$A$3:$Y$3,$A$4:$Y$4) -> 6 | AM109: =LOOKUP(BC109,$A$3:$Y$3,$A$4:$Y$4) -> 7 | AN109: =LOOKUP(BD109,$A$3:$Y$3,$A$4:$Y$4) -> 9 | AO109: =LOOKUP(BE109,$A$3:$Y$3,$A$4:$Y$4) -> 10 | ... AV109: =LOOKUP(BL109,$A$3:$Y$3,$A$4:$Y$4) -> 22 | AX109: 1 | AY109: 2 | AZ109: 4 | BA109: 5 | BB109: 6 | BC109: 7 | BD109: 9 | BE109: 10 | BF109: 11 | BG109: 12 | BH109: 13 | BI109: 14 | BJ109: 15 | BK109: 16 | BL109: 17 | BN109: =LOOKUP(CD109,$BN$97:$CL$97,$BN$98:$CR$98) -> 1 | BO109: =LOOKUP(CE109,$BN$97:$CL$97,$BN$98:$CR$98) -> 2 | BP109: =LOOKUP(CF109,$BN$97:$CL$97,$BN$98:$CR$98) -> 3 | BQ109: =LOOKUP(CG109,$BN$97:$CL$97,$BN$98:$CR$98) -> 4 | BR109: =LOOKUP(CH109,$BN$97:$CL$97,$BN$98:$CR$98) -> 5 | BS109: =LOOKUP(CI109,$BN$97:$CL$97,$BN$98:$CR$98) -> 6 | BT109: =LOOKUP(CJ109,$BN$97:$CL$97,$BN$98:$CR$98) -> 7 | BU109: =LOOKUP(CK109,$BN$97:$CL$97,$BN$98:$CR$98) -> 8 | ... CB109: =LOOKUP(CR109,$BN$97:$CL$97,$BN$98:$CR$98) -> 22 | CD109: 1 | CE109: 2 | CF109: 3 | CG109: 4 | CH109: 5 | CI109: 6 | CJ109: 7 | CK109: 8 | CL109: 9 | CM109: 10 | CN109: 12 | CO109: 14 | CP109: 15 | CQ109: 16 | CR109: 17
A110: =SMALL($A35:$O35,A$3) -> 1 | B110: =SMALL($A35:$O35,B$3) -> 2 | C110: =SMALL($A35:$O35,C$3) -> 3 | D110: =SMALL($A35:$O35,D$3) -> 4 | E110: =SMALL($A35:$O35,E$3) -> 5 | F110: =SMALL($A35:$O35,F$3) -> 7 | G110: =SMALL($A35:$O35,G$3) -> 8 | H110: =SMALL($A35:$O35,H$3) -> 9 | ... O110: =SMALL($A35:$O35,O$3) -> 22 | R110: 27 | AH110: =LOOKUP(AX110,$A$3:$Y$3,$A$4:$Y$4) -> 1 | AI110: =LOOKUP(AY110,$A$3:$Y$3,$A$4:$Y$4) -> 2 | AJ110: =LOOKUP(AZ110,$A$3:$Y$3,$A$4:$Y$4) -> 4 | AK110: =LOOKUP(BA110,$A$3:$Y$3,$A$4:$Y$4) -> 5 | AL110: =LOOKUP(BB110,$A$3:$Y$3,$A$4:$Y$4) -> 6 | AM110: =LOOKUP(BC110,$A$3:$Y$3,$A$4:$Y$4) -> 8 | AN110: =LOOKUP(BD110,$A$3:$Y$3,$A$4:$Y$4) -> 9 | AO110: =LOOKUP(BE110,$A$3:$Y$3,$A$4:$Y$4) -> 10 | ... AV110: =LOOKUP(BL110,$A$3:$Y$3,$A$4:$Y$4) -> 22 | AX110: 1 | AY110: 2 | AZ110: 4 | BA110: 5 | BB110: 6 | BC110: 8 | BD110: 9 | BE110: 10 | BF110: 11 | BG110: 12 | BH110: 13 | BI110: 14 | BJ110: 15 | BK110: 16 | BL110: 17 | BN110: =LOOKUP(CD110,$BN$97:$CL$97,$BN$98:$CR$98) -> 1 | BO110: =LOOKUP(CE110,$BN$97:$CL$97,$BN$98:$CR$98) -> 2 | BP110: =LOOKUP(CF110,$BN$97:$CL$97,$BN$98:$CR$98) -> 3 | BQ110: =LOOKUP(CG110,$BN$97:$CL$97,$BN$98:$CR$98) -> 4 | BR110: =LOOKUP(CH110,$BN$97:$CL$97,$BN$98:$CR$98) -> 5 | BS110: =LOOKUP(CI110,$BN$97:$CL$97,$BN$98:$CR$98) -> 6 | BT110: =LOOKUP(CJ110,$BN$97:$CL$97,$BN$98:$CR$98) -> 7 | BU110: =LOOKUP(CK110,$BN$97:$CL$97,$BN$98:$CR$98) -> 8 | ... CB110: =LOOKUP(CR110,$BN$97:$CL$97,$BN$98:$CR$98) -> 16 | CD110: 1 | CE110: 2 | CF110: 3 | CG110: 4 | CH110: 5 | CI110: 6 | CJ110: 7 | CK110: 8 | CL110: 9 | CM110: 11 | CN110: 12 | CO110: 13 | CP110: 14 | CQ110: 15 | CR110: 16
A111: =SMALL($A36:$O36,A$3) -> 1 | B111: =SMALL($A36:$O36,B$3) -> 2 | C111: =SMALL($A36:$O36,C$3) -> 3 | D111: =SMALL($A36:$O36,D$3) -> 4 | E111: =SMALL($A36:$O36,E$3) -> 5 | F111: =SMALL($A36:$O36,F$3) -> 7 | G111: =SMALL($A36:$O36,G$3) -> 8 | H111: =SMALL($A36:$O36,H$3) -> 10 | ... O111: =SMALL($A36:$O36,O$3) -> 22 | R111: 28 | AH111: =LOOKUP(AX111,$A$3:$Y$3,$A$4:$Y$4) -> 1 | AI111: =LOOKUP(AY111,$A$3:$Y$3,$A$4:$Y$4) -> 2 | AJ111: =LOOKUP(AZ111,$A$3:$Y$3,$A$4:$Y$4) -> 4 | AK111: =LOOKUP(BA111,$A$3:$Y$3,$A$4:$Y$4) -> 5 | AL111: =LOOKUP(BB111,$A$3:$Y$3,$A$4:$Y$4) -> 7 | AM111: =LOOKUP(BC111,$A$3:$Y$3,$A$4:$Y$4) -> 8 | AN111: =LOOKUP(BD111,$A$3:$Y$3,$A$4:$Y$4) -> 9 | AO111: =LOOKUP(BE111,$A$3:$Y$3,$A$4:$Y$4) -> 10 | ... AV111: =LOOKUP(BL111,$A$3:$Y$3,$A$4:$Y$4) -> 22 | AX111: 1 | AY111: 2 | AZ111: 4 | BA111: 5 | BB111: 7 | BC111: 8 | BD111: 9 | BE111: 10 | BF111: 11 | BG111: 12 | BH111: 13 | BI111: 14 | BJ111: 15 | BK111: 16 | BL111: 17 | BN111: =LOOKUP(CD111,$BN$97:$CL$97,$BN$98:$CR$98) -> 1 | BO111: =LOOKUP(CE111,$BN$97:$CL$97,$BN$98:$CR$98) -> 2 | BP111: =LOOKUP(CF111,$BN$97:$CL$97,$BN$98:$CR$98) -> 3 | BQ111: =LOOKUP(CG111,$BN$97:$CL$97,$BN$98:$CR$98) -> 4 | BR111: =LOOKUP(CH111,$BN$97:$CL$97,$BN$98:$CR$98) -> 5 | BS111: =LOOKUP(CI111,$BN$97:$CL$97,$BN$98:$CR$98) -> 6 | BT111: =LOOKUP(CJ111,$BN$97:$CL$97,$BN$98:$CR$98) -> 7 | BU111: =LOOKUP(CK111,$BN$97:$CL$97,$BN$98:$CR$98) -> 8 | ... CB111: =LOOKUP(CR111,$BN$97:$CL$97,$BN$98:$CR$98) -> 22 | CD111: 1 | CE111: 2 | CF111: 3 | CG111: 4 | CH111: 5 | CI111: 6 | CJ111: 7 | CK111: 8 | CL111: 9 | CM111: 11 | CN111: 13 | CO111: 14 | CP111: 15 | CQ111: 16 | CR111: 17
A112: =SMALL($A37:$O37,A$3) -> 1 | B112: =SMALL($A37:$O37,B$3) -> 2 | C112: =SMALL($A37:$O37,C$3) -> 3 | D112: =SMALL($A37:$O37,D$3) -> 4 | E112: =SMALL($A37:$O37,E$3) -> 5 | F112: =SMALL($A37:$O37,F$3) -> 7 | G112: =SMALL($A37:$O37,G$3) -> 9 | H112: =SMALL($A37:$O37,H$3) -> 10 | ... O112: =SMALL($A37:$O37,O$3) -> 22 | R112: 29 | AH112: =LOOKUP(AX112,$A$3:$Y$3,$A$4:$Y$4) -> 1 | AI112: =LOOKUP(AY112,$A$3:$Y$3,$A$4:$Y$4) -> 2 | AJ112: =LOOKUP(AZ112,$A$3:$Y$3,$A$4:$Y$4) -> 4 | AK112: =LOOKUP(BA112,$A$3:$Y$3,$A$4:$Y$4) -> 6 | AL112: =LOOKUP(BB112,$A$3:$Y$3,$A$4:$Y$4) -> 7 | AM112: =LOOKUP(BC112,$A$3:$Y$3,$A$4:$Y$4) -> 8 | AN112: =LOOKUP(BD112,$A$3:$Y$3,$A$4:$Y$4) -> 9 | AO112: =LOOKUP(BE112,$A$3:$Y$3,$A$4:$Y$4) -> 10 | ... AV112: =LOOKUP(BL112,$A$3:$Y$3,$A$4:$Y$4) -> 22 | AX112: 1 | AY112: 2 | AZ112: 4 | BA112: 6 | BB112: 7 | BC112: 8 | BD112: 9 | BE112: 10 | BF112: 11 | BG112: 12 | BH112: 13 | BI112: 14 | BJ112: 15 | BK112: 16 | BL112: 17 | BN112: =LOOKUP(CD112,$BN$97:$CL$97,$BN$98:$CR$98) -> 1 | BO112: =LOOKUP(CE112,$BN$97:$CL$97,$BN$98:$CR$98) -> 2 | BP112: =LOOKUP(CF112,$BN$97:$CL$97,$BN$98:$CR$98) -> 3 | BQ112: =LOOKUP(CG112,$BN$97:$CL$97,$BN$98:$CR$98) -> 4 | BR112: =LOOKUP(CH112,$BN$97:$CL$97,$BN$98:$CR$98) -> 5 | BS112: =LOOKUP(CI112,$BN$97:$CL$97,$BN$98:$CR$98) -> 6 | BT112: =LOOKUP(CJ112,$BN$97:$CL$97,$BN$98:$CR$98) -> 7 | BU112: =LOOKUP(CK112,$BN$97:$CL$97,$BN$98:$CR$98) -> 9 | ... CB112: =LOOKUP(CR112,$BN$97:$CL$97,$BN$98:$CR$98) -> 22 | CD112: 1 | CE112: 2 | CF112: 3 | CG112: 4 | CH112: 5 | CI112: 6 | CJ112: 7 | CK112: 9 | CL112: 10 | CM112: 11 | CN112: 12 | CO112: 13 | CP112: 15 | CQ112: 16 | CR112: 17
A113: =SMALL($A38:$O38,A$3) -> 1 | B113: =SMALL($A38:$O38,B$3) -> 2 | C113: =SMALL($A38:$O38,C$3) -> 3 | D113: =SMALL($A38:$O38,D$3) -> 4 | E113: =SMALL($A38:$O38,E$3) -> 5 | F113: =SMALL($A38:$O38,F$3) -> 8 | G113: =SMALL($A38:$O38,G$3) -> 9 | H113: =SMALL($A38:$O38,H$3) -> 10 | ... O113: =SMALL($A38:$O38,O$3) -> 22 | R113: 30 | AH113: =LOOKUP(AX113,$A$3:$Y$3,$A$4:$Y$4) -> 1 | AI113: =LOOKUP(AY113,$A$3:$Y$3,$A$4:$Y$4) -> 2 | AJ113: =LOOKUP(AZ113,$A$3:$Y$3,$A$4:$Y$4) -> 5 | AK113: =LOOKUP(BA113,$A$3:$Y$3,$A$4:$Y$4) -> 6 | AL113: =LOOKUP(BB113,$A$3:$Y$3,$A$4:$Y$4) -> 7 | AM113: =LOOKUP(BC113,$A$3:$Y$3,$A$4:$Y$4) -> 8 | AN113: =LOOKUP(BD113,$A$3:$Y$3,$A$4:$Y$4) -> 9 | AO113: =LOOKUP(BE113,$A$3:$Y$3,$A$4:$Y$4) -> 10 | ... AV113: =LOOKUP(BL113,$A$3:$Y$3,$A$4:$Y$4) -> 22 | AX113: 1 | AY113: 2 | AZ113: 5 | BA113: 6 | BB113: 7 | BC113: 8 | BD113: 9 | BE113: 10 | BF113: 11 | BG113: 12 | BH113: 13 | BI113: 14 | BJ113: 15 | BK113: 16 | BL113: 17 | BN113: =LOOKUP(CD113,$BN$97:$CL$97,$BN$98:$CR$98) -> 1 | BO113: =LOOKUP(CE113,$BN$97:$CL$97,$BN$98:$CR$98) -> 2 | BP113: =LOOKUP(CF113,$BN$97:$CL$97,$BN$98:$CR$98) -> 3 | BQ113: =LOOKUP(CG113,$BN$97:$CL$97,$BN$98:$CR$98) -> 4 | BR113: =LOOKUP(CH113,$BN$97:$CL$97,$BN$98:$CR$98) -> 5 | BS113: =LOOKUP(CI113,$BN$97:$CL$97,$BN$98:$CR$98) -> 6 | BT113: =LOOKUP(CJ113,$BN$97:$CL$97,$BN$98:$CR$98) -> 8 | BU113: =LOOKUP(CK113,$BN$97:$CL$97,$BN$98:$CR$98) -> 9 | ... CB113: =LOOKUP(CR113,$BN$97:$CL$97,$BN$98:$CR$98) -> 16 | CD113: 1 | CE113: 2 | CF113: 3 | CG113: 4 | CH113: 5 | CI113: 6 | CJ113: 8 | CK113: 9 | CL113: 10 | CM113: 11 | CN113: 12 | CO113: 13 | CP113: 14 | CQ113: 15 | CR113: 16
A114: =SMALL($A39:$O39,A$3) -> 1 | B114: =SMALL($A39:$O39,B$3) -> 2 | C114: =SMALL($A39:$O39,C$3) -> 3 | D114: =SMALL($A39:$O39,D$3) -> 4 | E114: =SMALL($A39:$O39,E$3) -> 6 | F114: =SMALL($A39:$O39,F$3) -> 7 | G114: =SMALL($A39:$O39,G$3) -> 8 | H114: =SMALL($A39:$O39,H$3) -> 9 | ... O114: =SMALL($A39:$O39,O$3) -> 22 | R114: 31 | AH114: =LOOKUP(AX114,$A$3:$Y$3,$A$4:$Y$4) -> 1 | AI114: =LOOKUP(AY114,$A$3:$Y$3,$A$4:$Y$4) -> 3 | AJ114: =LOOKUP(AZ114,$A$3:$Y$3,$A$4:$Y$4) -> 4 | AK114: =LOOKUP(BA114,$A$3:$Y$3,$A$4:$Y$4) -> 5 | AL114: =LOOKUP(BB114,$A$3:$Y$3,$A$4:$Y$4) -> 6 | AM114: =LOOKUP(BC114,$A$3:$Y$3,$A$4:$Y$4) -> 7 | AN114: =LOOKUP(BD114,$A$3:$Y$3,$A$4:$Y$4) -> 8 | AO114: =LOOKUP(BE114,$A$3:$Y$3,$A$4:$Y$4) -> 9 | ... AV114: =LOOKUP(BL114,$A$3:$Y$3,$A$4:$Y$4) -> 16 | AX114: 1 | AY114: 3 | AZ114: 4 | BA114: 5 | BB114: 6 | BC114: 7 | BD114: 8 | BE114: 9 | BF114: 10 | BG114: 11 | BH114: 12 | BI114: 13 | BJ114: 14 | BK114: 15 | BL114: 16 | BN114: =LOOKUP(CD114,$BN$97:$CL$97,$BN$98:$CR$98) -> 1 | BO114: =LOOKUP(CE114,$BN$97:$CL$97,$BN$98:$CR$98) -> 2 | BP114: =LOOKUP(CF114,$BN$97:$CL$97,$BN$98:$CR$98) -> 3 | BQ114: =LOOKUP(CG114,$BN$97:$CL$97,$BN$98:$CR$98) -> 4 | BR114: =LOOKUP(CH114,$BN$97:$CL$97,$BN$98:$CR$98) -> 5 | BS114: =LOOKUP(CI114,$BN$97:$CL$97,$BN$98:$CR$98) -> 6 | BT114: =LOOKUP(CJ114,$BN$97:$CL$97,$BN$98:$CR$98) -> 8 | BU114: =LOOKUP(CK114,$BN$97:$CL$97,$BN$98:$CR$98) -> 9 | ... CB114: =LOOKUP(CR114,$BN$97:$CL$97,$BN$98:$CR$98) -> 22 | CD114: 1 | CE114: 2 | CF114: 3 | CG114: 4 | CH114: 5 | CI114: 6 | CJ114: 8 | CK114: 9 | CL114: 10 | CM114: 11 | CN114: 13 | CO114: 14 | CP114: 15 | CQ114: 16 | CR114: 17
... A130: =SMALL($A55:$O55,A$3) -> 1 | B130: =SMALL($A55:$O55,B$3) -> 2 | C130: =SMALL($A55:$O55,C$3) -> 4 | D130: =SMALL($A55:$O55,D$3) -> 5 | E130: =SMALL($A55:$O55,E$3) -> 6 | F130: =SMALL($A55:$O55,F$3) -> 7 | G130: =SMALL($A55:$O55,G$3) -> 9 | H130: =SMALL($A55:$O55,H$3) -> 10 | ... O130: =SMALL($A55:$O55,O$3) -> 22 | R130: 47 | AH130: =LOOKUP(AX130,$A$3:$Y$3,$A$4:$Y$4) -> 2 | AI130: =LOOKUP(AY130,$A$3:$Y$3,$A$4:$Y$4) -> 3 | AJ130: =LOOKUP(AZ130,$A$3:$Y$3,$A$4:$Y$4) -> 4 | AK130: =LOOKUP(BA130,$A$3:$Y$3,$A$4:$Y$4) -> 5 | AL130: =LOOKUP(BB130,$A$3:$Y$3,$A$4:$Y$4) -> 6 | AM130: =LOOKUP(BC130,$A$3:$Y$3,$A$4:$Y$4) -> 7 | AN130: =LOOKUP(BD130,$A$3:$Y$3,$A$4:$Y$4) -> 8 | AO130: =LOOKUP(BE130,$A$3:$Y$3,$A$4:$Y$4) -> 9 | ... AV130: =LOOKUP(BL130,$A$3:$Y$3,$A$4:$Y$4) -> 22 | AX130: 2 | AY130: 3 | AZ130: 4 | BA130: 5 | BB130: 6 | BC130: 7 | BD130: 8 | BE130: 9 | BF130: 10 | BG130: 11 | BH130: 12 | BI130: 13 | BJ130: 14 | BK130: 15 | BL130: 17 | BN130: =LOOKUP(CD130,$BN$97:$CL$97,$BN$98:$CR$98) -> 2 | BO130: =LOOKUP(CE130,$BN$97:$CL$97,$BN$98:$CR$98) -> 3 | BP130: =LOOKUP(CF130,$BN$97:$CL$97,$BN$98:$CR$98) -> 5 | BQ130: =LOOKUP(CG130,$BN$97:$CL$97,$BN$98:$CR$98) -> 6 | BR130: =LOOKUP(CH130,$BN$97:$CL$97,$BN$98:$CR$98) -> 7 | BS130: =LOOKUP(CI130,$BN$97:$CL$97,$BN$98:$CR$98) -> 8 | BT130: =LOOKUP(CJ130,$BN$97:$CL$97,$BN$98:$CR$98) -> 9 | BU130: =LOOKUP(CK130,$BN$97:$CL$97,$BN$98:$CR$98) -> 10 | ... CB130: =LOOKUP(CR130,$BN$97:$CL$97,$BN$98:$CR$98) -> 22 | CD130: 2 | CE130: 3 | CF130: 5 | CG130: 6 | CH130: 7 | CI130: 8 | CJ130: 9 | CK130: 10 | CL130: 11 | CM130: 12 | CN130: 13 | CO130: 14 | CP130: 15 | CQ130: 16 | CR130: 17
...
