Workbook

Sheet Início
A1: Sua Logo Aqui | AA1: ="V"&X5 -> V1
E2: Desdobramento Lotofácil com 17 Números
X5: 1 | Y5: 10
T9: Opção 1: Se você acertar os 14 números fixos dos 17 escolhidos garante ao menos 1 cartela com 14 pontos. ( 70 volantes ) Opção 2: Se você acertar os 15 números fixos dos 17 escolhidos garante ao menos 1 cartela com 15 pontos. ( 132 volantes ) Opção 3: Se você acertar os 10 números fixos escolhidos e não sair nenhum dos 8 excluídos garante no mínimo uma cartela com 15 pontos. ( 21 volantes ) Opção 4: Se você acertar os 11 números fixos dos 17 escolhidos garante ao menos 1 cartela com 11 pontos. ( 21 volantes ) Opção 5: Se você acertar os 12 números fixos dos 17 escolhidos garante ao menos 1 cartela com 11 pontos. ( 7 volantes ) Opção 6: Se você acertar os 12 números fixos dos 17 escolhidos garante ao menos 1 cartela com 12 pontos. ( 28 volantes ) Opção 7: Se você acertar os 13 números fixos dos 17 escolhidos garante ao menos 1 cartela com 13 pontos. ( 40 volantes ) Opção 8: Se você acertar os 14 números fixos dos 17 escolhidos garante ao menos 1 cartela com 13 pontos. ( 8 volantes ) Opção 9: Se você acertar os 15 números fixos dos 17 escolhidos garante ao menos 1 cartela com 14 pontos. ( 8 volantes )
B16: Digite 17 Números Fixo | J16: ( Qualquer Ordem)
B17: 1 | C17: 2 | D17: 3 | E17: 4 | F17: 5 | G17: 6 | H17: 7 | I17: 8 | J17: 9 | K17: 10 | L17: 11 | M17: 12 | N17: 13 | O17: 14 | P17: 15 | Q17: 16 | R17: 22
B24: Opção 3:
B25: Digite 10 Números Fixo | J25: ( Qualquer Ordem)
B26: 1 | C26: 2 | D26: 3 | E26: 4 | F26: 5 | G26: 6 | H26: 7 | I26: 8 | J26: 9 | K26: 10
B27: Digite 8 Números Para Excluir
B28: 17 | C28: 18 | D28: 19 | E28: 20 | F28: 21 | G28: 22 | H28: 23 | I28: 24

Sheet Opcao1
AA1: ="V"&X5 -> V1
A2: Opção 1 ( 17 fixos )
X5: 1 | Y5: 10
B16: Total de 70 volantes
B18: =Apoio!A84 -> 1 | C18: =Apoio!B84 -> 2 | D18: =Apoio!C84 -> 3 | E18: =Apoio!D84 -> 4 | F18: =Apoio!E84 -> 5 | G18: =Apoio!F84 -> 6 | H18: =Apoio!G84 -> 7 | I18: =Apoio!H84 -> 8 | ... P18: =Apoio!O84 -> 16 | R18: 1
B19: =Apoio!A85 -> 1 | C19: =Apoio!B85 -> 2 | D19: =Apoio!C85 -> 3 | E19: =Apoio!D85 -> 4 | F19: =Apoio!E85 -> 5 | G19: =Apoio!F85 -> 6 | H19: =Apoio!G85 -> 7 | I19: =Apoio!H85 -> 8 | ... P19: =Apoio!O85 -> 16 | R19: 2
B20: =Apoio!A86 -> 1 | C20: =Apoio!B86 -> 2 | D20: =Apoio!C86 -> 3 | E20: =Apoio!D86 -> 4 | F20: =Apoio!E86 -> 5 | G20: =Apoio!F86 -> 6 | H20: =Apoio!G86 -> 7 | I20: =Apoio!H86 -> 8 | ... P20: =Apoio!O86 -> 22 | R20: 3
B21: =Apoio!A87 -> 1 | C21: =Apoio!B87 -> 2 | D21: =Apoio!C87 -> 3 | E21: =Apoio!D87 -> 4 | F21: =Apoio!E87 -> 5 | G21: =Apoio!F87 -> 6 | H21: =Apoio!G87 -> 7 | I21: =Apoio!H87 -> 8 | ... P21: =Apoio!O87 -> 16 | R21: 4
B22: =Apoio!A88 -> 1 | C22: =Apoio!B88 -> 2 | D22: =Apoio!C88 -> 3 | E22: =Apoio!D88 -> 4 | F22: =Apoio!E88 -> 5 | G22: =Apoio!F88 -> 6 | H22: =Apoio!G88 -> 7 | I22: =Apoio!H88 -> 8 | ... P22: =Apoio!O88 -> 22 | R22: 5
B23: =Apoio!A89 -> 1 | C23: =Apoio!B89 -> 2 | D23: =Apoio!C89 -> 3 | E23: =Apoio!D89 -> 4 | F23: =Apoio!E89 -> 5 | G23: =Apoio!F89 -> 6 | H23: =Apoio!G89 -> 7 | I23: =Apoio!H89 -> 8 | ... P23: =Apoio!O89 -> 22 | R23: 6
B24: =Apoio!A90 -> 1 | C24: =Apoio!B90 -> 2 | D24: =Apoio!C90 -> 3 | E24: =Apoio!D90 -> 4 | F24: =Apoio!E90 -> 5 | G24: =Apoio!F90 -> 6 | H24: =Apoio!G90 -> 7 | I24: =Apoio!H90 -> 8 | ... P24: =Apoio!O90 -> 16 | R24: 7
B25: =Apoio!A91 -> 1 | C25: =Apoio!B91 -> 2 | D25: =Apoio!C91 -> 3 | E25: =Apoio!D91 -> 4 | F25: =Apoio!E91 -> 5 | G25: =Apoio!F91 -> 6 | H25: =Apoio!G91 -> 7 | I25: =Apoio!H91 -> 8 | ... P25: =Apoio!O91 -> 22 | R25: 8
B26: =Apoio!A92 -> 1 | C26: =Apoio!B92 -> 2 | D26: =Apoio!C92 -> 3 | E26: =Apoio!D92 -> 4 | F26: =Apoio!E92 -> 5 | G26: =Apoio!F92 -> 6 | H26: =Apoio!G92 -> 7 | I26: =Apoio!H92 -> 8 | ... P26: =Apoio!O92 -> 22 | R26: 9
B27: =Apoio!A93 -> 1 | C27: =Apoio!B93 -> 2 | D27: =Apoio!C93 -> 3 | E27: =Apoio!D93 -> 4 | F27: =Apoio!E93 -> 5 | G27: =Apoio!F93 -> 6 | H27: =Apoio!G93 -> 7 | I27: =Apoio!H93 -> 8 | ... P27: =Apoio!O93 -> 22 | R27: 10
B28: =Apoio!A94 -> 1 | C28: =Apoio!B94 -> 2 | D28: =Apoio!C94 -> 3 | E28: =Apoio!D94 -> 4 | F28: =Apoio!E94 -> 5 | G28: =Apoio!F94 -> 6 | H28: =Apoio!G94 -> 7 | I28: =Apoio!H94 -> 8 | ... P28: =Apoio!O94 -> 22 | R28: 11
B29: =Apoio!A95 -> 1 | C29: =Apoio!B95 -> 2 | D29: =Apoio!C95 -> 3 | E29: =Apoio!D95 -> 4 | F29: =Apoio!E95 -> 5 | G29: =Apoio!F95 -> 6 | H29: =Apoio!G95 -> 7 | I29: =Apoio!H95 -> 8 | ... P29: =Apoio!O95 -> 16 | R29: 12
... B87: =Apoio!A153 -> 3 | C87: =Apoio!B153 -> 4 | D87: =Apoio!C153 -> 5 | E87: =Apoio!D153 -> 6 | F87: =Apoio!E153 -> 7 | G87: =Apoio!F153 -> 8 | H87: =Apoio!G153 -> 9 | I87: =Apoio!H153 -> 10 | ... P87: =Apoio!O153 -> 22 | R87: 70

Sheet Opcao2
AA1: ="V"&X5 -> V1
A2: Opção 2 ( 17 fixos )
X5: 1 | Y5: 10
B16: Total de 136 volantes
B18: =Apoio!AH151 -> 1 | C18: =Apoio!AI151 -> 2 | D18: =Apoio!AJ151 -> 3 | E18: =Apoio!AK151 -> 4 | F18: =Apoio!AL151 -> 5 | G18: =Apoio!AM151 -> 6 | H18: =Apoio!AN151 -> 7 | I18: =Apoio!AO151 -> 8 | ... P18: =Apoio!AV151 -> 15 | R18: 1 | T18: =Apoio!AH219 -> 1 | U18: =Apoio!AI219 -> 2 | V18: =Apoio!AJ219 -> 3 | W18: =Apoio!AK219 -> 4 | X18: =Apoio!AL219 -> 6 | Y18: =Apoio!AM219 -> 7 | Z18: =Apoio!AN219 -> 8 | AA18: =Apoio!AO219 -> 9 | ... AH18: =Apoio!AV219 -> 22 | AJ18: 69
B19: =Apoio!AH152 -> 1 | C19: =Apoio!AI152 -> 2 | D19: =Apoio!AJ152 -> 3 | E19: =Apoio!AK152 -> 4 | F19: =Apoio!AL152 -> 5 | G19: =Apoio!AM152 -> 6 | H19: =Apoio!AN152 -> 7 | I19: =Apoio!AO152 -> 8 | ... P19: =Apoio!AV152 -> 16 | R19: 2 | T19: =Apoio!AH220 -> 1 | U19: =Apoio!AI220 -> 2 | V19: =Apoio!AJ220 -> 3 | W19: =Apoio!AK220 -> 4 | X19: =Apoio!AL220 -> 6 | Y19: =Apoio!AM220 -> 7 | Z19: =Apoio!AN220 -> 8 | AA19: =Apoio!AO220 -> 9 | ... AH19: =Apoio!AV220 -> 22 | AJ19: 70
B20: =Apoio!AH153 -> 1 | C20: =Apoio!AI153 -> 2 | D20: =Apoio!AJ153 -> 3 | E20: =Apoio!AK153 -> 4 | F20: =Apoio!AL153 -> 5 | G20: =Apoio!AM153 -> 6 | H20: =Apoio!AN153 -> 7 | I20: =Apoio!AO153 -> 8 | ... P20: =Apoio!AV153 -> 22 | R20: 3 | T20: =Apoio!AH221 -> 1 | U20: =Apoio!AI221 -> 2 | V20: =Apoio!AJ221 -> 3 | W20: =Apoio!AK221 -> 4 | X20: =Apoio!AL221 -> 6 | Y20: =Apoio!AM221 -> 7 | Z20: =Apoio!AN221 -> 8 | AA20: =Apoio!AO221 -> 9 | ... AH20: =Apoio!AV221 -> 22 | AJ20: 71
B21: =Apoio!AH154 -> 1 | C21: =Apoio!AI154 -> 2 | D21: =Apoio!AJ154 -> 3 | E21: =Apoio!AK154 -> 4 | F21: =Apoio!AL154 -> 5 | G21: =Apoio!AM154 -> 6 | H21: =Apoio!AN154 -> 7 | I21: =Apoio!AO154 -> 8 | ... P21: =Apoio!AV154 -> 16 | R21: 4 | T21: =Apoio!AH222 -> 1 | U21: =Apoio!AI222 -> 2 | V21: =Apoio!AJ222 -> 3 | W21: =Apoio!AK222 -> 4 | X21: =Apoio!AL222 -> 6 | Y21: =Apoio!AM222 -> 7 | Z21: =Apoio!AN222 -> 8 | AA21: =Apoio!AO222 -> 9 | ... AH21: =Apoio!AV222 -> 22 | AJ21: 72
B22: =Apoio!AH155 -> 1 | C22: =Apoio!AI155 -> 2 | D22: =Apoio!AJ155 -> 3 | E22: =Apoio!AK155 -> 4 | F22: =Apoio!AL155 -> 5 | G22: =Apoio!AM155 -> 6 | H22: =Apoio!AN155 -> 7 | I22: =Apoio!AO155 -> 8 | ... P22: =Apoio!AV155 -> 22 | R22: 5 | T22: =Apoio!AH223 -> 1 | U22: =Apoio!AI223 -> 2 | V22: =Apoio!AJ223 -> 3 | W22: =Apoio!AK223 -> 4 | X22: =Apoio!AL223 -> 6 | Y22: =Apoio!AM223 -> 7 | Z22: =Apoio!AN223 -> 8 | AA22: =Apoio!AO223 -> 9 | ... AH22: =Apoio!AV223 -> 22 | AJ22: 73
B23: =Apoio!AH156 -> 1 | C23: =Apoio!AI156 -> 2 | D23: =Apoio!AJ156 -> 3 | E23: =Apoio!AK156 -> 4 | F23: =Apoio!AL156 -> 5 | G23: =Apoio!AM156 -> 6 | H23: =Apoio!AN156 -> 7 | I23: =Apoio!AO156 -> 8 | ... P23: =Apoio!AV156 -> 22 | R23: 6 | T23: =Apoio!AH224 -> 1 | U23: =Apoio!AI224 -> 2 | V23: =Apoio!AJ224 -> 3 | W23: =Apoio!AK224 -> 4 | X23: =Apoio!AL224 -> 6 | Y23: =Apoio!AM224 -> 7 | Z23: =Apoio!AN224 -> 8 | AA23: =Apoio!AO224 -> 9 | ... AH23: =Apoio!AV224 -> 22 | AJ23: 74
B24: =Apoio!AH157 -> 1 | C24: =Apoio!AI157 -> 2 | D24: =Apoio!AJ157 -> 3 | E24: =Apoio!AK157 -> 4 | F24: =Apoio!AL157 -> 5 | G24: =Apoio!AM157 -> 6 | H24: =Apoio!AN157 -> 7 | I24: =Apoio!AO157 -> 8 | ... P24: =Apoio!AV157 -> 16 | R24: 7 | T24: =Apoio!AH225 -> 1 | U24: =Apoio!AI225 -> 2 | V24: =Apoio!AJ225 -> 3 | W24: =Apoio!AK225 -> 4 | X24: =Apoio!AL225 -> 6 | Y24: =Apoio!AM225 -> 7 | Z24: =Apoio!AN225 -> 8 | AA24: =Apoio!AO225 -> 10 | ... AH24: =Apoio!AV225 -> 22 | AJ24: 75
B25: =Apoio!AH158 -> 1 | C25: =Apoio!AI158 -> 2 | D25: =Apoio!AJ158 -> 3 | E25: =Apoio!AK158 -> 4 | F25: =Apoio!AL158 -> 5 | G25: =Apoio!AM158 -> 6 | H25: =Apoio!AN158 -> 7 | I25: =Apoio!AO158 -> 8 | ... P25: =Apoio!AV158 -> 22 | R25: 8 | T25: =Apoio!AH226 -> 1 | U25: =Apoio!AI226 -> 2 | V25: =Apoio!AJ226 -> 3 | W25: =Apoio!AK226 -> 4 | X25: =Apoio!AL226 -> 6 | Y25: =Apoio!AM226 -> 7 | Z25: =Apoio!AN226 -> 9 | AA25: =Apoio!AO226 -> 10 | ... AH25: =Apoio!AV226 -> 22 | AJ25: 76
B26: =Apoio!AH159 -> 1 | C26: =Apoio!AI159 -> 2 | D26: =Apoio!AJ159 -> 3 | E26: =Apoio!AK159 -> 4 | F26: =Apoio!AL159 -> 5 | G26: =Apoio!AM159 -> 6 | H26: =Apoio!AN159 -> 7 | I26: =Apoio!AO159 -> 8 | ... P26: =Apoio!AV159 -> 22 | R26: 9 | T26: =Apoio!AH227 -> 1 | U26: =Apoio!AI227 -> 2 | V26: =Apoio!AJ227 -> 3 | W26: =Apoio!AK227 -> 4 | X26: =Apoio!AL227 -> 6 | Y26: =Apoio!AM227 -> 8 | Z26: =Apoio!AN227 -> 9 | AA26: =Apoio!AO227 -> 10 | ... AH26: =Apoio!AV227 -> 22 | AJ26: 77
B27: =Apoio!AH160 -> 1 | C27: =Apoio!AI160 -> 2 | D27: =Apoio!AJ160 -> 3 | E27: =Apoio!AK160 -> 4 | F27: =Apoio!AL160 -> 5 | G27: =Apoio!AM160 -> 6 | H27: =Apoio!AN160 -> 7 | I27: =Apoio!AO160 -> 8 | ... P27: =Apoio!AV160 -> 22 | R27: 10 | T27: =Apoio!AH228 -> 1 | U27: =Apoio!AI228 -> 2 | V27: =Apoio!AJ228 -> 3 | W27: =Apoio!AK228 -> 4 | X27: =Apoio!AL228 -> 7 | Y27: =Apoio!AM228 -> 8 | Z27: =Apoio!AN228 -> 9 | AA27: =Apoio!AO228 -> 10 | ... AH27: =Apoio!AV228 -> 22 | AJ27: 78
B28: =Apoio!AH161 -> 1 | C28: =Apoio!AI161 -> 2 | D28: =Apoio!AJ161 -> 3 | E28: =Apoio!AK161 -> 4 | F28: =Apoio!AL161 -> 5 | G28: =Apoio!AM161 -> 6 | H28: =Apoio!AN161 -> 7 | I28: =Apoio!AO161 -> 8 | ... P28: =Apoio!AV161 -> 16 | R28: 11 | T28: =Apoio!AH229 -> 1 | U28: =Apoio!AI229 -> 2 | V28: =Apoio!AJ229 -> 3 | W28: =Apoio!AK229 -> 5 | X28: =Apoio!AL229 -> 6 | Y28: =Apoio!AM229 -> 7 | Z28: =Apoio!AN229 -> 8 | AA28: =Apoio!AO229 -> 9 | ... AH28: =Apoio!AV229 -> 16 | AJ28: 79
B29: =Apoio!AH162 -> 1 | C29: =Apoio!AI162 -> 2 | D29: =Apoio!AJ162 -> 3 | E29: =Apoio!AK162 -> 4 | F29: =Apoio!AL162 -> 5 | G29: =Apoio!AM162 -> 6 | H29: =Apoio!AN162 -> 7 | I29: =Apoio!AO162 -> 8 | ... P29: =Apoio!AV162 -> 22 | R29: 12 | T29: =Apoio!AH230 -> 1 | U29: =Apoio!AI230 -> 2 | V29: =Apoio!AJ230 -> 3 | W29: =Apoio!AK230 -> 5 | X29: =Apoio!AL230 -> 6 | Y29: =Apoio!AM230 -> 7 | Z29: =Apoio!AN230 -> 8 | AA29: =Apoio!AO230 -> 9 | ... AH29: =Apoio!AV230 -> 22 | AJ29: 80
... B85: =Apoio!AH218 -> 1 | C85: =Apoio!AI218 -> 2 | D85: =Apoio!AJ218 -> 3 | E85: =Apoio!AK218 -> 4 | F85: =Apoio!AL218 -> 6 | G85: =Apoio!AM218 -> 7 | H85: =Apoio!AN218 -> 8 | I85: =Apoio!AO218 -> 9 | ... P85: =Apoio!AV218 -> 22 | R85: 68 | T85: =Apoio!AH286 -> 3 | U85: =Apoio!AI286 -> 4 | V85: =Apoio!AJ286 -> 5 | W85: =Apoio!AK286 -> 6 | X85: =Apoio!AL286 -> 7 | Y85: =Apoio!AM286 -> 8 | Z85: =Apoio!AN286 -> 9 | AA85: =Apoio!AO286 -> 10 | ... AH85: =Apoio!AV286 -> 22 | AJ85: 136

Sheet Opcao3
AA1: ="V"&X5 -> V1
A2: Opção 3 ( 10 fixos e 8 Excluídos )
X5: 1 | Y5: 10
B16: Total de 21 volantes
B18: =Apoio!BN33 -> 1 | C18: =Apoio!BO33 -> 2 | D18: =Apoio!BP33 -> 3 | E18: =Apoio!BQ33 -> 4 | F18: =Apoio!BR33 -> 5 | G18: =Apoio!BS33 -> 6 | H18: =Apoio!BT33 -> 7 | I18: =Apoio!BU33 -> 8 | ... P18: =Apoio!CB33 -> 15 | R18: 1
B19: =Apoio!BN34 -> 1 | C19: =Apoio!BO34 -> 2 | D19: =Apoio!BP34 -> 3 | E19: =Apoio!BQ34 -> 4 | F19: =Apoio!BR34 -> 5 | G19: =Apoio!BS34 -> 6 | H19: =Apoio!BT34 -> 7 | I19: =Apoio!BU34 -> 8 | ... P19: =Apoio!CB34 -> 16 | R19: 2
B20: =Apoio!BN35 -> 1 | C20: =Apoio!BO35 -> 2 | D20: =Apoio!BP35 -> 3 | E20: =Apoio!BQ35 -> 4 | F20: =Apoio!BR35 -> 5 | G20: =Apoio!BS35 -> 6 | H20: =Apoio!BT35 -> 7 | I20: =Apoio!BU35 -> 8 | ... P20: =Apoio!CB35 -> 25 | R20: 3
B21: =Apoio!BN36 -> 1 | C21: =Apoio!BO36 -> 2 | D21: =Apoio!BP36 -> 3 | E21: =Apoio!BQ36 -> 4 | F21: =Apoio!BR36 -> 5 | G21: =Apoio!BS36 -> 6 | H21: =Apoio!BT36 -> 7 | I21: =Apoio!BU36 -> 8 | ... P21: =Apoio!CB36 -> 16 | R21: 4
B22: =Apoio!BN37 -> 1 | C22: =Apoio!BO37 -> 2 | D22: =Apoio!BP37 -> 3 | E22: =Apoio!BQ37 -> 4 | F22: =Apoio!BR37 -> 5 | G22: =Apoio!BS37 -> 6 | H22: =Apoio!BT37 -> 7 | I22: =Apoio!BU37 -> 8 | ... P22: =Apoio!CB37 -> 25 | R22: 5
B23: =Apoio!BN38 -> 1 | C23: =Apoio!BO38 -> 2 | D23: =Apoio!BP38 -> 3 | E23: =Apoio!BQ38 -> 4 | F23: =Apoio!BR38 -> 5 | G23: =Apoio!BS38 -> 6 | H23: =Apoio!BT38 -> 7 | I23: =Apoio!BU38 -> 8 | ... P23: =Apoio!CB38 -> 25 | R23: 6
B24: =Apoio!BN39 -> 1 | C24: =Apoio!BO39 -> 2 | D24: =Apoio!BP39 -> 3 | E24: =Apoio!BQ39 -> 4 | F24: =Apoio!BR39 -> 5 | G24: =Apoio!BS39 -> 6 | H24: =Apoio!BT39 -> 7 | I24: =Apoio!BU39 -> 8 | ... P24: =Apoio!CB39 -> 16 | R24: 7
B25: =Apoio!BN40 -> 1 | C25: =Apoio!BO40 -> 2 | D25: =Apoio!BP40 -> 3 | E25: =Apoio!BQ40 -> 4 | F25: =Apoio!BR40 -> 5 | G25: =Apoio!BS40 -> 6 | H25: =Apoio!BT40 -> 7 | I25: =Apoio!BU40 -> 8 | ... P25: =Apoio!CB40 -> 25 | R25: 8
B26: =Apoio!BN41 -> 1 | C26: =Apoio!BO41 -> 2 | D26: =Apoio!BP41 -> 3 | E26: =Apoio!BQ41 -> 4 | F26: =Apoio!BR41 -> 5 | G26: =Apoio!BS41 -> 6 | H26: =Apoio!BT41 -> 7 | I26: =Apoio!BU41 -> 8 | ... P26: =Apoio!CB41 -> 25 | R26: 9
B27: =Apoio!BN42 -> 1 | C27: =Apoio!BO42 -> 2 | D27: =Apoio!BP42 -> 3 | E27: =Apoio!BQ42 -> 4 | F27: =Apoio!BR42 -> 5 | G27: =Apoio!BS42 -> 6 | H27: =Apoio!BT42 -> 7 | I27: =Apoio!BU42 -> 8 | ... P27: =Apoio!CB42 -> 25 | R27: 10
B28: =Apoio!BN43 -> 1 | C28: =Apoio!BO43 -> 2 | D28: =Apoio!BP43 -> 3 | E28: =Apoio!BQ43 -> 4 | F28: =Apoio!BR43 -> 5 | G28: =Apoio!BS43 -> 6 | H28: =Apoio!BT43 -> 7 | I28: =Apoio!BU43 -> 8 | ... P28: =Apoio!CB43 -> 16 | R28: 11
B29: =Apoio!BN44 -> 1 | C29: =Apoio!BO44 -> 2 | D29: =Apoio!BP44 -> 3 | E29: =Apoio!BQ44 -> 4 | F29: =Apoio!BR44 -> 5 | G29: =Apoio!BS44 -> 6 | H29: =Apoio!BT44 -> 7 | I29: =Apoio!BU44 -> 8 | ... P29: =Apoio!CB44 -> 25 | R29: 12
... B38: =Apoio!BN53 -> 1 | C38: =Apoio!BO53 -> 2 | D38: =Apoio!BP53 -> 3 | E38: =Apoio!BQ53 -> 4 | F38: =Apoio!BR53 -> 5 | G38: =Apoio!BS53 -> 6 | H38: =Apoio!BT53 -> 7 | I38: =Apoio!BU53 -> 8 | ... P38: =Apoio!CB53 -> 25 | R38: 21

Sheet Opcao4
AA1: ="V"&X5 -> V1
A2: Opção 4 ( 17 fixos )
X5: 1 | Y5: 10
B16: Total de 21 volantes
B18: =Apoio!CT32 -> 1 | C18: =Apoio!CU32 -> 2 | D18: =Apoio!CV32 -> 3 | E18: =Apoio!CW32 -> 4 | F18: =Apoio!CX32 -> 5 | G18: =Apoio!CY32 -> 6 | H18: =Apoio!CZ32 -> 7 | I18: =Apoio!DA32 -> 8 | ... P18: =Apoio!DH32 -> 15 | R18: 1
B19: =Apoio!CT33 -> 1 | C19: =Apoio!CU33 -> 2 | D19: =Apoio!CV33 -> 3 | E19: =Apoio!CW33 -> 4 | F19: =Apoio!CX33 -> 5 | G19: =Apoio!CY33 -> 6 | H19: =Apoio!CZ33 -> 7 | I19: =Apoio!DA33 -> 8 | ... P19: =Apoio!DH33 -> 22 | R19: 2
B20: =Apoio!CT34 -> 1 | C20: =Apoio!CU34 -> 2 | D20: =Apoio!CV34 -> 3 | E20: =Apoio!CW34 -> 4 | F20: =Apoio!CX34 -> 5 | G20: =Apoio!CY34 -> 6 | H20: =Apoio!CZ34 -> 7 | I20: =Apoio!DA34 -> 8 | ... P20: =Apoio!DH34 -> 22 | R20: 3
B21: =Apoio!CT35 -> 1 | C21: =Apoio!CU35 -> 2 | D21: =Apoio!CV35 -> 3 | E21: =Apoio!CW35 -> 4 | F21: =Apoio!CX35 -> 5 | G21: =Apoio!CY35 -> 6 | H21: =Apoio!CZ35 -> 7 | I21: =Apoio!DA35 -> 8 | ... P21: =Apoio!DH35 -> 22 | R21: 4
B22: =Apoio!CT36 -> 1 | C22: =Apoio!CU36 -> 2 | D22: =Apoio!CV36 -> 3 | E22: =Apoio!CW36 -> 4 | F22: =Apoio!CX36 -> 5 | G22: =Apoio!CY36 -> 6 | H22: =Apoio!CZ36 -> 7 | I22: =Apoio!DA36 -> 8 | ... P22: =Apoio!DH36 -> 22 | R22: 5
B23: =Apoio!CT37 -> 1 | C23: =Apoio!CU37 -> 2 | D23: =Apoio!CV37 -> 3 | E23: =Apoio!CW37 -> 4 | F23: =Apoio!CX37 -> 5 | G23: =Apoio!CY37 -> 6 | H23: =Apoio!CZ37 -> 7 | I23: =Apoio!DA37 -> 8 | ... P23: =Apoio!DH37 -> 22 | R23: 6
B24: =Apoio!CT38 -> 1 | C24: =Apoio!CU38 -> 2 | D24: =Apoio!CV38 -> 3 | E24: =Apoio!CW38 -> 4 | F24: =Apoio!CX38 -> 5 | G24: =Apoio!CY38 -> 6 | H24: =Apoio!CZ38 -> 7 | I24: =Apoio!DA38 -> 8 | ... P24: =Apoio!DH38 -> 22 | R24: 7
B25: =Apoio!CT39 -> 1 | C25: =Apoio!CU39 -> 2 | D25: =Apoio!CV39 -> 3 | E25: =Apoio!CW39 -> 4 | F25: =Apoio!CX39 -> 5 | G25: =Apoio!CY39 -> 6 | H25: =Apoio!CZ39 -> 7 | I25: =Apoio!DA39 -> 8 | ... P25: =Apoio!DH39 -> 16 | R25: 8
B26: =Apoio!CT40 -> 1 | C26: =Apoio!CU40 -> 2 | D26: =Apoio!CV40 -> 3 | E26: =Apoio!CW40 -> 4 | F26: =Apoio!CX40 -> 5 | G26: =Apoio!CY40 -> 6 | H26: =Apoio!CZ40 -> 7 | I26: =Apoio!DA40 -> 8 | ... P26: =Apoio!DH40 -> 22 | R26: 9
B27: =Apoio!CT41 -> 1 | C27: =Apoio!CU41 -> 2 | D27: =Apoio!CV41 -> 3 | E27: =Apoio!CW41 -> 4 | F27: =Apoio!CX41 -> 5 | G27: =Apoio!CY41 -> 6 | H27: =Apoio!CZ41 -> 7 | I27: =Apoio!DA41 -> 9 | ... P27: =Apoio!DH41 -> 22 | R27: 10
B28: =Apoio!CT42 -> 1 | C28: =Apoio!CU42 -> 2 | D28: =Apoio!CV42 -> 3 | E28: =Apoio!CW42 -> 4 | F28: =Apoio!CX42 -> 5 | G28: =Apoio!CY42 -> 8 | H28: =Apoio!CZ42 -> 9 | I28: =Apoio!DA42 -> 10 | ... P28: =Apoio!DH42 -> 22 | R28: 11
B29: =Apoio!CT43 -> 1 | C29: =Apoio!CU43 -> 2 | D29: =Apoio!CV43 -> 3 | E29: =Apoio!CW43 -> 4 | F29: =Apoio!CX43 -> 6 | G29: =Apoio!CY43 -> 8 | H29: =Apoio!CZ43 -> 9 | I29: =Apoio!DA43 -> 10 | ... P29: =Apoio!DH43 -> 22 | R29: 12
... B38: =Apoio!CT52 -> 2 | C38: =Apoio!CU52 -> 3 | D38: =Apoio!CV52 -> 4 | E38: =Apoio!CW52 -> 5 | F38: =Apoio!CX52 -> 6 | G38: =Apoio!CY52 -> 7 | H38: =Apoio!CZ52 -> 9 | I38: =Apoio!DA52 -> 10 | ... P38: =Apoio!DH52 -> 22 | R38: 21

Sheet Opcao5
AA1: ="V"&X5 -> V1
A2: Opção 5 ( 17 fixos )
X5: 1 | Y5: 10
B16: Total de 7 volantes
B18: =Apoio!BN88 -> 1 | C18: =Apoio!BO88 -> 2 | D18: =Apoio!BP88 -> 3 | E18: =Apoio!BQ88 -> 4 | F18: =Apoio!BR88 -> 5 | G18: =Apoio!BS88 -> 6 | H18: =Apoio!BT88 -> 7 | I18: =Apoio!BU88 -> 8 | ... P18: =Apoio!CB88 -> 16 | R18: 1
B19: =Apoio!BN89 -> 1 | C19: =Apoio!BO89 -> 2 | D19: =Apoio!BP89 -> 3 | E19: =Apoio!BQ89 -> 4 | F19: =Apoio!BR89 -> 5 | G19: =Apoio!BS89 -> 6 | H19: =Apoio!BT89 -> 7 | I19: =Apoio!BU89 -> 8 | ... P19: =Apoio!CB89 -> 22 | R19: 2
B20: =Apoio!BN90 -> 1 | C20: =Apoio!BO90 -> 2 | D20: =Apoio!BP90 -> 3 | E20: =Apoio!BQ90 -> 4 | F20: =Apoio!BR90 -> 5 | G20: =Apoio!BS90 -> 6 | H20: =Apoio!BT90 -> 7 | I20: =Apoio!BU90 -> 8 | ... P20: =Apoio!CB90 -> 22 | R20: 3
B21: =Apoio!BN91 -> 1 | C21: =Apoio!BO91 -> 2 | D21: =Apoio!BP91 -> 3 | E21: =Apoio!BQ91 -> 4 | F21: =Apoio!BR91 -> 5 | G21: =Apoio!BS91 -> 6 | H21: =Apoio!BT91 -> 8 | I21: =Apoio!BU91 -> 9 | ... P21: =Apoio!CB91 -> 16 | R21: 4
B22: =Apoio!BN92 -> 1 | C22: =Apoio!BO92 -> 2 | D22: =Apoio!BP92 -> 3 | E22: =Apoio!BQ92 -> 4 | F22: =Apoio!BR92 -> 7 | G22: =Apoio!BS92 -> 8 | H22: =Apoio!BT92 -> 9 | I22: =Apoio!BU92 -> 10 | ... P22: =Apoio!CB92 -> 22 | R22: 5
B23: =Apoio!BN93 -> 1 | C23: =Apoio!BO93 -> 2 | D23: =Apoio!BP93 -> 4 | E23: =Apoio!BQ93 -> 5 | F23: =Apoio!BR93 -> 6 | G23: =Apoio!BS93 -> 7 | H23: =Apoio!BT93 -> 8 | I23: =Apoio!BU93 -> 10 | ... P23: =Apoio!CB93 -> 22 | R23: 6
B24: =Apoio!BN94 -> 3 | C24: =Apoio!BO94 -> 4 | D24: =Apoio!BP94 -> 5 | E24: =Apoio!BQ94 -> 6 | F24: =Apoio!BR94 -> 7 | G24: =Apoio!BS94 -> 8 | H24: =Apoio!BT94 -> 9 | I24: =Apoio!BU94 -> 10 | ... P24: =Apoio!CB94 -> 22 | R24: 7

Sheet Opcao6
AA1: ="V"&X5 -> V1
A2: Opção 6 ( 17 fixos )
X5: 1 | Y5: 10
B16: Total de 28 volantes
B18: =Apoio!BN134 -> 1 | C18: =Apoio!BO134 -> 2 | D18: =Apoio!BP134 -> 3 | E18: =Apoio!BQ134 -> 4 | F18: =Apoio!BR134 -> 5 | G18: =Apoio!BS134 -> 6 | H18: =Apoio!BT134 -> 7 | I18: =Apoio!BU134 -> 8 | ... P18: =Apoio!CB134 -> 22 | R18: 1
B19: =Apoio!BN135 -> 1 | C19: =Apoio!BO135 -> 2 | D19: =Apoio!BP135 -> 3 | E19: =Apoio!BQ135 -> 4 | F19: =Apoio!BR135 -> 5 | G19: =Apoio!BS135 -> 6 | H19: =Apoio!BT135 -> 7 | I19: =Apoio!BU135 -> 8 | ... P19: =Apoio!CB135 -> 22 | R19: 2
B20: =Apoio!BN136 -> 1 | C20: =Apoio!BO136 -> 2 | D20: =Apoio!BP136 -> 3 | E20: =Apoio!BQ136 -> 4 | F20: =Apoio!BR136 -> 5 | G20: =Apoio!BS136 -> 6 | H20: =Apoio!BT136 -> 7 | I20: =Apoio!BU136 -> 8 | ... P20: =Apoio!CB136 -> 22 | R20: 3
B21: =Apoio!BN137 -> 1 | C21: =Apoio!BO137 -> 2 | D21: =Apoio!BP137 -> 3 | E21: =Apoio!BQ137 -> 4 | F21: =Apoio!BR137 -> 5 | G21: =Apoio!BS137 -> 6 | H21: =Apoio!BT137 -> 7 | I21: =Apoio!BU137 -> 8 | ... P21: =Apoio!CB137 -> 16 | R21: 4
B22: =Apoio!BN138 -> 1 | C22: =Apoio!BO138 -> 2 | D22: =Apoio!BP138 -> 3 | E22: =Apoio!BQ138 -> 4 | F22: =Apoio!BR138 -> 5 | G22: =Apoio!BS138 -> 6 | H22: =Apoio!BT138 -> 7 | I22: =Apoio!BU138 -> 8 | ... P22: =Apoio!CB138 -> 22 | R22: 5
B23: =Apoio!BN139 -> 1 | C23: =Apoio!BO139 -> 2 | D23: =Apoio!BP139 -> 3 | E23: =Apoio!BQ139 -> 4 | F23: =Apoio!BR139 -> 5 | G23: =Apoio!BS139 -> 6 | H23: =Apoio!BT139 -> 7 | I23: =Apoio!BU139 -> 8 | ... P23: =Apoio!CB139 -> 22 | R23: 6
B24: =Apoio!BN140 -> 1 | C24: =Apoio!BO140 -> 2 | D24: =Apoio!BP140 -> 3 | E24: =Apoio!BQ140 -> 4 | F24: =Apoio!BR140 -> 5 | G24: =Apoio!BS140 -> 6 | H24: =Apoio!BT140 -> 7 | I24: =Apoio!BU140 -> 8 | ... P24: =Apoio!CB140 -> 22 | R24: 7
B25: =Apoio!BN141 -> 1 | C25: =Apoio!BO141 -> 2 | D25: =Apoio!BP141 -> 3 | E25: =Apoio!BQ141 -> 4 | F25: =Apoio!BR141 -> 5 | G25: =Apoio!BS141 -> 6 | H25: =Apoio!BT141 -> 7 | I25: =Apoio!BU141 -> 8 | ... P25: =Apoio!CB141 -> 16 | R25: 8
B26: =Apoio!BN142 -> 1 | C26: =Apoio!BO142 -> 2 | D26: =Apoio!BP142 -> 3 | E26: =Apoio!BQ142 -> 4 | F26: =Apoio!BR142 -> 5 | G26: =Apoio!BS142 -> 6 | H26: =Apoio!BT142 -> 7 | I26: =Apoio!BU142 -> 8 | ... P26: =Apoio!CB142 -> 22 | R26: 9
B27: =Apoio!BN143 -> 1 | C27: =Apoio!BO143 -> 2 | D27: =Apoio!BP143 -> 3 | E27: =Apoio!BQ143 -> 4 | F27: =Apoio!BR143 -> 5 | G27: =Apoio!BS143 -> 6 | H27: =Apoio!BT143 -> 7 | I27: =Apoio!BU143 -> 9 | ... P27: =Apoio!CB143 -> 22 | R27: 10
B28: =Apoio!BN144 -> 1 | C28: =Apoio!BO144 -> 2 | D28: =Apoio!BP144 -> 3 | E28: =Apoio!BQ144 -> 4 | F28: =Apoio!BR144 -> 5 | G28: =Apoio!BS144 -> 6 | H28: =Apoio!BT144 -> 8 | I28: =Apoio!BU144 -> 9 | ... P28: =Apoio!CB144 -> 16 | R28: 11
B29: =Apoio!BN145 -> 1 | C29: =Apoio!BO145 -> 2 | D29: =Apoio!BP145 -> 3 | E29: =Apoio!BQ145 -> 4 | F29: =Apoio!BR145 -> 5 | G29: =Apoio!BS145 -> 6 | H29: =Apoio!BT145 -> 8 | I29: =Apoio!BU145 -> 9 | ... P29: =Apoio!CB145 -> 22 | R29: 12
... B45: =Apoio!BN161 -> 2 | C45: =Apoio!BO161 -> 3 | D45: =Apoio!BP161 -> 5 | E45: =Apoio!BQ161 -> 6 | F45: =Apoio!BR161 -> 7 | G45: =Apoio!BS161 -> 8 | H45: =Apoio!BT161 -> 9 | I45: =Apoio!BU161 -> 10 | ... P45: =Apoio!CB161 -> 22 | R45: 28

Sheet Opcao7
AA1: ="V"&X5 -> V1
A2: Opção 7 ( 17 fixos )
X5: 1 | Y5: 10
B16: Total de 40 volantes
B18: =Apoio!A206 -> 1 | C18: =Apoio!B206 -> 2 | D18: =Apoio!C206 -> 3 | E18: =Apoio!D206 -> 4 | F18: =Apoio!E206 -> 5 | G18: =Apoio!F206 -> 6 | H18: =Apoio!G206 -> 7 | I18: =Apoio!H206 -> 8 | ... P18: =Apoio!O206 -> 15 | R18: 1
B19: =Apoio!A207 -> 1 | C19: =Apoio!B207 -> 2 | D19: =Apoio!C207 -> 3 | E19: =Apoio!D207 -> 4 | F19: =Apoio!E207 -> 5 | G19: =Apoio!F207 -> 6 | H19: =Apoio!G207 -> 7 | I19: =Apoio!H207 -> 8 | ... P19: =Apoio!O207 -> 16 | R19: 2
B20: =Apoio!A208 -> 1 | C20: =Apoio!B208 -> 2 | D20: =Apoio!C208 -> 3 | E20: =Apoio!D208 -> 4 | F20: =Apoio!E208 -> 5 | G20: =Apoio!F208 -> 6 | H20: =Apoio!G208 -> 7 | I20: =Apoio!H208 -> 8 | ... P20: =Apoio!O208 -> 22 | R20: 3
B21: =Apoio!A209 -> 1 | C21: =Apoio!B209 -> 2 | D21: =Apoio!C209 -> 3 | E21: =Apoio!D209 -> 4 | F21: =Apoio!E209 -> 5 | G21: =Apoio!F209 -> 6 | H21: =Apoio!G209 -> 7 | I21: =Apoio!H209 -> 8 | ... P21: =Apoio!O209 -> 16 | R21: 4
B22: =Apoio!A210 -> 1 | C22: =Apoio!B210 -> 2 | D22: =Apoio!C210 -> 3 | E22: =Apoio!D210 -> 4 | F22: =Apoio!E210 -> 5 | G22: =Apoio!F210 -> 6 | H22: =Apoio!G210 -> 7 | I22: =Apoio!H210 -> 8 | ... P22: =Apoio!O210 -> 22 | R22: 5
B23: =Apoio!A211 -> 1 | C23: =Apoio!B211 -> 2 | D23: =Apoio!C211 -> 3 | E23: =Apoio!D211 -> 4 | F23: =Apoio!E211 -> 5 | G23: =Apoio!F211 -> 6 | H23: =Apoio!G211 -> 7 | I23: =Apoio!H211 -> 8 | ... P23: =Apoio!O211 -> 22 | R23: 6
B24: =Apoio!A212 -> 1 | C24: =Apoio!B212 -> 2 | D24: =Apoio!C212 -> 3 | E24: =Apoio!D212 -> 4 | F24: =Apoio!E212 -> 5 | G24: =Apoio!F212 -> 6 | H24: =Apoio!G212 -> 7 | I24: =Apoio!H212 -> 8 | ... P24: =Apoio!O212 -> 16 | R24: 7
B25: =Apoio!A213 -> 1 | C25: =Apoio!B213 -> 2 | D25: =Apoio!C213 -> 3 | E25: =Apoio!D213 -> 4 | F25: =Apoio!E213 -> 5 | G25: =Apoio!F213 -> 6 | H25: =Apoio!G213 -> 7 | I25: =Apoio!H213 -> 8 | ... P25: =Apoio!O213 -> 22 | R25: 8
B26: =Apoio!A214 -> 1 | C26: =Apoio!B214 -> 2 | D26: =Apoio!C214 -> 3 | E26: =Apoio!D214 -> 4 | F26: =Apoio!E214 -> 5 | G26: =Apoio!F214 -> 6 | H26: =Apoio!G214 -> 7 | I26: =Apoio!H214 -> 8 | ... P26: =Apoio!O214 -> 22 | R26: 9
B27: =Apoio!A215 -> 1 | C27: =Apoio!B215 -> 2 | D27: =Apoio!C215 -> 3 | E27: =Apoio!D215 -> 4 | F27: =Apoio!E215 -> 5 | G27: =Apoio!F215 -> 6 | H27: =Apoio!G215 -> 7 | I27: =Apoio!H215 -> 8 | ... P27: =Apoio!O215 -> 22 | R27: 10
B28: =Apoio!A216 -> 1 | C28: =Apoio!B216 -> 2 | D28: =Apoio!C216 -> 3 | E28: =Apoio!D216 -> 4 | F28: =Apoio!E216 -> 5 | G28: =Apoio!F216 -> 6 | H28: =Apoio!G216 -> 7 | I28: =Apoio!H216 -> 8 | ... P28: =Apoio!O216 -> 22 | R28: 11
B29: =Apoio!A217 -> 1 | C29: =Apoio!B217 -> 2 | D29: =Apoio!C217 -> 3 | E29: =Apoio!D217 -> 4 | F29: =Apoio!E217 -> 5 | G29: =Apoio!F217 -> 6 | H29: =Apoio!G217 -> 7 | I29: =Apoio!H217 -> 8 | ... P29: =Apoio!O217 -> 22 | R29: 12
... B57: =Apoio!A245 -> 3 | C57: =Apoio!B245 -> 4 | D57: =Apoio!C245 -> 5 | E57: =Apoio!D245 -> 6 | F57: =Apoio!E245 -> 7 | G57: =Apoio!F245 -> 8 | H57: =Apoio!G245 -> 9 | I57: =Apoio!H245 -> 10 | ... P57: =Apoio!O245 -> 22 | R57: 40

Sheet Opcao8
AA1: ="V"&X5 -> V1
A2: Opção 8 ( 17 fixos )
X5: 1 | Y5: 10
B16: Total de 8 volantes
B18: =Apoio!A264 -> 1 | C18: =Apoio!B264 -> 2 | D18: =Apoio!C264 -> 3 | E18: =Apoio!D264 -> 4 | F18: =Apoio!E264 -> 5 | G18: =Apoio!F264 -> 6 | H18: =Apoio!G264 -> 7 | I18: =Apoio!H264 -> 8 | ... P18: =Apoio!O264 -> 22 | R18: 1
B19: =Apoio!A265 -> 1 | C19: =Apoio!B265 -> 2 | D19: =Apoio!C265 -> 3 | E19: =Apoio!D265 -> 4 | F19: =Apoio!E265 -> 5 | G19: =Apoio!F265 -> 6 | H19: =Apoio!G265 -> 7 | I19: =Apoio!H265 -> 8 | ... P19: =Apoio!O265 -> 22 | R19: 2
B20: =Apoio!A266 -> 1 | C20: =Apoio!B266 -> 2 | D20: =Apoio!C266 -> 3 | E20: =Apoio!D266 -> 4 | F20: =Apoio!E266 -> 5 | G20: =Apoio!F266 -> 6 | H20: =Apoio!G266 -> 7 | I20: =Apoio!H266 -> 8 | ... P20: =Apoio!O266 -> 22 | R20: 3
B21: =Apoio!A267 -> 1 | C21: =Apoio!B267 -> 2 | D21: =Apoio!C267 -> 3 | E21: =Apoio!D267 -> 4 | F21: =Apoio!E267 -> 5 | G21: =Apoio!F267 -> 7 | H21: =Apoio!G267 -> 9 | I21: =Apoio!H267 -> 10 | ... P21: =Apoio!O267 -> 22 | R21: 4
B22: =Apoio!A268 -> 1 | C22: =Apoio!B268 -> 2 | D22: =Apoio!C268 -> 3 | E22: =Apoio!D268 -> 4 | F22: =Apoio!E268 -> 6 | G22: =Apoio!F268 -> 7 | H22: =Apoio!G268 -> 8 | I22: =Apoio!H268 -> 9 | ... P22: =Apoio!O268 -> 22 | R22: 5
B23: =Apoio!A269 -> 1 | C23: =Apoio!B269 -> 2 | D23: =Apoio!C269 -> 3 | E23: =Apoio!D269 -> 5 | F23: =Apoio!E269 -> 6 | G23: =Apoio!F269 -> 7 | H23: =Apoio!G269 -> 8 | I23: =Apoio!H269 -> 9 | ... P23: =Apoio!O269 -> 22 | R23: 6
B24: =Apoio!A270 -> 1 | C24: =Apoio!B270 -> 3 | D24: =Apoio!C270 -> 4 | E24: =Apoio!D270 -> 5 | F24: =Apoio!E270 -> 6 | G24: =Apoio!F270 -> 7 | H24: =Apoio!G270 -> 8 | I24: =Apoio!H270 -> 9 | ... P24: =Apoio!O270 -> 22 | R24: 7
B25: =Apoio!A271 -> 2 | C25: =Apoio!B271 -> 3 | D25: =Apoio!C271 -> 4 | E25: =Apoio!D271 -> 5 | F25: =Apoio!E271 -> 6 | G25: =Apoio!F271 -> 8 | H25: =Apoio!G271 -> 9 | I25: =Apoio!H271 -> 10 | ... P25: =Apoio!O271 -> 22 | R25: 8

Sheet Opcao9
AA1: ="V"&X5 -> V1
A2: Opção 9 ( 17 fixos )
X5: 1 | Y5: 10
B16: Total de 8 volantes
B18: =Apoio!BN180 -> 1 | C18: =Apoio!BO180 -> 2 | D18: =Apoio!BP180 -> 4 | E18: =Apoio!BQ180 -> 5 | F18: =Apoio!BR180 -> 7 | G18: =Apoio!BS180 -> 8 | H18: =Apoio!BT180 -> 9 | I18: =Apoio!BU180 -> 10 | ... P18: =Apoio!CB180 -> 22 | R18: 1
B19: =Apoio!BN181 -> 1 | C19: =Apoio!BO181 -> 2 | D19: =Apoio!BP181 -> 3 | E19: =Apoio!BQ181 -> 4 | F19: =Apoio!BR181 -> 5 | G19: =Apoio!BS181 -> 6 | H19: =Apoio!BT181 -> 7 | I19: =Apoio!BU181 -> 8 | ... P19: =Apoio!CB181 -> 22 | R19: 2
B20: =Apoio!BN182 -> 1 | C20: =Apoio!BO182 -> 2 | D20: =Apoio!BP182 -> 3 | E20: =Apoio!BQ182 -> 4 | F20: =Apoio!BR182 -> 5 | G20: =Apoio!BS182 -> 6 | H20: =Apoio!BT182 -> 8 | I20: =Apoio!BU182 -> 9 | ... P20: =Apoio!CB182 -> 22 | R20: 3
B21: =Apoio!BN183 -> 1 | C21: =Apoio!BO183 -> 3 | D21: =Apoio!BP183 -> 4 | E21: =Apoio!BQ183 -> 5 | F21: =Apoio!BR183 -> 6 | G21: =Apoio!BS183 -> 7 | H21: =Apoio!BT183 -> 8 | I21: =Apoio!BU183 -> 9 | ... P21: =Apoio!CB183 -> 22 | R21: 4
B22: =Apoio!BN184 -> 1 | C22: =Apoio!BO184 -> 2 | D22: =Apoio!BP184 -> 3 | E22: =Apoio!BQ184 -> 5 | F22: =Apoio!BR184 -> 6 | G22: =Apoio!BS184 -> 7 | H22: =Apoio!BT184 -> 8 | I22: =Apoio!BU184 -> 9 | ... P22: =Apoio!CB184 -> 16 | R22: 5
B23: =Apoio!BN185 -> 1 | C23: =Apoio!BO185 -> 2 | D23: =Apoio!BP185 -> 3 | E23: =Apoio!BQ185 -> 4 | F23: =Apoio!BR185 -> 5 | G23: =Apoio!BS185 -> 6 | H23: =Apoio!BT185 -> 7 | I23: =Apoio!BU185 -> 8 | ... P23: =Apoio!CB185 -> 22 | R23: 6
B24: =Apoio!BN186 -> 1 | C24: =Apoio!BO186 -> 2 | D24: =Apoio!BP186 -> 3 | E24: =Apoio!BQ186 -> 4 | F24: =Apoio!BR186 -> 5 | G24: =Apoio!BS186 -> 6 | H24: =Apoio!BT186 -> 7 | I24: =Apoio!BU186 -> 9 | ... P24: =Apoio!CB186 -> 22 | R24: 7
B25: =Apoio!BN187 -> 2 | C25: =Apoio!BO187 -> 3 | D25: =Apoio!BP187 -> 4 | E25: =Apoio!BQ187 -> 6 | F25: =Apoio!BR187 -> 7 | G25: =Apoio!BS187 -> 8 | H25: =Apoio!BT187 -> 9 | I25: =Apoio!BU187 -> 10 | ... P25: =Apoio!CB187 -> 22 | R25: 8

Sheet Apoio
BN1: 1 | BO1: 2 | BP1: 3 | BQ1: 4 | BR1: 5 | BS1: 6 | BT1: 7 | BU1: 8 | BV1: 9 | BW1: 10 | BX1: 11 | BY1: 12 | BZ1: 13 | CA1: 14 | CB1: 15 | CC1: 16 | CD1: 17 | CE1: 18 | CF1: 19 | CG1: 20 | CH1: 21 | CI1: 22 | CJ1: 23 | CK1: 24 | CL1: 25
BN2: =BN30 -> 1 | BO2: =BO30 -> 2 | BP2: =BP30 -> 3 | BQ2: =BQ30 -> 4 | BR2: =BR30 -> 5 | BS2: =BS30 -> 6 | BT2: =BT30 -> 7 | BU2: =BU30 -> 8 | ... BW2: =BW30 -> 10 | BX2: =BY67 -> 11 | BY2: =BZ67 -> 12 | BZ2: =CA67 -> 13 | CA2: =CB67 -> 14 | CB2: =CC67 -> 15 | CC2: =CD67 -> 16 | CD2: =CE67 -> 25 | CE2: =BN31 -> 17 | CF2: =BO31 -> 18 | CG2: =BP31 -> 19 | CH2: =BQ31 -> 20 | CI2: =BR31 -> 21 | CJ2: =BS31 -> 22 | CK2: =BT31 -> 23 | CL2: =BU31 -> 24
A3: 1 | B3: 2 | C3: 3 | D3: 4 | E3: 5 | F3: 6 | G3: 7 | H3: 8 | I3: 9 | J3: 10 | K3: 11 | L3: 12 | M3: 13 | N3: 14 | O3: 15 | P3: 16 | Q3: 17 | CT3: 1 | CU3: 2 | CV3: 3 | CW3: 4 | CX3: 5 | CY3: 6 | CZ3: 7 | DA3: 8 | DB3: 9 | DC3: 10 | DD3: 11 | DE3: 12 | DF3: 13 | DG3: 14 | DH3: 15 | DI3: 16 | DJ3: 17
A4: =Início!B17 -> 1 | B4: =Início!C17 -> 2 | C4: =Início!D17 -> 3 | D4: =Início!E17 -> 4 | E4: =Início!F17 -> 5 | F4: =Início!G17 -> 6 | G4: =Início!H17 -> 7 | H4: =Início!I17 -> 8 | ... Q4: =Início!R17 -> 22 | CT4: =Início!B17 -> 1 | CU4: =Início!C17 -> 2 | CV4: =Início!D17 -> 3 | CW4: =Início!E17 -> 4 | CX4: =Início!F17 -> 5 | CY4: =Início!G17 -> 6 | CZ4: =Início!H17 -> 7 | DA4: =Início!I17 -> 8 | ... DJ4: =Início!R17 -> 22
BN7: =LOOKUP(CD7,$BN$1:$CL$1,$BN$2:$CL$2) -> 1 | BO7: =LOOKUP(CE7,$BN$1:$CL$1,$BN$2:$CL$2) -> 2 | BP7: =LOOKUP(CF7,$BN$1:$CL$1,$BN$2:$CL$2) -> 3 | BQ7: =LOOKUP(CG7,$BN$1:$CL$1,$BN$2:$CL$2) -> 4 | BR7: =LOOKUP(CH7,$BN$1:$CL$1,$BN$2:$CL$2) -> 5 | BS7: =LOOKUP(CI7,$BN$1:$CL$1,$BN$2:$CL$2) -> 6 | BT7: =LOOKUP(CJ7,$BN$1:$CL$1,$BN$2:$CL$2) -> 7 | BU7: =LOOKUP(CK7,$BN$1:$CL$1,$BN$2:$CL$2) -> 8 | ... CB7: =LOOKUP(CR7,$BN$1:$CL$1,$BN$2:$CL$2) -> 15 | CD7: 1 | CE7: 2 | CF7: 3 | CG7: 4 | CH7: 5 | CI7: 6 | CJ7: 7 | CK7: 8 | CL7: 9 | CM7: 10 | CN7: 11 | CO7: 12 | CP7: 13 | CQ7: 14 | CR7: 15
BN8: =LOOKUP(CD8,$BN$1:$CL$1,$BN$2:$CL$2) -> 1 | BO8: =LOOKUP(CE8,$BN$1:$CL$1,$BN$2:$CL$2) -> 2 | BP8: =LOOKUP(CF8,$BN$1:$CL$1,$BN$2:$CL$2) -> 3 | BQ8: =LOOKUP(CG8,$BN$1:$CL$1,$BN$2:$CL$2) -> 4 | BR8: =LOOKUP(CH8,$BN$1:$CL$1,$BN$2:$CL$2) -> 5 | BS8: =LOOKUP(CI8,$BN$1:$CL$1,$BN$2:$CL$2) -> 6 | BT8: =LOOKUP(CJ8,$BN$1:$CL$1,$BN$2:$CL$2) -> 7 | BU8: =LOOKUP(CK8,$BN$1:$CL$1,$BN$2:$CL$2) -> 8 | ... CB8: =LOOKUP(CR8,$BN$1:$CL$1,$BN$2:$CL$2) -> 16 | CD8: 1 | CE8: 2 | CF8: 3 | CG8: 4 | CH8: 5 | CI8: 6 | CJ8: 7 | CK8: 8 | CL8: 9 | CM8: 10 | CN8: 11 | CO8: 12 | CP8: 13 | CQ8: 14 | CR8: 16
A9: =LOOKUP(Q9,$A$3:$Y$3,$A$4:$Y$4) -> 1 | B9: =LOOKUP(R9,$A$3:$Y$3,$A$4:$Y$4) -> 2 | C9: =LOOKUP(S9,$A$3:$Y$3,$A$4:$Y$4) -> 3 | D9: =LOOKUP(T9,$A$3:$Y$3,$A$4:$Y$4) -> 4 | E9: =LOOKUP(U9,$A$3:$Y$3,$A$4:$Y$4) -> 5 | F9: =LOOKUP(V9,$A$3:$Y$3,$A$4:$Y$4) -> 6 | G9: =LOOKUP(W9,$A$3:$Y$3,$A$4:$Y$4) -> 7 | H9: =LOOKUP(X9,$A$3:$Y$3,$A$4:$Y$4) -> 8 | ... O9: =LOOKUP(AE9,$A$3:$Y$3,$A$4:$Y$4) -> 16 | Q9: 1 | R9: 2 | S9: 3 | T9: 4 | U9: 5 | V9: 6 | W9: 7 | X9: 8 | Y9: 9 | Z9: 10 | AA9: 11 | AB9: 12 | AC9: 13 | AD9: 14 | AE9: 16 | AH9: =LOOKUP(AX9,$A$3:$Y$3,$A$4:$Y$4) -> 1 | AI9: =LOOKUP(AY9,$A$3:$Y$3,$A$4:$Y$4) -> 2 | AJ9: =LOOKUP(AZ9,$A$3:$Y$3,$A$4:$Y$4) -> 3 | AK9: =LOOKUP(BA9,$A$3:$Y$3,$A$4:$Y$4) -> 4 | AL9: =LOOKUP(BB9,$A$3:$Y$3,$A$4:$Y$4) -> 5 | AM9: =LOOKUP(BC9,$A$3:$Y$3,$A$4:$Y$4) -> 6 | AN9: =LOOKUP(BD9,$A$3:$Y$3,$A$4:$Y$4) -> 7 | AO9: =LOOKUP(BE9,$A$3:$Y$3,$A$4:$Y$4) -> 8 | ... AV9: =LOOKUP(BL9,$A$3:$Y$3,$A$4:$Y$4) -> 15 | AX9: 1 | AY9: 2 | AZ9: 3 | BA9: 4 | BB9: 5 | BC9: 6 | BD9: 7 | BE9: 8 | BF9: 9 | BG9: 10 | BH9: 11 | BI9: 12 | BJ9: 13 | BK9: 14 | BL9: 15 | BN9: =LOOKUP(CD9,$BN$1:$CL$1,$BN$2:$CL$2) -> 1 | BO9: =LOOKUP(CE9,$BN$1:$CL$1,$BN$2:$CL$2) -> 2 | BP9: =LOOKUP(CF9,$BN$1:$CL$1,$BN$2:$CL$2) -> 3 | BQ9: =LOOKUP(CG9,$BN$1:$CL$1,$BN$2:$CL$2) -> 4 | BR9: =LOOKUP(CH9,$BN$1:$CL$1,$BN$2:$CL$2) -> 5 | BS9: =LOOKUP(CI9,$BN$1:$CL$1,$BN$2:$CL$2) -> 6 | BT9: =LOOKUP(CJ9,$BN$1:$CL$1,$BN$2:$CL$2) -> 7 | BU9: =LOOKUP(CK9,$BN$1:$CL$1,$BN$2:$CL$2) -> 8 | ... CB9: =LOOKUP(CR9,$BN$1:$CL$1,$BN$2:$CL$2) -> 25 | CD9: 1 | CE9: 2 | CF9: 3 | CG9: 4 | CH9: 5 | CI9: 6 | CJ9: 7 | CK9: 8 | CL9: 9 | CM9: 10 | CN9: 11 | CO9: 12 | CP9: 13 | CQ9: 14 | CR9: 17 | CT9: =LOOKUP(DJ9,$CT$3:$DR$3,$CT$4:$DX$4) -> 1 | CU9: =LOOKUP(DK9,$CT$3:$DR$3,$CT$4:$DX$4) -> 2 | CV9: =LOOKUP(DL9,$CT$3:$DR$3,$CT$4:$DX$4) -> 3 | CW9: =LOOKUP(DM9,$CT$3:$DR$3,$CT$4:$DX$4) -> 4 | CX9: =LOOKUP(DN9,$CT$3:$DR$3,$CT$4:$DX$4) -> 5 | CY9: =LOOKUP(DO9,$CT$3:$DR$3,$CT$4:$DX$4) -> 6 | CZ9: =LOOKUP(DP9,$CT$3:$DR$3,$CT$4:$DX$4) -> 7 | DA9: =LOOKUP(DQ9,$CT$3:$DR$3,$CT$4:$DX$4) -> 8 | ... DH9: =LOOKUP(DX9,$CT$3:$DR$3,$CT$4:$DX$4) -> 15 | DJ9: 1 | DK9: 2 | DL9: 3 | DM9: 4 | DN9: 5 | DO9: 6 | DP9: 7 | DQ9: 8 | DR9: 9 | DS9: 10 | DT9: 11 | DU9: 12 | DV9: 13 | DW9: 14 | DX9: 15
A10: =LOOKUP(Q10,$A$3:$Y$3,$A$4:$Y$4) -> 1 | B10: =LOOKUP(R10,$A$3:$Y$3,$A$4:$Y$4) -> 2 | C10: =LOOKUP(S10,$A$3:$Y$3,$A$4:$Y$4) -> 3 | D10: =LOOKUP(T10,$A$3:$Y$3,$A$4:$Y$4) -> 4 | E10: =LOOKUP(U10,$A$3:$Y$3,$A$4:$Y$4) -> 5 | F10: =LOOKUP(V10,$A$3:$Y$3,$A$4:$Y$4) -> 6 | G10: =LOOKUP(W10,$A$3:$Y$3,$A$4:$Y$4) -> 7 | H10: =LOOKUP(X10,$A$3:$Y$3,$A$4:$Y$4) -> 8 | ... O10: =LOOKUP(AE10,$A$3:$Y$3,$A$4:$Y$4) -> 16 | Q10: 1 | R10: 2 | S10: 3 | T10: 4 | U10: 5 | V10: 6 | W10: 7 | X10: 8 | Y10: 9 | Z10: 10 | AA10: 11 | AB10: 12 | AC10: 13 | AD10: 15 | AE10: 16 | AH10: =LOOKUP(AX10,$A$3:$Y$3,$A$4:$Y$4) -> 1 | AI10: =LOOKUP(AY10,$A$3:$Y$3,$A$4:$Y$4) -> 2 | AJ10: =LOOKUP(AZ10,$A$3:$Y$3,$A$4:$Y$4) -> 3 | AK10: =LOOKUP(BA10,$A$3:$Y$3,$A$4:$Y$4) -> 4 | AL10: =LOOKUP(BB10,$A$3:$Y$3,$A$4:$Y$4) -> 5 | AM10: =LOOKUP(BC10,$A$3:$Y$3,$A$4:$Y$4) -> 6 | AN10: =LOOKUP(BD10,$A$3:$Y$3,$A$4:$Y$4) -> 7 | AO10: =LOOKUP(BE10,$A$3:$Y$3,$A$4:$Y$4) -> 8 | ... AV10: =LOOKUP(BL10,$A$3:$Y$3,$A$4:$Y$4) -> 16 | AX10: 1 | AY10: 2 | AZ10: 3 | BA10: 4 | BB10: 5 | BC10: 6 | BD10: 7 | BE10: 8 | BF10: 9 | BG10: 10 | BH10: 11 | BI10: 12 | BJ10: 13 | BK10: 14 | BL10: 16 | BN10: =LOOKUP(CD10,$BN$1:$CL$1,$BN$2:$CL$2) -> 1 | BO10: =LOOKUP(CE10,$BN$1:$CL$1,$BN$2:$CL$2) -> 2 | BP10: =LOOKUP(CF10,$BN$1:$CL$1,$BN$2:$CL$2) -> 3 | BQ10: =LOOKUP(CG10,$BN$1:$CL$1,$BN$2:$CL$2) -> 4 | BR10: =LOOKUP(CH10,$BN$1:$CL$1,$BN$2:$CL$2) -> 5 | BS10: =LOOKUP(CI10,$BN$1:$CL$1,$BN$2:$CL$2) -> 6 | BT10: =LOOKUP(CJ10,$BN$1:$CL$1,$BN$2:$CL$2) -> 7 | BU10: =LOOKUP(CK10,$BN$1:$CL$1,$BN$2:$CL$2) -> 8 | ... CB10: =LOOKUP(CR10,$BN$1:$CL$1,$BN$2:$CL$2) -> 16 | CD10: 1 | CE10: 2 | CF10: 3 | CG10: 4 | CH10: 5 | CI10: 6 | CJ10: 7 | CK10: 8 | CL10: 9 | CM10: 10 | CN10: 11 | CO10: 12 | CP10: 13 | CQ10: 15 | CR10: 16 | CT10: =LOOKUP(DJ10,$CT$3:$DR$3,$CT$4:$DX$4) -> 1 | CU10: =LOOKUP(DK10,$CT$3:$DR$3,$CT$4:$DX$4) -> 2 | CV10: =LOOKUP(DL10,$CT$3:$DR$3,$CT$4:$DX$4) -> 3 | CW10: =LOOKUP(DM10,$CT$3:$DR$3,$CT$4:$DX$4) -> 4 | CX10: =LOOKUP(DN10,$CT$3:$DR$3,$CT$4:$DX$4) -> 5 | CY10: =LOOKUP(DO10,$CT$3:$DR$3,$CT$4:$DX$4) -> 6 | CZ10: =LOOKUP(DP10,$CT$3:$DR$3,$CT$4:$DX$4) -> 7 | DA10: =LOOKUP(DQ10,$CT$3:$DR$3,$CT$4:$DX$4) -> 8 | ... DH10: =LOOKUP(DX10,$CT$3:$DR$3,$CT$4:$DX$4) -> 22 | DJ10: 1 | DK10: 2 | DL10: 3 | DM10: 4 | DN10: 5 | DO10: 6 | DP10: 7 | DQ10: 8 | DR10: 9 | DS10: 10 | DT10: 11 | DU10: 12 | DV10: 14 | DW10: 16 | DX10: 17
A11: =LOOKUP(Q11,$A$3:$Y$3,$A$4:$Y$4) -> 1 | B11: =LOOKUP(R11,$A$3:$Y$3,$A$4:$Y$4) -> 2 | C11: =LOOKUP(S11,$A$3:$Y$3,$A$4:$Y$4) -> 3 | D11: =LOOKUP(T11,$A$3:$Y$3,$A$4:$Y$4) -> 4 | E11: =LOOKUP(U11,$A$3:$Y$3,$A$4:$Y$4) -> 5 | F11: =LOOKUP(V11,$A$3:$Y$3,$A$4:$Y$4) -> 6 | G11: =LOOKUP(W11,$A$3:$Y$3,$A$4:$Y$4) -> 7 | H11: =LOOKUP(X11,$A$3:$Y$3,$A$4:$Y$4) -> 8 | ... O11: =LOOKUP(AE11,$A$3:$Y$3,$A$4:$Y$4) -> 22 | Q11: 1 | R11: 2 | S11: 3 | T11: 4 | U11: 5 | V11: 6 | W11: 7 | X11: 8 | Y11: 9 | Z11: 10 | AA11: 11 | AB11: 12 | AC11: 13 | AD11: 16 | AE11: 17 | AH11: =LOOKUP(AX11,$A$3:$Y$3,$A$4:$Y$4) -> 1 | AI11: =LOOKUP(AY11,$A$3:$Y$3,$A$4:$Y$4) -> 2 | AJ11: =LOOKUP(AZ11,$A$3:$Y$3,$A$4:$Y$4) -> 3 | AK11: =LOOKUP(BA11,$A$3:$Y$3,$A$4:$Y$4) -> 4 | AL11: =LOOKUP(BB11,$A$3:$Y$3,$A$4:$Y$4) -> 5 | AM11: =LOOKUP(BC11,$A$3:$Y$3,$A$4:$Y$4) -> 6 | AN11: =LOOKUP(BD11,$A$3:$Y$3,$A$4:$Y$4) -> 7 | AO11: =LOOKUP(BE11,$A$3:$Y$3,$A$4:$Y$4) -> 8 | ... AV11: =LOOKUP(BL11,$A$3:$Y$3,$A$4:$Y$4) -> 22 | AX11: 1 | AY11: 2 | AZ11: 3 | BA11: 4 | BB11: 5 | BC11: 6 | BD11: 7 | BE11: 8 | BF11: 9 | BG11: 10 | BH11: 11 | BI11: 12 | BJ11: 13 | BK11: 14 | BL11: 17 | BN11: =LOOKUP(CD11,$BN$1:$CL$1,$BN$2:$CL$2) -> 1 | BO11: =LOOKUP(CE11,$BN$1:$CL$1,$BN$2:$CL$2) -> 2 | BP11: =LOOKUP(CF11,$BN$1:$CL$1,$BN$2:$CL$2) -> 3 | BQ11: =LOOKUP(CG11,$BN$1:$CL$1,$BN$2:$CL$2) -> 4 | BR11: =LOOKUP(CH11,$BN$1:$CL$1,$BN$2:$CL$2) -> 5 | BS11: =LOOKUP(CI11,$BN$1:$CL$1,$BN$2:$CL$2) -> 6 | BT11: =LOOKUP(CJ11,$BN$1:$CL$1,$BN$2:$CL$2) -> 7 | BU11: =LOOKUP(CK11,$BN$1:$CL$1,$BN$2:$CL$2) -> 8 | ... CB11: =LOOKUP(CR11,$BN$1:$CL$1,$BN$2:$CL$2) -> 25 | CD11: 1 | CE11: 2 | CF11: 3 | CG11: 4 | CH11: 5 | CI11: 6 | CJ11: 7 | CK11: 8 | CL11: 9 | CM11: 10 | CN11: 11 | CO11: 12 | CP11: 13 | CQ11: 15 | CR11: 17 | CT11: =LOOKUP(DJ11,$CT$3:$DR$3,$CT$4:$DX$4) -> 1 | CU11: =LOOKUP(DK11,$CT$3:$DR$3,$CT$4:$DX$4) -> 2 | CV11: =LOOKUP(DL11,$CT$3:$DR$3,$CT$4:$DX$4) -> 3 | CW11: =LOOKUP(DM11,$CT$3:$DR$3,$CT$4:$DX$4) -> 4 | CX11: =LOOKUP(DN11,$CT$3:$DR$3,$CT$4:$DX$4) -> 5 | CY11: =LOOKUP(DO11,$CT$3:$DR$3,$CT$4:$DX$4) -> 6 | CZ11: =LOOKUP(DP11,$CT$3:$DR$3,$CT$4:$DX$4) -> 7 | DA11: =LOOKUP(DQ11,$CT$3:$DR$3,$CT$4:$DX$4) -> 8 | ... DH11: =LOOKUP(DX11,$CT$3:$DR$3,$CT$4:$DX$4) -> 22 | DJ11: 1 | DK11: 2 | DL11: 3 | DM11: 4 | DN11: 5 | DO11: 6 | DP11: 7 | DQ11: 8 | DR11: 9 | DS11: 10 | DT11: 11 | DU11: 13 | DV11: 14 | DW11: 16 | DX11: 17
A12: =LOOKUP(Q12,$A$3:$Y$3,$A$4:$Y$4) -> 1 | B12: =LOOKUP(R12,$A$3:$Y$3,$A$4:$Y$4) -> 2 | C12: =LOOKUP(S12,$A$3:$Y$3,$A$4:$Y$4) -> 3 | D12: =LOOKUP(T12,$A$3:$Y$3,$A$4:$Y$4) -> 4 | E12: =LOOKUP(U12,$A$3:$Y$3,$A$4:$Y$4) -> 5 | F12: =LOOKUP(V12,$A$3:$Y$3,$A$4:$Y$4) -> 6 | G12: =LOOKUP(W12,$A$3:$Y$3,$A$4:$Y$4) -> 7 | H12: =LOOKUP(X12,$A$3:$Y$3,$A$4:$Y$4) -> 8 | ... O12: =LOOKUP(AE12,$A$3:$Y$3,$A$4:$Y$4) -> 16 | Q12: 1 | R12: 2 | S12: 3 | T12: 4 | U12: 5 | V12: 6 | W12: 7 | X12: 8 | Y12: 9 | Z12: 10 | AA12: 11 | AB12: 12 | AC12: 14 | AD12: 15 | AE12: 16 | AH12: =LOOKUP(AX12,$A$3:$Y$3,$A$4:$Y$4) -> 1 | AI12: =LOOKUP(AY12,$A$3:$Y$3,$A$4:$Y$4) -> 2 | AJ12: =LOOKUP(AZ12,$A$3:$Y$3,$A$4:$Y$4) -> 3 | AK12: =LOOKUP(BA12,$A$3:$Y$3,$A$4:$Y$4) -> 4 | AL12: =LOOKUP(BB12,$A$3:$Y$3,$A$4:$Y$4) -> 5 | AM12: =LOOKUP(BC12,$A$3:$Y$3,$A$4:$Y$4) -> 6 | AN12: =LOOKUP(BD12,$A$3:$Y$3,$A$4:$Y$4) -> 7 | AO12: =LOOKUP(BE12,$A$3:$Y$3,$A$4:$Y$4) -> 8 | ... AV12: =LOOKUP(BL12,$A$3:$Y$3,$A$4:$Y$4) -> 16 | AX12: 1 | AY12: 2 | AZ12: 3 | BA12: 4 | BB12: 5 | BC12: 6 | BD12: 7 | BE12: 8 | BF12: 9 | BG12: 10 | BH12: 11 | BI12: 12 | BJ12: 13 | BK12: 15 | BL12: 16 | BN12: =LOOKUP(CD12,$BN$1:$CL$1,$BN$2:$CL$2) -> 1 | BO12: =LOOKUP(CE12,$BN$1:$CL$1,$BN$2:$CL$2) -> 2 | BP12: =LOOKUP(CF12,$BN$1:$CL$1,$BN$2:$CL$2) -> 3 | BQ12: =LOOKUP(CG12,$BN$1:$CL$1,$BN$2:$CL$2) -> 4 | BR12: =LOOKUP(CH12,$BN$1:$CL$1,$BN$2:$CL$2) -> 5 | BS12: =LOOKUP(CI12,$BN$1:$CL$1,$BN$2:$CL$2) -> 6 | BT12: =LOOKUP(CJ12,$BN$1:$CL$1,$BN$2:$CL$2) -> 7 | BU12: =LOOKUP(CK12,$BN$1:$CL$1,$BN$2:$CL$2) -> 8 | ... CB12: =LOOKUP(CR12,$BN$1:$CL$1,$BN$2:$CL$2) -> 25 | CD12: 1 | CE12: 2 | CF12: 3 | CG12: 4 | CH12: 5 | CI12: 6 | CJ12: 7 | CK12: 8 | CL12: 9 | CM12: 10 | CN12: 11 | CO12: 12 | CP12: 13 | CQ12: 16 | CR12: 17 | CT12: =LOOKUP(DJ12,$CT$3:$DR$3,$CT$4:$DX$4) -> 1 | CU12: =LOOKUP(DK12,$CT$3:$DR$3,$CT$4:$DX$4) -> 2 | CV12: =LOOKUP(DL12,$CT$3:$DR$3,$CT$4:$DX$4) -> 3 | CW12: =LOOKUP(DM12,$CT$3:$DR$3,$CT$4:$DX$4) -> 4 | CX12: =LOOKUP(DN12,$CT$3:$DR$3,$CT$4:$DX$4) -> 5 | CY12: =LOOKUP(DO12,$CT$3:$DR$3,$CT$4:$DX$4) -> 6 | CZ12: =LOOKUP(DP12,$CT$3:$DR$3,$CT$4:$DX$4) -> 7 | DA12: =LOOKUP(DQ12,$CT$3:$DR$3,$CT$4:$DX$4) -> 8 | ... DH12: =LOOKUP(DX12,$CT$3:$DR$3,$CT$4:$DX$4) -> 22 | DJ12: 1 | DK12: 2 | DL12: 3 | DM12: 4 | DN12: 5 | DO12: 6 | DP12: 7 | DQ12: 8 | DR12: 9 | DS12: 10 | DT12: 11 | DU12: 14 | DV12: 15 | DW12: 16 | DX12: 17
A13: =LOOKUP(Q13,$A$3:$Y$3,$A$4:$Y$4) -> 1 | B13: =LOOKUP(R13,$A$3:$Y$3,$A$4:$Y$4) -> 2 | C13: =LOOKUP(S13,$A$3:$Y$3,$A$4:$Y$4) -> 3 | D13: =LOOKUP(T13,$A$3:$Y$3,$A$4:$Y$4) -> 4 | E13: =LOOKUP(U13,$A$3:$Y$3,$A$4:$Y$4) -> 5 | F13: =LOOKUP(V13,$A$3:$Y$3,$A$4:$Y$4) -> 6 | G13: =LOOKUP(W13,$A$3:$Y$3,$A$4:$Y$4) -> 7 | H13: =LOOKUP(X13,$A$3:$Y$3,$A$4:$Y$4) -> 8 | ... O13: =LOOKUP(AE13,$A$3:$Y$3,$A$4:$Y$4) -> 22 | Q13: 1 | R13: 2 | S13: 3 | T13: 4 | U13: 5 | V13: 6 | W13: 7 | X13: 8 | Y13: 9 | Z13: 10 | AA13: 11 | AB13: 12 | AC13: 14 | AD13: 16 | AE13: 17 | AH13: =LOOKUP(AX13,$A$3:$Y$3,$A$4:$Y$4) -> 1 | AI13: =LOOKUP(AY13,$A$3:$Y$3,$A$4:$Y$4) -> 2 | AJ13: =LOOKUP(AZ13,$A$3:$Y$3,$A$4:$Y$4) -> 3 | AK13: =LOOKUP(BA13,$A$3:$Y$3,$A$4:$Y$4) -> 4 | AL13: =LOOKUP(BB13,$A$3:$Y$3,$A$4:$Y$4) -> 5 | AM13: =LOOKUP(BC13,$A$3:$Y$3,$A$4:$Y$4) -> 6 | AN13: =LOOKUP(BD13,$A$3:$Y$3,$A$4:$Y$4) -> 7 | AO13: =LOOKUP(BE13,$A$3:$Y$3,$A$4:$Y$4) -> 8 | ... AV13: =LOOKUP(BL13,$A$3:$Y$3,$A$4:$Y$4) -> 22 | AX13: 1 | AY13: 2 | AZ13: 3 | BA13: 4 | BB13: 5 | BC13: 6 | BD13: 7 | BE13: 8 | BF13: 9 | BG13: 10 | BH13: 11 | BI13: 12 | BJ13: 13 | BK13: 15 | BL13: 17 | BN13: =LOOKUP(CD13,$BN$1:$CL$1,$BN$2:$CL$2) -> 1 | BO13: =LOOKUP(CE13,$BN$1:$CL$1,$BN$2:$CL$2) -> 2 | BP13: =LOOKUP(CF13,$BN$1:$CL$1,$BN$2:$CL$2) -> 3 | BQ13: =LOOKUP(CG13,$BN$1:$CL$1,$BN$2:$CL$2) -> 4 | BR13: =LOOKUP(CH13,$BN$1:$CL$1,$BN$2:$CL$2) -> 5 | BS13: =LOOKUP(CI13,$BN$1:$CL$1,$BN$2:$CL$2) -> 6 | BT13: =LOOKUP(CJ13,$BN$1:$CL$1,$BN$2:$CL$2) -> 7 | BU13: =LOOKUP(CK13,$BN$1:$CL$1,$BN$2:$CL$2) -> 8 | ... CB13: =LOOKUP(CR13,$BN$1:$CL$1,$BN$2:$CL$2) -> 16 | CD13: 1 | CE13: 2 | CF13: 3 | CG13: 4 | CH13: 5 | CI13: 6 | CJ13: 7 | CK13: 8 | CL13: 9 | CM13: 10 | CN13: 11 | CO13: 12 | CP13: 14 | CQ13: 15 | CR13: 16 | CT13: =LOOKUP(DJ13,$CT$3:$DR$3,$CT$4:$DX$4) -> 1 | CU13: =LOOKUP(DK13,$CT$3:$DR$3,$CT$4:$DX$4) -> 2 | CV13: =LOOKUP(DL13,$CT$3:$DR$3,$CT$4:$DX$4) -> 3 | CW13: =LOOKUP(DM13,$CT$3:$DR$3,$CT$4:$DX$4) -> 4 | CX13: =LOOKUP(DN13,$CT$3:$DR$3,$CT$4:$DX$4) -> 5 | CY13: =LOOKUP(DO13,$CT$3:$DR$3,$CT$4:$DX$4) -> 6 | CZ13: =LOOKUP(DP13,$CT$3:$DR$3,$CT$4:$DX$4) -> 7 | DA13: =LOOKUP(DQ13,$CT$3:$DR$3,$CT$4:$DX$4) -> 8 | ... DH13: =LOOKUP(DX13,$CT$3:$DR$3,$CT$4:$DX$4) -> 22 | DJ13: 1 | DK13: 2 | DL13: 3 | DM13: 4 | DN13: 5 | DO13: 6 | DP13: 7 | DQ13: 8 | DR13: 9 | DS13: 10 | DT13: 12 | DU13: 13 | DV13: 14 | DW13: 16 | DX13: 17
A14: =LOOKUP(Q14,$A$3:$Y$3,$A$4:$Y$4) -> 1 | B14: =LOOKUP(R14,$A$3:$Y$3,$A$4:$Y$4) -> 2 | C14: =LOOKUP(S14,$A$3:$Y$3,$A$4:$Y$4) -> 3 | D14: =LOOKUP(T14,$A$3:$Y$3,$A$4:$Y$4) -> 4 | E14: =LOOKUP(U14,$A$3:$Y$3,$A$4:$Y$4) -> 5 | F14: =LOOKUP(V14,$A$3:$Y$3,$A$4:$Y$4) -> 6 | G14: =LOOKUP(W14,$A$3:$Y$3,$A$4:$Y$4) -> 7 | H14: =LOOKUP(X14,$A$3:$Y$3,$A$4:$Y$4) -> 8 | ... O14: =LOOKUP(AE14,$A$3:$Y$3,$A$4:$Y$4) -> 22 | Q14: 1 | R14: 2 | S14: 3 | T14: 4 | U14: 5 | V14: 6 | W14: 7 | X14: 8 | Y14: 9 | Z14: 10 | AA14: 11 | AB14: 12 | AC14: 15 | AD14: 16 | AE14: 17 | AH14: =LOOKUP(AX14,$A$3:$Y$3,$A$4:$Y$4) -> 1 | AI14: =LOOKUP(AY14,$A$3:$Y$3,$A$4:$Y$4) -> 2 | AJ14: =LOOKUP(AZ14,$A$3:$Y$3,$A$4:$Y$4) -> 3 | AK14: =LOOKUP(BA14,$A$3:$Y$3,$A$4:$Y$4) -> 4 | AL14: =LOOKUP(BB14,$A$3:$Y$3,$A$4:$Y$4) -> 5 | AM14: =LOOKUP(BC14,$A$3:$Y$3,$A$4:$Y$4) -> 6 | AN14: =LOOKUP(BD14,$A$3:$Y$3,$A$4:$Y$4) -> 7 | AO14: =LOOKUP(BE14,$A$3:$Y$3,$A$4:$Y$4) -> 8 | ... AV14: =LOOKUP(BL14,$A$3:$Y$3,$A$4:$Y$4) -> 22 | AX14: 1 | AY14: 2 | AZ14: 3 | BA14: 4 | BB14: 5 | BC14: 6 | BD14: 7 | BE14: 8 | BF14: 9 | BG14: 10 | BH14: 11 | BI14: 12 | BJ14: 13 | BK14: 16 | BL14: 17 | BN14: =LOOKUP(CD14,$BN$1:$CL$1,$BN$2:$CL$2) -> 1 | BO14: =LOOKUP(CE14,$BN$1:$CL$1,$BN$2:$CL$2) -> 2 | BP14: =LOOKUP(CF14,$BN$1:$CL$1,$BN$2:$CL$2) -> 3 | BQ14: =LOOKUP(CG14,$BN$1:$CL$1,$BN$2:$CL$2) -> 4 | BR14: =LOOKUP(CH14,$BN$1:$CL$1,$BN$2:$CL$2) -> 5 | BS14: =LOOKUP(CI14,$BN$1:$CL$1,$BN$2:$CL$2) -> 6 | BT14: =LOOKUP(CJ14,$BN$1:$CL$1,$BN$2:$CL$2) -> 7 | BU14: =LOOKUP(CK14,$BN$1:$CL$1,$BN$2:$CL$2) -> 8 | ... CB14: =LOOKUP(CR14,$BN$1:$CL$1,$BN$2:$CL$2) -> 25 | CD14: 1 | CE14: 2 | CF14: 3 | CG14: 4 | CH14: 5 | CI14: 6 | CJ14: 7 | CK14: 8 | CL14: 9 | CM14: 10 | CN14: 11 | CO14: 12 | CP14: 14 | CQ14: 15 | CR14: 17 | CT14: =LOOKUP(DJ14,$CT$3:$DR$3,$CT$4:$DX$4) -> 1 | CU14: =LOOKUP(DK14,$CT$3:$DR$3,$CT$4:$DX$4) -> 2 | CV14: =LOOKUP(DL14,$CT$3:$DR$3,$CT$4:$DX$4) -> 3 | CW14: =LOOKUP(DM14,$CT$3:$DR$3,$CT$4:$DX$4) -> 4 | CX14: =LOOKUP(DN14,$CT$3:$DR$3,$CT$4:$DX$4) -> 5 | CY14: =LOOKUP(DO14,$CT$3:$DR$3,$CT$4:$DX$4) -> 6 | CZ14: =LOOKUP(DP14,$CT$3:$DR$3,$CT$4:$DX$4) -> 7 | DA14: =LOOKUP(DQ14,$CT$3:$DR$3,$CT$4:$DX$4) -> 8 | ... DH14: =LOOKUP(DX14,$CT$3:$DR$3,$CT$4:$DX$4) -> 22 | DJ14: 1 | DK14: 2 | DL14: 3 | DM14: 4 | DN14: 5 | DO14: 6 | DP14: 7 | DQ14: 8 | DR14: 9 | DS14: 10 | DT14: 12 | DU14: 14 | DV14: 15 | DW14: 16 | DX14: 17
A15: =LOOKUP(Q15,$A$3:$Y$3,$A$4:$Y$4) -> 1 | B15: =LOOKUP(R15,$A$3:$Y$3,$A$4:$Y$4) -> 2 | C15: =LOOKUP(S15,$A$3:$Y$3,$A$4:$Y$4) -> 3 | D15: =LOOKUP(T15,$A$3:$Y$3,$A$4:$Y$4) -> 4 | E15: =LOOKUP(U15,$A$3:$Y$3,$A$4:$Y$4) -> 5 | F15: =LOOKUP(V15,$A$3:$Y$3,$A$4:$Y$4) -> 6 | G15: =LOOKUP(W15,$A$3:$Y$3,$A$4:$Y$4) -> 7 | H15: =LOOKUP(X15,$A$3:$Y$3,$A$4:$Y$4) -> 8 | ... O15: =LOOKUP(AE15,$A$3:$Y$3,$A$4:$Y$4) -> 16 | Q15: 1 | R15: 2 | S15: 3 | T15: 4 | U15: 5 | V15: 6 | W15: 7 | X15: 8 | Y15: 9 | Z15: 10 | AA15: 11 | AB15: 13 | AC15: 14 | AD15: 15 | AE15: 16 | AH15: =LOOKUP(AX15,$A$3:$Y$3,$A$4:$Y$4) -> 1 | AI15: =LOOKUP(AY15,$A$3:$Y$3,$A$4:$Y$4) -> 2 | AJ15: =LOOKUP(AZ15,$A$3:$Y$3,$A$4:$Y$4) -> 3 | AK15: =LOOKUP(BA15,$A$3:$Y$3,$A$4:$Y$4) -> 4 | AL15: =LOOKUP(BB15,$A$3:$Y$3,$A$4:$Y$4) -> 5 | AM15: =LOOKUP(BC15,$A$3:$Y$3,$A$4:$Y$4) -> 6 | AN15: =LOOKUP(BD15,$A$3:$Y$3,$A$4:$Y$4) -> 7 | AO15: =LOOKUP(BE15,$A$3:$Y$3,$A$4:$Y$4) -> 8 | ... AV15: =LOOKUP(BL15,$A$3:$Y$3,$A$4:$Y$4) -> 16 | AX15: 1 | AY15: 2 | AZ15: 3 | BA15: 4 | BB15: 5 | BC15: 6 | BD15: 7 | BE15: 8 | BF15: 9 | BG15: 10 | BH15: 11 | BI15: 12 | BJ15: 14 | BK15: 15 | BL15: 16 | BN15: =LOOKUP(CD15,$BN$1:$CL$1,$BN$2:$CL$2) -> 1 | BO15: =LOOKUP(CE15,$BN$1:$CL$1,$BN$2:$CL$2) -> 2 | BP15: =LOOKUP(CF15,$BN$1:$CL$1,$BN$2:$CL$2) -> 3 | BQ15: =LOOKUP(CG15,$BN$1:$CL$1,$BN$2:$CL$2) -> 4 | BR15: =LOOKUP(CH15,$BN$1:$CL$1,$BN$2:$CL$2) -> 5 | BS15: =LOOKUP(CI15,$BN$1:$CL$1,$BN$2:$CL$2) -> 6 | BT15: =LOOKUP(CJ15,$BN$1:$CL$1,$BN$2:$CL$2) -> 7 | BU15: =LOOKUP(CK15,$BN$1:$CL$1,$BN$2:$CL$2) -> 8 | ... CB15: =LOOKUP(CR15,$BN$1:$CL$1,$BN$2:$CL$2) -> 25 | CD15: 1 | CE15: 2 | CF15: 3 | CG15: 4 | CH15: 5 | CI15: 6 | CJ15: 7 | CK15: 8 | CL15: 9 | CM15: 10 | CN15: 11 | CO15: 12 | CP15: 14 | CQ15: 16 | CR15: 17 | CT15: =LOOKUP(DJ15,$CT$3:$DR$3,$CT$4:$DX$4) -> 1 | CU15: =LOOKUP(DK15,$CT$3:$DR$3,$CT$4:$DX$4) -> 2 | CV15: =LOOKUP(DL15,$CT$3:$DR$3,$CT$4:$DX$4) -> 3 | CW15: =LOOKUP(DM15,$CT$3:$DR$3,$CT$4:$DX$4) -> 4 | CX15: =LOOKUP(DN15,$CT$3:$DR$3,$CT$4:$DX$4) -> 5 | CY15: =LOOKUP(DO15,$CT$3:$DR$3,$CT$4:$DX$4) -> 6 | CZ15: =LOOKUP(DP15,$CT$3:$DR$3,$CT$4:$DX$4) -> 7 | DA15: =LOOKUP(DQ15,$CT$3:$DR$3,$CT$4:$DX$4) -> 8 | ... DH15: =LOOKUP(DX15,$CT$3:$DR$3,$CT$4:$DX$4) -> 22 | DJ15: 1 | DK15: 2 | DL15: 3 | DM15: 4 | DN15: 5 | DO15: 6 | DP15: 7 | DQ15: 8 | DR15: 9 | DS15: 10 | DT15: 13 | DU15: 14 | DV15: 15 | DW15: 16 | DX15: 17
A16: =LOOKUP(Q16,$A$3:$Y$3,$A$4:$Y$4) -> 1 | B16: =LOOKUP(R16,$A$3:$Y$3,$A$4:$Y$4) -> 2 | C16: =LOOKUP(S16,$A$3:$Y$3,$A$4:$Y$4) -> 3 | D16: =LOOKUP(T16,$A$3:$Y$3,$A$4:$Y$4) -> 4 | E16: =LOOKUP(U16,$A$3:$Y$3,$A$4:$Y$4) -> 5 | F16: =LOOKUP(V16,$A$3:$Y$3,$A$4:$Y$4) -> 6 | G16: =LOOKUP(W16,$A$3:$Y$3,$A$4:$Y$4) -> 7 | H16: =LOOKUP(X16,$A$3:$Y$3,$A$4:$Y$4) -> 8 | ... O16: =LOOKUP(AE16,$A$3:$Y$3,$A$4:$Y$4) -> 22 | Q16: 1 | R16: 2 | S16: 3 | T16: 4 | U16: 5 | V16: 6 | W16: 7 | X16: 8 | Y16: 9 | Z16: 10 | AA16: 11 | AB16: 13 | AC16: 14 | AD16: 16 | AE16: 17 | AH16: =LOOKUP(AX16,$A$3:$Y$3,$A$4:$Y$4) -> 1 | AI16: =LOOKUP(AY16,$A$3:$Y$3,$A$4:$Y$4) -> 2 | AJ16: =LOOKUP(AZ16,$A$3:$Y$3,$A$4:$Y$4) -> 3 | AK16: =LOOKUP(BA16,$A$3:$Y$3,$A$4:$Y$4) -> 4 | AL16: =LOOKUP(BB16,$A$3:$Y$3,$A$4:$Y$4) -> 5 | AM16: =LOOKUP(BC16,$A$3:$Y$3,$A$4:$Y$4) -> 6 | AN16: =LOOKUP(BD16,$A$3:$Y$3,$A$4:$Y$4) -> 7 | AO16: =LOOKUP(BE16,$A$3:$Y$3,$A$4:$Y$4) -> 8 | ... AV16: =LOOKUP(BL16,$A$3:$Y$3,$A$4:$Y$4) -> 22 | AX16: 1 | AY16: 2 | AZ16: 3 | BA16: 4 | BB16: 5 | BC16: 6 | BD16: 7 | BE16: 8 | BF16: 9 | BG16: 10 | BH16: 11 | BI16: 12 | BJ16: 14 | BK16: 15 | BL16: 17 | BN16: =LOOKUP(CD16,$BN$1:$CL$1,$BN$2:$CL$2) -> 1 | BO16: =LOOKUP(CE16,$BN$1:$CL$1,$BN$2:$CL$2) -> 2 | BP16: =LOOKUP(CF16,$BN$1:$CL$1,$BN$2:$CL$2) -> 3 | BQ16: =LOOKUP(CG16,$BN$1:$CL$1,$BN$2:$CL$2) -> 4 | BR16: =LOOKUP(CH16,$BN$1:$CL$1,$BN$2:$CL$2) -> 5 | BS16: =LOOKUP(CI16,$BN$1:$CL$1,$BN$2:$CL$2) -> 6 | BT16: =LOOKUP(CJ16,$BN$1:$CL$1,$BN$2:$CL$2) -> 7 | BU16: =LOOKUP(CK16,$BN$1:$CL$1,$BN$2:$CL$2) -> 8 | ... CB16: =LOOKUP(CR16,$BN$1:$CL$1,$BN$2:$CL$2) -> 25 | CD16: 1 | CE16: 2 | CF16: 3 | CG16: 4 | CH16: 5 | CI16: 6 | CJ16: 7 | CK16: 8 | CL16: 9 | CM16: 10 | CN16: 11 | CO16: 12 | CP16: 15 | CQ16: 16 | CR16: 17 | CT16: =LOOKUP(DJ16,$CT$3:$DR$3,$CT$4:$DX$4) -> 1 | CU16: =LOOKUP(DK16,$CT$3:$DR$3,$CT$4:$DX$4) -> 2 | CV16: =LOOKUP(DL16,$CT$3:$DR$3,$CT$4:$DX$4) -> 3 | CW16: =LOOKUP(DM16,$CT$3:$DR$3,$CT$4:$DX$4) -> 4 | CX16: =LOOKUP(DN16,$CT$3:$DR$3,$CT$4:$DX$4) -> 5 | CY16: =LOOKUP(DO16,$CT$3:$DR$3,$CT$4:$DX$4) -> 6 | CZ16: =LOOKUP(DP16,$CT$3:$DR$3,$CT$4:$DX$4) -> 7 | DA16: =LOOKUP(DQ16,$CT$3:$DR$3,$CT$4:$DX$4) -> 8 | ... DH16: =LOOKUP(DX16,$CT$3:$DR$3,$CT$4:$DX$4) -> 16 | DJ16: 1 | DK16: 2 | DL16: 3 | DM16: 4 | DN16: 5 | DO16: 6 | DP16: 7 | DQ16: 8 | DR16: 10 | DS16: 11 | DT16: 12 | DU16: 13 | DV16: 14 | DW16: 15 | DX16: 16
A17: =LOOKUP(Q17,$A$3:$Y$3,$A$4:$Y$4) -> 1 | B17: =LOOKUP(R17,$A$3:$Y$3,$A$4:$Y$4) -> 2 | C17: =LOOKUP(S17,$A$3:$Y$3,$A$4:$Y$4) -> 3 | D17: =LOOKUP(T17,$A$3:$Y$3,$A$4:$Y$4) -> 4 | E17: =LOOKUP(U17,$A$3:$Y$3,$A$4:$Y$4) -> 5 | F17: =LOOKUP(V17,$A$3:$Y$3,$A$4:$Y$4) -> 6 | G17: =LOOKUP(W17,$A$3:$Y$3,$A$4:$Y$4) -> 7 | H17: =LOOKUP(X17,$A$3:$Y$3,$A$4:$Y$4) -> 8 | ... O17: =LOOKUP(AE17,$A$3:$Y$3,$A$4:$Y$4) -> 22 | Q17: 1 | R17: 2 | S17: 3 | T17: 4 | U17: 5 | V17: 6 | W17: 7 | X17: 8 | Y17: 9 | Z17: 10 | AA17: 11 | AB17: 13 | AC17: 15 | AD17: 16 | AE17: 17 | AH17: =LOOKUP(AX17,$A$3:$Y$3,$A$4:$Y$4) -> 1 | AI17: =LOOKUP(AY17,$A$3:$Y$3,$A$4:$Y$4) -> 2 | AJ17: =LOOKUP(AZ17,$A$3:$Y$3,$A$4:$Y$4) -> 3 | AK17: =LOOKUP(BA17,$A$3:$Y$3,$A$4:$Y$4) -> 4 | AL17: =LOOKUP(BB17,$A$3:$Y$3,$A$4:$Y$4) -> 5 | AM17: =LOOKUP(BC17,$A$3:$Y$3,$A$4:$Y$4) -> 6 | AN17: =LOOKUP(BD17,$A$3:$Y$3,$A$4:$Y$4) -> 7 | AO17: =LOOKUP(BE17,$A$3:$Y$3,$A$4:$Y$4) -> 8 | ... AV17: =LOOKUP(BL17,$A$3:$Y$3,$A$4:$Y$4) -> 22 | AX17: 1 | AY17: 2 | AZ17: 3 | BA17: 4 | BB17: 5 | BC17: 6 | BD17: 7 | BE17: 8 | BF17: 9 | BG17: 10 | BH17: 11 | BI17: 12 | BJ17: 14 | BK17: 16 | BL17: 17 | BN17: =LOOKUP(CD17,$BN$1:$CL$1,$BN$2:$CL$2) -> 1 | BO17: =LOOKUP(CE17,$BN$1:$CL$1,$BN$2:$CL$2) -> 2 | BP17: =LOOKUP(CF17,$BN$1:$CL$1,$BN$2:$CL$2) -> 3 | BQ17: =LOOKUP(CG17,$BN$1:$CL$1,$BN$2:$CL$2) -> 4 | BR17: =LOOKUP(CH17,$BN$1:$CL$1,$BN$2:$CL$2) -> 5 | BS17: =LOOKUP(CI17,$BN$1:$CL$1,$BN$2:$CL$2) -> 6 | BT17: =LOOKUP(CJ17,$BN$1:$CL$1,$BN$2:$CL$2) -> 7 | BU17: =LOOKUP(CK17,$BN$1:$CL$1,$BN$2:$CL$2) -> 8 | ... CB17: =LOOKUP(CR17,$BN$1:$CL$1,$BN$2:$CL$2) -> 16 | CD17: 1 | CE17: 2 | CF17: 3 | CG17: 4 | CH17: 5 | CI17: 6 | CJ17: 7 | CK17: 8 | CL17: 9 | CM17: 10 | CN17: 11 | CO17: 13 | CP17: 14 | CQ17: 15 | CR17: 16 | CT17: =LOOKUP(DJ17,$CT$3:$DR$3,$CT$4:$DX$4) -> 1 | CU17: =LOOKUP(DK17,$CT$3:$DR$3,$CT$4:$DX$4) -> 2 | CV17: =LOOKUP(DL17,$CT$3:$DR$3,$CT$4:$DX$4) -> 3 | CW17: =LOOKUP(DM17,$CT$3:$DR$3,$CT$4:$DX$4) -> 4 | CX17: =LOOKUP(DN17,$CT$3:$DR$3,$CT$4:$DX$4) -> 5 | CY17: =LOOKUP(DO17,$CT$3:$DR$3,$CT$4:$DX$4) -> 6 | CZ17: =LOOKUP(DP17,$CT$3:$DR$3,$CT$4:$DX$4) -> 7 | DA17: =LOOKUP(DQ17,$CT$3:$DR$3,$CT$4:$DX$4) -> 8 | ... DH17: =LOOKUP(DX17,$CT$3:$DR$3,$CT$4:$DX$4) -> 22 | DJ17: 1 | DK17: 2 | DL17: 3 | DM17: 4 | DN17: 5 | DO17: 6 | DP17: 7 | DQ17: 8 | DR17: 10 | DS17: 11 | DT17: 12 | DU17: 13 | DV17: 14 | DW17: 15 | DX17: 17
A18: =LOOKUP(Q18,$A$3:$Y$3,$A$4:$Y$4) -> 1 | B18: =LOOKUP(R18,$A$3:$Y$3,$A$4:$Y$4) -> 2 | C18: =LOOKUP(S18,$A$3:$Y$3,$A$4:$Y$4) -> 3 | D18: =LOOKUP(T18,$A$3:$Y$3,$A$4:$Y$4) -> 4 | E18: =LOOKUP(U18,$A$3:$Y$3,$A$4:$Y$4) -> 5 | F18: =LOOKUP(V18,$A$3:$Y$3,$A$4:$Y$4) -> 6 | G18: =LOOKUP(W18,$A$3:$Y$3,$A$4:$Y$4) -> 7 | H18: =LOOKUP(X18,$A$3:$Y$3,$A$4:$Y$4) -> 8 | ... O18: =LOOKUP(AE18,$A$3:$Y$3,$A$4:$Y$4) -> 22 | Q18: 1 | R18: 2 | S18: 3 | T18: 4 | U18: 5 | V18: 6 | W18: 7 | X18: 8 | Y18: 9 | Z18: 10 | AA18: 11 | AB18: 14 | AC18: 15 | AD18: 16 | AE18: 17 | AH18: =LOOKUP(AX18,$A$3:$Y$3,$A$4:$Y$4) -> 1 | AI18: =LOOKUP(AY18,$A$3:$Y$3,$A$4:$Y$4) -> 2 | AJ18: =LOOKUP(AZ18,$A$3:$Y$3,$A$4:$Y$4) -> 3 | AK18: =LOOKUP(BA18,$A$3:$Y$3,$A$4:$Y$4) -> 4 | AL18: =LOOKUP(BB18,$A$3:$Y$3,$A$4:$Y$4) -> 5 | AM18: =LOOKUP(BC18,$A$3:$Y$3,$A$4:$Y$4) -> 6 | AN18: =LOOKUP(BD18,$A$3:$Y$3,$A$4:$Y$4) -> 7 | AO18: =LOOKUP(BE18,$A$3:$Y$3,$A$4:$Y$4) -> 8 | ... AV18: =LOOKUP(BL18,$A$3:$Y$3,$A$4:$Y$4) -> 22 | AX18: 1 | AY18: 2 | AZ18: 3 | BA18: 4 | BB18: 5 | BC18: 6 | BD18: 7 | BE18: 8 | BF18: 9 | BG18: 10 | BH18: 11 | BI18: 12 | BJ18: 15 | BK18: 16 | BL18: 17 | BN18: =LOOKUP(CD18,$BN$1:$CL$1,$BN$2:$CL$2) -> 1 | BO18: =LOOKUP(CE18,$BN$1:$CL$1,$BN$2:$CL$2) -> 2 | BP18: =LOOKUP(CF18,$BN$1:$CL$1,$BN$2:$CL$2) -> 3 | BQ18: =LOOKUP(CG18,$BN$1:$CL$1,$BN$2:$CL$2) -> 4 | BR18: =LOOKUP(CH18,$BN$1:$CL$1,$BN$2:$CL$2) -> 5 | BS18: =LOOKUP(CI18,$BN$1:$CL$1,$BN$2:$CL$2) -> 6 | BT18: =LOOKUP(CJ18,$BN$1:$CL$1,$BN$2:$CL$2) -> 7 | BU18: =LOOKUP(CK18,$BN$1:$CL$1,$BN$2:$CL$2) -> 8 | ... CB18: =LOOKUP(CR18,$BN$1:$CL$1,$BN$2:$CL$2) -> 25 | CD18: 1 | CE18: 2 | CF18: 3 | CG18: 4 | CH18: 5 | CI18: 6 | CJ18: 7 | CK18: 8 | CL18: 9 | CM18: 10 | CN18: 11 | CO18: 13 | CP18: 14 | CQ18: 15 | CR18: 17 | CT18: =LOOKUP(DJ18,$CT$3:$DR$3,$CT$4:$DX$4) -> 1 | CU18: =LOOKUP(DK18,$CT$3:$DR$3,$CT$4:$DX$4) -> 2 | CV18: =LOOKUP(DL18,$CT$3:$DR$3,$CT$4:$DX$4) -> 3 | CW18: =LOOKUP(DM18,$CT$3:$DR$3,$CT$4:$DX$4) -> 4 | CX18: =LOOKUP(DN18,$CT$3:$DR$3,$CT$4:$DX$4) -> 5 | CY18: =LOOKUP(DO18,$CT$3:$DR$3,$CT$4:$DX$4) -> 6 | CZ18: =LOOKUP(DP18,$CT$3:$DR$3,$CT$4:$DX$4) -> 7 | DA18: =LOOKUP(DQ18,$CT$3:$DR$3,$CT$4:$DX$4) -> 9 | ... DH18: =LOOKUP(DX18,$CT$3:$DR$3,$CT$4:$DX$4) -> 22 | DJ18: 1 | DK18: 2 | DL18: 3 | DM18: 4 | DN18: 5 | DO18: 6 | DP18: 7 | DQ18: 9 | DR18: 10 | DS18: 11 | DT18: 12 | DU18: 13 | DV18: 15 | DW18: 16 | DX18: 17
A19: =LOOKUP(Q19,$A$3:$Y$3,$A$4:$Y$4) -> 1 | B19: =LOOKUP(R19,$A$3:$Y$3,$A$4:$Y$4) -> 2 | C19: =LOOKUP(S19,$A$3:$Y$3,$A$4:$Y$4) -> 3 | D19: =LOOKUP(T19,$A$3:$Y$3,$A$4:$Y$4) -> 4 | E19: =LOOKUP(U19,$A$3:$Y$3,$A$4:$Y$4) -> 5 | F19: =LOOKUP(V19,$A$3:$Y$3,$A$4:$Y$4) -> 6 | G19: =LOOKUP(W19,$A$3:$Y$3,$A$4:$Y$4) -> 7 | H19: =LOOKUP(X19,$A$3:$Y$3,$A$4:$Y$4) -> 8 | ... O19: =LOOKUP(AE19,$A$3:$Y$3,$A$4:$Y$4) -> 22 | Q19: 1 | R19: 2 | S19: 3 | T19: 4 | U19: 5 | V19: 6 | W19: 7 | X19: 8 | Y19: 9 | Z19: 10 | AA19: 12 | AB19: 13 | AC19: 14 | AD19: 15 | AE19: 17 | AH19: =LOOKUP(AX19,$A$3:$Y$3,$A$4:$Y$4) -> 1 | AI19: =LOOKUP(AY19,$A$3:$Y$3,$A$4:$Y$4) -> 2 | AJ19: =LOOKUP(AZ19,$A$3:$Y$3,$A$4:$Y$4) -> 3 | AK19: =LOOKUP(BA19,$A$3:$Y$3,$A$4:$Y$4) -> 4 | AL19: =LOOKUP(BB19,$A$3:$Y$3,$A$4:$Y$4) -> 5 | AM19: =LOOKUP(BC19,$A$3:$Y$3,$A$4:$Y$4) -> 6 | AN19: =LOOKUP(BD19,$A$3:$Y$3,$A$4:$Y$4) -> 7 | AO19: =LOOKUP(BE19,$A$3:$Y$3,$A$4:$Y$4) -> 8 | ... AV19: =LOOKUP(BL19,$A$3:$Y$3,$A$4:$Y$4) -> 16 | AX19: 1 | AY19: 2 | AZ19: 3 | BA19: 4 | BB19: 5 | BC19: 6 | BD19: 7 | BE19: 8 | BF19: 9 | BG19: 10 | BH19: 11 | BI19: 13 | BJ19: 14 | BK19: 15 | BL19: 16 | BN19: =LOOKUP(CD19,$BN$1:$CL$1,$BN$2:$CL$2) -> 1 | BO19: =LOOKUP(CE19,$BN$1:$CL$1,$BN$2:$CL$2) -> 2 | BP19: =LOOKUP(CF19,$BN$1:$CL$1,$BN$2:$CL$2) -> 3 | BQ19: =LOOKUP(CG19,$BN$1:$CL$1,$BN$2:$CL$2) -> 4 | BR19: =LOOKUP(CH19,$BN$1:$CL$1,$BN$2:$CL$2) -> 5 | BS19: =LOOKUP(CI19,$BN$1:$CL$1,$BN$2:$CL$2) -> 6 | BT19: =LOOKUP(CJ19,$BN$1:$CL$1,$BN$2:$CL$2) -> 7 | BU19: =LOOKUP(CK19,$BN$1:$CL$1,$BN$2:$CL$2) -> 8 | ... CB19: =LOOKUP(CR19,$BN$1:$CL$1,$BN$2:$CL$2) -> 25 | CD19: 1 | CE19: 2 | CF19: 3 | CG19: 4 | CH19: 5 | CI19: 6 | CJ19: 7 | CK19: 8 | CL19: 9 | CM19: 10 | CN19: 11 | CO19: 13 | CP19: 14 | CQ19: 16 | CR19: 17 | CT19: =LOOKUP(DJ19,$CT$3:$DR$3,$CT$4:$DX$4) -> 1 | CU19: =LOOKUP(DK19,$CT$3:$DR$3,$CT$4:$DX$4) -> 2 | CV19: =LOOKUP(DL19,$CT$3:$DR$3,$CT$4:$DX$4) -> 3 | CW19: =LOOKUP(DM19,$CT$3:$DR$3,$CT$4:$DX$4) -> 4 | CX19: =LOOKUP(DN19,$CT$3:$DR$3,$CT$4:$DX$4) -> 5 | CY19: =LOOKUP(DO19,$CT$3:$DR$3,$CT$4:$DX$4) -> 8 | CZ19: =LOOKUP(DP19,$CT$3:$DR$3,$CT$4:$DX$4) -> 9 | DA19: =LOOKUP(DQ19,$CT$3:$DR$3,$CT$4:$DX$4) -> 10 | ... DH19: =LOOKUP(DX19,$CT$3:$DR$3,$CT$4:$DX$4) -> 22 | DJ19: 1 | DK19: 2 | DL19: 3 | DM19: 4 | DN19: 5 | DO19: 8 | DP19: 9 | DQ19: 10 | DR19: 11 | DS19: 12 | DT19: 13 | DU19: 14 | DV19: 15 | DW19: 16 | DX19: 17
