Workbook

Sheet Início
A1: Sua Logo Aqui | AA1: ="V"&X5 -> V1
E2: Desdobramento Lotofácil com 18 Números
X5: 1 | Y5: 10
U9: Opção 1: Se você acertar os 15 números fixos dos 18 escolhidos garante ao menos 1 cartela com 13 pontos. ( 6 volantes ) Opção 2: Se você acertar os 15 números fixos dos 18 escolhidos garante ao menos 1 cartela com 14 pontos. ( 24 volantes ) Opção 3: Se você acertar os 4 números fixos escolhidos e não sair nenhum dos 7 excluídos há 99% de chance de uma cartela fazer 15 pontos. ( 14 volantes ) Opção 4: Se você acertar os 11 números fixos dos 18 escolhidos garante ao menos 1 cartela com 11 pontos. ( 65 volantes ) Opção 5: Se você acertar os 12 números fixos dos 18 escolhidos garante ao menos 1 cartela com 12 pontos. ( 101 volantes ) Opção 6: Se você acertar os 13 números fixos dos 18 escolhidos garante ao menos 1 cartela com 13 pontos. ( 174 volantes ) Opção 7: Se você acertar os 14 números fixos dos 18 escolhidos garante ao menos 1 cartela com 14 pontos. ( 348 volantes ) Opção 8: Se você acertar os 15 números fixos dos 18 escolhidos garante ao menos 1 cartela com 14 pontos. ( 24 volantes )
B16: Digite 18 Números Fixo | J16: ( Qualquer Ordem)
B17: 1 | C17: 2 | D17: 3 | E17: 4 | F17: 5 | G17: 6 | H17: 7 | I17: 8 | J17: 9 | K17: 10 | L17: 11 | M17: 12 | N17: 13 | O17: 14 | P17: 15 | Q17: 16 | R17: 22 | S17: 21
B24: Opção 3:
B25: Digite 4 Números Fixo | J25: ( Qualquer Ordem)
B26: 1 | C26: 2 | D26: 3 | E26: 4
B27: Digite 7 Números Para Excluir
B28: 17 | C28: 18 | D28: 19 | E28: 20 | F28: 21 | G28: 22 | H28: 23

Sheet Opcao1
AA1: ="V"&X5 -> V1
A2: Opção 1 ( 18 fixos )
X5: 1 | Y5: 10
B16: Total de 6 volantes
B18: =Apoio!A14 -> 1 | C18: =Apoio!B14 -> 2 | D18: =Apoio!C14 -> 3 | E18: =Apoio!D14 -> 4 | F18: =Apoio!E14 -> 5 | G18: =Apoio!F14 -> 6 | H18: =Apoio!G14 -> 7 | I18: =Apoio!H14 -> 8 | ... P18: =Apoio!O14 -> 22 | R18: 1
B19: =Apoio!A15 -> 1 | C19: =Apoio!B15 -> 2 | D19: =Apoio!C15 -> 3 | E19: =Apoio!D15 -> 4 | F19: =Apoio!E15 -> 5 | G19: =Apoio!F15 -> 6 | H19: =Apoio!G15 -> 8 | I19: =Apoio!H15 -> 9 | ... P19: =Apoio!O15 -> 22 | R19: 2
B20: =Apoio!A16 -> 1 | C20: =Apoio!B16 -> 2 | D20: =Apoio!C16 -> 3 | E20: =Apoio!D16 -> 4 | F20: =Apoio!E16 -> 5 | G20: =Apoio!F16 -> 7 | H20: =Apoio!G16 -> 10 | I20: =Apoio!H16 -> 11 | ... P20: =Apoio!O16 -> 22 | R20: 3
B21: =Apoio!A17 -> 1 | C21: =Apoio!B17 -> 2 | D21: =Apoio!C17 -> 4 | E21: =Apoio!D17 -> 6 | F21: =Apoio!E17 -> 7 | G21: =Apoio!F17 -> 8 | H21: =Apoio!G17 -> 9 | I21: =Apoio!H17 -> 10 | ... P21: =Apoio!O17 -> 22 | R21: 4
B22: =Apoio!A18 -> 1 | C22: =Apoio!B18 -> 3 | D22: =Apoio!C18 -> 4 | E22: =Apoio!D18 -> 5 | F22: =Apoio!E18 -> 6 | G22: =Apoio!F18 -> 7 | H22: =Apoio!G18 -> 8 | I22: =Apoio!H18 -> 9 | ... P22: =Apoio!O18 -> 22 | R22: 5
B23: =Apoio!A19 -> 2 | C23: =Apoio!B19 -> 5 | D23: =Apoio!C19 -> 6 | E23: =Apoio!D19 -> 7 | F23: =Apoio!E19 -> 8 | G23: =Apoio!F19 -> 9 | H23: =Apoio!G19 -> 10 | I23: =Apoio!H19 -> 11 | ... P23: =Apoio!O19 -> 22 | R23: 6

Sheet Opcao2
AA1: ="V"&X5 -> V1
A2: Opção 2 ( 17 fixos )
X5: 1 | Y5: 10
B16: Total de 24 volantes
B18: =Apoio!A47 -> 1 | C18: =Apoio!B47 -> 2 | D18: =Apoio!C47 -> 3 | E18: =Apoio!D47 -> 4 | F18: =Apoio!E47 -> 5 | G18: =Apoio!F47 -> 6 | H18: =Apoio!G47 -> 7 | I18: =Apoio!H47 -> 8 | ... P18: =Apoio!O47 -> 22 | R18: 1
B19: =Apoio!A48 -> 1 | C19: =Apoio!B48 -> 2 | D19: =Apoio!C48 -> 3 | E19: =Apoio!D48 -> 4 | F19: =Apoio!E48 -> 5 | G19: =Apoio!F48 -> 6 | H19: =Apoio!G48 -> 7 | I19: =Apoio!H48 -> 8 | ... P19: =Apoio!O48 -> 22 | R19: 2
B20: =Apoio!A49 -> 1 | C20: =Apoio!B49 -> 2 | D20: =Apoio!C49 -> 3 | E20: =Apoio!D49 -> 4 | F20: =Apoio!E49 -> 5 | G20: =Apoio!F49 -> 7 | H20: =Apoio!G49 -> 8 | I20: =Apoio!H49 -> 9 | ... P20: =Apoio!O49 -> 22 | R20: 3
B21: =Apoio!A50 -> 1 | C21: =Apoio!B50 -> 2 | D21: =Apoio!C50 -> 3 | E21: =Apoio!D50 -> 4 | F21: =Apoio!E50 -> 6 | G21: =Apoio!F50 -> 7 | H21: =Apoio!G50 -> 8 | I21: =Apoio!H50 -> 9 | ... P21: =Apoio!O50 -> 22 | R21: 4
B22: =Apoio!A51 -> 1 | C22: =Apoio!B51 -> 2 | D22: =Apoio!C51 -> 3 | E22: =Apoio!D51 -> 4 | F22: =Apoio!E51 -> 5 | G22: =Apoio!F51 -> 6 | H22: =Apoio!G51 -> 7 | I22: =Apoio!H51 -> 8 | ... P22: =Apoio!O51 -> 22 | R22: 5
B23: =Apoio!A52 -> 1 | C23: =Apoio!B52 -> 3 | D23: =Apoio!C52 -> 4 | E23: =Apoio!D52 -> 5 | F23: =Apoio!E52 -> 6 | G23: =Apoio!F52 -> 7 | H23: =Apoio!G52 -> 10 | I23: =Apoio!H52 -> 11 | ... P23: =Apoio!O52 -> 22 | R23: 6
B24: =Apoio!A53 -> 1 | C24: =Apoio!B53 -> 2 | D24: =Apoio!C53 -> 5 | E24: =Apoio!D53 -> 6 | F24: =Apoio!E53 -> 8 | G24: =Apoio!F53 -> 9 | H24: =Apoio!G53 -> 10 | I24: =Apoio!H53 -> 11 | ... P24: =Apoio!O53 -> 22 | R24: 7
B25: =Apoio!A54 -> 1 | C25: =Apoio!B54 -> 2 | D25: =Apoio!C54 -> 3 | E25: =Apoio!D54 -> 4 | F25: =Apoio!E54 -> 5 | G25: =Apoio!F54 -> 6 | H25: =Apoio!G54 -> 7 | I25: =Apoio!H54 -> 8 | ... P25: =Apoio!O54 -> 21 | R25: 8
B26: =Apoio!A55 -> 1 | C26: =Apoio!B55 -> 2 | D26: =Apoio!C55 -> 3 | E26: =Apoio!D55 -> 4 | F26: =Apoio!E55 -> 5 | G26: =Apoio!F55 -> 6 | H26: =Apoio!G55 -> 7 | I26: =Apoio!H55 -> 8 | ... P26: =Apoio!O55 -> 16 | R26: 9
B27: =Apoio!A56 -> 1 | C27: =Apoio!B56 -> 2 | D27: =Apoio!C56 -> 3 | E27: =Apoio!D56 -> 5 | F27: =Apoio!E56 -> 6 | G27: =Apoio!F56 -> 7 | H27: =Apoio!G56 -> 8 | I27: =Apoio!H56 -> 10 | ... P27: =Apoio!O56 -> 22 | R27: 10
B28: =Apoio!A57 -> 1 | C28: =Apoio!B57 -> 4 | D28: =Apoio!C57 -> 5 | E28: =Apoio!D57 -> 6 | F28: =Apoio!E57 -> 7 | G28: =Apoio!F57 -> 8 | H28: =Apoio!G57 -> 9 | I28: =Apoio!H57 -> 10 | ... P28: =Apoio!O57 -> 22 | R28: 11
B29: =Apoio!A58 -> 1 | C29: =Apoio!B58 -> 3 | D29: =Apoio!C58 -> 5 | E29: =Apoio!D58 -> 6 | F29: =Apoio!E58 -> 7 | G29: =Apoio!F58 -> 8 | H29: =Apoio!G58 -> 9 | I29: =Apoio!H58 -> 10 | ... P29: =Apoio!O58 -> 22 | R29: 12
... B41: =Apoio!A70 -> 2 | C41: =Apoio!B70 -> 3 | D41: =Apoio!C70 -> 4 | E41: =Apoio!D70 -> 5 | F41: =Apoio!E70 -> 6 | G41: =Apoio!F70 -> 7 | H41: =Apoio!G70 -> 8 | I41: =Apoio!H70 -> 9 | ... P41: =Apoio!O70 -> 22 | R41: 24

Sheet Opcao3
AA1: ="V"&X5 -> V1
A2: Opção 3 ( 4 fixos e 7 Excluídos )
X5: 1 | Y5: 10
B16: Total de 14 volantes
B18: =Apoio!AG28 -> 1 | C18: =Apoio!AH28 -> 2 | D18: =Apoio!AI28 -> 3 | E18: =Apoio!AJ28 -> 4 | F18: =Apoio!AK28 -> 5 | G18: =Apoio!AL28 -> 6 | H18: =Apoio!AM28 -> 7 | I18: =Apoio!AN28 -> 8 | ... P18: =Apoio!AU28 -> 24 | R18: 1
B19: =Apoio!AG29 -> 1 | C19: =Apoio!AH29 -> 2 | D19: =Apoio!AI29 -> 3 | E19: =Apoio!AJ29 -> 4 | F19: =Apoio!AK29 -> 5 | G19: =Apoio!AL29 -> 6 | H19: =Apoio!AM29 -> 7 | I19: =Apoio!AN29 -> 8 | ... P19: =Apoio!AU29 -> 25 | R19: 2
B20: =Apoio!AG30 -> 1 | C20: =Apoio!AH30 -> 2 | D20: =Apoio!AI30 -> 3 | E20: =Apoio!AJ30 -> 4 | F20: =Apoio!AK30 -> 5 | G20: =Apoio!AL30 -> 6 | H20: =Apoio!AM30 -> 7 | I20: =Apoio!AN30 -> 8 | ... P20: =Apoio!AU30 -> 25 | R20: 3
B21: =Apoio!AG31 -> 1 | C21: =Apoio!AH31 -> 2 | D21: =Apoio!AI31 -> 3 | E21: =Apoio!AJ31 -> 4 | F21: =Apoio!AK31 -> 5 | G21: =Apoio!AL31 -> 6 | H21: =Apoio!AM31 -> 7 | I21: =Apoio!AN31 -> 8 | ... P21: =Apoio!AU31 -> 25 | R21: 4
B22: =Apoio!AG32 -> 1 | C22: =Apoio!AH32 -> 2 | D22: =Apoio!AI32 -> 3 | E22: =Apoio!AJ32 -> 4 | F22: =Apoio!AK32 -> 5 | G22: =Apoio!AL32 -> 6 | H22: =Apoio!AM32 -> 7 | I22: =Apoio!AN32 -> 8 | ... P22: =Apoio!AU32 -> 24 | R22: 5
B23: =Apoio!AG33 -> 1 | C23: =Apoio!AH33 -> 2 | D23: =Apoio!AI33 -> 3 | E23: =Apoio!AJ33 -> 4 | F23: =Apoio!AK33 -> 5 | G23: =Apoio!AL33 -> 6 | H23: =Apoio!AM33 -> 7 | I23: =Apoio!AN33 -> 9 | ... P23: =Apoio!AU33 -> 25 | R23: 6
B24: =Apoio!AG34 -> 1 | C24: =Apoio!AH34 -> 2 | D24: =Apoio!AI34 -> 3 | E24: =Apoio!AJ34 -> 4 | F24: =Apoio!AK34 -> 5 | G24: =Apoio!AL34 -> 6 | H24: =Apoio!AM34 -> 8 | I24: =Apoio!AN34 -> 9 | ... P24: =Apoio!AU34 -> 25 | R24: 7
B25: =Apoio!AG35 -> 1 | C25: =Apoio!AH35 -> 2 | D25: =Apoio!AI35 -> 3 | E25: =Apoio!AJ35 -> 4 | F25: =Apoio!AK35 -> 5 | G25: =Apoio!AL35 -> 6 | H25: =Apoio!AM35 -> 9 | I25: =Apoio!AN35 -> 10 | ... P25: =Apoio!AU35 -> 25 | R25: 8
B26: =Apoio!AG36 -> 1 | C26: =Apoio!AH36 -> 2 | D26: =Apoio!AI36 -> 3 | E26: =Apoio!AJ36 -> 4 | F26: =Apoio!AK36 -> 5 | G26: =Apoio!AL36 -> 7 | H26: =Apoio!AM36 -> 8 | I26: =Apoio!AN36 -> 9 | ... P26: =Apoio!AU36 -> 16 | R26: 9
B27: =Apoio!AG37 -> 1 | C27: =Apoio!AH37 -> 2 | D27: =Apoio!AI37 -> 3 | E27: =Apoio!AJ37 -> 4 | F27: =Apoio!AK37 -> 5 | G27: =Apoio!AL37 -> 7 | H27: =Apoio!AM37 -> 8 | I27: =Apoio!AN37 -> 9 | ... P27: =Apoio!AU37 -> 25 | R27: 10
B28: =Apoio!AG38 -> 1 | C28: =Apoio!AH38 -> 2 | D28: =Apoio!AI38 -> 3 | E28: =Apoio!AJ38 -> 4 | F28: =Apoio!AK38 -> 5 | G28: =Apoio!AL38 -> 7 | H28: =Apoio!AM38 -> 8 | I28: =Apoio!AN38 -> 10 | ... P28: =Apoio!AU38 -> 25 | R28: 11
B29: =Apoio!AG39 -> 1 | C29: =Apoio!AH39 -> 2 | D29: =Apoio!AI39 -> 3 | E29: =Apoio!AJ39 -> 4 | F29: =Apoio!AK39 -> 6 | G29: =Apoio!AL39 -> 7 | H29: =Apoio!AM39 -> 8 | I29: =Apoio!AN39 -> 9 | ... P29: =Apoio!AU39 -> 25 | R29: 12
... B31: =Apoio!AG41 -> 1 | C31: =Apoio!AH41 -> 2 | D31: =Apoio!AI41 -> 3 | E31: =Apoio!AJ41 -> 4 | F31: =Apoio!AK41 -> 6 | G31: =Apoio!AL41 -> 8 | H31: =Apoio!AM41 -> 9 | I31: =Apoio!AN41 -> 11 | ... P31: =Apoio!AU41 -> 25 | R31: 14

Sheet Opcao4
AA1: ="V"&X5 -> V1
A2: Opção 4 ( 18 fixos )
X5: 1 | Y5: 10
B16: Total de 65 volantes
B18: =Apoio!A141 -> 1 | C18: =Apoio!B141 -> 2 | D18: =Apoio!C141 -> 3 | E18: =Apoio!D141 -> 4 | F18: =Apoio!E141 -> 5 | G18: =Apoio!F141 -> 6 | H18: =Apoio!G141 -> 7 | I18: =Apoio!H141 -> 8 | ... P18: =Apoio!O141 -> 21 | R18: 1
B19: =Apoio!A142 -> 1 | C19: =Apoio!B142 -> 2 | D19: =Apoio!C142 -> 3 | E19: =Apoio!D142 -> 4 | F19: =Apoio!E142 -> 5 | G19: =Apoio!F142 -> 6 | H19: =Apoio!G142 -> 7 | I19: =Apoio!H142 -> 8 | ... P19: =Apoio!O142 -> 21 | R19: 2
B20: =Apoio!A143 -> 1 | C20: =Apoio!B143 -> 2 | D20: =Apoio!C143 -> 3 | E20: =Apoio!D143 -> 4 | F20: =Apoio!E143 -> 5 | G20: =Apoio!F143 -> 6 | H20: =Apoio!G143 -> 7 | I20: =Apoio!H143 -> 8 | ... P20: =Apoio!O143 -> 16 | R20: 3
B21: =Apoio!A144 -> 1 | C21: =Apoio!B144 -> 2 | D21: =Apoio!C144 -> 3 | E21: =Apoio!D144 -> 4 | F21: =Apoio!E144 -> 5 | G21: =Apoio!F144 -> 6 | H21: =Apoio!G144 -> 7 | I21: =Apoio!H144 -> 8 | ... P21: =Apoio!O144 -> 22 | R21: 4
B22: =Apoio!A145 -> 1 | C22: =Apoio!B145 -> 2 | D22: =Apoio!C145 -> 3 | E22: =Apoio!D145 -> 4 | F22: =Apoio!E145 -> 5 | G22: =Apoio!F145 -> 6 | H22: =Apoio!G145 -> 7 | I22: =Apoio!H145 -> 8 | ... P22: =Apoio!O145 -> 21 | R22: 5
B23: =Apoio!A146 -> 1 | C23: =Apoio!B146 -> 2 | D23: =Apoio!C146 -> 3 | E23: =Apoio!D146 -> 4 | F23: =Apoio!E146 -> 5 | G23: =Apoio!F146 -> 6 | H23: =Apoio!G146 -> 7 | I23: =Apoio!H146 -> 8 | ... P23: =Apoio!O146 -> 22 | R23: 6
B24: =Apoio!A147 -> 1 | C24: =Apoio!B147 -> 2 | D24: =Apoio!C147 -> 3 | E24: =Apoio!D147 -> 4 | F24: =Apoio!E147 -> 5 | G24: =Apoio!F147 -> 6 | H24: =Apoio!G147 -> 7 | I24: =Apoio!H147 -> 8 | ... P24: =Apoio!O147 -> 21 | R24: 7
B25: =Apoio!A148 -> 1 | C25: =Apoio!B148 -> 2 | D25: =Apoio!C148 -> 3 | E25: =Apoio!D148 -> 4 | F25: =Apoio!E148 -> 5 | G25: =Apoio!F148 -> 6 | H25: =Apoio!G148 -> 7 | I25: =Apoio!H148 -> 8 | ... P25: =Apoio!O148 -> 22 | R25: 8
B26: =Apoio!A149 -> 1 | C26: =Apoio!B149 -> 2 | D26: =Apoio!C149 -> 3 | E26: =Apoio!D149 -> 4 | F26: =Apoio!E149 -> 5 | G26: =Apoio!F149 -> 6 | H26: =Apoio!G149 -> 7 | I26: =Apoio!H149 -> 8 | ... P26: =Apoio!O149 -> 22 | R26: 9
B27: =Apoio!A150 -> 1 | C27: =Apoio!B150 -> 2 | D27: =Apoio!C150 -> 3 | E27: =Apoio!D150 -> 4 | F27: =Apoio!E150 -> 5 | G27: =Apoio!F150 -> 6 | H27: =Apoio!G150 -> 7 | I27: =Apoio!H150 -> 9 | ... P27: =Apoio!O150 -> 22 | R27: 10
B28: =Apoio!A151 -> 1 | C28: =Apoio!B151 -> 2 | D28: =Apoio!C151 -> 3 | E28: =Apoio!D151 -> 4 | F28: =Apoio!E151 -> 5 | G28: =Apoio!F151 -> 6 | H28: =Apoio!G151 -> 7 | I28: =Apoio!H151 -> 9 | ... P28: =Apoio!O151 -> 21 | R28: 11
B29: =Apoio!A152 -> 1 | C29: =Apoio!B152 -> 2 | D29: =Apoio!C152 -> 3 | E29: =Apoio!D152 -> 4 | F29: =Apoio!E152 -> 5 | G29: =Apoio!F152 -> 6 | H29: =Apoio!G152 -> 7 | I29: =Apoio!H152 -> 9 | ... P29: =Apoio!O152 -> 22 | R29: 12
... B82: =Apoio!A205 -> 3 | C82: =Apoio!B205 -> 5 | D82: =Apoio!C205 -> 6 | E82: =Apoio!D205 -> 7 | F82: =Apoio!E205 -> 8 | G82: =Apoio!F205 -> 9 | H82: =Apoio!G205 -> 10 | I82: =Apoio!H205 -> 11 | ... P82: =Apoio!O205 -> 22 | R82: 65

Sheet Opcao5
AA1: ="V"&X5 -> V1
A2: Opção 5 ( 18 fixos )
X5: 1 | Y5: 10
B16: Total de 101 volantes
B18: =Apoio!BZ110 -> 1 | C18: =Apoio!CA110 -> 2 | D18: =Apoio!CB110 -> 3 | E18: =Apoio!CC110 -> 4 | F18: =Apoio!CD110 -> 5 | G18: =Apoio!CE110 -> 6 | H18: =Apoio!CF110 -> 7 | I18: =Apoio!CG110 -> 8 | ... P18: =Apoio!CN110 -> 16 | R18: 1 | T18: =Apoio!BZ161 -> 1 | U18: =Apoio!CA161 -> 2 | V18: =Apoio!CB161 -> 3 | W18: =Apoio!CC161 -> 5 | X18: =Apoio!CD161 -> 7 | Y18: =Apoio!CE161 -> 8 | Z18: =Apoio!CF161 -> 9 | AA18: =Apoio!CG161 -> 10 | ... AH18: =Apoio!CN161 -> 22 | AJ18: 52
B19: =Apoio!BZ111 -> 1 | C19: =Apoio!CA111 -> 2 | D19: =Apoio!CB111 -> 3 | E19: =Apoio!CC111 -> 4 | F19: =Apoio!CD111 -> 5 | G19: =Apoio!CE111 -> 6 | H19: =Apoio!CF111 -> 7 | I19: =Apoio!CG111 -> 8 | ... P19: =Apoio!CN111 -> 22 | R19: 2 | T19: =Apoio!BZ162 -> 1 | U19: =Apoio!CA162 -> 2 | V19: =Apoio!CB162 -> 3 | W19: =Apoio!CC162 -> 5 | X19: =Apoio!CD162 -> 8 | Y19: =Apoio!CE162 -> 9 | Z19: =Apoio!CF162 -> 10 | AA19: =Apoio!CG162 -> 11 | ... AH19: =Apoio!CN162 -> 22 | AJ19: 53
B20: =Apoio!BZ112 -> 1 | C20: =Apoio!CA112 -> 2 | D20: =Apoio!CB112 -> 3 | E20: =Apoio!CC112 -> 4 | F20: =Apoio!CD112 -> 5 | G20: =Apoio!CE112 -> 6 | H20: =Apoio!CF112 -> 7 | I20: =Apoio!CG112 -> 8 | ... P20: =Apoio!CN112 -> 22 | R20: 3 | T20: =Apoio!BZ163 -> 1 | U20: =Apoio!CA163 -> 2 | V20: =Apoio!CB163 -> 3 | W20: =Apoio!CC163 -> 6 | X20: =Apoio!CD163 -> 7 | Y20: =Apoio!CE163 -> 8 | Z20: =Apoio!CF163 -> 9 | AA20: =Apoio!CG163 -> 10 | ... AH20: =Apoio!CN163 -> 22 | AJ20: 54
B21: =Apoio!BZ113 -> 1 | C21: =Apoio!CA113 -> 2 | D21: =Apoio!CB113 -> 3 | E21: =Apoio!CC113 -> 4 | F21: =Apoio!CD113 -> 5 | G21: =Apoio!CE113 -> 6 | H21: =Apoio!CF113 -> 7 | I21: =Apoio!CG113 -> 8 | ... P21: =Apoio!CN113 -> 22 | R21: 4 | T21: =Apoio!BZ164 -> 1 | U21: =Apoio!CA164 -> 2 | V21: =Apoio!CB164 -> 3 | W21: =Apoio!CC164 -> 6 | X21: =Apoio!CD164 -> 7 | Y21: =Apoio!CE164 -> 8 | Z21: =Apoio!CF164 -> 9 | AA21: =Apoio!CG164 -> 10 | ... AH21: =Apoio!CN164 -> 22 | AJ21: 55
B22: =Apoio!BZ114 -> 1 | C22: =Apoio!CA114 -> 2 | D22: =Apoio!CB114 -> 3 | E22: =Apoio!CC114 -> 4 | F22: =Apoio!CD114 -> 5 | G22: =Apoio!CE114 -> 6 | H22: =Apoio!CF114 -> 7 | I22: =Apoio!CG114 -> 8 | ... P22: =Apoio!CN114 -> 22 | R22: 5 | T22: =Apoio!BZ165 -> 1 | U22: =Apoio!CA165 -> 2 | V22: =Apoio!CB165 -> 4 | W22: =Apoio!CC165 -> 5 | X22: =Apoio!CD165 -> 6 | Y22: =Apoio!CE165 -> 7 | Z22: =Apoio!CF165 -> 8 | AA22: =Apoio!CG165 -> 9 | ... AH22: =Apoio!CN165 -> 16 | AJ22: 56
B23: =Apoio!BZ115 -> 1 | C23: =Apoio!CA115 -> 2 | D23: =Apoio!CB115 -> 3 | E23: =Apoio!CC115 -> 4 | F23: =Apoio!CD115 -> 5 | G23: =Apoio!CE115 -> 6 | H23: =Apoio!CF115 -> 7 | I23: =Apoio!CG115 -> 8 | ... P23: =Apoio!CN115 -> 22 | R23: 6 | T23: =Apoio!BZ166 -> 1 | U23: =Apoio!CA166 -> 2 | V23: =Apoio!CB166 -> 4 | W23: =Apoio!CC166 -> 5 | X23: =Apoio!CD166 -> 6 | Y23: =Apoio!CE166 -> 7 | Z23: =Apoio!CF166 -> 8 | AA23: =Apoio!CG166 -> 9 | ... AH23: =Apoio!CN166 -> 22 | AJ23: 57
B24: =Apoio!BZ116 -> 1 | C24: =Apoio!CA116 -> 2 | D24: =Apoio!CB116 -> 3 | E24: =Apoio!CC116 -> 4 | F24: =Apoio!CD116 -> 5 | G24: =Apoio!CE116 -> 6 | H24: =Apoio!CF116 -> 7 | I24: =Apoio!CG116 -> 8 | ... P24: =Apoio!CN116 -> 22 | R24: 7 | T24: =Apoio!BZ167 -> 1 | U24: =Apoio!CA167 -> 2 | V24: =Apoio!CB167 -> 4 | W24: =Apoio!CC167 -> 5 | X24: =Apoio!CD167 -> 6 | Y24: =Apoio!CE167 -> 7 | Z24: =Apoio!CF167 -> 8 | AA24: =Apoio!CG167 -> 9 | ... AH24: =Apoio!CN167 -> 21 | AJ24: 58
B25: =Apoio!BZ117 -> 1 | C25: =Apoio!CA117 -> 2 | D25: =Apoio!CB117 -> 3 | E25: =Apoio!CC117 -> 4 | F25: =Apoio!CD117 -> 5 | G25: =Apoio!CE117 -> 6 | H25: =Apoio!CF117 -> 7 | I25: =Apoio!CG117 -> 8 | ... P25: =Apoio!CN117 -> 21 | R25: 8 | T25: =Apoio!BZ168 -> 1 | U25: =Apoio!CA168 -> 2 | V25: =Apoio!CB168 -> 4 | W25: =Apoio!CC168 -> 5 | X25: =Apoio!CD168 -> 6 | Y25: =Apoio!CE168 -> 7 | Z25: =Apoio!CF168 -> 8 | AA25: =Apoio!CG168 -> 9 | ... AH25: =Apoio!CN168 -> 22 | AJ25: 59
B26: =Apoio!BZ118 -> 1 | C26: =Apoio!CA118 -> 2 | D26: =Apoio!CB118 -> 3 | E26: =Apoio!CC118 -> 4 | F26: =Apoio!CD118 -> 5 | G26: =Apoio!CE118 -> 6 | H26: =Apoio!CF118 -> 7 | I26: =Apoio!CG118 -> 8 | ... P26: =Apoio!CN118 -> 22 | R26: 9 | T26: =Apoio!BZ169 -> 1 | U26: =Apoio!CA169 -> 2 | V26: =Apoio!CB169 -> 4 | W26: =Apoio!CC169 -> 5 | X26: =Apoio!CD169 -> 6 | Y26: =Apoio!CE169 -> 7 | Z26: =Apoio!CF169 -> 8 | AA26: =Apoio!CG169 -> 9 | ... AH26: =Apoio!CN169 -> 22 | AJ26: 60
B27: =Apoio!BZ119 -> 1 | C27: =Apoio!CA119 -> 2 | D27: =Apoio!CB119 -> 3 | E27: =Apoio!CC119 -> 4 | F27: =Apoio!CD119 -> 5 | G27: =Apoio!CE119 -> 6 | H27: =Apoio!CF119 -> 7 | I27: =Apoio!CG119 -> 8 | ... P27: =Apoio!CN119 -> 21 | R27: 10 | T27: =Apoio!BZ170 -> 1 | U27: =Apoio!CA170 -> 2 | V27: =Apoio!CB170 -> 4 | W27: =Apoio!CC170 -> 5 | X27: =Apoio!CD170 -> 6 | Y27: =Apoio!CE170 -> 7 | Z27: =Apoio!CF170 -> 8 | AA27: =Apoio!CG170 -> 10 | ... AH27: =Apoio!CN170 -> 22 | AJ27: 61
B28: =Apoio!BZ120 -> 1 | C28: =Apoio!CA120 -> 2 | D28: =Apoio!CB120 -> 3 | E28: =Apoio!CC120 -> 4 | F28: =Apoio!CD120 -> 5 | G28: =Apoio!CE120 -> 6 | H28: =Apoio!CF120 -> 7 | I28: =Apoio!CG120 -> 8 | ... P28: =Apoio!CN120 -> 16 | R28: 11 | T28: =Apoio!BZ171 -> 1 | U28: =Apoio!CA171 -> 2 | V28: =Apoio!CB171 -> 4 | W28: =Apoio!CC171 -> 5 | X28: =Apoio!CD171 -> 6 | Y28: =Apoio!CE171 -> 8 | Z28: =Apoio!CF171 -> 9 | AA28: =Apoio!CG171 -> 10 | ... AH28: =Apoio!CN171 -> 22 | AJ28: 62
B29: =Apoio!BZ121 -> 1 | C29: =Apoio!CA121 -> 2 | D29: =Apoio!CB121 -> 3 | E29: =Apoio!CC121 -> 4 | F29: =Apoio!CD121 -> 5 | G29: =Apoio!CE121 -> 6 | H29: =Apoio!CF121 -> 7 | I29: =Apoio!CG121 -> 8 | ... P29: =Apoio!CN121 -> 22 | R29: 12 | T29: =Apoio!BZ172 -> 1 | U29: =Apoio!CA172 -> 2 | V29: =Apoio!CB172 -> 4 | W29: =Apoio!CC172 -> 5 | X29: =Apoio!CD172 -> 6 | Y29: =Apoio!CE172 -> 8 | Z29: =Apoio!CF172 -> 9 | AA29: =Apoio!CG172 -> 10 | ... AH29: =Apoio!CN172 -> 22 | AJ29: 63
... B67: =Apoio!BZ159 -> 1 | C67: =Apoio!CA159 -> 2 | D67: =Apoio!CB159 -> 3 | E67: =Apoio!CC159 -> 5 | F67: =Apoio!CD159 -> 6 | G67: =Apoio!CE159 -> 7 | H67: =Apoio!CF159 -> 9 | I67: =Apoio!CG159 -> 10 | ... P67: =Apoio!CN159 -> 22 | R67: 50 | T67: =Apoio!BZ210 -> 3 | U67: =Apoio!CA210 -> 4 | V67: =Apoio!CB210 -> 5 | W67: =Apoio!CC210 -> 6 | X67: =Apoio!CD210 -> 7 | Y67: =Apoio!CE210 -> 8 | Z67: =Apoio!CF210 -> 9 | AA67: =Apoio!CG210 -> 10 | ... AH67: =Apoio!CN210 -> 22 | AJ67: 101
B68: =Apoio!BZ160 -> 1 | C68: =Apoio!CA160 -> 2 | D68: =Apoio!CB160 -> 3 | E68: =Apoio!CC160 -> 5 | F68: =Apoio!CD160 -> 6 | G68: =Apoio!CE160 -> 9 | H68: =Apoio!CF160 -> 10 | I68: =Apoio!CG160 -> 11 | ... P68: =Apoio!CN160 -> 22 | R68: 51

Sheet Opcao6
AA1: ="V"&X5 -> V1
A2: Opção 6 ( 18 fixos )
X5: 1 | Y5: 10
B16: Total de 174 volantes
B18: =Apoio!A387 -> 1 | C18: =Apoio!B387 -> 2 | D18: =Apoio!C387 -> 3 | E18: =Apoio!D387 -> 4 | F18: =Apoio!E387 -> 5 | G18: =Apoio!F387 -> 6 | H18: =Apoio!G387 -> 7 | I18: =Apoio!H387 -> 8 | ... P18: =Apoio!O387 -> 16 | R18: 1 | T18: =Apoio!A474 -> 1 | U18: =Apoio!B474 -> 2 | V18: =Apoio!C474 -> 3 | W18: =Apoio!D474 -> 5 | X18: =Apoio!E474 -> 6 | Y18: =Apoio!F474 -> 8 | Z18: =Apoio!G474 -> 9 | AA18: =Apoio!H474 -> 10 | ... AH18: =Apoio!O474 -> 22 | AJ18: 88
B19: =Apoio!A388 -> 1 | C19: =Apoio!B388 -> 2 | D19: =Apoio!C388 -> 3 | E19: =Apoio!D388 -> 4 | F19: =Apoio!E388 -> 5 | G19: =Apoio!F388 -> 6 | H19: =Apoio!G388 -> 7 | I19: =Apoio!H388 -> 8 | ... P19: =Apoio!O388 -> 22 | R19: 2 | T19: =Apoio!A475 -> 1 | U19: =Apoio!B475 -> 2 | V19: =Apoio!C475 -> 3 | W19: =Apoio!D475 -> 5 | X19: =Apoio!E475 -> 6 | Y19: =Apoio!F475 -> 8 | Z19: =Apoio!G475 -> 9 | AA19: =Apoio!H475 -> 11 | ... AH19: =Apoio!O475 -> 22 | AJ19: 89
B20: =Apoio!A389 -> 1 | C20: =Apoio!B389 -> 2 | D20: =Apoio!C389 -> 3 | E20: =Apoio!D389 -> 4 | F20: =Apoio!E389 -> 5 | G20: =Apoio!F389 -> 6 | H20: =Apoio!G389 -> 7 | I20: =Apoio!H389 -> 8 | ... P20: =Apoio!O389 -> 16 | R20: 3 | T20: =Apoio!A476 -> 1 | U20: =Apoio!B476 -> 2 | V20: =Apoio!C476 -> 3 | W20: =Apoio!D476 -> 5 | X20: =Apoio!E476 -> 6 | Y20: =Apoio!F476 -> 8 | Z20: =Apoio!G476 -> 10 | AA20: =Apoio!H476 -> 11 | ... AH20: =Apoio!O476 -> 22 | AJ20: 90
B21: =Apoio!A390 -> 1 | C21: =Apoio!B390 -> 2 | D21: =Apoio!C390 -> 3 | E21: =Apoio!D390 -> 4 | F21: =Apoio!E390 -> 5 | G21: =Apoio!F390 -> 6 | H21: =Apoio!G390 -> 7 | I21: =Apoio!H390 -> 8 | ... P21: =Apoio!O390 -> 22 | R21: 4 | T21: =Apoio!A477 -> 1 | U21: =Apoio!B477 -> 2 | V21: =Apoio!C477 -> 3 | W21: =Apoio!D477 -> 5 | X21: =Apoio!E477 -> 6 | Y21: =Apoio!F477 -> 9 | Z21: =Apoio!G477 -> 10 | AA21: =Apoio!H477 -> 11 | ... AH21: =Apoio!O477 -> 22 | AJ21: 91
B22: =Apoio!A391 -> 1 | C22: =Apoio!B391 -> 2 | D22: =Apoio!C391 -> 3 | E22: =Apoio!D391 -> 4 | F22: =Apoio!E391 -> 5 | G22: =Apoio!F391 -> 6 | H22: =Apoio!G391 -> 7 | I22: =Apoio!H391 -> 8 | ... P22: =Apoio!O391 -> 21 | R22: 5 | T22: =Apoio!A478 -> 1 | U22: =Apoio!B478 -> 2 | V22: =Apoio!C478 -> 3 | W22: =Apoio!D478 -> 5 | X22: =Apoio!E478 -> 7 | Y22: =Apoio!F478 -> 8 | Z22: =Apoio!G478 -> 9 | AA22: =Apoio!H478 -> 10 | ... AH22: =Apoio!O478 -> 22 | AJ22: 92
B23: =Apoio!A392 -> 1 | C23: =Apoio!B392 -> 2 | D23: =Apoio!C392 -> 3 | E23: =Apoio!D392 -> 4 | F23: =Apoio!E392 -> 5 | G23: =Apoio!F392 -> 6 | H23: =Apoio!G392 -> 7 | I23: =Apoio!H392 -> 8 | ... P23: =Apoio!O392 -> 22 | R23: 6 | T23: =Apoio!A479 -> 1 | U23: =Apoio!B479 -> 2 | V23: =Apoio!C479 -> 3 | W23: =Apoio!D479 -> 5 | X23: =Apoio!E479 -> 7 | Y23: =Apoio!F479 -> 8 | Z23: =Apoio!G479 -> 9 | AA23: =Apoio!H479 -> 10 | ... AH23: =Apoio!O479 -> 22 | AJ23: 93
B24: =Apoio!A393 -> 1 | C24: =Apoio!B393 -> 2 | D24: =Apoio!C393 -> 3 | E24: =Apoio!D393 -> 4 | F24: =Apoio!E393 -> 5 | G24: =Apoio!F393 -> 6 | H24: =Apoio!G393 -> 7 | I24: =Apoio!H393 -> 8 | ... P24: =Apoio!O393 -> 22 | R24: 7 | T24: =Apoio!A480 -> 1 | U24: =Apoio!B480 -> 2 | V24: =Apoio!C480 -> 3 | W24: =Apoio!D480 -> 6 | X24: =Apoio!E480 -> 7 | Y24: =Apoio!F480 -> 8 | Z24: =Apoio!G480 -> 9 | AA24: =Apoio!H480 -> 10 | ... AH24: =Apoio!O480 -> 22 | AJ24: 94
B25: =Apoio!A394 -> 1 | C25: =Apoio!B394 -> 2 | D25: =Apoio!C394 -> 3 | E25: =Apoio!D394 -> 4 | F25: =Apoio!E394 -> 5 | G25: =Apoio!F394 -> 6 | H25: =Apoio!G394 -> 7 | I25: =Apoio!H394 -> 8 | ... P25: =Apoio!O394 -> 22 | R25: 8 | T25: =Apoio!A481 -> 1 | U25: =Apoio!B481 -> 2 | V25: =Apoio!C481 -> 4 | W25: =Apoio!D481 -> 5 | X25: =Apoio!E481 -> 6 | Y25: =Apoio!F481 -> 7 | Z25: =Apoio!G481 -> 8 | AA25: =Apoio!H481 -> 9 | ... AH25: =Apoio!O481 -> 22 | AJ25: 95
B26: =Apoio!A395 -> 1 | C26: =Apoio!B395 -> 2 | D26: =Apoio!C395 -> 3 | E26: =Apoio!D395 -> 4 | F26: =Apoio!E395 -> 5 | G26: =Apoio!F395 -> 6 | H26: =Apoio!G395 -> 7 | I26: =Apoio!H395 -> 8 | ... P26: =Apoio!O395 -> 22 | R26: 9 | T26: =Apoio!A482 -> 1 | U26: =Apoio!B482 -> 2 | V26: =Apoio!C482 -> 4 | W26: =Apoio!D482 -> 5 | X26: =Apoio!E482 -> 6 | Y26: =Apoio!F482 -> 7 | Z26: =Apoio!G482 -> 8 | AA26: =Apoio!H482 -> 9 | ... AH26: =Apoio!O482 -> 22 | AJ26: 96
B27: =Apoio!A396 -> 1 | C27: =Apoio!B396 -> 2 | D27: =Apoio!C396 -> 3 | E27: =Apoio!D396 -> 4 | F27: =Apoio!E396 -> 5 | G27: =Apoio!F396 -> 6 | H27: =Apoio!G396 -> 7 | I27: =Apoio!H396 -> 8 | ... P27: =Apoio!O396 -> 22 | R27: 10 | T27: =Apoio!A483 -> 1 | U27: =Apoio!B483 -> 2 | V27: =Apoio!C483 -> 4 | W27: =Apoio!D483 -> 5 | X27: =Apoio!E483 -> 6 | Y27: =Apoio!F483 -> 7 | Z27: =Apoio!G483 -> 8 | AA27: =Apoio!H483 -> 9 | ... AH27: =Apoio!O483 -> 22 | AJ27: 97
B28: =Apoio!A397 -> 1 | C28: =Apoio!B397 -> 2 | D28: =Apoio!C397 -> 3 | E28: =Apoio!D397 -> 4 | F28: =Apoio!E397 -> 5 | G28: =Apoio!F397 -> 6 | H28: =Apoio!G397 -> 7 | I28: =Apoio!H397 -> 8 | ... P28: =Apoio!O397 -> 22 | R28: 11 | T28: =Apoio!A484 -> 1 | U28: =Apoio!B484 -> 2 | V28: =Apoio!C484 -> 4 | W28: =Apoio!D484 -> 5 | X28: =Apoio!E484 -> 6 | Y28: =Apoio!F484 -> 7 | Z28: =Apoio!G484 -> 8 | AA28: =Apoio!H484 -> 9 | ... AH28: =Apoio!O484 -> 22 | AJ28: 98
B29: =Apoio!A398 -> 1 | C29: =Apoio!B398 -> 2 | D29: =Apoio!C398 -> 3 | E29: =Apoio!D398 -> 4 | F29: =Apoio!E398 -> 5 | G29: =Apoio!F398 -> 6 | H29: =Apoio!G398 -> 7 | I29: =Apoio!H398 -> 8 | ... P29: =Apoio!O398 -> 22 | R29: 12 | T29: =Apoio!A485 -> 1 | U29: =Apoio!B485 -> 2 | V29: =Apoio!C485 -> 4 | W29: =Apoio!D485 -> 5 | X29: =Apoio!E485 -> 6 | Y29: =Apoio!F485 -> 7 | Z29: =Apoio!G485 -> 8 | AA29: =Apoio!H485 -> 9 | ... AH29: =Apoio!O485 -> 22 | AJ29: 99
... B104: =Apoio!A473 -> 1 | C104: =Apoio!B473 -> 2 | D104: =Apoio!C473 -> 3 | E104: =Apoio!D473 -> 5 | F104: =Apoio!E473 -> 6 | G104: =Apoio!F473 -> 8 | H104: =Apoio!G473 -> 9 | I104: =Apoio!H473 -> 10 | ... P104: =Apoio!O473 -> 22 | R104: 87 | T104: =Apoio!A560 -> 3 | U104: =Apoio!B560 -> 4 | V104: =Apoio!C560 -> 6 | W104: =Apoio!D560 -> 7 | X104: =Apoio!E560 -> 8 | Y104: =Apoio!F560 -> 9 | Z104: =Apoio!G560 -> 10 | AA104: =Apoio!H560 -> 11 | ... AH104: =Apoio!O560 -> 22 | AJ104: 174

Sheet Opcao7
AA1: ="V"&X5 -> V1
A2: Opção 7 ( 18 fixos )
X5: 1 | Y5: 10
B16: Total de 348 volantes
B18: =Apoio!AG396 -> 1 | C18: =Apoio!AH396 -> 2 | D18: =Apoio!AI396 -> 3 | E18: =Apoio!AJ396 -> 4 | F18: =Apoio!AK396 -> 5 | G18: =Apoio!AL396 -> 6 | H18: =Apoio!AM396 -> 7 | I18: =Apoio!AN396 -> 8 | ... P18: =Apoio!AU396 -> 22 | R18: 1 | T18: =Apoio!AG570 -> 1 | U18: =Apoio!AH570 -> 2 | V18: =Apoio!AI570 -> 3 | W18: =Apoio!AJ570 -> 5 | X18: =Apoio!AK570 -> 6 | Y18: =Apoio!AL570 -> 7 | Z18: =Apoio!AM570 -> 8 | AA18: =Apoio!AN570 -> 9 | ... AH18: =Apoio!AU570 -> 22 | AJ18: 175
B19: =Apoio!AG397 -> 1 | C19: =Apoio!AH397 -> 2 | D19: =Apoio!AI397 -> 3 | E19: =Apoio!AJ397 -> 4 | F19: =Apoio!AK397 -> 5 | G19: =Apoio!AL397 -> 6 | H19: =Apoio!AM397 -> 7 | I19: =Apoio!AN397 -> 8 | ... P19: =Apoio!AU397 -> 16 | R19: 2 | T19: =Apoio!AG571 -> 1 | U19: =Apoio!AH571 -> 2 | V19: =Apoio!AI571 -> 3 | W19: =Apoio!AJ571 -> 5 | X19: =Apoio!AK571 -> 6 | Y19: =Apoio!AL571 -> 7 | Z19: =Apoio!AM571 -> 8 | AA19: =Apoio!AN571 -> 9 | ... AH19: =Apoio!AU571 -> 22 | AJ19: 176
B20: =Apoio!AG398 -> 1 | C20: =Apoio!AH398 -> 2 | D20: =Apoio!AI398 -> 3 | E20: =Apoio!AJ398 -> 4 | F20: =Apoio!AK398 -> 5 | G20: =Apoio!AL398 -> 6 | H20: =Apoio!AM398 -> 7 | I20: =Apoio!AN398 -> 8 | ... P20: =Apoio!AU398 -> 21 | R20: 3 | T20: =Apoio!AG572 -> 1 | U20: =Apoio!AH572 -> 2 | V20: =Apoio!AI572 -> 3 | W20: =Apoio!AJ572 -> 5 | X20: =Apoio!AK572 -> 6 | Y20: =Apoio!AL572 -> 7 | Z20: =Apoio!AM572 -> 8 | AA20: =Apoio!AN572 -> 9 | ... AH20: =Apoio!AU572 -> 22 | AJ20: 177
B21: =Apoio!AG399 -> 1 | C21: =Apoio!AH399 -> 2 | D21: =Apoio!AI399 -> 3 | E21: =Apoio!AJ399 -> 4 | F21: =Apoio!AK399 -> 5 | G21: =Apoio!AL399 -> 6 | H21: =Apoio!AM399 -> 7 | I21: =Apoio!AN399 -> 8 | ... P21: =Apoio!AU399 -> 22 | R21: 4 | T21: =Apoio!AG573 -> 1 | U21: =Apoio!AH573 -> 2 | V21: =Apoio!AI573 -> 3 | W21: =Apoio!AJ573 -> 5 | X21: =Apoio!AK573 -> 6 | Y21: =Apoio!AL573 -> 7 | Z21: =Apoio!AM573 -> 8 | AA21: =Apoio!AN573 -> 10 | ... AH21: =Apoio!AU573 -> 22 | AJ21: 178
B22: =Apoio!AG400 -> 1 | C22: =Apoio!AH400 -> 2 | D22: =Apoio!AI400 -> 3 | E22: =Apoio!AJ400 -> 4 | F22: =Apoio!AK400 -> 5 | G22: =Apoio!AL400 -> 6 | H22: =Apoio!AM400 -> 7 | I22: =Apoio!AN400 -> 8 | ... P22: =Apoio!AU400 -> 22 | R22: 5 | T22: =Apoio!AG574 -> 1 | U22: =Apoio!AH574 -> 2 | V22: =Apoio!AI574 -> 3 | W22: =Apoio!AJ574 -> 5 | X22: =Apoio!AK574 -> 6 | Y22: =Apoio!AL574 -> 7 | Z22: =Apoio!AM574 -> 9 | AA22: =Apoio!AN574 -> 10 | ... AH22: =Apoio!AU574 -> 22 | AJ22: 179
B23: =Apoio!AG401 -> 1 | C23: =Apoio!AH401 -> 2 | D23: =Apoio!AI401 -> 3 | E23: =Apoio!AJ401 -> 4 | F23: =Apoio!AK401 -> 5 | G23: =Apoio!AL401 -> 6 | H23: =Apoio!AM401 -> 7 | I23: =Apoio!AN401 -> 8 | ... P23: =Apoio!AU401 -> 22 | R23: 6 | T23: =Apoio!AG575 -> 1 | U23: =Apoio!AH575 -> 2 | V23: =Apoio!AI575 -> 3 | W23: =Apoio!AJ575 -> 5 | X23: =Apoio!AK575 -> 6 | Y23: =Apoio!AL575 -> 7 | Z23: =Apoio!AM575 -> 9 | AA23: =Apoio!AN575 -> 10 | ... AH23: =Apoio!AU575 -> 22 | AJ23: 180
B24: =Apoio!AG402 -> 1 | C24: =Apoio!AH402 -> 2 | D24: =Apoio!AI402 -> 3 | E24: =Apoio!AJ402 -> 4 | F24: =Apoio!AK402 -> 5 | G24: =Apoio!AL402 -> 6 | H24: =Apoio!AM402 -> 7 | I24: =Apoio!AN402 -> 8 | ... P24: =Apoio!AU402 -> 21 | R24: 7 | T24: =Apoio!AG576 -> 1 | U24: =Apoio!AH576 -> 2 | V24: =Apoio!AI576 -> 3 | W24: =Apoio!AJ576 -> 5 | X24: =Apoio!AK576 -> 6 | Y24: =Apoio!AL576 -> 7 | Z24: =Apoio!AM576 -> 10 | AA24: =Apoio!AN576 -> 11 | ... AH24: =Apoio!AU576 -> 22 | AJ24: 181
B25: =Apoio!AG403 -> 1 | C25: =Apoio!AH403 -> 2 | D25: =Apoio!AI403 -> 3 | E25: =Apoio!AJ403 -> 4 | F25: =Apoio!AK403 -> 5 | G25: =Apoio!AL403 -> 6 | H25: =Apoio!AM403 -> 7 | I25: =Apoio!AN403 -> 8 | ... P25: =Apoio!AU403 -> 16 | R25: 8 | T25: =Apoio!AG577 -> 1 | U25: =Apoio!AH577 -> 2 | V25: =Apoio!AI577 -> 3 | W25: =Apoio!AJ577 -> 5 | X25: =Apoio!AK577 -> 6 | Y25: =Apoio!AL577 -> 8 | Z25: =Apoio!AM577 -> 9 | AA25: =Apoio!AN577 -> 10 | ... AH25: =Apoio!AU577 -> 22 | AJ25: 182
B26: =Apoio!AG404 -> 1 | C26: =Apoio!AH404 -> 2 | D26: =Apoio!AI404 -> 3 | E26: =Apoio!AJ404 -> 4 | F26: =Apoio!AK404 -> 5 | G26: =Apoio!AL404 -> 6 | H26: =Apoio!AM404 -> 7 | I26: =Apoio!AN404 -> 8 | ... P26: =Apoio!AU404 -> 21 | R26: 9 | T26: =Apoio!AG578 -> 1 | U26: =Apoio!AH578 -> 2 | V26: =Apoio!AI578 -> 3 | W26: =Apoio!AJ578 -> 5 | X26: =Apoio!AK578 -> 6 | Y26: =Apoio!AL578 -> 8 | Z26: =Apoio!AM578 -> 9 | AA26: =Apoio!AN578 -> 10 | ... AH26: =Apoio!AU578 -> 22 | AJ26: 183
B27: =Apoio!AG405 -> 1 | C27: =Apoio!AH405 -> 2 | D27: =Apoio!AI405 -> 3 | E27: =Apoio!AJ405 -> 4 | F27: =Apoio!AK405 -> 5 | G27: =Apoio!AL405 -> 6 | H27: =Apoio!AM405 -> 7 | I27: =Apoio!AN405 -> 8 | ... P27: =Apoio!AU405 -> 22 | R27: 10 | T27: =Apoio!AG579 -> 1 | U27: =Apoio!AH579 -> 2 | V27: =Apoio!AI579 -> 3 | W27: =Apoio!AJ579 -> 5 | X27: =Apoio!AK579 -> 6 | Y27: =Apoio!AL579 -> 8 | Z27: =Apoio!AM579 -> 10 | AA27: =Apoio!AN579 -> 11 | ... AH27: =Apoio!AU579 -> 22 | AJ27: 184
B28: =Apoio!AG406 -> 1 | C28: =Apoio!AH406 -> 2 | D28: =Apoio!AI406 -> 3 | E28: =Apoio!AJ406 -> 4 | F28: =Apoio!AK406 -> 5 | G28: =Apoio!AL406 -> 6 | H28: =Apoio!AM406 -> 7 | I28: =Apoio!AN406 -> 8 | ... P28: =Apoio!AU406 -> 21 | R28: 11 | T28: =Apoio!AG580 -> 1 | U28: =Apoio!AH580 -> 2 | V28: =Apoio!AI580 -> 3 | W28: =Apoio!AJ580 -> 5 | X28: =Apoio!AK580 -> 6 | Y28: =Apoio!AL580 -> 9 | Z28: =Apoio!AM580 -> 10 | AA28: =Apoio!AN580 -> 11 | ... AH28: =Apoio!AU580 -> 22 | AJ28: 185
B29: =Apoio!AG407 -> 1 | C29: =Apoio!AH407 -> 2 | D29: =Apoio!AI407 -> 3 | E29: =Apoio!AJ407 -> 4 | F29: =Apoio!AK407 -> 5 | G29: =Apoio!AL407 -> 6 | H29: =Apoio!AM407 -> 7 | I29: =Apoio!AN407 -> 8 | ... P29: =Apoio!AU407 -> 22 | R29: 12 | T29: =Apoio!AG581 -> 1 | U29: =Apoio!AH581 -> 2 | V29: =Apoio!AI581 -> 3 | W29: =Apoio!AJ581 -> 5 | X29: =Apoio!AK581 -> 7 | Y29: =Apoio!AL581 -> 8 | Z29: =Apoio!AM581 -> 9 | AA29: =Apoio!AN581 -> 10 | ... AH29: =Apoio!AU581 -> 22 | AJ29: 186
... B191: =Apoio!AG569 -> 1 | C191: =Apoio!AH569 -> 2 | D191: =Apoio!AI569 -> 3 | E191: =Apoio!AJ569 -> 5 | F191: =Apoio!AK569 -> 6 | G191: =Apoio!AL569 -> 7 | H191: =Apoio!AM569 -> 8 | I191: =Apoio!AN569 -> 9 | ... P191: =Apoio!AU569 -> 22 | R191: 174 | T191: =Apoio!AG743 -> 4 | U191: =Apoio!AH743 -> 5 | V191: =Apoio!AI743 -> 6 | W191: =Apoio!AJ743 -> 7 | X191: =Apoio!AK743 -> 8 | Y191: =Apoio!AL743 -> 9 | Z191: =Apoio!AM743 -> 10 | AA191: =Apoio!AN743 -> 11 | ... AH191: =Apoio!AU743 -> 22 | AJ191: 348

Sheet Opcao8
AA1: ="V"&X5 -> V1
A2: Opção 8 ( 18 fixos )
X5: 1 | Y5: 10
B16: Total de 24 volantes
B18: =Apoio!BZ240 -> 1 | C18: =Apoio!CA240 -> 2 | D18: =Apoio!CB240 -> 3 | E18: =Apoio!CC240 -> 4 | F18: =Apoio!CD240 -> 5 | G18: =Apoio!CE240 -> 6 | H18: =Apoio!CF240 -> 7 | I18: =Apoio!CG240 -> 8 | ... P18: =Apoio!CN240 -> 22 | R18: 1
B19: =Apoio!BZ241 -> 1 | C19: =Apoio!CA241 -> 2 | D19: =Apoio!CB241 -> 3 | E19: =Apoio!CC241 -> 4 | F19: =Apoio!CD241 -> 5 | G19: =Apoio!CE241 -> 6 | H19: =Apoio!CF241 -> 7 | I19: =Apoio!CG241 -> 8 | ... P19: =Apoio!CN241 -> 21 | R19: 2
B20: =Apoio!BZ242 -> 1 | C20: =Apoio!CA242 -> 2 | D20: =Apoio!CB242 -> 3 | E20: =Apoio!CC242 -> 4 | F20: =Apoio!CD242 -> 5 | G20: =Apoio!CE242 -> 6 | H20: =Apoio!CF242 -> 7 | I20: =Apoio!CG242 -> 9 | ... P20: =Apoio!CN242 -> 22 | R20: 3
B21: =Apoio!BZ243 -> 1 | C21: =Apoio!CA243 -> 2 | D21: =Apoio!CB243 -> 3 | E21: =Apoio!CC243 -> 4 | F21: =Apoio!CD243 -> 5 | G21: =Apoio!CE243 -> 6 | H21: =Apoio!CF243 -> 7 | I21: =Apoio!CG243 -> 10 | ... P21: =Apoio!CN243 -> 21 | R21: 4
B22: =Apoio!BZ244 -> 1 | C22: =Apoio!CA244 -> 2 | D22: =Apoio!CB244 -> 3 | E22: =Apoio!CC244 -> 4 | F22: =Apoio!CD244 -> 5 | G22: =Apoio!CE244 -> 6 | H22: =Apoio!CF244 -> 8 | I22: =Apoio!CG244 -> 9 | ... P22: =Apoio!CN244 -> 22 | R22: 5
B23: =Apoio!BZ245 -> 1 | C23: =Apoio!CA245 -> 2 | D23: =Apoio!CB245 -> 3 | E23: =Apoio!CC245 -> 4 | F23: =Apoio!CD245 -> 5 | G23: =Apoio!CE245 -> 6 | H23: =Apoio!CF245 -> 8 | I23: =Apoio!CG245 -> 9 | ... P23: =Apoio!CN245 -> 22 | R23: 6
B24: =Apoio!BZ246 -> 1 | C24: =Apoio!CA246 -> 2 | D24: =Apoio!CB246 -> 3 | E24: =Apoio!CC246 -> 4 | F24: =Apoio!CD246 -> 5 | G24: =Apoio!CE246 -> 7 | H24: =Apoio!CF246 -> 8 | I24: =Apoio!CG246 -> 10 | ... P24: =Apoio!CN246 -> 22 | R24: 7
B25: =Apoio!BZ247 -> 1 | C25: =Apoio!CA247 -> 2 | D25: =Apoio!CB247 -> 3 | E25: =Apoio!CC247 -> 4 | F25: =Apoio!CD247 -> 5 | G25: =Apoio!CE247 -> 7 | H25: =Apoio!CF247 -> 9 | I25: =Apoio!CG247 -> 11 | ... P25: =Apoio!CN247 -> 22 | R25: 8
B26: =Apoio!BZ248 -> 1 | C26: =Apoio!CA248 -> 2 | D26: =Apoio!CB248 -> 3 | E26: =Apoio!CC248 -> 4 | F26: =Apoio!CD248 -> 6 | G26: =Apoio!CE248 -> 7 | H26: =Apoio!CF248 -> 8 | I26: =Apoio!CG248 -> 9 | ... P26: =Apoio!CN248 -> 22 | R26: 9
B27: =Apoio!BZ249 -> 1 | C27: =Apoio!CA249 -> 2 | D27: =Apoio!CB249 -> 3 | E27: =Apoio!CC249 -> 4 | F27: =Apoio!CD249 -> 6 | G27: =Apoio!CE249 -> 7 | H27: =Apoio!CF249 -> 8 | I27: =Apoio!CG249 -> 9 | ... P27: =Apoio!CN249 -> 22 | R27: 10
B28: =Apoio!BZ250 -> 1 | C28: =Apoio!CA250 -> 2 | D28: =Apoio!CB250 -> 3 | E28: =Apoio!CC250 -> 5 | F28: =Apoio!CD250 -> 6 | G28: =Apoio!CE250 -> 7 | H28: =Apoio!CF250 -> 8 | I28: =Apoio!CG250 -> 9 | ... P28: =Apoio!CN250 -> 22 | R28: 11
B29: =Apoio!BZ251 -> 1 | C29: =Apoio!CA251 -> 2 | D29: =Apoio!CB251 -> 3 | E29: =Apoio!CC251 -> 5 | F29: =Apoio!CD251 -> 6 | G29: =Apoio!CE251 -> 8 | H29: =Apoio!CF251 -> 9 | I29: =Apoio!CG251 -> 10 | ... P29: =Apoio!CN251 -> 22 | R29: 12
... B41: =Apoio!BZ263 -> 2 | C41: =Apoio!CA263 -> 4 | D41: =Apoio!CB263 -> 5 | E41: =Apoio!CC263 -> 6 | F41: =Apoio!CD263 -> 7 | G41: =Apoio!CE263 -> 9 | H41: =Apoio!CF263 -> 10 | I41: =Apoio!CG263 -> 11 | ... P41: =Apoio!CN263 -> 22 | R41: 24

Sheet Apoio
AG1: 1 | AH1: 2 | AI1: 3 | AJ1: 4 | AK1: 5 | AL1: 6 | AM1: 7 | AN1: 8 | AO1: 9 | AP1: 10 | AQ1: 11 | AR1: 12 | AS1: 13 | AT1: 14 | AU1: 15 | AV1: 16 | AW1: 17 | AX1: 18 | AY1: 19 | AZ1: 20 | BA1: 21 | BB1: 22 | BC1: 23 | BD1: 24 | BE1: 25
AG2: =AG25 -> 1 | AH2: =AH25 -> 2 | AI2: =AI25 -> 3 | AJ2: =AJ25 -> 4 | AK2: =BC39 -> 5 | AL2: =BD39 -> 6 | AM2: =BE39 -> 7 | AN2: =BF39 -> 8 | AO2: =BG39 -> 9 | AP2: =BH39 -> 10 | AQ2: =BI39 -> 11 | AR2: =BJ39 -> 12 | ... AX2: =BP39 -> 25 | AY2: =AG26 -> 17 | AZ2: =AH26 -> 18 | BA2: =AI26 -> 19 | BB2: =AJ26 -> 20 | BC2: =AK26 -> 21 | BD2: =AL26 -> 22 | BE2: =AM26 -> 23
A3: 1 | B3: 2 | C3: 3 | D3: 4 | E3: 5 | F3: 6 | G3: 7 | H3: 8 | I3: 9 | J3: 10 | K3: 11 | L3: 12 | M3: 13 | N3: 14 | O3: 15 | P3: 16 | Q3: 17 | R3: 18
A4: =Início!B17 -> 1 | B4: =Início!C17 -> 2 | C4: =Início!D17 -> 3 | D4: =Início!E17 -> 4 | E4: =Início!F17 -> 5 | F4: =Início!G17 -> 6 | G4: =Início!H17 -> 7 | H4: =Início!I17 -> 8 | ... R4: =Início!S17 -> 21
A6: =LOOKUP(Q6,$A$3:$Y$3,$A$4:$Y$4) -> 1 | B6: =LOOKUP(R6,$A$3:$Y$3,$A$4:$Y$4) -> 2 | C6: =LOOKUP(S6,$A$3:$Y$3,$A$4:$Y$4) -> 3 | D6: =LOOKUP(T6,$A$3:$Y$3,$A$4:$Y$4) -> 4 | E6: =LOOKUP(U6,$A$3:$Y$3,$A$4:$Y$4) -> 5 | F6: =LOOKUP(V6,$A$3:$Y$3,$A$4:$Y$4) -> 6 | G6: =LOOKUP(W6,$A$3:$Y$3,$A$4:$Y$4) -> 7 | H6: =LOOKUP(X6,$A$3:$Y$3,$A$4:$Y$4) -> 8 | ... O6: =LOOKUP(AE6,$A$3:$Y$3,$A$4:$Y$4) -> 22 | Q6: 1 | R6: 2 | S6: 3 | T6: 4 | U6: 5 | V6: 6 | W6: 7 | X6: 8 | Y6: 9 | Z6: 10 | AA6: 11 | AB6: 12 | AC6: 14 | AD6: 15 | AE6: 17 | BZ6: =LOOKUP(CP6,$A$3:$Y$3,$A$4:$AE$4) -> 1 | CA6: =LOOKUP(CQ6,$A$3:$Y$3,$A$4:$AE$4) -> 2 | CB6: =LOOKUP(CR6,$A$3:$Y$3,$A$4:$AE$4) -> 3 | CC6: =LOOKUP(CS6,$A$3:$Y$3,$A$4:$AE$4) -> 4 | CD6: =LOOKUP(CT6,$A$3:$Y$3,$A$4:$AE$4) -> 5 | CE6: =LOOKUP(CU6,$A$3:$Y$3,$A$4:$AE$4) -> 6 | CF6: =LOOKUP(CV6,$A$3:$Y$3,$A$4:$AE$4) -> 7 | CG6: =LOOKUP(CW6,$A$3:$Y$3,$A$4:$AE$4) -> 8 | ... CN6: =LOOKUP(DD6,$A$3:$Y$3,$A$4:$AE$4) -> 16 | CP6: 1 | CQ6: 2 | CR6: 3 | CS6: 4 | CT6: 5 | CU6: 6 | CV6: 7 | CW6: 8 | CX6: 9 | CY6: 10 | CZ6: 11 | DA6: 12 | DB6: 13 | DC6: 15 | DD6: 16
A7: =LOOKUP(Q7,$A$3:$Y$3,$A$4:$Y$4) -> 1 | B7: =LOOKUP(R7,$A$3:$Y$3,$A$4:$Y$4) -> 2 | C7: =LOOKUP(S7,$A$3:$Y$3,$A$4:$Y$4) -> 3 | D7: =LOOKUP(T7,$A$3:$Y$3,$A$4:$Y$4) -> 4 | E7: =LOOKUP(U7,$A$3:$Y$3,$A$4:$Y$4) -> 5 | F7: =LOOKUP(V7,$A$3:$Y$3,$A$4:$Y$4) -> 6 | G7: =LOOKUP(W7,$A$3:$Y$3,$A$4:$Y$4) -> 8 | H7: =LOOKUP(X7,$A$3:$Y$3,$A$4:$Y$4) -> 9 | ... O7: =LOOKUP(AE7,$A$3:$Y$3,$A$4:$Y$4) -> 21 | Q7: 1 | R7: 2 | S7: 3 | T7: 4 | U7: 5 | V7: 6 | W7: 8 | X7: 9 | Y7: 10 | Z7: 11 | AA7: 13 | AB7: 14 | AC7: 16 | AD7: 17 | AE7: 18 | AG7: =LOOKUP(AW7,$AG$1:$BE$1,$AG$2:$BE$2) -> 1 | AH7: =LOOKUP(AX7,$AG$1:$BE$1,$AG$2:$BE$2) -> 2 | AI7: =LOOKUP(AY7,$AG$1:$BE$1,$AG$2:$BE$2) -> 3 | AJ7: =LOOKUP(AZ7,$AG$1:$BE$1,$AG$2:$BE$2) -> 4 | AK7: =LOOKUP(BA7,$AG$1:$BE$1,$AG$2:$BE$2) -> 5 | AL7: =LOOKUP(BB7,$AG$1:$BE$1,$AG$2:$BE$2) -> 6 | AM7: =LOOKUP(BC7,$AG$1:$BE$1,$AG$2:$BE$2) -> 7 | AN7: =LOOKUP(BD7,$AG$1:$BE$1,$AG$2:$BE$2) -> 8 | ... AU7: =LOOKUP(BK7,$AG$1:$BE$1,$AG$2:$BE$2) -> 24 | AW7: 1 | AX7: 2 | AY7: 3 | AZ7: 4 | BA7: 5 | BB7: 6 | BC7: 7 | BD7: 8 | BE7: 9 | BF7: 10 | BG7: 11 | BH7: 14 | BI7: 15 | BJ7: 16 | BK7: 17 | BZ7: =LOOKUP(CP7,$A$3:$Y$3,$A$4:$AE$4) -> 1 | CA7: =LOOKUP(CQ7,$A$3:$Y$3,$A$4:$AE$4) -> 2 | CB7: =LOOKUP(CR7,$A$3:$Y$3,$A$4:$AE$4) -> 3 | CC7: =LOOKUP(CS7,$A$3:$Y$3,$A$4:$AE$4) -> 4 | CD7: =LOOKUP(CT7,$A$3:$Y$3,$A$4:$AE$4) -> 5 | CE7: =LOOKUP(CU7,$A$3:$Y$3,$A$4:$AE$4) -> 6 | CF7: =LOOKUP(CV7,$A$3:$Y$3,$A$4:$AE$4) -> 7 | CG7: =LOOKUP(CW7,$A$3:$Y$3,$A$4:$AE$4) -> 8 | ... CN7: =LOOKUP(DD7,$A$3:$Y$3,$A$4:$AE$4) -> 21 | CP7: 1 | CQ7: 2 | CR7: 3 | CS7: 4 | CT7: 5 | CU7: 6 | CV7: 7 | CW7: 8 | CX7: 9 | CY7: 10 | CZ7: 11 | DA7: 12 | DB7: 14 | DC7: 17 | DD7: 18
A8: =LOOKUP(Q8,$A$3:$Y$3,$A$4:$Y$4) -> 1 | B8: =LOOKUP(R8,$A$3:$Y$3,$A$4:$Y$4) -> 2 | C8: =LOOKUP(S8,$A$3:$Y$3,$A$4:$Y$4) -> 3 | D8: =LOOKUP(T8,$A$3:$Y$3,$A$4:$Y$4) -> 4 | E8: =LOOKUP(U8,$A$3:$Y$3,$A$4:$Y$4) -> 5 | F8: =LOOKUP(V8,$A$3:$Y$3,$A$4:$Y$4) -> 7 | G8: =LOOKUP(W8,$A$3:$Y$3,$A$4:$Y$4) -> 10 | H8: =LOOKUP(X8,$A$3:$Y$3,$A$4:$Y$4) -> 11 | ... O8: =LOOKUP(AE8,$A$3:$Y$3,$A$4:$Y$4) -> 21 | Q8: 1 | R8: 2 | S8: 3 | T8: 4 | U8: 5 | V8: 7 | W8: 10 | X8: 11 | Y8: 12 | Z8: 13 | AA8: 14 | AB8: 15 | AC8: 16 | AD8: 17 | AE8: 18 | AG8: =LOOKUP(AW8,$AG$1:$BE$1,$AG$2:$BE$2) -> 1 | AH8: =LOOKUP(AX8,$AG$1:$BE$1,$AG$2:$BE$2) -> 2 | AI8: =LOOKUP(AY8,$AG$1:$BE$1,$AG$2:$BE$2) -> 3 | AJ8: =LOOKUP(AZ8,$AG$1:$BE$1,$AG$2:$BE$2) -> 4 | AK8: =LOOKUP(BA8,$AG$1:$BE$1,$AG$2:$BE$2) -> 5 | AL8: =LOOKUP(BB8,$AG$1:$BE$1,$AG$2:$BE$2) -> 6 | AM8: =LOOKUP(BC8,$AG$1:$BE$1,$AG$2:$BE$2) -> 7 | AN8: =LOOKUP(BD8,$AG$1:$BE$1,$AG$2:$BE$2) -> 8 | ... AU8: =LOOKUP(BK8,$AG$1:$BE$1,$AG$2:$BE$2) -> 25 | AW8: 1 | AX8: 2 | AY8: 3 | AZ8: 4 | BA8: 5 | BB8: 6 | BC8: 7 | BD8: 8 | BE8: 9 | BF8: 10 | BG8: 13 | BH8: 14 | BI8: 15 | BJ8: 16 | BK8: 18 | BZ8: =LOOKUP(CP8,$A$3:$Y$3,$A$4:$AE$4) -> 1 | CA8: =LOOKUP(CQ8,$A$3:$Y$3,$A$4:$AE$4) -> 2 | CB8: =LOOKUP(CR8,$A$3:$Y$3,$A$4:$AE$4) -> 3 | CC8: =LOOKUP(CS8,$A$3:$Y$3,$A$4:$AE$4) -> 4 | CD8: =LOOKUP(CT8,$A$3:$Y$3,$A$4:$AE$4) -> 5 | CE8: =LOOKUP(CU8,$A$3:$Y$3,$A$4:$AE$4) -> 6 | CF8: =LOOKUP(CV8,$A$3:$Y$3,$A$4:$AE$4) -> 7 | CG8: =LOOKUP(CW8,$A$3:$Y$3,$A$4:$AE$4) -> 8 | ... CN8: =LOOKUP(DD8,$A$3:$Y$3,$A$4:$AE$4) -> 21 | CP8: 1 | CQ8: 2 | CR8: 3 | CS8: 4 | CT8: 5 | CU8: 6 | CV8: 7 | CW8: 8 | CX8: 9 | CY8: 10 | CZ8: 11 | DA8: 13 | DB8: 14 | DC8: 17 | DD8: 18
A9: =LOOKUP(Q9,$A$3:$Y$3,$A$4:$Y$4) -> 1 | B9: =LOOKUP(R9,$A$3:$Y$3,$A$4:$Y$4) -> 2 | C9: =LOOKUP(S9,$A$3:$Y$3,$A$4:$Y$4) -> 4 | D9: =LOOKUP(T9,$A$3:$Y$3,$A$4:$Y$4) -> 6 | E9: =LOOKUP(U9,$A$3:$Y$3,$A$4:$Y$4) -> 7 | F9: =LOOKUP(V9,$A$3:$Y$3,$A$4:$Y$4) -> 8 | G9: =LOOKUP(W9,$A$3:$Y$3,$A$4:$Y$4) -> 9 | H9: =LOOKUP(X9,$A$3:$Y$3,$A$4:$Y$4) -> 10 | ... O9: =LOOKUP(AE9,$A$3:$Y$3,$A$4:$Y$4) -> 21 | Q9: 1 | R9: 2 | S9: 4 | T9: 6 | U9: 7 | V9: 8 | W9: 9 | X9: 10 | Y9: 11 | Z9: 12 | AA9: 13 | AB9: 15 | AC9: 16 | AD9: 17 | AE9: 18 | AG9: =LOOKUP(AW9,$AG$1:$BE$1,$AG$2:$BE$2) -> 1 | AH9: =LOOKUP(AX9,$AG$1:$BE$1,$AG$2:$BE$2) -> 2 | AI9: =LOOKUP(AY9,$AG$1:$BE$1,$AG$2:$BE$2) -> 3 | AJ9: =LOOKUP(AZ9,$AG$1:$BE$1,$AG$2:$BE$2) -> 4 | AK9: =LOOKUP(BA9,$AG$1:$BE$1,$AG$2:$BE$2) -> 5 | AL9: =LOOKUP(BB9,$AG$1:$BE$1,$AG$2:$BE$2) -> 6 | AM9: =LOOKUP(BC9,$AG$1:$BE$1,$AG$2:$BE$2) -> 7 | AN9: =LOOKUP(BD9,$AG$1:$BE$1,$AG$2:$BE$2) -> 8 | ... AU9: =LOOKUP(BK9,$AG$1:$BE$1,$AG$2:$BE$2) -> 25 | AW9: 1 | AX9: 2 | AY9: 3 | AZ9: 4 | BA9: 5 | BB9: 6 | BC9: 7 | BD9: 8 | BE9: 9 | BF9: 11 | BG9: 12 | BH9: 13 | BI9: 16 | BJ9: 17 | BK9: 18 | BZ9: =LOOKUP(CP9,$A$3:$Y$3,$A$4:$AE$4) -> 1 | CA9: =LOOKUP(CQ9,$A$3:$Y$3,$A$4:$AE$4) -> 2 | CB9: =LOOKUP(CR9,$A$3:$Y$3,$A$4:$AE$4) -> 3 | CC9: =LOOKUP(CS9,$A$3:$Y$3,$A$4:$AE$4) -> 4 | CD9: =LOOKUP(CT9,$A$3:$Y$3,$A$4:$AE$4) -> 5 | CE9: =LOOKUP(CU9,$A$3:$Y$3,$A$4:$AE$4) -> 6 | CF9: =LOOKUP(CV9,$A$3:$Y$3,$A$4:$AE$4) -> 7 | CG9: =LOOKUP(CW9,$A$3:$Y$3,$A$4:$AE$4) -> 8 | ... CN9: =LOOKUP(DD9,$A$3:$Y$3,$A$4:$AE$4) -> 21 | CP9: 1 | CQ9: 2 | CR9: 3 | CS9: 4 | CT9: 5 | CU9: 6 | CV9: 7 | CW9: 8 | CX9: 9 | CY9: 10 | CZ9: 11 | DA9: 14 | DB9: 15 | DC9: 17 | DD9: 18
A10: =LOOKUP(Q10,$A$3:$Y$3,$A$4:$Y$4) -> 1 | B10: =LOOKUP(R10,$A$3:$Y$3,$A$4:$Y$4) -> 3 | C10: =LOOKUP(S10,$A$3:$Y$3,$A$4:$Y$4) -> 4 | D10: =LOOKUP(T10,$A$3:$Y$3,$A$4:$Y$4) -> 5 | E10: =LOOKUP(U10,$A$3:$Y$3,$A$4:$Y$4) -> 6 | F10: =LOOKUP(V10,$A$3:$Y$3,$A$4:$Y$4) -> 7 | G10: =LOOKUP(W10,$A$3:$Y$3,$A$4:$Y$4) -> 8 | H10: =LOOKUP(X10,$A$3:$Y$3,$A$4:$Y$4) -> 9 | ... O10: =LOOKUP(AE10,$A$3:$Y$3,$A$4:$Y$4) -> 21 | Q10: 1 | R10: 3 | S10: 4 | T10: 5 | U10: 6 | V10: 7 | W10: 8 | X10: 9 | Y10: 10 | Z10: 13 | AA10: 14 | AB10: 15 | AC10: 16 | AD10: 17 | AE10: 18 | AG10: =LOOKUP(AW10,$AG$1:$BE$1,$AG$2:$BE$2) -> 1 | AH10: =LOOKUP(AX10,$AG$1:$BE$1,$AG$2:$BE$2) -> 2 | AI10: =LOOKUP(AY10,$AG$1:$BE$1,$AG$2:$BE$2) -> 3 | AJ10: =LOOKUP(AZ10,$AG$1:$BE$1,$AG$2:$BE$2) -> 4 | AK10: =LOOKUP(BA10,$AG$1:$BE$1,$AG$2:$BE$2) -> 5 | AL10: =LOOKUP(BB10,$AG$1:$BE$1,$AG$2:$BE$2) -> 6 | AM10: =LOOKUP(BC10,$AG$1:$BE$1,$AG$2:$BE$2) -> 7 | AN10: =LOOKUP(BD10,$AG$1:$BE$1,$AG$2:$BE$2) -> 8 | ... AU10: =LOOKUP(BK10,$AG$1:$BE$1,$AG$2:$BE$2) -> 25 | AW10: 1 | AX10: 2 | AY10: 3 | AZ10: 4 | BA10: 5 | BB10: 6 | BC10: 7 | BD10: 8 | BE10: 10 | BF10: 11 | BG10: 12 | BH10: 14 | BI10: 15 | BJ10: 16 | BK10: 18 | BZ10: =LOOKUP(CP10,$A$3:$Y$3,$A$4:$AE$4) -> 1 | CA10: =LOOKUP(CQ10,$A$3:$Y$3,$A$4:$AE$4) -> 2 | CB10: =LOOKUP(CR10,$A$3:$Y$3,$A$4:$AE$4) -> 3 | CC10: =LOOKUP(CS10,$A$3:$Y$3,$A$4:$AE$4) -> 4 | CD10: =LOOKUP(CT10,$A$3:$Y$3,$A$4:$AE$4) -> 5 | CE10: =LOOKUP(CU10,$A$3:$Y$3,$A$4:$AE$4) -> 6 | CF10: =LOOKUP(CV10,$A$3:$Y$3,$A$4:$AE$4) -> 7 | CG10: =LOOKUP(CW10,$A$3:$Y$3,$A$4:$AE$4) -> 8 | ... CN10: =LOOKUP(DD10,$A$3:$Y$3,$A$4:$AE$4) -> 21 | CP10: 1 | CQ10: 2 | CR10: 3 | CS10: 4 | CT10: 5 | CU10: 6 | CV10: 7 | CW10: 8 | CX10: 9 | CY10: 10 | CZ10: 11 | DA10: 14 | DB10: 16 | DC10: 17 | DD10: 18
A11: =LOOKUP(Q11,$A$3:$Y$3,$A$4:$Y$4) -> 2 | B11: =LOOKUP(R11,$A$3:$Y$3,$A$4:$Y$4) -> 5 | C11: =LOOKUP(S11,$A$3:$Y$3,$A$4:$Y$4) -> 6 | D11: =LOOKUP(T11,$A$3:$Y$3,$A$4:$Y$4) -> 7 | E11: =LOOKUP(U11,$A$3:$Y$3,$A$4:$Y$4) -> 8 | F11: =LOOKUP(V11,$A$3:$Y$3,$A$4:$Y$4) -> 9 | G11: =LOOKUP(W11,$A$3:$Y$3,$A$4:$Y$4) -> 10 | H11: =LOOKUP(X11,$A$3:$Y$3,$A$4:$Y$4) -> 11 | ... O11: =LOOKUP(AE11,$A$3:$Y$3,$A$4:$Y$4) -> 21 | Q11: 2 | R11: 5 | S11: 6 | T11: 7 | U11: 8 | V11: 9 | W11: 10 | X11: 11 | Y11: 12 | Z11: 13 | AA11: 14 | AB11: 15 | AC11: 16 | AD11: 17 | AE11: 18 | AG11: =LOOKUP(AW11,$AG$1:$BE$1,$AG$2:$BE$2) -> 1 | AH11: =LOOKUP(AX11,$AG$1:$BE$1,$AG$2:$BE$2) -> 2 | AI11: =LOOKUP(AY11,$AG$1:$BE$1,$AG$2:$BE$2) -> 3 | AJ11: =LOOKUP(AZ11,$AG$1:$BE$1,$AG$2:$BE$2) -> 4 | AK11: =LOOKUP(BA11,$AG$1:$BE$1,$AG$2:$BE$2) -> 5 | AL11: =LOOKUP(BB11,$AG$1:$BE$1,$AG$2:$BE$2) -> 6 | AM11: =LOOKUP(BC11,$AG$1:$BE$1,$AG$2:$BE$2) -> 7 | AN11: =LOOKUP(BD11,$AG$1:$BE$1,$AG$2:$BE$2) -> 8 | ... AU11: =LOOKUP(BK11,$AG$1:$BE$1,$AG$2:$BE$2) -> 24 | AW11: 1 | AX11: 2 | AY11: 3 | AZ11: 4 | BA11: 5 | BB11: 6 | BC11: 7 | BD11: 8 | BE11: 10 | BF11: 12 | BG11: 13 | BH11: 14 | BI11: 15 | BJ11: 16 | BK11: 17 | BZ11: =LOOKUP(CP11,$A$3:$Y$3,$A$4:$AE$4) -> 1 | CA11: =LOOKUP(CQ11,$A$3:$Y$3,$A$4:$AE$4) -> 2 | CB11: =LOOKUP(CR11,$A$3:$Y$3,$A$4:$AE$4) -> 3 | CC11: =LOOKUP(CS11,$A$3:$Y$3,$A$4:$AE$4) -> 4 | CD11: =LOOKUP(CT11,$A$3:$Y$3,$A$4:$AE$4) -> 5 | CE11: =LOOKUP(CU11,$A$3:$Y$3,$A$4:$AE$4) -> 6 | CF11: =LOOKUP(CV11,$A$3:$Y$3,$A$4:$AE$4) -> 7 | CG11: =LOOKUP(CW11,$A$3:$Y$3,$A$4:$AE$4) -> 8 | ... CN11: =LOOKUP(DD11,$A$3:$Y$3,$A$4:$AE$4) -> 21 | CP11: 1 | CQ11: 2 | CR11: 3 | CS11: 4 | CT11: 5 | CU11: 6 | CV11: 7 | CW11: 8 | CX11: 9 | CY11: 10 | CZ11: 12 | DA11: 13 | DB11: 14 | DC11: 17 | DD11: 18
AG12: =LOOKUP(AW12,$AG$1:$BE$1,$AG$2:$BE$2) -> 1 | AH12: =LOOKUP(AX12,$AG$1:$BE$1,$AG$2:$BE$2) -> 2 | AI12: =LOOKUP(AY12,$AG$1:$BE$1,$AG$2:$BE$2) -> 3 | AJ12: =LOOKUP(AZ12,$AG$1:$BE$1,$AG$2:$BE$2) -> 4 | AK12: =LOOKUP(BA12,$AG$1:$BE$1,$AG$2:$BE$2) -> 5 | AL12: =LOOKUP(BB12,$AG$1:$BE$1,$AG$2:$BE$2) -> 6 | AM12: =LOOKUP(BC12,$AG$1:$BE$1,$AG$2:$BE$2) -> 7 | AN12: =LOOKUP(BD12,$AG$1:$BE$1,$AG$2:$BE$2) -> 9 | ... AU12: =LOOKUP(BK12,$AG$1:$BE$1,$AG$2:$BE$2) -> 25 | AW12: 1 | AX12: 2 | AY12: 3 | AZ12: 4 | BA12: 5 | BB12: 6 | BC12: 7 | BD12: 9 | BE12: 11 | BF12: 12 | BG12: 13 | BH12: 14 | BI12: 15 | BJ12: 17 | BK12: 18 | BZ12: =LOOKUP(CP12,$A$3:$Y$3,$A$4:$AE$4) -> 1 | CA12: =LOOKUP(CQ12,$A$3:$Y$3,$A$4:$AE$4) -> 2 | CB12: =LOOKUP(CR12,$A$3:$Y$3,$A$4:$AE$4) -> 3 | CC12: =LOOKUP(CS12,$A$3:$Y$3,$A$4:$AE$4) -> 4 | CD12: =LOOKUP(CT12,$A$3:$Y$3,$A$4:$AE$4) -> 5 | CE12: =LOOKUP(CU12,$A$3:$Y$3,$A$4:$AE$4) -> 6 | CF12: =LOOKUP(CV12,$A$3:$Y$3,$A$4:$AE$4) -> 7 | CG12: =LOOKUP(CW12,$A$3:$Y$3,$A$4:$AE$4) -> 8 | ... CN12: =LOOKUP(DD12,$A$3:$Y$3,$A$4:$AE$4) -> 22 | CP12: 1 | CQ12: 2 | CR12: 3 | CS12: 4 | CT12: 5 | CU12: 6 | CV12: 7 | CW12: 8 | CX12: 9 | CY12: 10 | CZ12: 12 | DA12: 14 | DB12: 15 | DC12: 16 | DD12: 17
AG13: =LOOKUP(AW13,$AG$1:$BE$1,$AG$2:$BE$2) -> 1 | AH13: =LOOKUP(AX13,$AG$1:$BE$1,$AG$2:$BE$2) -> 2 | AI13: =LOOKUP(AY13,$AG$1:$BE$1,$AG$2:$BE$2) -> 3 | AJ13: =LOOKUP(AZ13,$AG$1:$BE$1,$AG$2:$BE$2) -> 4 | AK13: =LOOKUP(BA13,$AG$1:$BE$1,$AG$2:$BE$2) -> 5 | AL13: =LOOKUP(BB13,$AG$1:$BE$1,$AG$2:$BE$2) -> 6 | AM13: =LOOKUP(BC13,$AG$1:$BE$1,$AG$2:$BE$2) -> 8 | AN13: =LOOKUP(BD13,$AG$1:$BE$1,$AG$2:$BE$2) -> 9 | ... AU13: =LOOKUP(BK13,$AG$1:$BE$1,$AG$2:$BE$2) -> 25 | AW13: 1 | AX13: 2 | AY13: 3 | AZ13: 4 | BA13: 5 | BB13: 6 | BC13: 8 | BD13: 9 | BE13: 10 | BF13: 11 | BG13: 12 | BH13: 13 | BI13: 15 | BJ13: 17 | BK13: 18 | BZ13: =LOOKUP(CP13,$A$3:$Y$3,$A$4:$AE$4) -> 1 | CA13: =LOOKUP(CQ13,$A$3:$Y$3,$A$4:$AE$4) -> 2 | CB13: =LOOKUP(CR13,$A$3:$Y$3,$A$4:$AE$4) -> 3 | CC13: =LOOKUP(CS13,$A$3:$Y$3,$A$4:$AE$4) -> 4 | CD13: =LOOKUP(CT13,$A$3:$Y$3,$A$4:$AE$4) -> 5 | CE13: =LOOKUP(CU13,$A$3:$Y$3,$A$4:$AE$4) -> 6 | CF13: =LOOKUP(CV13,$A$3:$Y$3,$A$4:$AE$4) -> 7 | CG13: =LOOKUP(CW13,$A$3:$Y$3,$A$4:$AE$4) -> 8 | ... CN13: =LOOKUP(DD13,$A$3:$Y$3,$A$4:$AE$4) -> 21 | CP13: 1 | CQ13: 2 | CR13: 3 | CS13: 4 | CT13: 5 | CU13: 6 | CV13: 7 | CW13: 8 | CX13: 9 | CY13: 10 | CZ13: 12 | DA13: 14 | DB13: 15 | DC13: 16 | DD13: 18
A14: =SMALL($A6:$O6,A$3) -> 1 | B14: =SMALL($A6:$O6,B$3) -> 2 | C14: =SMALL($A6:$O6,C$3) -> 3 | D14: =SMALL($A6:$O6,D$3) -> 4 | E14: =SMALL($A6:$O6,E$3) -> 5 | F14: =SMALL($A6:$O6,F$3) -> 6 | G14: =SMALL($A6:$O6,G$3) -> 7 | H14: =SMALL($A6:$O6,H$3) -> 8 | ... O14: =SMALL($A6:$O6,O$3) -> 22 | R14: 1 | AG14: =LOOKUP(AW14,$AG$1:$BE$1,$AG$2:$BE$2) -> 1 | AH14: =LOOKUP(AX14,$AG$1:$BE$1,$AG$2:$BE$2) -> 2 | AI14: =LOOKUP(AY14,$AG$1:$BE$1,$AG$2:$BE$2) -> 3 | AJ14: =LOOKUP(AZ14,$AG$1:$BE$1,$AG$2:$BE$2) -> 4 | AK14: =LOOKUP(BA14,$AG$1:$BE$1,$AG$2:$BE$2) -> 5 | AL14: =LOOKUP(BB14,$AG$1:$BE$1,$AG$2:$BE$2) -> 6 | AM14: =LOOKUP(BC14,$AG$1:$BE$1,$AG$2:$BE$2) -> 9 | AN14: =LOOKUP(BD14,$AG$1:$BE$1,$AG$2:$BE$2) -> 10 | ... AU14: =LOOKUP(BK14,$AG$1:$BE$1,$AG$2:$BE$2) -> 25 | AW14: 1 | AX14: 2 | AY14: 3 | AZ14: 4 | BA14: 5 | BB14: 6 | BC14: 9 | BD14: 10 | BE14: 11 | BF14: 12 | BG14: 13 | BH14: 14 | BI14: 16 | BJ14: 17 | BK14: 18 | BZ14: =LOOKUP(CP14,$A$3:$Y$3,$A$4:$AE$4) -> 1 | CA14: =LOOKUP(CQ14,$A$3:$Y$3,$A$4:$AE$4) -> 2 | CB14: =LOOKUP(CR14,$A$3:$Y$3,$A$4:$AE$4) -> 3 | CC14: =LOOKUP(CS14,$A$3:$Y$3,$A$4:$AE$4) -> 4 | CD14: =LOOKUP(CT14,$A$3:$Y$3,$A$4:$AE$4) -> 5 | CE14: =LOOKUP(CU14,$A$3:$Y$3,$A$4:$AE$4) -> 6 | CF14: =LOOKUP(CV14,$A$3:$Y$3,$A$4:$AE$4) -> 7 | CG14: =LOOKUP(CW14,$A$3:$Y$3,$A$4:$AE$4) -> 8 | ... CN14: =LOOKUP(DD14,$A$3:$Y$3,$A$4:$AE$4) -> 22 | CP14: 1 | CQ14: 2 | CR14: 3 | CS14: 4 | CT14: 5 | CU14: 6 | CV14: 7 | CW14: 8 | CX14: 9 | CY14: 10 | CZ14: 13 | DA14: 14 | DB14: 15 | DC14: 16 | DD14: 17
A15: =SMALL($A7:$O7,A$3) -> 1 | B15: =SMALL($A7:$O7,B$3) -> 2 | C15: =SMALL($A7:$O7,C$3) -> 3 | D15: =SMALL($A7:$O7,D$3) -> 4 | E15: =SMALL($A7:$O7,E$3) -> 5 | F15: =SMALL($A7:$O7,F$3) -> 6 | G15: =SMALL($A7:$O7,G$3) -> 8 | H15: =SMALL($A7:$O7,H$3) -> 9 | ... O15: =SMALL($A7:$O7,O$3) -> 22 | R15: 2 | AG15: =LOOKUP(AW15,$AG$1:$BE$1,$AG$2:$BE$2) -> 1 | AH15: =LOOKUP(AX15,$AG$1:$BE$1,$AG$2:$BE$2) -> 2 | AI15: =LOOKUP(AY15,$AG$1:$BE$1,$AG$2:$BE$2) -> 3 | AJ15: =LOOKUP(AZ15,$AG$1:$BE$1,$AG$2:$BE$2) -> 4 | AK15: =LOOKUP(BA15,$AG$1:$BE$1,$AG$2:$BE$2) -> 5 | AL15: =LOOKUP(BB15,$AG$1:$BE$1,$AG$2:$BE$2) -> 7 | AM15: =LOOKUP(BC15,$AG$1:$BE$1,$AG$2:$BE$2) -> 8 | AN15: =LOOKUP(BD15,$AG$1:$BE$1,$AG$2:$BE$2) -> 9 | ... AU15: =LOOKUP(BK15,$AG$1:$BE$1,$AG$2:$BE$2) -> 16 | AW15: 1 | AX15: 2 | AY15: 3 | AZ15: 4 | BA15: 5 | BB15: 7 | BC15: 8 | BD15: 9 | BE15: 10 | BF15: 11 | BG15: 12 | BH15: 13 | BI15: 14 | BJ15: 15 | BK15: 16 | BZ15: =LOOKUP(CP15,$A$3:$Y$3,$A$4:$AE$4) -> 1 | CA15: =LOOKUP(CQ15,$A$3:$Y$3,$A$4:$AE$4) -> 2 | CB15: =LOOKUP(CR15,$A$3:$Y$3,$A$4:$AE$4) -> 3 | CC15: =LOOKUP(CS15,$A$3:$Y$3,$A$4:$AE$4) -> 4 | CD15: =LOOKUP(CT15,$A$3:$Y$3,$A$4:$AE$4) -> 5 | CE15: =LOOKUP(CU15,$A$3:$Y$3,$A$4:$AE$4) -> 6 | CF15: =LOOKUP(CV15,$A$3:$Y$3,$A$4:$AE$4) -> 7 | CG15: =LOOKUP(CW15,$A$3:$Y$3,$A$4:$AE$4) -> 8 | ... CN15: =LOOKUP(DD15,$A$3:$Y$3,$A$4:$AE$4) -> 21 | CP15: 1 | CQ15: 2 | CR15: 3 | CS15: 4 | CT15: 5 | CU15: 6 | CV15: 7 | CW15: 8 | CX15: 9 | CY15: 10 | CZ15: 13 | DA15: 14 | DB15: 15 | DC15: 16 | DD15: 18
A16: =SMALL($A8:$O8,A$3) -> 1 | B16: =SMALL($A8:$O8,B$3) -> 2 | C16: =SMALL($A8:$O8,C$3) -> 3 | D16: =SMALL($A8:$O8,D$3) -> 4 | E16: =SMALL($A8:$O8,E$3) -> 5 | F16: =SMALL($A8:$O8,F$3) -> 7 | G16: =SMALL($A8:$O8,G$3) -> 10 | H16: =SMALL($A8:$O8,H$3) -> 11 | ... O16: =SMALL($A8:$O8,O$3) -> 22 | R16: 3 | AG16: =LOOKUP(AW16,$AG$1:$BE$1,$AG$2:$BE$2) -> 1 | AH16: =LOOKUP(AX16,$AG$1:$BE$1,$AG$2:$BE$2) -> 2 | AI16: =LOOKUP(AY16,$AG$1:$BE$1,$AG$2:$BE$2) -> 3 | AJ16: =LOOKUP(AZ16,$AG$1:$BE$1,$AG$2:$BE$2) -> 4 | AK16: =LOOKUP(BA16,$AG$1:$BE$1,$AG$2:$BE$2) -> 5 | AL16: =LOOKUP(BB16,$AG$1:$BE$1,$AG$2:$BE$2) -> 7 | AM16: =LOOKUP(BC16,$AG$1:$BE$1,$AG$2:$BE$2) -> 8 | AN16: =LOOKUP(BD16,$AG$1:$BE$1,$AG$2:$BE$2) -> 9 | ... AU16: =LOOKUP(BK16,$AG$1:$BE$1,$AG$2:$BE$2) -> 25 | AW16: 1 | AX16: 2 | AY16: 3 | AZ16: 4 | BA16: 5 | BB16: 7 | BC16: 8 | BD16: 9 | BE16: 10 | BF16: 12 | BG16: 14 | BH16: 15 | BI16: 16 | BJ16: 17 | BK16: 18 | BZ16: =LOOKUP(CP16,$A$3:$Y$3,$A$4:$AE$4) -> 1 | CA16: =LOOKUP(CQ16,$A$3:$Y$3,$A$4:$AE$4) -> 2 | CB16: =LOOKUP(CR16,$A$3:$Y$3,$A$4:$AE$4) -> 3 | CC16: =LOOKUP(CS16,$A$3:$Y$3,$A$4:$AE$4) -> 4 | CD16: =LOOKUP(CT16,$A$3:$Y$3,$A$4:$AE$4) -> 5 | CE16: =LOOKUP(CU16,$A$3:$Y$3,$A$4:$AE$4) -> 6 | CF16: =LOOKUP(CV16,$A$3:$Y$3,$A$4:$AE$4) -> 7 | CG16: =LOOKUP(CW16,$A$3:$Y$3,$A$4:$AE$4) -> 8 | ... CN16: =LOOKUP(DD16,$A$3:$Y$3,$A$4:$AE$4) -> 16 | CP16: 1 | CQ16: 2 | CR16: 3 | CS16: 4 | CT16: 5 | CU16: 6 | CV16: 7 | CW16: 8 | CX16: 9 | CY16: 11 | CZ16: 12 | DA16: 13 | DB16: 14 | DC16: 15 | DD16: 16
A17: =SMALL($A9:$O9,A$3) -> 1 | B17: =SMALL($A9:$O9,B$3) -> 2 | C17: =SMALL($A9:$O9,C$3) -> 4 | D17: =SMALL($A9:$O9,D$3) -> 6 | E17: =SMALL($A9:$O9,E$3) -> 7 | F17: =SMALL($A9:$O9,F$3) -> 8 | G17: =SMALL($A9:$O9,G$3) -> 9 | H17: =SMALL($A9:$O9,H$3) -> 10 | ... O17: =SMALL($A9:$O9,O$3) -> 22 | R17: 4 | AG17: =LOOKUP(AW17,$AG$1:$BE$1,$AG$2:$BE$2) -> 1 | AH17: =LOOKUP(AX17,$AG$1:$BE$1,$AG$2:$BE$2) -> 2 | AI17: =LOOKUP(AY17,$AG$1:$BE$1,$AG$2:$BE$2) -> 3 | AJ17: =LOOKUP(AZ17,$AG$1:$BE$1,$AG$2:$BE$2) -> 4 | AK17: =LOOKUP(BA17,$AG$1:$BE$1,$AG$2:$BE$2) -> 5 | AL17: =LOOKUP(BB17,$AG$1:$BE$1,$AG$2:$BE$2) -> 7 | AM17: =LOOKUP(BC17,$AG$1:$BE$1,$AG$2:$BE$2) -> 8 | AN17: =LOOKUP(BD17,$AG$1:$BE$1,$AG$2:$BE$2) -> 10 | ... AU17: =LOOKUP(BK17,$AG$1:$BE$1,$AG$2:$BE$2) -> 25 | AW17: 1 | AX17: 2 | AY17: 3 | AZ17: 4 | BA17: 5 | BB17: 7 | BC17: 8 | BD17: 10 | BE17: 11 | BF17: 13 | BG17: 14 | BH17: 15 | BI17: 16 | BJ17: 17 | BK17: 18 | BZ17: =LOOKUP(CP17,$A$3:$Y$3,$A$4:$AE$4) -> 1 | CA17: =LOOKUP(CQ17,$A$3:$Y$3,$A$4:$AE$4) -> 2 | CB17: =LOOKUP(CR17,$A$3:$Y$3,$A$4:$AE$4) -> 3 | CC17: =LOOKUP(CS17,$A$3:$Y$3,$A$4:$AE$4) -> 4 | CD17: =LOOKUP(CT17,$A$3:$Y$3,$A$4:$AE$4) -> 5 | CE17: =LOOKUP(CU17,$A$3:$Y$3,$A$4:$AE$4) -> 6 | CF17: =LOOKUP(CV17,$A$3:$Y$3,$A$4:$AE$4) -> 7 | CG17: =LOOKUP(CW17,$A$3:$Y$3,$A$4:$AE$4) -> 8 | ... CN17: =LOOKUP(DD17,$A$3:$Y$3,$A$4:$AE$4) -> 21 | CP17: 1 | CQ17: 2 | CR17: 3 | CS17: 4 | CT17: 5 | CU17: 6 | CV17: 7 | CW17: 8 | CX17: 9 | CY17: 11 | CZ17: 12 | DA17: 13 | DB17: 15 | DC17: 17 | DD17: 18
A18: =SMALL($A10:$O10,A$3) -> 1 | B18: =SMALL($A10:$O10,B$3) -> 3 | C18: =SMALL($A10:$O10,C$3) -> 4 | D18: =SMALL($A10:$O10,D$3) -> 5 | E18: =SMALL($A10:$O10,E$3) -> 6 | F18: =SMALL($A10:$O10,F$3) -> 7 | G18: =SMALL($A10:$O10,G$3) -> 8 | H18: =SMALL($A10:$O10,H$3) -> 9 | ... O18: =SMALL($A10:$O10,O$3) -> 22 | R18: 5 | AG18: =LOOKUP(AW18,$AG$1:$BE$1,$AG$2:$BE$2) -> 1 | AH18: =LOOKUP(AX18,$AG$1:$BE$1,$AG$2:$BE$2) -> 2 | AI18: =LOOKUP(AY18,$AG$1:$BE$1,$AG$2:$BE$2) -> 3 | AJ18: =LOOKUP(AZ18,$AG$1:$BE$1,$AG$2:$BE$2) -> 4 | AK18: =LOOKUP(BA18,$AG$1:$BE$1,$AG$2:$BE$2) -> 6 | AL18: =LOOKUP(BB18,$AG$1:$BE$1,$AG$2:$BE$2) -> 7 | AM18: =LOOKUP(BC18,$AG$1:$BE$1,$AG$2:$BE$2) -> 8 | AN18: =LOOKUP(BD18,$AG$1:$BE$1,$AG$2:$BE$2) -> 9 | ... AU18: =LOOKUP(BK18,$AG$1:$BE$1,$AG$2:$BE$2) -> 25 | AW18: 1 | AX18: 2 | AY18: 3 | AZ18: 4 | BA18: 6 | BB18: 7 | BC18: 8 | BD18: 9 | BE18: 10 | BF18: 11 | BG18: 12 | BH18: 13 | BI18: 14 | BJ18: 17 | BK18: 18 | BZ18: =LOOKUP(CP18,$A$3:$Y$3,$A$4:$AE$4) -> 1 | CA18: =LOOKUP(CQ18,$A$3:$Y$3,$A$4:$AE$4) -> 2 | CB18: =LOOKUP(CR18,$A$3:$Y$3,$A$4:$AE$4) -> 3 | CC18: =LOOKUP(CS18,$A$3:$Y$3,$A$4:$AE$4) -> 4 | CD18: =LOOKUP(CT18,$A$3:$Y$3,$A$4:$AE$4) -> 5 | CE18: =LOOKUP(CU18,$A$3:$Y$3,$A$4:$AE$4) -> 6 | CF18: =LOOKUP(CV18,$A$3:$Y$3,$A$4:$AE$4) -> 7 | CG18: =LOOKUP(CW18,$A$3:$Y$3,$A$4:$AE$4) -> 8 | ... CN18: =LOOKUP(DD18,$A$3:$Y$3,$A$4:$AE$4) -> 21 | CP18: 1 | CQ18: 2 | CR18: 3 | CS18: 4 | CT18: 5 | CU18: 6 | CV18: 7 | CW18: 8 | CX18: 9 | CY18: 11 | CZ18: 12 | DA18: 14 | DB18: 16 | DC18: 17 | DD18: 18
A19: =SMALL($A11:$O11,A$3) -> 2 | B19: =SMALL($A11:$O11,B$3) -> 5 | C19: =SMALL($A11:$O11,C$3) -> 6 | D19: =SMALL($A11:$O11,D$3) -> 7 | E19: =SMALL($A11:$O11,E$3) -> 8 | F19: =SMALL($A11:$O11,F$3) -> 9 | G19: =SMALL($A11:$O11,G$3) -> 10 | H19: =SMALL($A11:$O11,H$3) -> 11 | ... O19: =SMALL($A11:$O11,O$3) -> 22 | R19: 6 | AG19: =LOOKUP(AW19,$AG$1:$BE$1,$AG$2:$BE$2) -> 1 | AH19: =LOOKUP(AX19,$AG$1:$BE$1,$AG$2:$BE$2) -> 2 | AI19: =LOOKUP(AY19,$AG$1:$BE$1,$AG$2:$BE$2) -> 3 | AJ19: =LOOKUP(AZ19,$AG$1:$BE$1,$AG$2:$BE$2) -> 4 | AK19: =LOOKUP(BA19,$AG$1:$BE$1,$AG$2:$BE$2) -> 6 | AL19: =LOOKUP(BB19,$AG$1:$BE$1,$AG$2:$BE$2) -> 7 | AM19: =LOOKUP(BC19,$AG$1:$BE$1,$AG$2:$BE$2) -> 9 | AN19: =LOOKUP(BD19,$AG$1:$BE$1,$AG$2:$BE$2) -> 10 | ... AU19: =LOOKUP(BK19,$AG$1:$BE$1,$AG$2:$BE$2) -> 25 | AW19: 1 | AX19: 2 | AY19: 3 | AZ19: 4 | BA19: 6 | BB19: 7 | BC19: 9 | BD19: 10 | BE19: 11 | BF19: 12 | BG19: 13 | BH19: 15 | BI19: 16 | BJ19: 17 | BK19: 18 | BZ19: =LOOKUP(CP19,$A$3:$Y$3,$A$4:$AE$4) -> 1 | CA19: =LOOKUP(CQ19,$A$3:$Y$3,$A$4:$AE$4) -> 2 | CB19: =LOOKUP(CR19,$A$3:$Y$3,$A$4:$AE$4) -> 3 | CC19: =LOOKUP(CS19,$A$3:$Y$3,$A$4:$AE$4) -> 4 | CD19: =LOOKUP(CT19,$A$3:$Y$3,$A$4:$AE$4) -> 5 | CE19: =LOOKUP(CU19,$A$3:$Y$3,$A$4:$AE$4) -> 6 | CF19: =LOOKUP(CV19,$A$3:$Y$3,$A$4:$AE$4) -> 7 | CG19: =LOOKUP(CW19,$A$3:$Y$3,$A$4:$AE$4) -> 8 | ... CN19: =LOOKUP(DD19,$A$3:$Y$3,$A$4:$AE$4) -> 21 | CP19: 1 | CQ19: 2 | CR19: 3 | CS19: 4 | CT19: 5 | CU19: 6 | CV19: 7 | CW19: 8 | CX19: 9 | CY19: 11 | CZ19: 13 | DA19: 14 | DB19: 16 | DC19: 17 | DD19: 18
AG20: =LOOKUP(AW20,$AG$1:$BE$1,$AG$2:$BE$2) -> 1 | AH20: =LOOKUP(AX20,$AG$1:$BE$1,$AG$2:$BE$2) -> 2 | AI20: =LOOKUP(AY20,$AG$1:$BE$1,$AG$2:$BE$2) -> 3 | AJ20: =LOOKUP(AZ20,$AG$1:$BE$1,$AG$2:$BE$2) -> 4 | AK20: =LOOKUP(BA20,$AG$1:$BE$1,$AG$2:$BE$2) -> 6 | AL20: =LOOKUP(BB20,$AG$1:$BE$1,$AG$2:$BE$2) -> 8 | AM20: =LOOKUP(BC20,$AG$1:$BE$1,$AG$2:$BE$2) -> 9 | AN20: =LOOKUP(BD20,$AG$1:$BE$1,$AG$2:$BE$2) -> 11 | ... AU20: =LOOKUP(BK20,$AG$1:$BE$1,$AG$2:$BE$2) -> 25 | AW20: 1 | AX20: 2 | AY20: 3 | AZ20: 4 | BA20: 6 | BB20: 8 | BC20: 9 | BD20: 11 | BE20: 12 | BF20: 13 | BG20: 14 | BH20: 15 | BI20: 16 | BJ20: 17 | BK20: 18 | BZ20: =LOOKUP(CP20,$A$3:$Y$3,$A$4:$AE$4) -> 1 | CA20: =LOOKUP(CQ20,$A$3:$Y$3,$A$4:$AE$4) -> 2 | CB20: =LOOKUP(CR20,$A$3:$Y$3,$A$4:$AE$4) -> 3 | CC20: =LOOKUP(CS20,$A$3:$Y$3,$A$4:$AE$4) -> 4 | CD20: =LOOKUP(CT20,$A$3:$Y$3,$A$4:$AE$4) -> 5 | CE20: =LOOKUP(CU20,$A$3:$Y$3,$A$4:$AE$4) -> 6 | CF20: =LOOKUP(CV20,$A$3:$Y$3,$A$4:$AE$4) -> 7 | CG20: =LOOKUP(CW20,$A$3:$Y$3,$A$4:$AE$4) -> 8 | ... CN20: =LOOKUP(DD20,$A$3:$Y$3,$A$4:$AE$4) -> 21 | CP20: 1 | CQ20: 2 | CR20: 3 | CS20: 4 | CT20: 5 | CU20: 6 | CV20: 7 | CW20: 8 | CX20: 9 | CY20: 11 | CZ20: 14 | DA20: 15 | DB20: 16 | DC20: 17 | DD20: 18
A21: =LOOKUP(Q21,$A$3:$Y$3,$A$4:$Y$4) -> 1 | B21: =LOOKUP(R21,$A$3:$Y$3,$A$4:$Y$4) -> 2 | C21: =LOOKUP(S21,$A$3:$Y$3,$A$4:$Y$4) -> 3 | D21: =LOOKUP(T21,$A$3:$Y$3,$A$4:$Y$4) -> 4 | E21: =LOOKUP(U21,$A$3:$Y$3,$A$4:$Y$4) -> 5 | F21: =LOOKUP(V21,$A$3:$Y$3,$A$4:$Y$4) -> 6 | G21: =LOOKUP(W21,$A$3:$Y$3,$A$4:$Y$4) -> 7 | H21: =LOOKUP(X21,$A$3:$Y$3,$A$4:$Y$4) -> 8 | ... O21: =LOOKUP(AE21,$A$3:$Y$3,$A$4:$Y$4) -> 21 | Q21: 1 | R21: 2 | S21: 3 | T21: 4 | U21: 5 | V21: 6 | W21: 7 | X21: 8 | Y21: 9 | Z21: 11 | AA21: 13 | AB21: 15 | AC21: 16 | AD21: 17 | AE21: 18 | BZ21: =LOOKUP(CP21,$A$3:$Y$3,$A$4:$AE$4) -> 1 | CA21: =LOOKUP(CQ21,$A$3:$Y$3,$A$4:$AE$4) -> 2 | CB21: =LOOKUP(CR21,$A$3:$Y$3,$A$4:$AE$4) -> 3 | CC21: =LOOKUP(CS21,$A$3:$Y$3,$A$4:$AE$4) -> 4 | CD21: =LOOKUP(CT21,$A$3:$Y$3,$A$4:$AE$4) -> 5 | CE21: =LOOKUP(CU21,$A$3:$Y$3,$A$4:$AE$4) -> 6 | CF21: =LOOKUP(CV21,$A$3:$Y$3,$A$4:$AE$4) -> 7 | CG21: =LOOKUP(CW21,$A$3:$Y$3,$A$4:$AE$4) -> 8 | ... CN21: =LOOKUP(DD21,$A$3:$Y$3,$A$4:$AE$4) -> 21 | CP21: 1 | CQ21: 2 | CR21: 3 | CS21: 4 | CT21: 5 | CU21: 6 | CV21: 7 | CW21: 8 | CX21: 9 | CY21: 12 | CZ21: 13 | DA21: 14 | DB21: 16 | DC21: 17 | DD21: 18
