Workbook

Sheet Início
A1: Sua Logo Aqui | AA1: ="V"&X5 -> V1
E2: Desdobramento Lotofácil com 18 Números
X5: 1 | Y5: 10
U9: Opção 1: Se você acertar os 15 números fixos dos 18 escolhidos garante ao menos 1 cartela com 13 pontos. ( 6 volantes ) Opção 2: Se você acertar os 15 números fixos dos 18 escolhidos garante ao menos 1 cartela com 14 pontos. ( 24 volantes ) Opção 3: Se você acertar os 4 números fixos escolhidos e não sair nenhum dos 7 excluídos há 99% de chance de uma cartela fazer 15 pontos. ( 14 volantes ) Opção 4: Se você acertar os 11 números fixos dos 18 escolhidos garante ao menos 1 cartela com 11 pontos. ( 65 volantes ) Opção 5: Se você acertar os 12 números fixos dos 18 escolhidos garante ao menos 1 cartela com 12 pontos. ( 101 volantes ) Opção 6: Se você acertar os 13 números fixos dos 18 escolhidos garante ao menos 1 cartela com 13 pontos. ( 174 volantes ) Opção 7: Se você acertar os 14 números fixos dos 18 escolhidos garante ao menos 1 cartela com 14 pontos. ( 348 volantes ) Opção 8: Se você acertar os 15 números fixos dos 18 escolhidos garante ao menos 1 cartela com 14 pontos. ( 24 volantes )
B16: Digite 18 Números Fixo | J16: ( Qualquer Ordem)
B17: 1 | C17: 2 | D17: 3 | E17: 4 | F17: 5 | G17: 6 | H17: 7 | I17: 8 | J17: 9 | K17: 10 | L17: 11 | M17: 12 | N17: 13 | O17: 14 | P17: 15 | Q17: 16 | R17: 22 | S17: 21
B24: Opção 3:
B25: Digite 4 Números Fixo | J25: ( Qualquer Ordem)
B26: 1 | C26: 2 | D26: 3 | E26: 4
B27: Digite 7 Números Para Excluir
B28: 17 | C28: 18 | D28: 19 | E28: 20 | F28: 21 | G28: 22 | H28: 23

Sheet Opcao1
AA1: ="V"&X5 -> V1
A2: Opção 1 ( 18 fixos )
X5: 1 | Y5: 10
B16: Total de 6 volantes
B18: =Apoio!A14 -> 1 | C18: =Apoio!B14 -> 2 | D18: =Apoio!C14 -> 3 | E18: =Apoio!D14 -> 4 | F18: =Apoio!E14 -> 5 | G18: =Apoio!F14 -> 6 | H18: =Apoio!G14 -> 7 | I18: =Apoio!H14 -> 8 | ... P18: =Apoio!O14 -> 22 | R18: 1
B19: =Apoio!A15 -> 1 | C19: =Apoio!B15 -> 2 | D19: =Apoio!C15 -> 3 | E19: =Apoio!D15 -> 4 | F19: =Apoio!E15 -> 5 | G19: =Apoio!F15 -> 6 | H19: =Apoio!G15 -> 8 | I19: =Apoio!H15 -> 9 | ... P19: =Apoio!O15 -> 22 | R19: 2
B20: =Apoio!A16 -> 1 | C20: =Apoio!B16 -> 2 | D20: =Apoio!C16 -> 3 | E20: =Apoio!D16 -> 4 | F20: =Apoio!E16 -> 5 | G20: =Apoio!F16 -> 7 | H20: =Apoio!G16 -> 10 | I20: =Apoio!H16 -> 11 | ... P20: =Apoio!O16 -> 22 | R20: 3
B21: =Apoio!A17 -> 1 | C21: =Apoio!B17 -> 2 | D21: =Apoio!C17 -> 4 | E21: =Apoio!D17 -> 6 | F21: =Apoio!E17 -> 7 | G21: =Apoio!F17 -> 8 | H21: =Apoio!G17 -> 9 | I21: =Apoio!H17 -> 10 | ... P21: =Apoio!O17 -> 22 | R21: 4
B22: =Apoio!A18 -> 1 | C22: =Apoio!B18 -> 3 | D22: =Apoio!C18 -> 4 | E22: =Apoio!D18 -> 5 | F22: =Apoio!E18 -> 6 | G22: =Apoio!F18 -> 7 | H22: =Apoio!G18 -> 8 | I22: =Apoio!H18 -> 9 | ... P22: =Apoio!O18 -> 22 | R22: 5
B23: =Apoio!A19 -> 2 | C23: =Apoio!B19 -> 5 | D23: =Apoio!C19 -> 6 | E23: =Apoio!D19 -> 7 | F23: =Apoio!E19 -> 8 | G23: =Apoio!F19 -> 9 | H23: =Apoio!G19 -> 10 | I23: =Apoio!H19 -> 11 | ... P23: =Apoio!O19 -> 22 | R23: 6

Sheet Opcao2
AA1: ="V"&X5 -> V1
A2: Opção 2 ( 17 fixos )
X5: 1 | Y5: 10
B16: Total de 24 volantes
B18: =Apoio!A47 -> 1 | C18: =Apoio!B47 -> 2 | D18: =Apoio!C47 -> 3 | E18: =Apoio!D47 -> 4 | F18: =Apoio!E47 -> 5 | G18: =Apoio!F47 -> 6 | H18: =Apoio!G47 -> 7 | I18: =Apoio!H47 -> 8 | ... P18: =Apoio!O47 -> 22 | R18: 1
B19: =Apoio!A48 -> 1 | C19: =Apoio!B48 -> 2 | D19: =Apoio!C48 -> 3 | E19: =Apoio!D48 -> 4 | F19: =Apoio!E48 -> 5 | G19: =Apoio!F48 -> 6 | H19: =Apoio!G48 -> 7 | I19: =Apoio!H48 -> 8 | ... P19: =Apoio!O48 -> 22 | R19: 2
B20: =Apoio!A49 -> 1 | C20: =Apoio!B49 -> 2 | D20: =Apoio!C49 -> 3 | E20: =Apoio!D49 -> 4 | F20: =Apoio!E49 -> 5 | G20: =Apoio!F49 -> 7 | H20: =Apoio!G49 -> 8 | I20: =Apoio!H49 -> 9 | ... P20: =Apoio!O49 -> 22 | R20: 3
B21: =Apoio!A50 -> 1 | C21: =Apoio!B50 -> 2 | D21: =Apoio!C50 -> 3 | E21: =Apoio!D50 -> 4 | F21: =Apoio!E50 -> 6 | G21: =Apoio!F50 -> 7 | H21: =Apoio!G50 -> 8 | I21: =Apoio!H50 -> 9 | ... P21: =Apoio!O50 -> 22 | R21: 4
B22: =Apoio!A51 -> 1 | C22: =Apoio!B51 -> 2 | D22: =Apoio!C51 -> 3 | E22: =Apoio!D51 -> 4 | F22: =Apoio!E51 -> 5 | G22: =Apoio!F51 -> 6 | H22: =Apoio!G51 -> 7 | I22: =Apoio!H51 -> 8 | ... P22: =Apoio!O51 -> 22 | R22: 5
B23: =Apoio!A52 -> 1 | C23: =Apoio!B52 -> 3 | D23: =Apoio!C52 -> 4 | E23: =Apoio!D52 -> 5 | F23: =Apoio!E52 -> 6 | G23: =Apoio!F52 -> 7 | H23: =Apoio!G52 -> 10 | I23: =Apoio!H52 -> 11 | ... P23: =Apoio!O52 -> 22 | R23: 6
B24: =Apoio!A53 -> 1 | C24: =Apoio!B53 -> 2 | D24: =Apoio!C53 -> 5 | E24: =Apoio!D53 -> 6 | F24: =Apoio!E53 -> 8 | G24: =Apoio!F53 -> 9 | H24: =Apoio!G53 -> 10 | I24: =Apoio!H53 -> 11 | ... P24: =Apoio!O53 -> 22 | R24: 7
B25: =Apoio!A54 -> 1 | C25: =Apoio!B54 -> 2 | D25: =Apoio!C54 -> 3 | E25: =Apoio!D54 -> 4 | F25: =Apoio!E54 -> 5 | G25: =Apoio!F54 -> 6 | H25: =Apoio!G54 -> 7 | I25: =Apoio!H54 -> 8 | ... P25: =Apoio!O54 -> 21 | R25: 8
B26: =Apoio!A55 -> 1 | C26: =Apoio!B55 -> 2 | D26: =Apoio!C55 -> 3 | E26: =Apoio!D55 -> 4 | F26: =Apoio!E55 -> 5 | G26: =Apoio!F55 -> 6 | H26: =Apoio!G55 -> 7 | I26: =Apoio!H55 -> 8 | ... P26: =Apoio!O55 -> 16 | R26: 9
B27: =Apoio!A56 -> 1 | C27: =Apoio!B56 -> 2 | D27: =Apoio!C56 -> 3 | E27: =Apoio!D56 -> 5 | F27: =Apoio!E56 -> 6 | G27: =Apoio!F56 -> 7 | H27: =Apoio!G56 -> 8 | I27: =Apoio!H56 -> 10 | ... P27: =Apoio!O56 -> 22 | R27: 10
B28: =Apoio!A57 -> 1 | C28: =Apoio!B57 -> 4 | D28: =Apoio!C57 -> 5 | E28: =Apoio!D57 -> 6 | F28: =Apoio!E57 -> 7 | G28: =Apoio!F57 -> 8 | H28: =Apoio!G57 -> 9 | I28: =Apoio!H57 -> 10 | ... P28: =Apoio!O57 -> 22 | R28: 11
B29: =Apoio!A58 -> 1 | C29: =Apoio!B58 -> 3 | D29: =Apoio!C58 -> 5 | E29: =Apoio!D58 -> 6 | F29: =Apoio!E58 -> 7 | G29: =Apoio!F58 -> 8 | H29: =Apoio!G58 -> 9 | I29: =Apoio!H58 -> 10 | ... P29: =Apoio!O58 -> 22 | R29: 12
... B41: =Apoio!A70 -> 2 | C41: =Apoio!B70 -> 3 | D41: =Apoio!C70 -> 4 | E41: =Apoio!D70 -> 5 | F41: =Apoio!E70 -> 6 | G41: =Apoio!F70 -> 7 | H41: =Apoio!G70 -> 8 | I41: =Apoio!H70 -> 9 | ... P41: =Apoio!O70 -> 22 | R41: 24

Sheet Opcao3
AA1: ="V"&X5 -> V1
A2: Opção 3 ( 4 fixos e 7 Excluídos )
X5: 1 | Y5: 10
B16: Total de 14 volantes
B18: =Apoio!AG28 -> 1 | C18: =Apoio!AH28 -> 2 | D18: =Apoio!AI28 -> 3 | E18: =Apoio!AJ28 -> 4 | F18: =Apoio!AK28 -> 5 | G18: =Apoio!AL28 -> 6 | H18: =Apoio!AM28 -> 7 | I18: =Apoio!AN28 -> 8 | ... P18: =Apoio!AU28 -> 24 | R18: 1
B19: =Apoio!AG29 -> 1 | C19: =Apoio!AH29 -> 2 | D19: =Apoio!AI29 -> 3 | E19: =Apoio!AJ29 -> 4 | F19: =Apoio!AK29 -> 5 | G19: =Apoio!AL29 -> 6 | H19: =Apoio!AM29 -> 7 | I19: =Apoio!AN29 -> 8 | ... P19: =Apoio!AU29 -> 25 | R19: 2
B20: =Apoio!AG30 -> 1 | C20: =Apoio!AH30 -> 2 | D20: =Apoio!AI30 -> 3 | E20: =Apoio!AJ30 -> 4 | F20: =Apoio!AK30 -> 5 | G20: =Apoio!AL30 -> 6 | H20: =Apoio!AM30 -> 7 | I20: =Apoio!AN30 -> 8 | ... P20: =Apoio!AU30 -> 25 | R20: 3
B21: =Apoio!AG31 -> 1 | C21: =Apoio!AH31 -> 2 | D21: =Apoio!AI31 -> 3 | E21: =Apoio!AJ31 -> 4 | F21: =Apoio!AK31 -> 5 | G21: =Apoio!AL31 -> 6 | H21: =Apoio!AM31 -> 7 | I21: =Apoio!AN31 -> 8 | ... P21: =Apoio!AU31 -> 25 | R21: 4
B22: =Apoio!AG32 -> 1 | C22: =Apoio!AH32 -> 2 | D22: =Apoio!AI32 -> 3 | E22: =Apoio!AJ32 -> 4 | F22: =Apoio!AK32 -> 5 | G22: =Apoio!AL32 -> 6 | H22: =Apoio!AM32 -> 7 | I22: =Apoio!AN32 -> 8 | ... P22: =Apoio!AU32 -> 24 | R22: 5
B23: =Apoio!AG33 -> 1 | C23: =Apoio!AH33 -> 2 | D23: =Apoio!AI33 -> 3 | E23: =Apoio!AJ33 -> 4 | F23: =Apoio!AK33 -> 5 | G23: =Apoio!AL33 -> 6 | H23: =Apoio!AM33 -> 7 | I23: =Apoio!AN33 -> 9 | ... P23: =Apoio!AU33 -> 25 | R23: 6
B24: =Apoio!AG34 -> 1 | C24: =Apoio!AH34 -> 2 | D24: =Apoio!AI34 -> 3 | E24: =Apoio!AJ34 -> 4 | F24: =Apoio!AK34 -> 5 | G24: =Apoio!AL34 -> 6 | H24: =Apoio!AM34 -> 8 | I24: =Apoio!AN34 -> 9 | ... P24: =Apoio!AU34 -> 25 | R24: 7
B25: =Apoio!AG35 -> 1 | C25: =Apoio!AH35 -> 2 | D25: =Apoio!AI35 -> 3 | E25: =Apoio!AJ35 -> 4 | F25: =Apoio!AK35 -> 5 | G25: =Apoio!AL35 -> 6 | H25: =Apoio!AM35 -> 9 | I25: =Apoio!AN35 -> 10 | ... P25: =Apoio!AU35 -> 25 | R25: 8
B26: =Apoio!AG36 -> 1 | C26: =Apoio!AH36 -> 2 | D26: =Apoio!AI36 -> 3 | E26: =Apoio!AJ36 -> 4 | F26: =Apoio!AK36 -> 5 | G26: =Apoio!AL36 -> 7 | H26: =Apoio!AM36 -> 8 | I26: =Apoio!AN36 -> 9 | ... P26: =Apoio!AU36 -> 16 | R26: 9
B27: =Apoio!AG37 -> 1 | C27: =Apoio!AH37 -> 2 | D27: =Apoio!AI37 -> 3 | E27: =Apoio!AJ37 -> 4 | F27: =Apoio!AK37 -> 5 | G27: =Apoio!AL37 -> 7 | H27: =Apoio!AM37 -> 8 | I27: =Apoio!AN37 -> 9 | ... P27: =Apoio!AU37 -> 25 | R27: 10
B28: =Apoio!AG38 -> 1 | C28: =Apoio!AH38 -> 2 | D28: =Apoio!AI38 -> 3 | E28: =Apoio!AJ38 -> 4 | F28: =Apoio!AK38 -> 5 | G28: =Apoio!AL38 -> 7 | H28: =Apoio!AM38 -> 8 | I28: =Apoio!AN38 -> 10 | ... P28: =Apoio!AU38 -> 25 | R28: 11
B29: =Apoio!AG39 -> 1 | C29: =Apoio!AH39 -> 2 | D29: =Apoio!AI39 -> 3 | E29: =Apoio!AJ39 -> 4 | F29: =Apoio!AK39 -> 6 | G29: =Apoio!AL39 -> 7 | H29: =Apoio!AM39 -> 8 | I29: =Apoio!AN39 -> 9 | ... P29: =Apoio!AU39 -> 25 | R29: 12
... B31: =Apoio!AG41 -> 1 | C31: =Apoio!AH41 -> 2 | D31: =Apoio!AI41 -> 3 | E31: =Apoio!AJ41 -> 4 | F31: =Apoio!AK41 -> 6 | G31: =Apoio!AL41 -> 8 | H31: =Apoio!AM41 -> 9 | I31: =Apoio!AN41 -> 11 | ... P31: =Apoio!AU41 -> 25 | R31: 14

Sheet Opcao4
AA1: ="V"&X5 -> V1
A2: Opção 4 ( 18 fixos )
X5: 1 | Y5: 10
B16: Total de 65 volantes
B18: =Apoio!A141 -> 1 | C18: =Apoio!B141 -> 2 | D18: =Apoio!C141 -> 3 | E18: =Apoio!D141 -> 4 | F18: =Apoio!E141 -> 5 | G18: =Apoio!F141 -> 6 | H18: =Apoio!G141 -> 7 | I18: =Apoio!H141 -> 8 | ... P18: =Apoio!O141 -> 21 | R18: 1
B19: =Apoio!A142 -> 1 | C19: =Apoio!B142 -> 2 | D19: =Apoio!C142 -> 3 | E19: =Apoio!D142 -> 4 | F19: =Apoio!E142 -> 5 | G19: =Apoio!F142 -> 6 | H19: =Apoio!G142 -> 7 | I19: =Apoio!H142 -> 8 | ... P19: =Apoio!O142 -> 21 | R19: 2
B20: =Apoio!A143 -> 1 | C20: =Apoio!B143 -> 2 | D20: =Apoio!C143 -> 3 | E20: =Apoio!D143 -> 4 | F20: =Apoio!E143 -> 5 | G20: =Apoio!F143 -> 6 | H20: =Apoio!G143 -> 7 | I20: =Apoio!H143 -> 8 | ... P20: =Apoio!O143 -> 16 | R20: 3
B21: =Apoio!A144 -> 1 | C21: =Apoio!B144 -> 2 | D21: =Apoio!C144 -> 3 | E21: =Apoio!D144 -> 4 | F21: =Apoio!E144 -> 5 | G21: =Apoio!F144 -> 6 | H21: =Apoio!G144 -> 7 | I21: =Apoio!H144 -> 8 | ... P21: =Apoio!O144 -> 22 | R21: 4
B22: =Apoio!A145 -> 1 | C22: =Apoio!B145 -> 2 | D22: =Apoio!C145 -> 3 | E22: =Apoio!D145 -> 4 | F22: =Apoio!E145 -> 5 | G22: =Apoio!F145 -> 6 | H22: =Apoio!G145 -> 7 | I22: =Apoio!H145 -> 8 | ... P22: =Apoio!O145 -> 21 | R22: 5
B23: =Apoio!A146 -> 1 | C23: =Apoio!B146 -> 2 | D23: =Apoio!C146 -> 3 | E23: =Apoio!D146 -> 4 | F23: =Apoio!E146 -> 5 | G23: =Apoio!F146 -> 6 | H23: =Apoio!G146 -> 7 | I23: =Apoio!H146 -> 8 | ... P23: =Apoio!O146 -> 22 | R23: 6
B24: =Apoio!A147 -> 1 | C24: =Apoio!B147 -> 2 | D24: =Apoio!C147 -> 3 | E24: =Apoio!D147 -> 4 | F24: =Apoio!E147 -> 5 | G24: =Apoio!F147 -> 6 | H24: =Apoio!G147 -> 7 | I24: =Apoio!H147 -> 8 | ... P24: =Apoio!O147 -> 21 | R24: 7
B25: =Apoio!A148 -> 1 | C25: =Apoio!B148 -> 2 | D25: =Apoio!C148 -> 3 | E25: =Apoio!D148 -> 4 | F25: =Apoio!E148 -> 5 | G25: =Apoio!F148 -> 6 | H25: =Apoio!G148 -> 7 | I25: =Apoio!H148 -> 8 | ... P25: =Apoio!O148 -> 22 | R25: 8
B26: =Apoio!A149 -> 1 | C26: =Apoio!B149 -> 2 | D26: =Apoio!C149 -> 3 | E26: =Apoio!D149 -> 4 | F26: =Apoio!E149 -> 5 | G26: =Apoio!F149 -> 6 | H26: =Apoio!G149 -> 7 | I26: =Apoio!H149 -> 8 | ... P26: =Apoio!O149 -> 22 | R26: 9
B27: =Apoio!A150 -> 1 | C27: =Apoio!B150 -> 2 | D27: =Apoio!C150 -> 3 | E27: =Apoio!D150 -> 4 | F27: =Apoio!E150 -> 5 | G27: =Apoio!F150 -> 6 | H27: =Apoio!G150 -> 7 | I27: =Apoio!H150 -> 9 | ... P27: =Apoio!O150 -> 22 | R27: 10
B28: =Apoio!A151 -> 1 | C28: =Apoio!B151 -> 2 | D28: =Apoio!C151 -> 3 | E28: =Apoio!D151 -> 4 | F28: =Apoio!E151 -> 5 | G28: =Apoio!F151 -> 6 | H28: =Apoio!G151 -> 7 | I28: =Apoio!H151 -> 9 | ... P28: =Apoio!O151 -> 21 | R28: 11
B29: =Apoio!A152 -> 1 | C29: =Apoio!B152 -> 2 | D29: =Apoio!C152 -> 3 | E29: =Apoio!D152 -> 4 | F29: =Apoio!E152 -> 5 | G29: =Apoio!F152 -> 6 | H29: =Apoio!G152 -> 7 | I29: =Apoio!H152 -> 9 | ... P29: =Apoio!O152 -> 22 | R29: 12
... B82: =Apoio!A205 -> 3 | C82: =Apoio!B205 -> 5 | D82: =Apoio!C205 -> 6 | E82: =Apoio!D205 -> 7 | F82: =Apoio!E205 -> 8 | G82: =Apoio!F205 -> 9 | H82: =Apoio!G205 -> 10 | I82: =Apoio!H205 -> 11 | ... P82: =Apoio!O205 -> 22 | R82: 65

Sheet Opcao5
AA1: ="V"&X5 -> V1
A2: Opção 5 ( 18 fixos )
X5: 1 | Y5: 10
B16: Total de 101 volantes
B18: =Apoio!BZ110 -> 1 | C18: =Apoio!CA110 -> 2 | D18: =Apoio!CB110 -> 3 | E18: =Apoio!CC110 -> 4 | F18: =Apoio!CD110 -> 5 | G18: =Apoio!CE110 -> 6 | H18: =Apoio!CF110 -> 7 | I18: =Apoio!CG110 -> 8 | ... P18: =Apoio!CN110 -> 16 | R18: 1 | T18: =Apoio!BZ161 -> 1 | U18: =Apoio!CA161 -> 2 | V18: =Apoio!CB161 -> 3 | W18: =Apoio!CC161 -> 5 | X18: =Apoio!CD161 -> 7 | Y18: =Apoio!CE161 -> 8 | Z18: =Apoio!CF161 -> 9 | AA18: =Apoio!CG161 -> 10 | ... AH18: =Apoio!CN161 -> 22 | AJ18: 52
B19: =Apoio!BZ111 -> 1 | C19: =Apoio!CA111 -> 2 | D19: =Apoio!CB111 -> 3 | E19: =Apoio!CC111 -> 4 | F19: =Apoio!CD111 -> 5 | G19: =Apoio!CE111 -> 6 | H19: =Apoio!CF111 -> 7 | I19: =Apoio!CG111 -> 8 | ... P19: =Apoio!CN111 -> 22 | R19: 2 | T19: =Apoio!BZ162 -> 1 | U19: =Apoio!CA162 -> 2 | V19: =Apoio!CB162 -> 3 | W19: =Apoio!CC162 -> 5 | X19: =Apoio!CD162 -> 8 | Y19: =Apoio!CE162 -> 9 | Z19: =Apoio!CF162 -> 10 | AA19: =Apoio!CG162 -> 11 | ... AH19: =Apoio!CN162 -> 22 | AJ19: 53
B20: =Apoio!BZ112 -> 1 | C20: =Apoio!CA112 -> 2 | D20: =Apoio!CB112 -> 3 | E20: =Apoio!CC112 -> 4 | F20: =Apoio!CD112 -> 5 | G20: =Apoio!CE112 -> 6 | H20: =Apoio!CF112 -> 7 | I20: =Apoio!CG112 -> 8 | ... P20: =Apoio!CN112 -> 22 | R20: 3 | T20: =Apoio!BZ163 -> 1 | U20: =Apoio!CA163 -> 2 | V20: =Apoio!CB163 -> 3 | W20: =Apoio!CC163 -> 6 | X20: =Apoio!CD163 -> 7 | Y20: =Apoio!CE163 -> 8 | Z20: =Apoio!CF163 -> 9 | AA20: =Apoio!CG163 -> 10 | ... AH20: =Apoio!CN163 -> 22 | AJ20: 54
B21: =Apoio!BZ113 -> 1 | C21: =Apoio!CA113 -> 2 | D21: =Apoio!CB113 -> 3 | E21: =Apoio!CC113 -> 4 | F21: =Apoio!CD113 -> 5 | G21: =Apoio!CE113 -> 6 | H21: =Apoio!CF113 -> 7 | I21: =Apoio!CG113 -> 8 | ... P21: =Apoio!CN113 -> 22 | R21: 4 | T21: =Apoio!BZ164 -> 1 | U21: =Apoio!CA164 -> 2 | V21: =Apoio!CB164 -> 3 | W21: =Apoio!CC164 -> 6 | X21: =Apoio!CD164 -> 7 | Y21: =Apoio!CE164 -> 8 | Z21: =Apoio!CF164 -> 9 | AA21: =Apoio!CG164 -> 10 | ... AH21: =Apoio!CN164 -> 22 | AJ21: 55
B22: =Apoio!BZ114 -> 1 | C22: =Apoio!CA114 -> 2 | D22: =Apoio!CB114 -> 3 | E22: =Apoio!CC114 -> 4 | F22: =Apoio!CD114 -> 5 | G22: =Apoio!CE114 -> 6 | H22: =Apoio!CF114 -> 7 | I22: =Apoio!CG114 -> 8 | ... P22: =Apoio!CN114 -> 22 | R22: 5 | T22: =Apoio!BZ165 -> 1 | U22: =Apoio!CA165 -> 2 | V22: =Apoio!CB165 -> 4 | W22: =Apoio!CC165 -> 5 | X22: =Apoio!CD165 -> 6 | Y22: =Apoio!CE165 -> 7 | Z22: =Apoio!CF165 -> 8 | AA22: =Apoio!CG165 -> 9 | ... AH22: =Apoio!CN165 -> 16 | AJ22: 56
B23: =Apoio!BZ115 -> 1 | C23: =Apoio!CA115 -> 2 | D23: =Apoio!CB115 -> 3 | E23: =Apoio!CC115 -> 4 | F23: =Apoio!CD115 -> 5 | G23: =Apoio!CE115 -> 6 | H23: =Apoio!CF115 -> 7 | I23: =Apoio!CG115 -> 8 | ... P23: =Apoio!CN115 -> 22 | R23: 6 | T23: =Apoio!BZ166 -> 1 | U23: =Apoio!CA166 -> 2 | V23: =Apoio!CB166 -> 4 | W23: =Apoio!CC166 -> 5 | X23: =Apoio!CD166 -> 6 | Y23: =Apoio!CE166 -> 7 | Z23: =Apoio!CF166 -> 8 | AA23: =Apoio!CG166 -> 9 | ... AH23: =Apoio!CN166 -> 22 | AJ23: 57
B24: =Apoio!BZ116 -> 1 | C24: =Apoio!CA116 -> 2 | D24: =Apoio!CB116 -> 3 | E24: =Apoio!CC116 -> 4 | F24: =Apoio!CD116 -> 5 | G24: =Apoio!CE116 -> 6 | H24: =Apoio!CF116 -> 7 | I24: =Apoio!CG116 -> 8 | ... P24: =Apoio!CN116 -> 22 | R24: 7 | T24: =Apoio!BZ167 -> 1 | U24: =Apoio!CA167 -> 2 | V24: =Apoio!CB167 -> 4 | W24: =Apoio!CC167 -> 5 | X24: =Apoio!CD167 -> 6 | Y24: =Apoio!CE167 -> 7 | Z24: =Apoio!CF167 -> 8 | AA24: =Apoio!CG167 -> 9 | ... AH24: =Apoio!CN167 -> 21 | AJ24: 58
B25: =Apoio!BZ117 -> 1 | C25: =Apoio!CA117 -> 2 | D25: =Apoio!CB117 -> 3 | E25: =Apoio!CC117 -> 4 | F25: =Apoio!CD117 -> 5 | G25: =Apoio!CE117 -> 6 | H25: =Apoio!CF117 -> 7 | I25: =Apoio!CG117 -> 8 | ... P25: =Apoio!CN117 -> 21 | R25: 8 | T25: =Apoio!BZ168 -> 1 | U25: =Apoio!CA168 -> 2 | V25: =Apoio!CB168 -> 4 | W25: =Apoio!CC168 -> 5 | X25: =Apoio!CD168 -> 6 | Y25: =Apoio!CE168 -> 7 | Z25: =Apoio!CF168 -> 8 | AA25: =Apoio!CG168 -> 9 | ... AH25: =Apoio!CN168 -> 22 | AJ25: 59
B26: =Apoio!BZ118 -> 1 | C26: =Apoio!CA118 -> 2 | D26: =Apoio!CB118 -> 3 | E26: =Apoio!CC118 -> 4 | F26: =Apoio!CD118 -> 5 | G26: =Apoio!CE118 -> 6 | H26: =Apoio!CF118 -> 7 | I26: =Apoio!CG118 -> 8 | ... P26: =Apoio!CN118 -> 22 | R26: 9 | T26: =Apoio!BZ169 -> 1 | U26: =Apoio!CA169 -> 2 | V26: =Apoio!CB169 -> 4 | W26: =Apoio!CC169 -> 5 | X26: =Apoio!CD169 -> 6 | Y26: =Apoio!CE169 -> 7 | Z26: =Apoio!CF169 -> 8 | AA26: =Apoio!CG169 -> 9 | ... AH26: =Apoio!CN169 -> 22 | AJ26: 60
B27: =Apoio!BZ119 -> 1 | C27: =Apoio!CA119 -> 2 | D27: =Apoio!CB119 -> 3 | E27: =Apoio!CC119 -> 4 | F27: =Apoio!CD119 -> 5 | G27: =Apoio!CE119 -> 6 | H27: =Apoio!CF119 -> 7 | I27: =Apoio!CG119 -> 8 | ... P27: =Apoio!CN119 -> 21 | R27: 10 | T27: =Apoio!BZ170 -> 1 | U27: =Apoio!CA170 -> 2 | V27: =Apoio!CB170 -> 4 | W27: =Apoio!CC170 -> 5 | X27: =Apoio!CD170 -> 6 | Y27: =Apoio!CE170 -> 7 | Z27: =Apoio!CF170 -> 8 | AA27: =Apoio!CG170 -> 10 | ... AH27: =Apoio!CN170 -> 22 | AJ27: 61
B28: =Apoio!BZ120 -> 1 | C28: =Apoio!CA120 -> 2 | D28: =Apoio!CB120 -> 3 | E28: =Apoio!CC120 -> 4 | F28: =Apoio!CD120 -> 5 | G28: =Apoio!CE120 -> 6 | H28: =Apoio!CF120 -> 7 | I28: =Apoio!CG120 -> 8 | ... P28: =Apoio!CN120 -> 16 | R28: 11 | T28: =Apoio!BZ171 -> 1 | U28: =Apoio!CA171 -> 2 | V28: =Apoio!CB171 -> 4 | W28: =Apoio!CC171 -> 5 | X28: =Apoio!CD171 -> 6 | Y28: =Apoio!CE171 -> 8 | Z28: =Apoio!CF171 -> 9 | AA28: =Apoio!CG171 -> 10 | ... AH28: =Apoio!CN171 -> 22 | AJ28: 62
B29: =Apoio!BZ121 -> 1 | C29: =Apoio!CA121 -> 2 | D29: =Apoio!CB121 -> 3 | E29: =Apoio!CC121 -> 4 | F29: =Apoio!CD121 -> 5 | G29: =Apoio!CE121 -> 6 | H29: =Apoio!CF121 -> 7 | I29: =Apoio!CG121 -> 8 | ... P29: =Apoio!CN121 -> 22 | R29: 12 | T29: =Apoio!BZ172 -> 1 | U29: =Apoio!CA172 -> 2 | V29: =Apoio!CB172 -> 4 | W29: =Apoio!CC172 -> 5 | X29: =Apoio!CD172 -> 6 | Y29: =Apoio!CE172 -> 8 | Z29: =Apoio!CF172 -> 9 | AA29: =Apoio!CG172 -> 10 | ... AH29: =Apoio!CN172 -> 22 | AJ29: 63
... B67: =Apoio!BZ159 -> 1 | C67: =Apoio!CA159 -> 2 | D67: =Apoio!CB159 -> 3 | E67: =Apoio!CC159 -> 5 | F67: =Apoio!CD159 -> 6 | G67: =Apoio!CE159 -> 7 | H67: =Apoio!CF159 -> 9 | I67: =Apoio!CG159 -> 10 | ... P67: =Apoio!CN159 -> 22 | R67: 50 | T67: =Apoio!BZ210 -> 3 | U67: =Apoio!CA210 -> 4 | V67: =Apoio!CB210 -> 5 | W67: =Apoio!CC210 -> 6 | X67: =Apoio!CD210 -> 7 | Y67: =Apoio!CE210 -> 8 | Z67: =Apoio!CF210 -> 9 | AA67: =Apoio!CG210 -> 10 | ... AH67: =Apoio!CN210 -> 22 | AJ67: 101
B68: =Apoio!BZ160 -> 1 | C68: =Apoio!CA160 -> 2 | D68: =Apoio!CB160 -> 3 | E68: =Apoio!CC160 -> 5 | F68: =Apoio!CD160 -> 6 | G68: =Apoio!CE160 -> 9 | H68: =Apoio!CF160 -> 10 | I68: =Apoio!CG160 -> 11 | ... P68: =Apoio!CN160 -> 22 | R68: 51

Sheet Opcao6
AA1: ="V"&X5 -> V1
A2: Opção 6 ( 18 fixos )
X5: 1 | Y5: 10
B16: Total de 174 volantes
B18: =Apoio!A387 -> 1 | C18: =Apoio!B387 -> 2 | D18: =Apoio!C387 -> 3 | E18: =Apoio!D387 -> 4 | F18: =Apoio!E387 -> 5 | G18: =Apoio!F387 -> 6 | H18: =Apoio!G387 -> 7 | I18: =Apoio!H387 -> 8 | ... P18: =Apoio!O387 -> 16 | R18: 1 | T18: =Apoio!A474 -> 1 | U18: =Apoio!B474 -> 2 | V18: =Apoio!C474 -> 3 | W18: =Apoio!D474 -> 5 | X18: =Apoio!E474 -> 6 | Y18: =Apoio!F474 -> 8 | Z18: =Apoio!G474 -> 9 | AA18: =Apoio!H474 -> 10 | ... AH18: =Apoio!O474 -> 22 | AJ18: 88
B19: =Apoio!A388 -> 1 | C19: =Apoio!B388 -> 2 | D19: =Apoio!C388 -> 3 | E19: =Apoio!D388 -> 4 | F19: =Apoio!E388 -> 5 | G19: =Apoio!F388 -> 6 | H19: =Apoio!G388 -> 7 | I19: =Apoio!H388 -> 8 | ... P19: =Apoio!O388 -> 22 | R19: 2 | T19: =Apoio!A475 -> 1 | U19: =Apoio!B475 -> 2 | V19: =Apoio!C475 -> 3 | W19: =Apoio!D475 -> 5 | X19: =Apoio!E475 -> 6 | Y19: =Apoio!F475 -> 8 | Z19: =Apoio!G475 -> 9 | AA19: =Apoio!H475 -> 11 | ... AH19: =Apoio!O475 -> 22 | AJ19: 89
B20: =Apoio!A389 -> 1 | C20: =Apoio!B389 -> 2 | D20: =Apoio!C389 -> 3 | E20: =Apoio!D389 -> 4 | F20: =Apoio!E389 -> 5 | G20: =Apoio!F389 -> 6 | H20: =Apoio!G389 -> 7 | I20: =Apoio!H389 -> 8 | ... P20: =Apoio!O389 -> 16 | R20: 3 | T20: =Apoio!A476 -> 1 | U20: =Apoio!B476 -> 2 | V20: =Apoio!C476 -> 3 | W20: =Apoio!D476 -> 5 | X20: =Apoio!E476 -> 6 | Y20: =Apoio!F476 -> 8 | Z20: =Apoio!G476 -> 10 | AA20: =Apoio!H476 -> 11 | ... AH20: =Apoio!O476 -> 22 | AJ20: 90
B21: =Apoio!A390 -> 1 | C21: =Apoio!B390 -> 2 | D21: =Apoio!C390 -> 3 | E21: =Apoio!D390 -> 4 | F21: =Apoio!E390 -> 5 | G21: =Apoio!F390 -> 6 | H21: =Apoio!G390 -> 7 | I21: =Apoio!H390 -> 8 | ... P21: =Apoio!O390 -> 22 | R21: 4 | T21: =Apoio!A477 -> 1 | U21: =Apoio!B477 -> 2 | V21: =Apoio!C477 -> 3 | W21: =Apoio!D477 -> 5 | X21: =Apoio!E477 -> 6 | Y21: =Apoio!F477 -> 9 | Z21: =Apoio!G477 -> 10 | AA21: =Apoio!H477 -> 11 | ... AH21: =Apoio!O477 -> 22 | AJ21: 91
B22: =Apoio!A391 -> 1 | C22: =Apoio!B391 -> 2 | D22: =Apoio!C391 -> 3 | E22: =Apoio!D391 -> 4 | F22: =Apoio!E391 -> 5 | G22: =Apoio!F391 -> 6 | H22: =Apoio!G391 -> 7 | I22: =Apoio!H391 -> 8 | ... P22: =Apoio!O391 -> 21 | R22: 5 | T22: =Apoio!A478 -> 1 | U22: =Apoio!B478 -> 2 | V22: =Apoio!C478 -> 3 | W22: =Apoio!D478 -> 5 | X22: =Apoio!E478 -> 7 | Y22: =Apoio!F478 -> 8 | Z22: =Apoio!G478 -> 9 | AA22: =Apoio!H478 -> 10 | ... AH22: =Apoio!O478 -> 22 | AJ22: 92
B23: =Apoio!A392 -> 1 | C23: =Apoio!B392 -> 2 | D23: =Apoio!C392 -> 3 | E23: =Apoio!D392 -> 4 | F23: =Apoio!E392 -> 5 | G23: =Apoio!F392 -> 6 | H23: =Apoio!G392 -> 7 | I23: =Apoio!H392 -> 8 | ... P23: =Apoio!O392 -> 22 | R23: 6 | T23: =Apoio!A479 -> 1 | U23: =Apoio!B479 -> 2 | V23: =Apoio!C479 -> 3 | W23: =Apoio!D479 -> 5 | X23: =Apoio!E479 -> 7 | Y23: =Apoio!F479 -> 8 | Z23: =Apoio!G479 -> 9 | AA23: =Apoio!H479 -> 10 | ... AH23: =Apoio!O479 -> 22 | AJ23: 93
B24: =Apoio!A393 -> 1 | C24: =Apoio!B393 -> 2 | D24: =Apoio!C393 -> 3 | E24: =Apoio!D393 -> 4 | F24: =Apoio!E393 -> 5 | G24: =Apoio!F393 -> 6 | H24: =Apoio!G393 -> 7 | I24: =Apoio!H393 -> 8 | ... P24: =Apoio!O393 -> 22 | R24: 7 | T24: =Apoio!A480 -> 1 | U24: =Apoio!B480 -> 2 | V24: =Apoio!C480 -> 3 | W24: =Apoio!D480 -> 6 | X24: =Apoio!E480 -> 7 | Y24: =Apoio!F480 -> 8 | Z24: =Apoio!G480 -> 9 | AA24: =Apoio!H480 -> 10 | ... AH24: =Apoio!O480 -> 22 | AJ24: 94
B25: =Apoio!A394 -> 1 | C25: =Apoio!B394 -> 2 | D25: =Apoio!C394 -> 3 | E25: =Apoio!D394 -> 4 | F25: =Apoio!E394 -> 5 | G25: =Apoio!F394 -> 6 | H25: =Apoio!G394 -> 7 | I25: =Apoio!H394 -> 8 | ... P25: =Apoio!O394 -> 22 | R25: 8 | T25: =Apoio!A481 -> 1 | U25: =Apoio!B481 -> 2 | V25: =Apoio!C481 -> 4 | W25: =Apoio!D481 -> 5 | X25: =Apoio!E481 -> 6 | Y25: =Apoio!F481 -> 7 | Z25: =Apoio!G481 -> 8 | AA25: =Apoio!H481 -> 9 | ... AH25: =Apoio!O481 -> 22 | AJ25: 95
B26: =Apoio!A395 -> 1 | C26: =Apoio!B395 -> 2 | D26: =Apoio!C395 -> 3 | E26: =Apoio!D395 -> 4 | F26: =Apoio!E395 -> 5 | G26: =Apoio!F395 -> 6 | H26: =Apoio!G395 -> 7 | I26: =Apoio!H395 -> 8 | ... P26: =Apoio!O395 -> 22 | R26: 9 | T26: =Apoio!A482 -> 1 | U26: =Apoio!B482 -> 2 | V26: =Apoio!C482 -> 4 | W26: =Apoio!D482 -> 5 | X26: =Apoio!E482 -> 6 | Y26: =Apoio!F482 -> 7 | Z26: =Apoio!G482 -> 8 | AA26: =Apoio!H482 -> 9 | ... AH26: =Apoio!O482 -> 22 | AJ26: 96
B27: =Apoio!A396 -> 1 | C27: =Apoio!B396 -> 2 | D27: =Apoio!C396 -> 3 | E27: =Apoio!D396 -> 4 | F27: =Apoio!E396 -> 5 | G27: =Apoio!F396 -> 6 | H27: =Apoio!G396 -> 7 | I27: =Apoio!H396 -> 8 | ... P27: =Apoio!O396 -> 22 | R27: 10 | T27: =Apoio!A483 -> 1 | U27: =Apoio!B483 -> 2 | V27: =Apoio!C483 -> 4 | W27: =Apoio!D483 -> 5 | X27: =Apoio!E483 -> 6 | Y27: =Apoio!F483 -> 7 | Z27: =Apoio!G483 -> 8 | AA27: =Apoio!H483 -> 9 | ... AH27: =Apoio!O483 -> 22 | AJ27: 97
B28: =Apoio!A397 -> 1 | C28: =Apoio!B397 -> 2 | D28: =Apoio!C397 -> 3 | E28: =Apoio!D397 -> 4 | F28: =Apoio!E397 -> 5 | G28: =Apoio!F397 -> 6 | H28: =Apoio!G397 -> 7 | I28: =Apoio!H397 -> 8 | ... P28: =Apoio!O397 -> 22 | R28: 11 | T28: =Apoio!A484 -> 1 | U28: =Apoio!B484 -> 2 | V28: =Apoio!C484 -> 4 | W28: =Apoio!D484 -> 5 | X28: =Apoio!E484 -> 6 | Y28: =Apoio!F484 -> 7 | Z28: =Apoio!G484 -> 8 | AA28: =Apoio!H484 -> 9 | ... AH28: =Apoio!O484 -> 22 | AJ28: 98
B29: =Apoio!A398 -> 1 | C29: =Apoio!B398 -> 2 | D29: =Apoio!C398 -> 3 | E29: =Apoio!D398 -> 4 | F29: =Apoio!E398 -> 5 | G29: =Apoio!F398 -> 6 | H29: =Apoio!G398 -> 7 | I29: =Apoio!H398 -> 8 | ... P29: =Apoio!O398 -> 22 | R29: 12 | T29: =Apoio!A485 -> 1 | U29: =Apoio!B485 -> 2 | V29: =Apoio!C485 -> 4 | W29: =Apoio!D485 -> 5 | X29: =Apoio!E485 -> 6 | Y29: =Apoio!F485 -> 7 | Z29: =Apoio!G485 -> 8 | AA29: =Apoio!H485 -> 9 | ... AH29: =Apoio!O485 -> 22 | AJ29: 99
... B104: =Apoio!A473 -> 1 | C104: =Apoio!B473 -> 2 | D104: =Apoio!C473 -> 3 | E104: =Apoio!D473 -> 5 | F104: =Apoio!E473 -> 6 | G104: =Apoio!F473 -> 8 | H104: =Apoio!G473 -> 9 | I104: =Apoio!H473 -> 10 | ... P104: =Apoio!O473 -> 22 | R104: 87 | T104: =Apoio!A560 -> 3 | U104: =Apoio!B560 -> 4 | V104: =Apoio!C560 -> 6 | W104: =Apoio!D560 -> 7 | X104: =Apoio!E560 -> 8 | Y104: =Apoio!F560 -> 9 | Z104: =Apoio!G560 -> 10 | AA104: =Apoio!H560 -> 11 | ... AH104: =Apoio!O560 -> 22 | AJ104: 174

Sheet Opcao7
AA1: ="V"&X5 -> V1
A2: Opção 7 ( 18 fixos )
X5: 1 | Y5: 10
B16: Total de 348 volantes
B18: =Apoio!AG396 -> 1 | C18: =Apoio!AH396 -> 2 | D18: =Apoio!AI396 -> 3 | E18: =Apoio!AJ396 -> 4 | F18: =Apoio!AK396 -> 5 | G18: =Apoio!AL396 -> 6 | H18: =Apoio!AM396 -> 7 | I18: =Apoio!AN396 -> 8 | ... P18: =Apoio!AU396 -> 22 | R18: 1 | T18: =Apoio!AG570 -> 1 | U18: =Apoio!AH570 -> 2 | V18: =Apoio!AI570 -> 3 | W18: =Apoio!AJ570 -> 5 | X18: =Apoio!AK570 -> 6 | Y18: =Apoio!AL570 -> 7 | Z18: =Apoio!AM570 -> 8 | AA18: =Apoio!AN570 -> 9 | ... AH18: =Apoio!AU570 -> 22 | AJ18: 175
B19: =Apoio!AG397 -> 1 | C19: =Apoio!AH397 -> 2 | D19: =Apoio!AI397 -> 3 | E19: =Apoio!AJ397 -> 4 | F19: =Apoio!AK397 -> 5 | G19: =Apoio!AL397 -> 6 | H19: =Apoio!AM397 -> 7 | I19: =Apoio!AN397 -> 8 | ... P19: =Apoio!AU397 -> 16 | R19: 2 | T19: =Apoio!AG571 -> 1 | U19: =Apoio!AH571 -> 2 | V19: =Apoio!AI571 -> 3 | W19: =Apoio!AJ571 -> 5 | X19: =Apoio!AK571 -> 6 | Y19: =Apoio!AL571 -> 7 | Z19: =Apoio!AM571 -> 8 | AA19: =Apoio!AN571 -> 9 | ... AH19: =Apoio!AU571 -> 22 | AJ19: 176
B20: =Apoio!AG398 -> 1 | C20: =Apoio!AH398 -> 2 | D20: =Apoio!AI398 -> 3 | E20: =Apoio!AJ398 -> 4 | F20: =Apoio!AK398 -> 5 | G20: =Apoio!AL398 -> 6 | H20: =Apoio!AM398 -> 7 | I20: =Apoio!AN398 -> 8 | ... P20: =Apoio!AU398 -> 21 | R20: 3 | T20: =Apoio!AG572 -> 1 | U20: =Apoio!AH572 -> 2 | V20: =Apoio!AI572 -> 3 | W20: =Apoio!AJ572 -> 5 | X20: =Apoio!AK572 -> 6 | Y20: =Apoio!AL572 -> 7 | Z20: =Apoio!AM572 -> 8 | AA20: =Apoio!AN572 -> 9 | ... AH20: =Apoio!AU572 -> 22 | AJ20: 177
B21: =Apoio!AG399 -> 1 | C21: =Apoio!AH399 -> 2 | D21: =Apoio!AI399 -> 3 | E21: =Apoio!AJ399 -> 4 | F21: =Apoio!AK399 -> 5 | G21: =Apoio!AL399 -> 6 | H21: =Apoio!AM399 -> 7 | I21: =Apoio!AN399 -> 8 | ... P21: =Apoio!AU399 -> 22 | R21: 4 | T21: =Apoio!AG573 -> 1 | U21: =Apoio!AH573 -> 2 | V21: =Apoio!AI573 -> 3 | W21: =Apoio!AJ573 -> 5 | X21: =Apoio!AK573 -> 6 | Y21: =Apoio!AL573 -> 7 | Z21: =Apoio!AM573 -> 8 | AA21: =Apoio!AN573 -> 10 | ... AH21: =Apoio!AU573 -> 22 | AJ21: 178
B22: =Apoio!AG400 -> 1 | C22: =Apoio!AH400 -> 2 | D22: =Apoio!AI400 -> 3 | E22: =Apoio!AJ400 -> 4 | F22: =Apoio!AK400 -> 5 | G22: =Apoio!AL400 -> 6 | H22: =Apoio!AM400 -> 7 | I22: =Apoio!AN400 -> 8 | ... P22: =Apoio!AU400 -> 22 | R22: 5 | T22: =Apoio!AG574 -> 1 | U22: =Apoio!AH574 -> 2 | V22: =Apoio!AI574 -> 3 | W22: =Apoio!AJ574 -> 5 | X22: =Apoio!AK574 -> 6 | Y22: =Apoio!AL574 -> 7 | Z22: =Apoio!AM574 -> 9 | AA22: =Apoio!AN574 -> 10 | ... AH22: =Apoio!AU574 -> 22 | AJ22: 179
B23: =Apoio!AG401 -> 1 | C23: =Apoio!AH401 -> 2 | D23: =Apoio!AI401 -> 3 | E23: =Apoio!AJ401 -> 4 | F23: =Apoio!AK401 -> 5 | G23: =Apoio!AL401 -> 6 | H23: =Apoio!AM401 -> 7 | I23: =Apoio!AN401 -> 8 | ... P23: =Apoio!AU401 -> 22 | R23: 6 | T23: =Apoio!AG575 -> 1 | U23: =Apoio!AH575 -> 2 | V23: =Apoio!AI575 -> 3 | W23: =Apoio!AJ575 -> 5 | X23: =Apoio!AK575 -> 6 | Y23: =Apoio!AL575 -> 7 | Z23: =Apoio!AM575 -> 9 | AA23: =Apoio!AN575 -> 10 | ... AH23: =Apoio!AU575 -> 22 | AJ23: 180
B24: =Apoio!AG402 -> 1 | C24: =Apoio!AH402 -> 2 | D24: =Apoio!AI402 -> 3 | E24: =Apoio!AJ402 -> 4 | F24: =Apoio!AK402 -> 5 | G24: =Apoio!AL402 -> 6 | H24: =Apoio!AM402 -> 7 | I24: =Apoio!AN402 -> 8 | ... P24: =Apoio!AU402 -> 21 | R24: 7 | T24: =Apoio!AG576 -> 1 | U24: =Apoio!AH576 -> 2 | V24: =Apoio!AI576 -> 3 | W24: =Apoio!AJ576 -> 5 | X24: =Apoio!AK576 -> 6 | Y24: =Apoio!AL576 -> 7 | Z24: =Apoio!AM576 -> 10 | AA24: =Apoio!AN576 -> 11 | ... AH24: =Apoio!AU576 -> 22 | AJ24: 181
B25: =Apoio!AG403 -> 1 | C25: =Apoio!AH403 -> 2 | D25: =Apoio!AI403 -> 3 | E25: =Apoio!AJ403 -> 4 | F25: =Apoio!AK403 -> 5 | G25: =Apoio!AL403 -> 6 | H25: =Apoio!AM403 -> 7 | I25: =Apoio!AN403 -> 8 | ... P25: =Apoio!AU403 -> 16 | R25: 8 | T25: =Apoio!AG577 -> 1 | U25: =Apoio!AH577 -> 2 | V25: =Apoio!AI577 -> 3 | W25: =Apoio!AJ577 -> 5 | X25: =Apoio!AK577 -> 6 | Y25: =Apoio!AL577 -> 8 | Z25: =Apoio!AM577 -> 9 | AA25: =Apoio!AN577 -> 10 | ... AH25: =Apoio!AU577 -> 22 | AJ25: 182
B26: =Apoio!AG404 -> 1 | C26: =Apoio!AH404 -> 2 | D26: =Apoio!AI404 -> 3 | E26: =Apoio!AJ404 -> 4 | F26: =Apoio!AK404 -> 5 | G26: =Apoio!AL404 -> 6 | H26: =Apoio!AM404 -> 7 | I26: =Apoio!AN404 -> 8 | ... P26: =Apoio!AU404 -> 21 | R26: 9 | T26: =Apoio!AG578 -> 1 | U26: =Apoio!AH578 -> 2 | V26: =Apoio!AI578 -> 3 | W26: =Apoio!AJ578 -> 5 | X26: =Apoio!AK578 -> 6 | Y26: =Apoio!AL578 -> 8 | Z26: =Apoio!AM578 -> 9 | AA26: =Apoio!AN578 -> 10 | ... AH26: =Apoio!AU578 -> 22 | AJ26: 183
B27: =Apoio!AG405 -> 1 | C27: =Apoio!AH405 -> 2 | D27: =Apoio!AI405 -> 3 | E27: =Apoio!AJ405 -> 4 | F27: =Apoio!AK405 -> 5 | G27: =Apoio!AL405 -> 6 | H27: =Apoio!AM405 -> 7 | I27: =Apoio!AN405 -> 8 | ... P27: =Apoio!AU405 -> 22 | R27: 10 | T27: =Apoio!AG579 -> 1 | U27: =Apoio!AH579 -> 2 | V27: =Apoio!AI579 -> 3 | W27: =Apoio!AJ579 -> 5 | X27: =Apoio!AK579 -> 6 | Y27: =Apoio!AL579 -> 8 | Z27: =Apoio!AM579 -> 10 | AA27: =Apoio!AN579 -> 11 | ... AH27: =Apoio!AU579 -> 22 | AJ27: 184
B28: =Apoio!AG406 -> 1 | C28: =Apoio!AH406 -> 2 | D28: =Apoio!AI406 -> 3 | E28: =Apoio!AJ406 -> 4 | F28: =Apoio!AK406 -> 5 | G28: =Apoio!AL406 -> 6 | H28: =Apoio!AM406 -> 7 | I28: =Apoio!AN406 -> 8 | ... P28: =Apoio!AU406 -> 21 | R28: 11 | T28: =Apoio!AG580 -> 1 | U28: =Apoio!AH580 -> 2 | V28: =Apoio!AI580 -> 3 | W28: =Apoio!AJ580 -> 5 | X28: =Apoio!AK580 -> 6 | Y28: =Apoio!AL580 -> 9 | Z28: =Apoio!AM580 -> 10 | AA28: =Apoio!AN580 -> 11 | ... AH28: =Apoio!AU580 -> 22 | AJ28: 185
B29: =Apoio!AG407 -> 1 | C29: =Apoio!AH407 -> 2 | D29: =Apoio!AI407 -> 3 | E29: =Apoio!AJ407 -> 4 | F29: =Apoio!AK407 -> 5 | G29: =Apoio!AL407 -> 6 | H29: =Apoio!AM407 -> 7 | I29: =Apoio!AN407 -> 8 | ... P29: =Apoio!AU407 -> 22 | R29: 12 | T29: =Apoio!AG581 -> 1 | U29: =Apoio!AH581 -> 2 | V29: =Apoio!AI581 -> 3 | W29: =Apoio!AJ581 -> 5 | X29: =Apoio!AK581 -> 7 | Y29: =Apoio!AL581 -> 8 | Z29: =Apoio!AM581 -> 9 | AA29: =Apoio!AN581 -> 10 | ... AH29: =Apoio!AU581 -> 22 | AJ29: 186
... B191: =Apoio!AG569 -> 1 | C191: =Apoio!AH569 -> 2 | D191: =Apoio!AI569 -> 3 | E191: =Apoio!AJ569 -> 5 | F191: =Apoio!AK569 -> 6 | G191: =Apoio!AL569 -> 7 | H191: =Apoio!AM569 -> 8 | I191: =Apoio!AN569 -> 9 | ... P191: =Apoio!AU569 -> 22 | R191: 174 | T191: =Apoio!AG743 -> 4 | U191: =Apoio!AH743 -> 5 | V191: =Apoio!AI743 -> 6 | W191: =Apoio!AJ743 -> 7 | X191: =Apoio!AK743 -> 8 | Y191: =Apoio!AL743 -> 9 | Z191: =Apoio!AM743 -> 10 | AA191: =Apoio!AN743 -> 11 | ... AH191: =Apoio!AU743 -> 22 | AJ191: 348

Sheet Opcao8
AA1: ="V"&X5 -> V1
A2: Opção 8 ( 18 fixos )
X5: 1 | Y5: 10
B16: Total de 24 volantes
B18: =Apoio!BZ240 -> 1 | C18: =Apoio!CA240 -> 2 | D18: =Apoio!CB240 -> 3 | E18: =Apoio!CC240 -> 4 | F18: =Apoio!CD240 -> 5 | G18: =Apoio!CE240 -> 6 | H18: =Apoio!CF240 -> 7 | I18: =Apoio!CG240 -> 8 | ... P18: =Apoio!CN240 -> 22 | R18: 1
B19: =Apoio!BZ241 -> 1 | C19: =Apoio!CA241 -> 2 | D19: =Apoio!CB241 -> 3 | E19: =Apoio!CC241 -> 4 | F19: =Apoio!CD241 -> 5 | G19: =Apoio!CE241 -> 6 | H19: =Apoio!CF241 -> 7 | I19: =Apoio!CG241 -> 8 | ... P19: =Apoio!CN241 -> 21 | R19: 2
B20: =Apoio!BZ242 -> 1 | C20: =Apoio!CA242 -> 2 | D20: =Apoio!CB242 -> 3 | E20: =Apoio!CC242 -> 4 | F20: =Apoio!CD242 -> 5 | G20: =Apoio!CE242 -> 6 | H20: =Apoio!CF242 -> 7 | I20: =Apoio!CG242 -> 9 | ... P20: =Apoio!CN242 -> 22 | R20: 3
B21: =Apoio!BZ243 -> 1 | C21: =Apoio!CA243 -> 2 | D21: =Apoio!CB243 -> 3 | E21: =Apoio!CC243 -> 4 | F21: =Apoio!CD243 -> 5 | G21: =Apoio!CE243 -> 6 | H21: =Apoio!CF243 -> 7 | I21: =Apoio!CG243 -> 10 | ... P21: =Apoio!CN243 -> 21 | R21: 4
B22: =Apoio!BZ244 -> 1 | C22: =Apoio!CA244 -> 2 | D22: =Apoio!CB244 -> 3 | E22: =Apoio!CC244 -> 4 | F22: =Apoio!CD244 -> 5 | G22: =Apoio!CE244 -> 6 | H22: =Apoio!CF244 -> 8 | I22: =Apoio!CG244 -> 9 | ... P22: =Apoio!CN244 -> 22 | R22: 5
B23: =Apoio!BZ245 -> 1 | C23: =Apoio!CA245 -> 2 | D23: =Apoio!CB245 -> 3 | E23: =Apoio!CC245 -> 4 | F23: =Apoio!CD245 -> 5 | G23: =Apoio!CE245 -> 6 | H23: =Apoio!CF245 -> 8 | I23: =Apoio!CG245 -> 9 | ... P23: =Apoio!CN245 -> 22 | R23: 6
B24: =Apoio!BZ246 -> 1 | C24: =Apoio!CA246 -> 2 | D24: =Apoio!CB246 -> 3 | E24: =Apoio!CC246 -> 4 | F24: =Apoio!CD246 -> 5 | G24: =Apoio!CE246 -> 7 | H24: =Apoio!CF246 -> 8 | I24: =Apoio!CG246 -> 10 | ... P24: =Apoio!CN246 -> 22 | R24: 7
B25: =Apoio!BZ247 -> 1 | C25: =Apoio!CA247 -> 2 | D25: =Apoio!CB247 -> 3 | E25: =Apoio!CC247 -> 4 | F25: =Apoio!CD247 -> 5 | G25: =Apoio!CE247 -> 7 | H25: =Apoio!CF247 -> 9 | I25: =Apoio!CG247 -> 11 | ... P25: =Apoio!CN247 -> 22 | R25: 8
B26: =Apoio!BZ248 -> 1 | C26: =Apoio!CA248 -> 2 | D26: =Apoio!CB248 -> 3 | E26: =Apoio!CC248 -> 4 | F26: =Apoio!CD248 -> 6 | G26: =Apoio!CE248 -> 7 | H26: =Apoio!CF248 -> 8 | I26: =Apoio!CG248 -> 9 | ... P26: =Apoio!CN248 -> 22 | R26: 9
B27: =Apoio!BZ249 -> 1 | C27: =Apoio!CA249 -> 2 | D27: =Apoio!CB249 -> 3 | E27: =Apoio!CC249 -> 4 | F27: =Apoio!CD249 -> 6 | G27: =Apoio!CE249 -> 7 | H27: =Apoio!CF249 -> 8 | I27: =Apoio!CG249 -> 9 | ... P27: =Apoio!CN249 -> 22 | R27: 10
B28: =Apoio!BZ250 -> 1 | C28: =Apoio!CA250 -> 2 | D28: =Apoio!CB250 -> 3 | E28: =Apoio!CC250 -> 5 | F28: =Apoio!CD250 -> 6 | G28: =Apoio!CE250 -> 7 | H28: =Apoio!CF250 -> 8 | I28: =Apoio!CG250 -> 9 | ... P28: =Apoio!CN250 -> 22 | R28: 11
B29: =Apoio!BZ251 -> 1 | C29: =Apoio!CA251 -> 2 | D29: =Apoio!CB251 -> 3 | E29: =Apoio!CC251 -> 5 | F29: =Apoio!CD251 -> 6 | G29: =Apoio!CE251 -> 8 | H29: =Apoio!CF251 -> 9 | I29: =Apoio!CG251 -> 10 | ... P29: =Apoio!CN251 -> 22 | R29: 12
... B41: =Apoio!BZ263 -> 2 | C41: =Apoio!CA263 -> 4 | D41: =Apoio!CB263 -> 5 | E41: =Apoio!CC263 -> 6 | F41: =Apoio!CD263 -> 7 | G41: =Apoio!CE263 -> 9 | H41: =Apoio!CF263 -> 10 | I41: =Apoio!CG263 -> 11 | ... P41: =Apoio!CN263 -> 22 | R41: 24

Sheet Apoio
AG1: 1 | AH1: 2 | AI1: 3 | AJ1: 4 | AK1: 5 | AL1: 6 | AM1: 7 | AN1: 8 | AO1: 9 | AP1: 10 | AQ1: 11 | AR1: 12 | AS1: 13 | AT1: 14 | AU1: 15 | AV1: 16 | AW1: 17 | AX1: 18 | AY1: 19 | AZ1: 20 | BA1: 21 | BB1: 22 | BC1: 23 | BD1: 24 | BE1: 25
AG2: =AG25 -> 1 | AH2: =AH25 -> 2 | AI2: =AI25 -> 3 | AJ2: =AJ25 -> 4 | AK2: =BC39 -> 5 | AL2: =BD39 -> 6 | AM2: =BE39 -> 7 | AN2: =BF39 -> 8 | AO2: =BG39 -> 9 | AP2: =BH39 -> 10 | AQ2: =BI39 -> 11 | AR2: =BJ39 -> 12 | ... AX2: =BP39 -> 25 | AY2: =AG26 -> 17 | AZ2: =AH26 -> 18 | BA2: =AI26 -> 19 | BB2: =AJ26 -> 20 | BC2: =AK26 -> 21 | BD2: =AL26 -> 22 | BE2: =AM26 -> 23
A3: 1 | B3: 2 | C3: 3 | D3: 4 | E3: 5 | F3: 6 | G3: 7 | H3: 8 | I3: 9 | J3: 10 | K3: 11 | L3: 12 | M3: 13 | N3: 14 | O3: 15 | P3: 16 | Q3: 17 | R3: 18
A4: =Início!B17 -> 1 | B4: =Início!C17 -> 2 | C4: =Início!D17 -> 3 | D4: =Início!E17 -> 4 | E4: =Início!F17 -> 5 | F4: =Início!G17 -> 6 | G4: =Início!H17 -> 7 | H4: =Início!I17 -> 8 | ... R4: =Início!S17 -> 21
A6: =LOOKUP(Q6,$A$3:$Y$3,$A$4:$Y$4) -> 1 | B6: =LOOKUP(R6,$A$3:$Y$3,$A$4:$Y$4) -> 2 | C6: =LOOKUP(S6,$A$3:$Y$3,$A$4:$Y$4) -> 3 | D6: =LOOKUP(T6,$A$3:$Y$3,$A$4:$Y$4) -> 4 | E6: =LOOKUP(U6,$A$3:$Y$3,$A$4:$Y$4) -> 5 | F6: =LOOKUP(V6,$A$3:$Y$3,$A$4:$Y$4) -> 6 | G6: =LOOKUP(W6,$A$3:$Y$3,$A$4:$Y$4) -> 7 | H6: =LOOKUP(X6,$A$3:$Y$3,$A$4:$Y$4) -> 8 | ... O6: =LOOKUP(AE6,$A$3:$Y$3,$A$4:$Y$4) -> 22 | Q6: 1 | R6: 2 | S6: 3 | T6: 4 | U6: 5 | V6: 6 | W6: 7 | X6: 8 | Y6: 9 | Z6: 10 | AA6: 11 | AB6: 12 | AC6: 14 | AD6: 15 | AE6: 17 | BZ6: =LOOKUP(CP6,$A$3:$Y$3,$A$4:$AE$4) -> 1 | CA6: =LOOKUP(CQ6,$A$3:$Y$3,$A$4:$AE$4) -> 2 | CB6: =LOOKUP(CR6,$A$3:$Y$3,$A$4:$AE$4) -> 3 | CC6: =LOOKUP(CS6,$A$3:$Y$3,$A$4:$AE$4) -> 4 | CD6: =LOOKUP(CT6,$A$3:$Y$3,$A$4:$AE$4) -> 5 | CE6: =LOOKUP(CU6,$A$3:$Y$3,$A$4:$AE$4) -> 6 | CF6: =LOOKUP(CV6,$A$3:$Y$3,$A$4:$AE$4) -> 7 | CG6: =LOOKUP(CW6,$A$3:$Y$3,$A$4:$AE$4) -> 8 | ... CN6: =LOOKUP(DD6,$A$3:$Y$3,$A$4:$AE$4) -> 16 | CP6: 1 | CQ6: 2 | CR6: 3 | CS6: 4 | CT6: 5 | CU6: 6 | CV6: 7 | CW6: 8 | CX6: 9 | CY6: 10 | CZ6: 11 | DA6: 12 | DB6: 13 | DC6: 15 | DD6: 16
A7: =LOOKUP(Q7,$A$3:$Y$3,$A$4:$Y$4) -> 1 | B7: =LOOKUP(R7,$A$3:$Y$3,$A$4:$Y$4) -> 2 | C7: =LOOKUP(S7,$A$3:$Y$3,$A$4:$Y$4) -> 3 | D7: =LOOKUP(T7,$A$3:$Y$3,$A$4:$Y$4) -> 4 | E7: =LOOKUP(U7,$A$3:$Y$3,$A$4:$Y$4) -> 5 | F7: =LOOKUP(V7,$A$3:$Y$3,$A$4:$Y$4) -> 6 | G7: =LOOKUP(W7,$A$3:$Y$3,$A$4:$Y$4) -> 8 | H7: =LOOKUP(X7,$A$3:$Y$3,$A$4:$Y$4) -> 9 | ... O7: =LOOKUP(AE7,$A$3:$Y$3,$A$4:$Y$4) -> 21 | Q7: 1 | R7: 2 | S7: 3 | T7: 4 | U7: 5 | V7: 6 | W7: 8 | X7: 9 | Y7: 10 | Z7: 11 | AA7: 13 | AB7: 14 | AC7: 16 | AD7: 17 | AE7: 18 | AG7: =LOOKUP(AW7,$AG$1:$BE$1,$AG$2:$BE$2) -> 1 | AH7: =LOOKUP(AX7,$AG$1:$BE$1,$AG$2:$BE$2) -> 2 | AI7: =LOOKUP(AY7,$AG$1:$BE$1,$AG$2:$BE$2) -> 3 | AJ7: =LOOKUP(AZ7,$AG$1:$BE$1,$AG$2:$BE$2) -> 4 | AK7: =LOOKUP(BA7,$AG$1:$BE$1,$AG$2:$BE$2) -> 5 | AL7: =LOOKUP(BB7,$AG$1:$BE$1,$AG$2:$BE$2) -> 6 | AM7: =LOOKUP(BC7,$AG$1:$BE$1,$AG$2:$BE$2) -> 7 | AN7: =LOOKUP(BD7,$AG$1:$BE$1,$AG$2:$BE$2) -> 8 | ... AU7: =LOOKUP(BK7,$AG$1:$BE$1,$AG$2:$BE$2) -> 24 | AW7: 1 | AX7: 2 | AY7: 3 | AZ7: 4 | BA7: 5 | BB7: 6 | BC7: 7 | BD7: 8 | BE7: 9 | BF7: 10 | BG7: 11 | BH7: 14 | BI7: 15 | BJ7: 16 | BK7: 17 | BZ7: =LOOKUP(CP7,$A$3:$Y$3,$A$4:$AE$4) -> 1 | CA7: =LOOKUP(CQ7,$A$3:$Y$3,$A$4:$AE$4) -> 2 | CB7: =LOOKUP(CR7,$A$3:$Y$3,$A$4:$AE$4) -> 3 | CC7: =LOOKUP(CS7,$A$3:$Y$3,$A$4:$AE$4) -> 4 | CD7: =LOOKUP(CT7,$A$3:$Y$3,$A$4:$AE$4) -> 5 | CE7: =LOOKUP(CU7,$A$3:$Y$3,$A$4:$AE$4) -> 6 | CF7: =LOOKUP(CV7,$A$3:$Y$3,$A$4:$AE$4) -> 7 | CG7: =LOOKUP(CW7,$A$3:$Y$3,$A$4:$AE$4) -> 8 | ... CN7: =LOOKUP(DD7,$A$3:$Y$3,$A$4:$AE$4) -> 21 | CP7: 1 | CQ7: 2 | CR7: 3 | CS7: 4 | CT7: 5 | CU7: 6 | CV7: 7 | CW7: 8 | CX7: 9 | CY7: 10 | CZ7: 11 | DA7: 12 | DB7: 14 | DC7: 17 | DD7: 18
A8: =LOOKUP(Q8,$A$3:$Y$3,$A$4:$Y$4) -> 1 | B8: =LOOKUP(R8,$A$3:$Y$3,$A$4:$Y$4) -> 2 | C8: =LOOKUP(S8,$A$3:$Y$3,$A$4:$Y$4) -> 3 | D8: =LOOKUP(T8,$A$3:$Y$3,$A$4:$Y$4) -> 4 | E8: =LOOKUP(U8,$A$3:$Y$3,$A$4:$Y$4) -> 5 | F8: =LOOKUP(V8,$A$3:$Y$3,$A$4:$Y$4) -> 7 | G8: =LOOKUP(W8,$A$3:$Y$3,$A$4:$Y$4) -> 10 | H8: =LOOKUP(X8,$A$3:$Y$3,$A$4:$Y$4) -> 11 | ... O8: =LOOKUP(AE8,$A$3:$Y$3,$A$4:$Y$4) -> 21 | Q8: 1 | R8: 2 | S8: 3 | T8: 4 | U8: 5 | V8: 7 | W8: 10 | X8: 11 | Y8: 12 | Z8: 13 | AA8: 14 | AB8: 15 | AC8: 16 | AD8: 17 | AE8: 18 | AG8: =LOOKUP(AW8,$AG$1:$BE$1,$AG$2:$BE$2) -> 1 | AH8: =LOOKUP(AX8,$AG$1:$BE$1,$AG$2:$BE$2) -> 2 | AI8: =LOOKUP(AY8,$AG$1:$BE$1,$AG$2:$BE$2) -> 3 | AJ8: =LOOKUP(AZ8,$AG$1:$BE$1,$AG$2:$BE$2) -> 4 | AK8: =LOOKUP(BA8,$AG$1:$BE$1,$AG$2:$BE$2) -> 5 | AL8: =LOOKUP(BB8,$AG$1:$BE$1,$AG$2:$BE$2) -> 6 | AM8: =LOOKUP(BC8,$AG$1:$BE$1,$AG$2:$BE$2) -> 7 | AN8: =LOOKUP(BD8,$AG$1:$BE$1,$AG$2:$BE$2) -> 8 | ... AU8: =LOOKUP(BK8,$AG$1:$BE$1,$AG$2:$BE$2) -> 25 | AW8: 1 | AX8: 2 | AY8: 3 | AZ8: 4 | BA8: 5 | BB8: 6 | BC8: 7 | BD8: 8 | BE8: 9 | BF8: 10 | BG8: 13 | BH8: 14 | BI8: 15 | BJ8: 16 | BK8: 18 | BZ8: =LOOKUP(CP8,$A$3:$Y$3,$A$4:$AE$4) -> 1 | CA8: =LOOKUP(CQ8,$A$3:$Y$3,$A$4:$AE$4) -> 2 | CB8: =LOOKUP(CR8,$A$3:$Y$3,$A$4:$AE$4) -> 3 | CC8: =LOOKUP(CS8,$A$3:$Y$3,$A$4:$AE$4) -> 4 | CD8: =LOOKUP(CT8,$A$3:$Y$3,$A$4:$AE$4) -> 5 | CE8: =LOOKUP(CU8,$A$3:$Y$3,$A$4:$AE$4) -> 6 | CF8: =LOOKUP(CV8,$A$3:$Y$3,$A$4:$AE$4) -> 7 | CG8: =LOOKUP(CW8,$A$3:$Y$3,$A$4:$AE$4) -> 8 | ... CN8: =LOOKUP(DD8,$A$3:$Y$3,$A$4:$AE$4) -> 21 | CP8: 1 | CQ8: 2 | CR8: 3 | CS8: 4 | CT8: 5 | CU8: 6 | CV8: 7 | CW8: 8 | CX8: 9 | CY8: 10 | CZ8: 11 | DA8: 13 | DB8: 14 | DC8: 17 | DD8: 18
A9: =LOOKUP(Q9,$A$3:$Y$3,$A$4:$Y$4) -> 1 | B9: =LOOKUP(R9,$A$3:$Y$3,$A$4:$Y$4) -> 2 | C9: =LOOKUP(S9,$A$3:$Y$3,$A$4:$Y$4) -> 4 | D9: =LOOKUP(T9,$A$3:$Y$3,$A$4:$Y$4) -> 6 | E9: =LOOKUP(U9,$A$3:$Y$3,$A$4:$Y$4) -> 7 | F9: =LOOKUP(V9,$A$3:$Y$3,$A$4:$Y$4) -> 8 | G9: =LOOKUP(W9,$A$3:$Y$3,$A$4:$Y$4) -> 9 | H9: =LOOKUP(X9,$A$3:$Y$3,$A$4:$Y$4) -> 10 | ... O9: =LOOKUP(AE9,$A$3:$Y$3,$A$4:$Y$4) -> 21 | Q9: 1 | R9: 2 | S9: 4 | T9: 6 | U9: 7 | V9: 8 | W9: 9 | X9: 10 | Y9: 11 | Z9: 12 | AA9: 13 | AB9: 15 | AC9: 16 | AD9: 17 | AE9: 18 | AG9: =LOOKUP(AW9,$AG$1:$BE$1,$AG$2:$BE$2) -> 1 | AH9: =LOOKUP(AX9,$AG$1:$BE$1,$AG$2:$BE$2) -> 2 | AI9: =LOOKUP(AY9,$AG$1:$BE$1,$AG$2:$BE$2) -> 3 | AJ9: =LOOKUP(AZ9,$AG$1:$BE$1,$AG$2:$BE$2) -> 4 | AK9: =LOOKUP(BA9,$AG$1:$BE$1,$AG$2:$BE$2) -> 5 | AL9: =LOOKUP(BB9,$AG$1:$BE$1,$AG$2:$BE$2) -> 6 | AM9: =LOOKUP(BC9,$AG$1:$BE$1,$AG$2:$BE$2) -> 7 | AN9: =LOOKUP(BD9,$AG$1:$BE$1,$AG$2:$BE$2) -> 8 | ... AU9: =LOOKUP(BK9,$AG$1:$BE$1,$AG$2:$BE$2) -> 25 | AW9: 1 | AX9: 2 | AY9: 3 | AZ9: 4 | BA9: 5 | BB9: 6 | BC9: 7 | BD9: 8 | BE9: 9 | BF9: 11 | BG9: 12 | BH9: 13 | BI9: 16 | BJ9: 17 | BK9: 18 | BZ9: =LOOKUP(CP9,$A$3:$Y$3,$A$4:$AE$4) -> 1 | CA9: =LOOKUP(CQ9,$A$3:$Y$3,$A$4:$AE$4) -> 2 | CB9: =LOOKUP(CR9,$A$3:$Y$3,$A$4:$AE$4) -> 3 | CC9: =LOOKUP(CS9,$A$3:$Y$3,$A$4:$AE$4) -> 4 | CD9: =LOOKUP(CT9,$A$3:$Y$3,$A$4:$AE$4) -> 5 | CE9: =LOOKUP(CU9,$A$3:$Y$3,$A$4:$AE$4) -> 6 | CF9: =LOOKUP(CV9,$A$3:$Y$3,$A$4:$AE$4) -> 7 | CG9: =LOOKUP(CW9,$A$3:$Y$3,$A$4:$AE$4) -> 8 | ... CN9: =LOOKUP(DD9,$A$3:$Y$3,$A$4:$AE$4) -> 21 | CP9: 1 | CQ9: 2 | CR9: 3 | CS9: 4 | CT9: 5 | CU9: 6 | CV9: 7 | CW9: 8 | CX9: 9 | CY9: 10 | CZ9: 11 | DA9: 14 | DB9: 15 | DC9: 17 | DD9: 18
A10: =LOOKUP(Q10,$A$3:$Y$3,$A$4:$Y$4) -> 1 | B10: =LOOKUP(R10,$A$3:$Y$3,$A$4:$Y$4) -> 3 | C10: =LOOKUP(S10,$A$3:$Y$3,$A$4:$Y$4) -> 4 | D10: =LOOKUP(T10,$A$3:$Y$3,$A$4:$Y$4) -> 5 | E10: =LOOKUP(U10,$A$3:$Y$3,$A$4:$Y$4) -> 6 | F10: =LOOKUP(V10,$A$3:$Y$3,$A$4:$Y$4) -> 7 | G10: =LOOKUP(W10,$A$3:$Y$3,$A$4:$Y$4) -> 8 | H10: =LOOKUP(X10,$A$3:$Y$3,$A$4:$Y$4) -> 9 | ... O10: =LOOKUP(AE10,$A$3:$Y$3,$A$4:$Y$4) -> 21 | Q10: 1 | R10: 3 | S10: 4 | T10: 5 | U10: 6 | V10: 7 | W10: 8 | X10: 9 | Y10: 10 | Z10: 13 | AA10: 14 | AB10: 15 | AC10: 16 | AD10: 17 | AE10: 18 | AG10: =LOOKUP(AW10,$AG$1:$BE$1,$AG$2:$BE$2) -> 1 | AH10: =LOOKUP(AX10,$AG$1:$BE$1,$AG$2:$BE$2) -> 2 | AI10: =LOOKUP(AY10,$AG$1:$BE$1,$AG$2:$BE$2) -> 3 | AJ10: =LOOKUP(AZ10,$AG$1:$BE$1,$AG$2:$BE$2) -> 4 | AK10: =LOOKUP(BA10,$AG$1:$BE$1,$AG$2:$BE$2) -> 5 | AL10: =LOOKUP(BB10,$AG$1:$BE$1,$AG$2:$BE$2) -> 6 | AM10: =LOOKUP(BC10,$AG$1:$BE$1,$AG$2:$BE$2) -> 7 | AN10: =LOOKUP(BD10,$AG$1:$BE$1,$AG$2:$BE$2) -> 8 | ... AU10: =LOOKUP(BK10,$AG$1:$BE$1,$AG$2:$BE$2) -> 25 | AW10: 1 | AX10: 2 | AY10: 3 | AZ10: 4 | BA10: 5 | BB10: 6 | BC10: 7 | BD10: 8 | BE10: 10 | BF10: 11 | BG10: 12 | BH10: 14 | BI10: 15 | BJ10: 16 | BK10: 18 | BZ10: =LOOKUP(CP10,$A$3:$Y$3,$A$4:$AE$4) -> 1 | CA10: =LOOKUP(CQ10,$A$3:$Y$3,$A$4:$AE$4) -> 2 | CB10: =LOOKUP(CR10,$A$3:$Y$3,$A$4:$AE$4) -> 3 | CC10: =LOOKUP(CS10,$A$3:$Y$3,$A$4:$AE$4) -> 4 | CD10: =LOOKUP(CT10,$A$3:$Y$3,$A$4:$AE$4) -> 5 | CE10: =LOOKUP(CU10,$A$3:$Y$3,$A$4:$AE$4) -> 6 | CF10: =LOOKUP(CV10,$A$3:$Y$3,$A$4:$AE$4) -> 7 | CG10: =LOOKUP(CW10,$A$3:$Y$3,$A$4:$AE$4) -> 8 | ... CN10: =LOOKUP(DD10,$A$3:$Y$3,$A$4:$AE$4) -> 21 | CP10: 1 | CQ10: 2 | CR10: 3 | CS10: 4 | CT10: 5 | CU10: 6 | CV10: 7 | CW10: 8 | CX10: 9 | CY10: 10 | CZ10: 11 | DA10: 14 | DB10: 16 | DC10: 17 | DD10: 18
A11: =LOOKUP(Q11,$A$3:$Y$3,$A$4:$Y$4) -> 2 | B11: =LOOKUP(R11,$A$3:$Y$3,$A$4:$Y$4) -> 5 | C11: =LOOKUP(S11,$A$3:$Y$3,$A$4:$Y$4) -> 6 | D11: =LOOKUP(T11,$A$3:$Y$3,$A$4:$Y$4) -> 7 | E11: =LOOKUP(U11,$A$3:$Y$3,$A$4:$Y$4) -> 8 | F11: =LOOKUP(V11,$A$3:$Y$3,$A$4:$Y$4) -> 9 | G11: =LOOKUP(W11,$A$3:$Y$3,$A$4:$Y$4) -> 10 | H11: =LOOKUP(X11,$A$3:$Y$3,$A$4:$Y$4) -> 11 | ... O11: =LOOKUP(AE11,$A$3:$Y$3,$A$4:$Y$4) -> 21 | Q11: 2 | R11: 5 | S11: 6 | T11: 7 | U11: 8 | V11: 9 | W11: 10 | X11: 11 | Y11: 12 | Z11: 13 | AA11: 14 | AB11: 15 | AC11: 16 | AD11: 17 | AE11: 18 | AG11: =LOOKUP(AW11,$AG$1:$BE$1,$AG$2:$BE$2) -> 1 | AH11: =LOOKUP(AX11,$AG$1:$BE$1,$AG$2:$BE$2) -> 2 | AI11: =LOOKUP(AY11,$AG$1:$BE$1,$AG$2:$BE$2) -> 3 | AJ11: =LOOKUP(AZ11,$AG$1:$BE$1,$AG$2:$BE$2) -> 4 | AK11: =LOOKUP(BA11,$AG$1:$BE$1,$AG$2:$BE$2) -> 5 | AL11: =LOOKUP(BB11,$AG$1:$BE$1,$AG$2:$BE$2) -> 6 | AM11: =LOOKUP(BC11,$AG$1:$BE$1,$AG$2:$BE$2) -> 7 | AN11: =LOOKUP(BD11,$AG$1:$BE$1,$AG$2:$BE$2) -> 8 | ... AU11: =LOOKUP(BK11,$AG$1:$BE$1,$AG$2:$BE$2) -> 24 | AW11: 1 | AX11: 2 | AY11: 3 | AZ11: 4 | BA11: 5 | BB11: 6 | BC11: 7 | BD11: 8 | BE11: 10 | BF11: 12 | BG11: 13 | BH11: 14 | BI11: 15 | BJ11: 16 | BK11: 17 | BZ11: =LOOKUP(CP11,$A$3:$Y$3,$A$4:$AE$4) -> 1 | CA11: =LOOKUP(CQ11,$A$3:$Y$3,$A$4:$AE$4) -> 2 | CB11: =LOOKUP(CR11,$A$3:$Y$3,$A$4:$AE$4) -> 3 | CC11: =LOOKUP(CS11,$A$3:$Y$3,$A$4:$AE$4) -> 4 | CD11: =LOOKUP(CT11,$A$3:$Y$3,$A$4:$AE$4) -> 5 | CE11: =LOOKUP(CU11,$A$3:$Y$3,$A$4:$AE$4) -> 6 | CF11: =LOOKUP(CV11,$A$3:$Y$3,$A$4:$AE$4) -> 7 | CG11: =LOOKUP(CW11,$A$3:$Y$3,$A$4:$AE$4) -> 8 | ... CN11: =LOOKUP(DD11,$A$3:$Y$3,$A$4:$AE$4) -> 21 | CP11: 1 | CQ11: 2 | CR11: 3 | CS11: 4 | CT11: 5 | CU11: 6 | CV11: 7 | CW11: 8 | CX11: 9 | CY11: 10 | CZ11: 12 | DA11: 13 | DB11: 14 | DC11: 17 | DD11: 18
AG12: =LOOKUP(AW12,$AG$1:$BE$1,$AG$2:$BE$2) -> 1 | AH12: =LOOKUP(AX12,$AG$1:$BE$1,$AG$2:$BE$2) -> 2 | AI12: =LOOKUP(AY12,$AG$1:$BE$1,$AG$2:$BE$2) -> 3 | AJ12: =LOOKUP(AZ12,$AG$1:$BE$1,$AG$2:$BE$2) -> 4 | AK12: =LOOKUP(BA12,$AG$1:$BE$1,$AG$2:$BE$2) -> 5 | AL12: =LOOKUP(BB12,$AG$1:$BE$1,$AG$2:$BE$2) -> 6 | AM12: =LOOKUP(BC12,$AG$1:$BE$1,$AG$2:$BE$2) -> 7 | AN12: =LOOKUP(BD12,$AG$1:$BE$1,$AG$2:$BE$2) -> 9 | ... AU12: =LOOKUP(BK12,$AG$1:$BE$1,$AG$2:$BE$2) -> 25 | AW12: 1 | AX12: 2 | AY12: 3 | AZ12: 4 | BA12: 5 | BB12: 6 | BC12: 7 | BD12: 9 | BE12: 11 | BF12: 12 | BG12: 13 | BH12: 14 | BI12: 15 | BJ12: 17 | BK12: 18 | BZ12: =LOOKUP(CP12,$A$3:$Y$3,$A$4:$AE$4) -> 1 | CA12: =LOOKUP(CQ12,$A$3:$Y$3,$A$4:$AE$4) -> 2 | CB12: =LOOKUP(CR12,$A$3:$Y$3,$A$4:$AE$4) -> 3 | CC12: =LOOKUP(CS12,$A$3:$Y$3,$A$4:$AE$4) -> 4 | CD12: =LOOKUP(CT12,$A$3:$Y$3,$A$4:$AE$4) -> 5 | CE12: =LOOKUP(CU12,$A$3:$Y$3,$A$4:$AE$4) -> 6 | CF12: =LOOKUP(CV12,$A$3:$Y$3,$A$4:$AE$4) -> 7 | CG12: =LOOKUP(CW12,$A$3:$Y$3,$A$4:$AE$4) -> 8 | ... CN12: =LOOKUP(DD12,$A$3:$Y$3,$A$4:$AE$4) -> 22 | CP12: 1 | CQ12: 2 | CR12: 3 | CS12: 4 | CT12: 5 | CU12: 6 | CV12: 7 | CW12: 8 | CX12: 9 | CY12: 10 | CZ12: 12 | DA12: 14 | DB12: 15 | DC12: 16 | DD12: 17
AG13: =LOOKUP(AW13,$AG$1:$BE$1,$AG$2:$BE$2) -> 1 | AH13: =LOOKUP(AX13,$AG$1:$BE$1,$AG$2:$BE$2) -> 2 | AI13: =LOOKUP(AY13,$AG$1:$BE$1,$AG$2:$BE$2) -> 3 | AJ13: =LOOKUP(AZ13,$AG$1:$BE$1,$AG$2:$BE$2) -> 4 | AK13: =LOOKUP(BA13,$AG$1:$BE$1,$AG$2:$BE$2) -> 5 | AL13: =LOOKUP(BB13,$AG$1:$BE$1,$AG$2:$BE$2) -> 6 | AM13: =LOOKUP(BC13,$AG$1:$BE$1,$AG$2:$BE$2) -> 8 | AN13: =LOOKUP(BD13,$AG$1:$BE$1,$AG$2:$BE$2) -> 9 | ... AU13: =LOOKUP(BK13,$AG$1:$BE$1,$AG$2:$BE$2) -> 25 | AW13: 1 | AX13: 2 | AY13: 3 | AZ13: 4 | BA13: 5 | BB13: 6 | BC13: 8 | BD13: 9 | BE13: 10 | BF13: 11 | BG13: 12 | BH13: 13 | BI13: 15 | BJ13: 17 | BK13: 18 | BZ13: =LOOKUP(CP13,$A$3:$Y$3,$A$4:$AE$4) -> 1 | CA13: =LOOKUP(CQ13,$A$3:$Y$3,$A$4:$AE$4) -> 2 | CB13: =LOOKUP(CR13,$A$3:$Y$3,$A$4:$AE$4) -> 3 | CC13: =LOOKUP(CS13,$A$3:$Y$3,$A$4:$AE$4) -> 4 | CD13: =LOOKUP(CT13,$A$3:$Y$3,$A$4:$AE$4) -> 5 | CE13: =LOOKUP(CU13,$A$3:$Y$3,$A$4:$AE$4) -> 6 | CF13: =LOOKUP(CV13,$A$3:$Y$3,$A$4:$AE$4) -> 7 | CG13: =LOOKUP(CW13,$A$3:$Y$3,$A$4:$AE$4) -> 8 | ... CN13: =LOOKUP(DD13,$A$3:$Y$3,$A$4:$AE$4) -> 21 | CP13: 1 | CQ13: 2 | CR13: 3 | CS13: 4 | CT13: 5 | CU13: 6 | CV13: 7 | CW13: 8 | CX13: 9 | CY13: 10 | CZ13: 12 | DA13: 14 | DB13: 15 | DC13: 16 | DD13: 18
A14: =SMALL($A6:$O6,A$3) -> 1 | B14: =SMALL($A6:$O6,B$3) -> 2 | C14: =SMALL($A6:$O6,C$3) -> 3 | D14: =SMALL($A6:$O6,D$3) -> 4 | E14: =SMALL($A6:$O6,E$3) -> 5 | F14: =SMALL($A6:$O6,F$3) -> 6 | G14: =SMALL($A6:$O6,G$3) -> 7 | H14: =SMALL($A6:$O6,H$3) -> 8 | ... O14: =SMALL($A6:$O6,O$3) -> 22 | R14: 1 | AG14: =LOOKUP(AW14,$AG$1:$BE$1,$AG$2:$BE$2) -> 1 | AH14: =LOOKUP(AX14,$AG$1:$BE$1,$AG$2:$BE$2) -> 2 | AI14: =LOOKUP(AY14,$AG$1:$BE$1,$AG$2:$BE$2) -> 3 | AJ14: =LOOKUP(AZ14,$AG$1:$BE$1,$AG$2:$BE$2) -> 4 | AK14: =LOOKUP(BA14,$AG$1:$BE$1,$AG$2:$BE$2) -> 5 | AL14: =LOOKUP(BB14,$AG$1:$BE$1,$AG$2:$BE$2) -> 6 | AM14: =LOOKUP(BC14,$AG$1:$BE$1,$AG$2:$BE$2) -> 9 | AN14: =LOOKUP(BD14,$AG$1:$BE$1,$AG$2:$BE$2) -> 10 | ... AU14: =LOOKUP(BK14,$AG$1:$BE$1,$AG$2:$BE$2) -> 25 | AW14: 1 | AX14: 2 | AY14: 3 | AZ14: 4 | BA14: 5 | BB14: 6 | BC14: 9 | BD14: 10 | BE14: 11 | BF14: 12 | BG14: 13 | BH14: 14 | BI14: 16 | BJ14: 17 | BK14: 18 | BZ14: =LOOKUP(CP14,$A$3:$Y$3,$A$4:$AE$4) -> 1 | CA14: =LOOKUP(CQ14,$A$3:$Y$3,$A$4:$AE$4) -> 2 | CB14: =LOOKUP(CR14,$A$3:$Y$3,$A$4:$AE$4) -> 3 | CC14: =LOOKUP(CS14,$A$3:$Y$3,$A$4:$AE$4) -> 4 | CD14: =LOOKUP(CT14,$A$3:$Y$3,$A$4:$AE$4) -> 5 | CE14: =LOOKUP(CU14,$A$3:$Y$3,$A$4:$AE$4) -> 6 | CF14: =LOOKUP(CV14,$A$3:$Y$3,$A$4:$AE$4) -> 7 | CG14: =LOOKUP(CW14,$A$3:$Y$3,$A$4:$AE$4) -> 8 | ... CN14: =LOOKUP(DD14,$A$3:$Y$3,$A$4:$AE$4) -> 22 | CP14: 1 | CQ14: 2 | CR14: 3 | CS14: 4 | CT14: 5 | CU14: 6 | CV14: 7 | CW14: 8 | CX14: 9 | CY14: 10 | CZ14: 13 | DA14: 14 | DB14: 15 | DC14: 16 | DD14: 17
A15: =SMALL($A7:$O7,A$3) -> 1 | B15: =SMALL($A7:$O7,B$3) -> 2 | C15: =SMALL($A7:$O7,C$3) -> 3 | D15: =SMALL($A7:$O7,D$3) -> 4 | E15: =SMALL($A7:$O7,E$3) -> 5 | F15: =SMALL($A7:$O7,F$3) -> 6 | G15: =SMALL($A7:$O7,G$3) -> 8 | H15: =SMALL($A7:$O7,H$3) -> 9 | ... O15: =SMALL($A7:$O7,O$3) -> 22 | R15: 2 | AG15: =LOOKUP(AW15,$AG$1:$BE$1,$AG$2:$BE$2) -> 1 | AH15: =LOOKUP(AX15,$AG$1:$BE$1,$AG$2:$BE$2) -> 2 | AI15: =LOOKUP(AY15,$AG$1:$BE$1,$AG$2:$BE$2) -> 3 | AJ15: =LOOKUP(AZ15,$AG$1:$BE$1,$AG$2:$BE$2) -> 4 | AK15: =LOOKUP(BA15,$AG$1:$BE$1,$AG$2:$BE$2) -> 5 | AL15: =LOOKUP(BB15,$AG$1:$BE$1,$AG$2:$BE$2) -> 7 | AM15: =LOOKUP(BC15,$AG$1:$BE$1,$AG$2:$BE$2) -> 8 | AN15: =LOOKUP(BD15,$AG$1:$BE$1,$AG$2:$BE$2) -> 9 | ... AU15: =LOOKUP(BK15,$AG$1:$BE$1,$AG$2:$BE$2) -> 16 | AW15: 1 | AX15: 2 | AY15: 3 | AZ15: 4 | BA15: 5 | BB15: 7 | BC15: 8 | BD15: 9 | BE15: 10 | BF15: 11 | BG15: 12 | BH15: 13 | BI15: 14 | BJ15: 15 | BK15: 16 | BZ15: =LOOKUP(CP15,$A$3:$Y$3,$A$4:$AE$4) -> 1 | CA15: =LOOKUP(CQ15,$A$3:$Y$3,$A$4:$AE$4) -> 2 | CB15: =LOOKUP(CR15,$A$3:$Y$3,$A$4:$AE$4) -> 3 | CC15: =LOOKUP(CS15,$A$3:$Y$3,$A$4:$AE$4) -> 4 | CD15: =LOOKUP(CT15,$A$3:$Y$3,$A$4:$AE$4) -> 5 | CE15: =LOOKUP(CU15,$A$3:$Y$3,$A$4:$AE$4) -> 6 | CF15: =LOOKUP(CV15,$A$3:$Y$3,$A$4:$AE$4) -> 7 | CG15: =LOOKUP(CW15,$A$3:$Y$3,$A$4:$AE$4) -> 8 | ... CN15: =LOOKUP(DD15,$A$3:$Y$3,$A$4:$AE$4) -> 21 | CP15: 1 | CQ15: 2 | CR15: 3 | CS15: 4 | CT15: 5 | CU15: 6 | CV15: 7 | CW15: 8 | CX15: 9 | CY15: 10 | CZ15: 13 | DA15: 14 | DB15: 15 | DC15: 16 | DD15: 18
A16: =SMALL($A8:$O8,A$3) -> 1 | B16: =SMALL($A8:$O8,B$3) -> 2 | C16: =SMALL($A8:$O8,C$3) -> 3 | D16: =SMALL($A8:$O8,D$3) -> 4 | E16: =SMALL($A8:$O8,E$3) -> 5 | F16: =SMALL($A8:$O8,F$3) -> 7 | G16: =SMALL($A8:$O8,G$3) -> 10 | H16: =SMALL($A8:$O8,H$3) -> 11 | ... O16: =SMALL($A8:$O8,O$3) -> 22 | R16: 3 | AG16: =LOOKUP(AW16,$AG$1:$BE$1,$AG$2:$BE$2) -> 1 | AH16: =LOOKUP(AX16,$AG$1:$BE$1,$AG$2:$BE$2) -> 2 | AI16: =LOOKUP(AY16,$AG$1:$BE$1,$AG$2:$BE$2) -> 3 | AJ16: =LOOKUP(AZ16,$AG$1:$BE$1,$AG$2:$BE$2) -> 4 | AK16: =LOOKUP(BA16,$AG$1:$BE$1,$AG$2:$BE$2) -> 5 | AL16: =LOOKUP(BB16,$AG$1:$BE$1,$AG$2:$BE$2) -> 7 | AM16: =LOOKUP(BC16,$AG$1:$BE$1,$AG$2:$BE$2) -> 8 | AN16: =LOOKUP(BD16,$AG$1:$BE$1,$AG$2:$BE$2) -> 9 | ... AU16: =LOOKUP(BK16,$AG$1:$BE$1,$AG$2:$BE$2) -> 25 | AW16: 1 | AX16: 2 | AY16: 3 | AZ16: 4 | BA16: 5 | BB16: 7 | BC16: 8 | BD16: 9 | BE16: 10 | BF16: 12 | BG16: 14 | BH16: 15 | BI16: 16 | BJ16: 17 | BK16: 18 | BZ16: =LOOKUP(CP16,$A$3:$Y$3,$A$4:$AE$4) -> 1 | CA16: =LOOKUP(CQ16,$A$3:$Y$3,$A$4:$AE$4) -> 2 | CB16: =LOOKUP(CR16,$A$3:$Y$3,$A$4:$AE$4) -> 3 | CC16: =LOOKUP(CS16,$A$3:$Y$3,$A$4:$AE$4) -> 4 | CD16: =LOOKUP(CT16,$A$3:$Y$3,$A$4:$AE$4) -> 5 | CE16: =LOOKUP(CU16,$A$3:$Y$3,$A$4:$AE$4) -> 6 | CF16: =LOOKUP(CV16,$A$3:$Y$3,$A$4:$AE$4) -> 7 | CG16: =LOOKUP(CW16,$A$3:$Y$3,$A$4:$AE$4) -> 8 | ... CN16: =LOOKUP(DD16,$A$3:$Y$3,$A$4:$AE$4) -> 16 | CP16: 1 | CQ16: 2 | CR16: 3 | CS16: 4 | CT16: 5 | CU16: 6 | CV16: 7 | CW16: 8 | CX16: 9 | CY16: 11 | CZ16: 12 | DA16: 13 | DB16: 14 | DC16: 15 | DD16: 16
A17: =SMALL($A9:$O9,A$3) -> 1 | B17: =SMALL($A9:$O9,B$3) -> 2 | C17: =SMALL($A9:$O9,C$3) -> 4 | D17: =SMALL($A9:$O9,D$3) -> 6 | E17: =SMALL($A9:$O9,E$3) -> 7 | F17: =SMALL($A9:$O9,F$3) -> 8 | G17: =SMALL($A9:$O9,G$3) -> 9 | H17: =SMALL($A9:$O9,H$3) -> 10 | ... O17: =SMALL($A9:$O9,O$3) -> 22 | R17: 4 | AG17: =LOOKUP(AW17,$AG$1:$BE$1,$AG$2:$BE$2) -> 1 | AH17: =LOOKUP(AX17,$AG$1:$BE$1,$AG$2:$BE$2) -> 2 | AI17: =LOOKUP(AY17,$AG$1:$BE$1,$AG$2:$BE$2) -> 3 | AJ17: =LOOKUP(AZ17,$AG$1:$BE$1,$AG$2:$BE$2) -> 4 | AK17: =LOOKUP(BA17,$AG$1:$BE$1,$AG$2:$BE$2) -> 5 | AL17: =LOOKUP(BB17,$AG$1:$BE$1,$AG$2:$BE$2) -> 7 | AM17: =LOOKUP(BC17,$AG$1:$BE$1,$AG$2:$BE$2) -> 8 | AN17: =LOOKUP(BD17,$AG$1:$BE$1,$AG$2:$BE$2) -> 10 | ... AU17: =LOOKUP(BK17,$AG$1:$BE$1,$AG$2:$BE$2) -> 25 | AW17: 1 | AX17: 2 | AY17: 3 | AZ17: 4 | BA17: 5 | BB17: 7 | BC17: 8 | BD17: 10 | BE17: 11 | BF17: 13 | BG17: 14 | BH17: 15 | BI17: 16 | BJ17: 17 | BK17: 18 | BZ17: =LOOKUP(CP17,$A$3:$Y$3,$A$4:$AE$4) -> 1 | CA17: =LOOKUP(CQ17,$A$3:$Y$3,$A$4:$AE$4) -> 2 | CB17: =LOOKUP(CR17,$A$3:$Y$3,$A$4:$AE$4) -> 3 | CC17: =LOOKUP(CS17,$A$3:$Y$3,$A$4:$AE$4) -> 4 | CD17: =LOOKUP(CT17,$A$3:$Y$3,$A$4:$AE$4) -> 5 | CE17: =LOOKUP(CU17,$A$3:$Y$3,$A$4:$AE$4) -> 6 | CF17: =LOOKUP(CV17,$A$3:$Y$3,$A$4:$AE$4) -> 7 | CG17: =LOOKUP(CW17,$A$3:$Y$3,$A$4:$AE$4) -> 8 | ... CN17: =LOOKUP(DD17,$A$3:$Y$3,$A$4:$AE$4) -> 21 | CP17: 1 | CQ17: 2 | CR17: 3 | CS17: 4 | CT17: 5 | CU17: 6 | CV17: 7 | CW17: 8 | CX17: 9 | CY17: 11 | CZ17: 12 | DA17: 13 | DB17: 15 | DC17: 17 | DD17: 18
A18: =SMALL($A10:$O10,A$3) -> 1 | B18: =SMALL($A10:$O10,B$3) -> 3 | C18: =SMALL($A10:$O10,C$3) -> 4 | D18: =SMALL($A10:$O10,D$3) -> 5 | E18: =SMALL($A10:$O10,E$3) -> 6 | F18: =SMALL($A10:$O10,F$3) -> 7 | G18: =SMALL($A10:$O10,G$3) -> 8 | H18: =SMALL($A10:$O10,H$3) -> 9 | ... O18: =SMALL($A10:$O10,O$3) -> 22 | R18: 5 | AG18: =LOOKUP(AW18,$AG$1:$BE$1,$AG$2:$BE$2) -> 1 | AH18: =LOOKUP(AX18,$AG$1:$BE$1,$AG$2:$BE$2) -> 2 | AI18: =LOOKUP(AY18,$AG$1:$BE$1,$AG$2:$BE$2) -> 3 | AJ18: =LOOKUP(AZ18,$AG$1:$BE$1,$AG$2:$BE$2) -> 4 | AK18: =LOOKUP(BA18,$AG$1:$BE$1,$AG$2:$BE$2) -> 6 | AL18: =LOOKUP(BB18,$AG$1:$BE$1,$AG$2:$BE$2) -> 7 | AM18: =LOOKUP(BC18,$AG$1:$BE$1,$AG$2:$BE$2) -> 8 | AN18: =LOOKUP(BD18,$AG$1:$BE$1,$AG$2:$BE$2) -> 9 | ... AU18: =LOOKUP(BK18,$AG$1:$BE$1,$AG$2:$BE$2) -> 25 | AW18: 1 | AX18: 2 | AY18: 3 | AZ18: 4 | BA18: 6 | BB18: 7 | BC18: 8 | BD18: 9 | BE18: 10 | BF18: 11 | BG18: 12 | BH18: 13 | BI18: 14 | BJ18: 17 | BK18: 18 | BZ18: =LOOKUP(CP18,$A$3:$Y$3,$A$4:$AE$4) -> 1 | CA18: =LOOKUP(CQ18,$A$3:$Y$3,$A$4:$AE$4) -> 2 | CB18: =LOOKUP(CR18,$A$3:$Y$3,$A$4:$AE$4) -> 3 | CC18: =LOOKUP(CS18,$A$3:$Y$3,$A$4:$AE$4) -> 4 | CD18: =LOOKUP(CT18,$A$3:$Y$3,$A$4:$AE$4) -> 5 | CE18: =LOOKUP(CU18,$A$3:$Y$3,$A$4:$AE$4) -> 6 | CF18: =LOOKUP(CV18,$A$3:$Y$3,$A$4:$AE$4) -> 7 | CG18: =LOOKUP(CW18,$A$3:$Y$3,$A$4:$AE$4) -> 8 | ... CN18: =LOOKUP(DD18,$A$3:$Y$3,$A$4:$AE$4) -> 21 | CP18: 1 | CQ18: 2 | CR18: 3 | CS18: 4 | CT18: 5 | CU18: 6 | CV18: 7 | CW18: 8 | CX18: 9 | CY18: 11 | CZ18: 12 | DA18: 14 | DB18: 16 | DC18: 17 | DD18: 18
A19: =SMALL($A11:$O11,A$3) -> 2 | B19: =SMALL($A11:$O11,B$3) -> 5 | C19: =SMALL($A11:$O11,C$3) -> 6 | D19: =SMALL($A11:$O11,D$3) -> 7 | E19: =SMALL($A11:$O11,E$3) -> 8 | F19: =SMALL($A11:$O11,F$3) -> 9 | G19: =SMALL($A11:$O11,G$3) -> 10 | H19: =SMALL($A11:$O11,H$3) -> 11 | ... O19: =SMALL($A11:$O11,O$3) -> 22 | R19: 6 | AG19: =LOOKUP(AW19,$AG$1:$BE$1,$AG$2:$BE$2) -> 1 | AH19: =LOOKUP(AX19,$AG$1:$BE$1,$AG$2:$BE$2) -> 2 | AI19: =LOOKUP(AY19,$AG$1:$BE$1,$AG$2:$BE$2) -> 3 | AJ19: =LOOKUP(AZ19,$AG$1:$BE$1,$AG$2:$BE$2) -> 4 | AK19: =LOOKUP(BA19,$AG$1:$BE$1,$AG$2:$BE$2) -> 6 | AL19: =LOOKUP(BB19,$AG$1:$BE$1,$AG$2:$BE$2) -> 7 | AM19: =LOOKUP(BC19,$AG$1:$BE$1,$AG$2:$BE$2) -> 9 | AN19: =LOOKUP(BD19,$AG$1:$BE$1,$AG$2:$BE$2) -> 10 | ... AU19: =LOOKUP(BK19,$AG$1:$BE$1,$AG$2:$BE$2) -> 25 | AW19: 1 | AX19: 2 | AY19: 3 | AZ19: 4 | BA19: 6 | BB19: 7 | BC19: 9 | BD19: 10 | BE19: 11 | BF19: 12 | BG19: 13 | BH19: 15 | BI19: 16 | BJ19: 17 | BK19: 18 | BZ19: =LOOKUP(CP19,$A$3:$Y$3,$A$4:$AE$4) -> 1 | CA19: =LOOKUP(CQ19,$A$3:$Y$3,$A$4:$AE$4) -> 2 | CB19: =LOOKUP(CR19,$A$3:$Y$3,$A$4:$AE$4) -> 3 | CC19: =LOOKUP(CS19,$A$3:$Y$3,$A$4:$AE$4) -> 4 | CD19: =LOOKUP(CT19,$A$3:$Y$3,$A$4:$AE$4) -> 5 | CE19: =LOOKUP(CU19,$A$3:$Y$3,$A$4:$AE$4) -> 6 | CF19: =LOOKUP(CV19,$A$3:$Y$3,$A$4:$AE$4) -> 7 | CG19: =LOOKUP(CW19,$A$3:$Y$3,$A$4:$AE$4) -> 8 | ... CN19: =LOOKUP(DD19,$A$3:$Y$3,$A$4:$AE$4) -> 21 | CP19: 1 | CQ19: 2 | CR19: 3 | CS19: 4 | CT19: 5 | CU19: 6 | CV19: 7 | CW19: 8 | CX19: 9 | CY19: 11 | CZ19: 13 | DA19: 14 | DB19: 16 | DC19: 17 | DD19: 18
AG20: =LOOKUP(AW20,$AG$1:$BE$1,$AG$2:$BE$2) -> 1 | AH20: =LOOKUP(AX20,$AG$1:$BE$1,$AG$2:$BE$2) -> 2 | AI20: =LOOKUP(AY20,$AG$1:$BE$1,$AG$2:$BE$2) -> 3 | AJ20: =LOOKUP(AZ20,$AG$1:$BE$1,$AG$2:$BE$2) -> 4 | AK20: =LOOKUP(BA20,$AG$1:$BE$1,$AG$2:$BE$2) -> 6 | AL20: =LOOKUP(BB20,$AG$1:$BE$1,$AG$2:$BE$2) -> 8 | AM20: =LOOKUP(BC20,$AG$1:$BE$1,$AG$2:$BE$2) -> 9 | AN20: =LOOKUP(BD20,$AG$1:$BE$1,$AG$2:$BE$2) -> 11 | ... AU20: =LOOKUP(BK20,$AG$1:$BE$1,$AG$2:$BE$2) -> 25 | AW20: 1 | AX20: 2 | AY20: 3 | AZ20: 4 | BA20: 6 | BB20: 8 | BC20: 9 | BD20: 11 | BE20: 12 | BF20: 13 | BG20: 14 | BH20: 15 | BI20: 16 | BJ20: 17 | BK20: 18 | BZ20: =LOOKUP(CP20,$A$3:$Y$3,$A$4:$AE$4) -> 1 | CA20: =LOOKUP(CQ20,$A$3:$Y$3,$A$4:$AE$4) -> 2 | CB20: =LOOKUP(CR20,$A$3:$Y$3,$A$4:$AE$4) -> 3 | CC20: =LOOKUP(CS20,$A$3:$Y$3,$A$4:$AE$4) -> 4 | CD20: =LOOKUP(CT20,$A$3:$Y$3,$A$4:$AE$4) -> 5 | CE20: =LOOKUP(CU20,$A$3:$Y$3,$A$4:$AE$4) -> 6 | CF20: =LOOKUP(CV20,$A$3:$Y$3,$A$4:$AE$4) -> 7 | CG20: =LOOKUP(CW20,$A$3:$Y$3,$A$4:$AE$4) -> 8 | ... CN20: =LOOKUP(DD20,$A$3:$Y$3,$A$4:$AE$4) -> 21 | CP20: 1 | CQ20: 2 | CR20: 3 | CS20: 4 | CT20: 5 | CU20: 6 | CV20: 7 | CW20: 8 | CX20: 9 | CY20: 11 | CZ20: 14 | DA20: 15 | DB20: 16 | DC20: 17 | DD20: 18
A21: =LOOKUP(Q21,$A$3:$Y$3,$A$4:$Y$4) -> 1 | B21: =LOOKUP(R21,$A$3:$Y$3,$A$4:$Y$4) -> 2 | C21: =LOOKUP(S21,$A$3:$Y$3,$A$4:$Y$4) -> 3 | D21: =LOOKUP(T21,$A$3:$Y$3,$A$4:$Y$4) -> 4 | E21: =LOOKUP(U21,$A$3:$Y$3,$A$4:$Y$4) -> 5 | F21: =LOOKUP(V21,$A$3:$Y$3,$A$4:$Y$4) -> 6 | G21: =LOOKUP(W21,$A$3:$Y$3,$A$4:$Y$4) -> 7 | H21: =LOOKUP(X21,$A$3:$Y$3,$A$4:$Y$4) -> 8 | ... O21: =LOOKUP(AE21,$A$3:$Y$3,$A$4:$Y$4) -> 21 | Q21: 1 | R21: 2 | S21: 3 | T21: 4 | U21: 5 | V21: 6 | W21: 7 | X21: 8 | Y21: 9 | Z21: 11 | AA21: 13 | AB21: 15 | AC21: 16 | AD21: 17 | AE21: 18 | BZ21: =LOOKUP(CP21,$A$3:$Y$3,$A$4:$AE$4) -> 1 | CA21: =LOOKUP(CQ21,$A$3:$Y$3,$A$4:$AE$4) -> 2 | CB21: =LOOKUP(CR21,$A$3:$Y$3,$A$4:$AE$4) -> 3 | CC21: =LOOKUP(CS21,$A$3:$Y$3,$A$4:$AE$4) -> 4 | CD21: =LOOKUP(CT21,$A$3:$Y$3,$A$4:$AE$4) -> 5 | CE21: =LOOKUP(CU21,$A$3:$Y$3,$A$4:$AE$4) -> 6 | CF21: =LOOKUP(CV21,$A$3:$Y$3,$A$4:$AE$4) -> 7 | CG21: =LOOKUP(CW21,$A$3:$Y$3,$A$4:$AE$4) -> 8 | ... CN21: =LOOKUP(DD21,$A$3:$Y$3,$A$4:$AE$4) -> 21 | CP21: 1 | CQ21: 2 | CR21: 3 | CS21: 4 | CT21: 5 | CU21: 6 | CV21: 7 | CW21: 8 | CX21: 9 | CY21: 12 | CZ21: 13 | DA21: 14 | DB21: 16 | DC21: 17 | DD21: 18
A22: =LOOKUP(Q22,$A$3:$Y$3,$A$4:$Y$4) -> 1 | B22: =LOOKUP(R22,$A$3:$Y$3,$A$4:$Y$4) -> 2 | C22: =LOOKUP(S22,$A$3:$Y$3,$A$4:$Y$4) -> 3 | D22: =LOOKUP(T22,$A$3:$Y$3,$A$4:$Y$4) -> 4 | E22: =LOOKUP(U22,$A$3:$Y$3,$A$4:$Y$4) -> 5 | F22: =LOOKUP(V22,$A$3:$Y$3,$A$4:$Y$4) -> 6 | G22: =LOOKUP(W22,$A$3:$Y$3,$A$4:$Y$4) -> 7 | H22: =LOOKUP(X22,$A$3:$Y$3,$A$4:$Y$4) -> 8 | ... O22: =LOOKUP(AE22,$A$3:$Y$3,$A$4:$Y$4) -> 22 | Q22: 1 | R22: 2 | S22: 3 | T22: 4 | U22: 5 | V22: 6 | W22: 7 | X22: 8 | Y22: 9 | Z22: 11 | AA22: 12 | AB22: 13 | AC22: 14 | AD22: 15 | AE22: 17 | BZ22: =LOOKUP(CP22,$A$3:$Y$3,$A$4:$AE$4) -> 1 | CA22: =LOOKUP(CQ22,$A$3:$Y$3,$A$4:$AE$4) -> 2 | CB22: =LOOKUP(CR22,$A$3:$Y$3,$A$4:$AE$4) -> 3 | CC22: =LOOKUP(CS22,$A$3:$Y$3,$A$4:$AE$4) -> 4 | CD22: =LOOKUP(CT22,$A$3:$Y$3,$A$4:$AE$4) -> 5 | CE22: =LOOKUP(CU22,$A$3:$Y$3,$A$4:$AE$4) -> 6 | CF22: =LOOKUP(CV22,$A$3:$Y$3,$A$4:$AE$4) -> 7 | CG22: =LOOKUP(CW22,$A$3:$Y$3,$A$4:$AE$4) -> 8 | ... CN22: =LOOKUP(DD22,$A$3:$Y$3,$A$4:$AE$4) -> 22 | CP22: 1 | CQ22: 2 | CR22: 3 | CS22: 4 | CT22: 5 | CU22: 6 | CV22: 7 | CW22: 8 | CX22: 10 | CY22: 11 | CZ22: 12 | DA22: 13 | DB22: 14 | DC22: 15 | DD22: 17
A23: =LOOKUP(Q23,$A$3:$Y$3,$A$4:$Y$4) -> 1 | B23: =LOOKUP(R23,$A$3:$Y$3,$A$4:$Y$4) -> 2 | C23: =LOOKUP(S23,$A$3:$Y$3,$A$4:$Y$4) -> 3 | D23: =LOOKUP(T23,$A$3:$Y$3,$A$4:$Y$4) -> 4 | E23: =LOOKUP(U23,$A$3:$Y$3,$A$4:$Y$4) -> 5 | F23: =LOOKUP(V23,$A$3:$Y$3,$A$4:$Y$4) -> 7 | G23: =LOOKUP(W23,$A$3:$Y$3,$A$4:$Y$4) -> 8 | H23: =LOOKUP(X23,$A$3:$Y$3,$A$4:$Y$4) -> 9 | ... O23: =LOOKUP(AE23,$A$3:$Y$3,$A$4:$Y$4) -> 21 | Q23: 1 | R23: 2 | S23: 3 | T23: 4 | U23: 5 | V23: 7 | W23: 8 | X23: 9 | Y23: 10 | Z23: 12 | AA23: 14 | AB23: 15 | AC23: 16 | AD23: 17 | AE23: 18 | BZ23: =LOOKUP(CP23,$A$3:$Y$3,$A$4:$AE$4) -> 1 | CA23: =LOOKUP(CQ23,$A$3:$Y$3,$A$4:$AE$4) -> 2 | CB23: =LOOKUP(CR23,$A$3:$Y$3,$A$4:$AE$4) -> 3 | CC23: =LOOKUP(CS23,$A$3:$Y$3,$A$4:$AE$4) -> 4 | CD23: =LOOKUP(CT23,$A$3:$Y$3,$A$4:$AE$4) -> 5 | CE23: =LOOKUP(CU23,$A$3:$Y$3,$A$4:$AE$4) -> 6 | CF23: =LOOKUP(CV23,$A$3:$Y$3,$A$4:$AE$4) -> 7 | CG23: =LOOKUP(CW23,$A$3:$Y$3,$A$4:$AE$4) -> 8 | ... CN23: =LOOKUP(DD23,$A$3:$Y$3,$A$4:$AE$4) -> 21 | CP23: 1 | CQ23: 2 | CR23: 3 | CS23: 4 | CT23: 5 | CU23: 6 | CV23: 7 | CW23: 8 | CX23: 10 | CY23: 11 | CZ23: 12 | DA23: 13 | DB23: 14 | DC23: 15 | DD23: 18
A24: =LOOKUP(Q24,$A$3:$Y$3,$A$4:$Y$4) -> 1 | B24: =LOOKUP(R24,$A$3:$Y$3,$A$4:$Y$4) -> 2 | C24: =LOOKUP(S24,$A$3:$Y$3,$A$4:$Y$4) -> 3 | D24: =LOOKUP(T24,$A$3:$Y$3,$A$4:$Y$4) -> 4 | E24: =LOOKUP(U24,$A$3:$Y$3,$A$4:$Y$4) -> 6 | F24: =LOOKUP(V24,$A$3:$Y$3,$A$4:$Y$4) -> 7 | G24: =LOOKUP(W24,$A$3:$Y$3,$A$4:$Y$4) -> 8 | H24: =LOOKUP(X24,$A$3:$Y$3,$A$4:$Y$4) -> 9 | ... O24: =LOOKUP(AE24,$A$3:$Y$3,$A$4:$Y$4) -> 22 | Q24: 1 | R24: 2 | S24: 3 | T24: 4 | U24: 6 | V24: 7 | W24: 8 | X24: 9 | Y24: 10 | Z24: 11 | AA24: 12 | AB24: 13 | AC24: 14 | AD24: 16 | AE24: 17 | BZ24: =LOOKUP(CP24,$A$3:$Y$3,$A$4:$AE$4) -> 1 | CA24: =LOOKUP(CQ24,$A$3:$Y$3,$A$4:$AE$4) -> 2 | CB24: =LOOKUP(CR24,$A$3:$Y$3,$A$4:$AE$4) -> 3 | CC24: =LOOKUP(CS24,$A$3:$Y$3,$A$4:$AE$4) -> 4 | CD24: =LOOKUP(CT24,$A$3:$Y$3,$A$4:$AE$4) -> 5 | CE24: =LOOKUP(CU24,$A$3:$Y$3,$A$4:$AE$4) -> 6 | CF24: =LOOKUP(CV24,$A$3:$Y$3,$A$4:$AE$4) -> 7 | CG24: =LOOKUP(CW24,$A$3:$Y$3,$A$4:$AE$4) -> 8 | ... CN24: =LOOKUP(DD24,$A$3:$Y$3,$A$4:$AE$4) -> 22 | CP24: 1 | CQ24: 2 | CR24: 3 | CS24: 4 | CT24: 5 | CU24: 6 | CV24: 7 | CW24: 8 | CX24: 10 | CY24: 11 | CZ24: 12 | DA24: 13 | DB24: 14 | DC24: 16 | DD24: 17
A25: =LOOKUP(Q25,$A$3:$Y$3,$A$4:$Y$4) -> 1 | B25: =LOOKUP(R25,$A$3:$Y$3,$A$4:$Y$4) -> 2 | C25: =LOOKUP(S25,$A$3:$Y$3,$A$4:$Y$4) -> 3 | D25: =LOOKUP(T25,$A$3:$Y$3,$A$4:$Y$4) -> 4 | E25: =LOOKUP(U25,$A$3:$Y$3,$A$4:$Y$4) -> 5 | F25: =LOOKUP(V25,$A$3:$Y$3,$A$4:$Y$4) -> 6 | G25: =LOOKUP(W25,$A$3:$Y$3,$A$4:$Y$4) -> 7 | H25: =LOOKUP(X25,$A$3:$Y$3,$A$4:$Y$4) -> 8 | ... O25: =LOOKUP(AE25,$A$3:$Y$3,$A$4:$Y$4) -> 21 | Q25: 1 | R25: 2 | S25: 3 | T25: 4 | U25: 5 | V25: 6 | W25: 7 | X25: 8 | Y25: 9 | Z25: 10 | AA25: 11 | AB25: 12 | AC25: 13 | AD25: 17 | AE25: 18 | AG25: =Início!B26 -> 1 | AH25: =Início!C26 -> 2 | AI25: =Início!D26 -> 3 | AJ25: =Início!E26 -> 4 | BZ25: =LOOKUP(CP25,$A$3:$Y$3,$A$4:$AE$4) -> 1 | CA25: =LOOKUP(CQ25,$A$3:$Y$3,$A$4:$AE$4) -> 2 | CB25: =LOOKUP(CR25,$A$3:$Y$3,$A$4:$AE$4) -> 3 | CC25: =LOOKUP(CS25,$A$3:$Y$3,$A$4:$AE$4) -> 4 | CD25: =LOOKUP(CT25,$A$3:$Y$3,$A$4:$AE$4) -> 5 | CE25: =LOOKUP(CU25,$A$3:$Y$3,$A$4:$AE$4) -> 6 | CF25: =LOOKUP(CV25,$A$3:$Y$3,$A$4:$AE$4) -> 7 | CG25: =LOOKUP(CW25,$A$3:$Y$3,$A$4:$AE$4) -> 8 | ... CN25: =LOOKUP(DD25,$A$3:$Y$3,$A$4:$AE$4) -> 21 | CP25: 1 | CQ25: 2 | CR25: 3 | CS25: 4 | CT25: 5 | CU25: 6 | CV25: 7 | CW25: 8 | CX25: 10 | CY25: 11 | CZ25: 12 | DA25: 13 | DB25: 14 | DC25: 16 | DD25: 18
A26: =LOOKUP(Q26,$A$3:$Y$3,$A$4:$Y$4) -> 1 | B26: =LOOKUP(R26,$A$3:$Y$3,$A$4:$Y$4) -> 3 | C26: =LOOKUP(S26,$A$3:$Y$3,$A$4:$Y$4) -> 4 | D26: =LOOKUP(T26,$A$3:$Y$3,$A$4:$Y$4) -> 5 | E26: =LOOKUP(U26,$A$3:$Y$3,$A$4:$Y$4) -> 6 | F26: =LOOKUP(V26,$A$3:$Y$3,$A$4:$Y$4) -> 7 | G26: =LOOKUP(W26,$A$3:$Y$3,$A$4:$Y$4) -> 10 | H26: =LOOKUP(X26,$A$3:$Y$3,$A$4:$Y$4) -> 11 | ... O26: =LOOKUP(AE26,$A$3:$Y$3,$A$4:$Y$4) -> 21 | Q26: 1 | R26: 3 | S26: 4 | T26: 5 | U26: 6 | V26: 7 | W26: 10 | X26: 11 | Y26: 12 | Z26: 13 | AA26: 14 | AB26: 15 | AC26: 16 | AD26: 17 | AE26: 18 | AG26: =Início!B28 -> 17 | AH26: =Início!C28 -> 18 | AI26: =Início!D28 -> 19 | AJ26: =Início!E28 -> 20 | AK26: =Início!F28 -> 21 | AL26: =Início!G28 -> 22 | AM26: =Início!H28 -> 23 | BZ26: =LOOKUP(CP26,$A$3:$Y$3,$A$4:$AE$4) -> 1 | CA26: =LOOKUP(CQ26,$A$3:$Y$3,$A$4:$AE$4) -> 2 | CB26: =LOOKUP(CR26,$A$3:$Y$3,$A$4:$AE$4) -> 3 | CC26: =LOOKUP(CS26,$A$3:$Y$3,$A$4:$AE$4) -> 4 | CD26: =LOOKUP(CT26,$A$3:$Y$3,$A$4:$AE$4) -> 5 | CE26: =LOOKUP(CU26,$A$3:$Y$3,$A$4:$AE$4) -> 6 | CF26: =LOOKUP(CV26,$A$3:$Y$3,$A$4:$AE$4) -> 7 | CG26: =LOOKUP(CW26,$A$3:$Y$3,$A$4:$AE$4) -> 8 | ... CN26: =LOOKUP(DD26,$A$3:$Y$3,$A$4:$AE$4) -> 21 | CP26: 1 | CQ26: 2 | CR26: 3 | CS26: 4 | CT26: 5 | CU26: 6 | CV26: 7 | CW26: 8 | CX26: 10 | CY26: 11 | CZ26: 14 | DA26: 15 | DB26: 16 | DC26: 17 | DD26: 18
A27: =LOOKUP(Q27,$A$3:$Y$3,$A$4:$Y$4) -> 1 | B27: =LOOKUP(R27,$A$3:$Y$3,$A$4:$Y$4) -> 2 | C27: =LOOKUP(S27,$A$3:$Y$3,$A$4:$Y$4) -> 5 | D27: =LOOKUP(T27,$A$3:$Y$3,$A$4:$Y$4) -> 6 | E27: =LOOKUP(U27,$A$3:$Y$3,$A$4:$Y$4) -> 8 | F27: =LOOKUP(V27,$A$3:$Y$3,$A$4:$Y$4) -> 9 | G27: =LOOKUP(W27,$A$3:$Y$3,$A$4:$Y$4) -> 10 | H27: =LOOKUP(X27,$A$3:$Y$3,$A$4:$Y$4) -> 11 | ... O27: =LOOKUP(AE27,$A$3:$Y$3,$A$4:$Y$4) -> 21 | Q27: 1 | R27: 2 | S27: 5 | T27: 6 | U27: 8 | V27: 9 | W27: 10 | X27: 11 | Y27: 12 | Z27: 13 | AA27: 14 | AB27: 15 | AC27: 16 | AD27: 17 | AE27: 18 | BZ27: =LOOKUP(CP27,$A$3:$Y$3,$A$4:$AE$4) -> 1 | CA27: =LOOKUP(CQ27,$A$3:$Y$3,$A$4:$AE$4) -> 2 | CB27: =LOOKUP(CR27,$A$3:$Y$3,$A$4:$AE$4) -> 3 | CC27: =LOOKUP(CS27,$A$3:$Y$3,$A$4:$AE$4) -> 4 | CD27: =LOOKUP(CT27,$A$3:$Y$3,$A$4:$AE$4) -> 5 | CE27: =LOOKUP(CU27,$A$3:$Y$3,$A$4:$AE$4) -> 6 | CF27: =LOOKUP(CV27,$A$3:$Y$3,$A$4:$AE$4) -> 7 | CG27: =LOOKUP(CW27,$A$3:$Y$3,$A$4:$AE$4) -> 8 | ... CN27: =LOOKUP(DD27,$A$3:$Y$3,$A$4:$AE$4) -> 21 | CP27: 1 | CQ27: 2 | CR27: 3 | CS27: 4 | CT27: 5 | CU27: 6 | CV27: 7 | CW27: 8 | CX27: 10 | CY27: 12 | CZ27: 13 | DA27: 14 | DB27: 15 | DC27: 17 | DD27: 18
A28: =LOOKUP(Q28,$A$3:$Y$3,$A$4:$Y$4) -> 1 | B28: =LOOKUP(R28,$A$3:$Y$3,$A$4:$Y$4) -> 2 | C28: =LOOKUP(S28,$A$3:$Y$3,$A$4:$Y$4) -> 3 | D28: =LOOKUP(T28,$A$3:$Y$3,$A$4:$Y$4) -> 4 | E28: =LOOKUP(U28,$A$3:$Y$3,$A$4:$Y$4) -> 5 | F28: =LOOKUP(V28,$A$3:$Y$3,$A$4:$Y$4) -> 6 | G28: =LOOKUP(W28,$A$3:$Y$3,$A$4:$Y$4) -> 7 | H28: =LOOKUP(X28,$A$3:$Y$3,$A$4:$Y$4) -> 8 | ... O28: =LOOKUP(AE28,$A$3:$Y$3,$A$4:$Y$4) -> 21 | Q28: 1 | R28: 2 | S28: 3 | T28: 4 | U28: 5 | V28: 6 | W28: 7 | X28: 8 | Y28: 9 | Z28: 11 | AA28: 12 | AB28: 13 | AC28: 14 | AD28: 16 | AE28: 18 | AG28: =SMALL($AG7:$AU7,AG$1) -> 1 | AH28: =SMALL($AG7:$AU7,AH$1) -> 2 | AI28: =SMALL($AG7:$AU7,AI$1) -> 3 | AJ28: =SMALL($AG7:$AU7,AJ$1) -> 4 | AK28: =SMALL($AG7:$AU7,AK$1) -> 5 | AL28: =SMALL($AG7:$AU7,AL$1) -> 6 | AM28: =SMALL($AG7:$AU7,AM$1) -> 7 | AN28: =SMALL($AG7:$AU7,AN$1) -> 8 | ... AU28: =SMALL($AG7:$AU7,AU$1) -> 24 | AW28: 1 | AY28: 1 | AZ28: 2 | BA28: 3 | BB28: 4 | BC28: 5 | BD28: 6 | BE28: 7 | BF28: 8 | BG28: 9 | BH28: 10 | BI28: 11 | BJ28: 12 | BK28: 13 | BL28: 14 | BM28: 15 | BN28: 16 | BO28: 17 | BP28: 18 | BQ28: 19 | BR28: 20 | BS28: 21 | BT28: 22 | BU28: 23 | BV28: 24 | BW28: 25 | BZ28: =LOOKUP(CP28,$A$3:$Y$3,$A$4:$AE$4) -> 1 | CA28: =LOOKUP(CQ28,$A$3:$Y$3,$A$4:$AE$4) -> 2 | CB28: =LOOKUP(CR28,$A$3:$Y$3,$A$4:$AE$4) -> 3 | CC28: =LOOKUP(CS28,$A$3:$Y$3,$A$4:$AE$4) -> 4 | CD28: =LOOKUP(CT28,$A$3:$Y$3,$A$4:$AE$4) -> 5 | CE28: =LOOKUP(CU28,$A$3:$Y$3,$A$4:$AE$4) -> 6 | CF28: =LOOKUP(CV28,$A$3:$Y$3,$A$4:$AE$4) -> 7 | CG28: =LOOKUP(CW28,$A$3:$Y$3,$A$4:$AE$4) -> 8 | ... CN28: =LOOKUP(DD28,$A$3:$Y$3,$A$4:$AE$4) -> 21 | CP28: 1 | CQ28: 2 | CR28: 3 | CS28: 4 | CT28: 5 | CU28: 6 | CV28: 7 | CW28: 8 | CX28: 10 | CY28: 12 | CZ28: 13 | DA28: 14 | DB28: 16 | DC28: 17 | DD28: 18
A29: =LOOKUP(Q29,$A$3:$Y$3,$A$4:$Y$4) -> 1 | B29: =LOOKUP(R29,$A$3:$Y$3,$A$4:$Y$4) -> 2 | C29: =LOOKUP(S29,$A$3:$Y$3,$A$4:$Y$4) -> 3 | D29: =LOOKUP(T29,$A$3:$Y$3,$A$4:$Y$4) -> 4 | E29: =LOOKUP(U29,$A$3:$Y$3,$A$4:$Y$4) -> 5 | F29: =LOOKUP(V29,$A$3:$Y$3,$A$4:$Y$4) -> 6 | G29: =LOOKUP(W29,$A$3:$Y$3,$A$4:$Y$4) -> 7 | H29: =LOOKUP(X29,$A$3:$Y$3,$A$4:$Y$4) -> 8 | ... O29: =LOOKUP(AE29,$A$3:$Y$3,$A$4:$Y$4) -> 16 | Q29: 1 | R29: 2 | S29: 3 | T29: 4 | U29: 5 | V29: 6 | W29: 7 | X29: 8 | Y29: 9 | Z29: 10 | AA29: 11 | AB29: 13 | AC29: 14 | AD29: 15 | AE29: 16 | AG29: =SMALL($AG8:$AU8,AG$1) -> 1 | AH29: =SMALL($AG8:$AU8,AH$1) -> 2 | AI29: =SMALL($AG8:$AU8,AI$1) -> 3 | AJ29: =SMALL($AG8:$AU8,AJ$1) -> 4 | AK29: =SMALL($AG8:$AU8,AK$1) -> 5 | AL29: =SMALL($AG8:$AU8,AL$1) -> 6 | AM29: =SMALL($AG8:$AU8,AM$1) -> 7 | AN29: =SMALL($AG8:$AU8,AN$1) -> 8 | ... AU29: =SMALL($AG8:$AU8,AU$1) -> 25 | AW29: 2 | AY29: =AG25 -> 1 | AZ29: =AH25 -> 2 | BA29: =AI25 -> 3 | BB29: =AJ25 -> 4 | BZ29: =LOOKUP(CP29,$A$3:$Y$3,$A$4:$AE$4) -> 1 | CA29: =LOOKUP(CQ29,$A$3:$Y$3,$A$4:$AE$4) -> 2 | CB29: =LOOKUP(CR29,$A$3:$Y$3,$A$4:$AE$4) -> 3 | CC29: =LOOKUP(CS29,$A$3:$Y$3,$A$4:$AE$4) -> 4 | CD29: =LOOKUP(CT29,$A$3:$Y$3,$A$4:$AE$4) -> 5 | CE29: =LOOKUP(CU29,$A$3:$Y$3,$A$4:$AE$4) -> 6 | CF29: =LOOKUP(CV29,$A$3:$Y$3,$A$4:$AE$4) -> 7 | CG29: =LOOKUP(CW29,$A$3:$Y$3,$A$4:$AE$4) -> 8 | ... CN29: =LOOKUP(DD29,$A$3:$Y$3,$A$4:$AE$4) -> 22 | CP29: 1 | CQ29: 2 | CR29: 3 | CS29: 4 | CT29: 5 | CU29: 6 | CV29: 7 | CW29: 8 | CX29: 11 | CY29: 12 | CZ29: 13 | DA29: 14 | DB29: 15 | DC29: 16 | DD29: 17
A30: =LOOKUP(Q30,$A$3:$Y$3,$A$4:$Y$4) -> 1 | B30: =LOOKUP(R30,$A$3:$Y$3,$A$4:$Y$4) -> 2 | C30: =LOOKUP(S30,$A$3:$Y$3,$A$4:$Y$4) -> 3 | D30: =LOOKUP(T30,$A$3:$Y$3,$A$4:$Y$4) -> 5 | E30: =LOOKUP(U30,$A$3:$Y$3,$A$4:$Y$4) -> 6 | F30: =LOOKUP(V30,$A$3:$Y$3,$A$4:$Y$4) -> 7 | G30: =LOOKUP(W30,$A$3:$Y$3,$A$4:$Y$4) -> 8 | H30: =LOOKUP(X30,$A$3:$Y$3,$A$4:$Y$4) -> 10 | ... O30: =LOOKUP(AE30,$A$3:$Y$3,$A$4:$Y$4) -> 21 | Q30: 1 | R30: 2 | S30: 3 | T30: 5 | U30: 6 | V30: 7 | W30: 8 | X30: 10 | Y30: 12 | Z30: 13 | AA30: 14 | AB30: 15 | AC30: 16 | AD30: 17 | AE30: 18 | AG30: =SMALL($AG9:$AU9,AG$1) -> 1 | AH30: =SMALL($AG9:$AU9,AH$1) -> 2 | AI30: =SMALL($AG9:$AU9,AI$1) -> 3 | AJ30: =SMALL($AG9:$AU9,AJ$1) -> 4 | AK30: =SMALL($AG9:$AU9,AK$1) -> 5 | AL30: =SMALL($AG9:$AU9,AL$1) -> 6 | AM30: =SMALL($AG9:$AU9,AM$1) -> 7 | AN30: =SMALL($AG9:$AU9,AN$1) -> 8 | ... AU30: =SMALL($AG9:$AU9,AU$1) -> 25 | AW30: 3 | AY30: =AG2 -> 1 | AZ30: =AH2 -> 2 | BA30: =AI2 -> 3 | BB30: =AJ2 -> 4 | BC30: =AK2 -> 5 | BD30: =AL2 -> 6 | BE30: =AM2 -> 7 | BF30: =AN2 -> 8 | ... BH30: =AP2 -> 10 | BZ30: =LOOKUP(CP30,$A$3:$Y$3,$A$4:$AE$4) -> 1 | CA30: =LOOKUP(CQ30,$A$3:$Y$3,$A$4:$AE$4) -> 2 | CB30: =LOOKUP(CR30,$A$3:$Y$3,$A$4:$AE$4) -> 3 | CC30: =LOOKUP(CS30,$A$3:$Y$3,$A$4:$AE$4) -> 4 | CD30: =LOOKUP(CT30,$A$3:$Y$3,$A$4:$AE$4) -> 5 | CE30: =LOOKUP(CU30,$A$3:$Y$3,$A$4:$AE$4) -> 6 | CF30: =LOOKUP(CV30,$A$3:$Y$3,$A$4:$AE$4) -> 7 | CG30: =LOOKUP(CW30,$A$3:$Y$3,$A$4:$AE$4) -> 8 | ... CN30: =LOOKUP(DD30,$A$3:$Y$3,$A$4:$AE$4) -> 21 | CP30: 1 | CQ30: 2 | CR30: 3 | CS30: 4 | CT30: 5 | CU30: 6 | CV30: 7 | CW30: 8 | CX30: 11 | CY30: 12 | CZ30: 13 | DA30: 14 | DB30: 15 | DC30: 16 | DD30: 18
A31: =LOOKUP(Q31,$A$3:$Y$3,$A$4:$Y$4) -> 1 | B31: =LOOKUP(R31,$A$3:$Y$3,$A$4:$Y$4) -> 4 | C31: =LOOKUP(S31,$A$3:$Y$3,$A$4:$Y$4) -> 5 | D31: =LOOKUP(T31,$A$3:$Y$3,$A$4:$Y$4) -> 6 | E31: =LOOKUP(U31,$A$3:$Y$3,$A$4:$Y$4) -> 7 | F31: =LOOKUP(V31,$A$3:$Y$3,$A$4:$Y$4) -> 8 | G31: =LOOKUP(W31,$A$3:$Y$3,$A$4:$Y$4) -> 9 | H31: =LOOKUP(X31,$A$3:$Y$3,$A$4:$Y$4) -> 10 | ... O31: =LOOKUP(AE31,$A$3:$Y$3,$A$4:$Y$4) -> 21 | Q31: 1 | R31: 4 | S31: 5 | T31: 6 | U31: 7 | V31: 8 | W31: 9 | X31: 10 | Y31: 12 | Z31: 13 | AA31: 14 | AB31: 15 | AC31: 16 | AD31: 17 | AE31: 18 | AG31: =SMALL($AG10:$AU10,AG$1) -> 1 | AH31: =SMALL($AG10:$AU10,AH$1) -> 2 | AI31: =SMALL($AG10:$AU10,AI$1) -> 3 | AJ31: =SMALL($AG10:$AU10,AJ$1) -> 4 | AK31: =SMALL($AG10:$AU10,AK$1) -> 5 | AL31: =SMALL($AG10:$AU10,AL$1) -> 6 | AM31: =SMALL($AG10:$AU10,AM$1) -> 7 | AN31: =SMALL($AG10:$AU10,AN$1) -> 8 | ... AU31: =SMALL($AG10:$AU10,AU$1) -> 25 | AW31: 4 | AY31: =COUNTIF($AY$28:$BW$29,AY28) -> 2 | AZ31: =COUNTIF($AY$28:$BW$29,AZ28) -> 2 | BA31: =COUNTIF($AY$28:$BW$29,BA28) -> 2 | BB31: =COUNTIF($AY$28:$BW$29,BB28) -> 2 | BC31: =COUNTIF($AY$28:$BW$29,BC28) -> 1 | BD31: =COUNTIF($AY$28:$BW$29,BD28) -> 1 | BE31: =COUNTIF($AY$28:$BW$29,BE28) -> 1 | BF31: =COUNTIF($AY$28:$BW$29,BF28) -> 1 | ... BW31: =COUNTIF($AY$28:$BW$29,BW28) -> 1 | BZ31: =LOOKUP(CP31,$A$3:$Y$3,$A$4:$AE$4) -> 1 | CA31: =LOOKUP(CQ31,$A$3:$Y$3,$A$4:$AE$4) -> 2 | CB31: =LOOKUP(CR31,$A$3:$Y$3,$A$4:$AE$4) -> 3 | CC31: =LOOKUP(CS31,$A$3:$Y$3,$A$4:$AE$4) -> 4 | CD31: =LOOKUP(CT31,$A$3:$Y$3,$A$4:$AE$4) -> 5 | CE31: =LOOKUP(CU31,$A$3:$Y$3,$A$4:$AE$4) -> 6 | CF31: =LOOKUP(CV31,$A$3:$Y$3,$A$4:$AE$4) -> 7 | CG31: =LOOKUP(CW31,$A$3:$Y$3,$A$4:$AE$4) -> 8 | ... CN31: =LOOKUP(DD31,$A$3:$Y$3,$A$4:$AE$4) -> 21 | CP31: 1 | CQ31: 2 | CR31: 3 | CS31: 4 | CT31: 5 | CU31: 6 | CV31: 7 | CW31: 8 | CX31: 12 | CY31: 13 | CZ31: 14 | DA31: 15 | DB31: 16 | DC31: 17 | DD31: 18
A32: =LOOKUP(Q32,$A$3:$Y$3,$A$4:$Y$4) -> 1 | B32: =LOOKUP(R32,$A$3:$Y$3,$A$4:$Y$4) -> 3 | C32: =LOOKUP(S32,$A$3:$Y$3,$A$4:$Y$4) -> 5 | D32: =LOOKUP(T32,$A$3:$Y$3,$A$4:$Y$4) -> 6 | E32: =LOOKUP(U32,$A$3:$Y$3,$A$4:$Y$4) -> 7 | F32: =LOOKUP(V32,$A$3:$Y$3,$A$4:$Y$4) -> 8 | G32: =LOOKUP(W32,$A$3:$Y$3,$A$4:$Y$4) -> 9 | H32: =LOOKUP(X32,$A$3:$Y$3,$A$4:$Y$4) -> 10 | ... O32: =LOOKUP(AE32,$A$3:$Y$3,$A$4:$Y$4) -> 21 | Q32: 1 | R32: 3 | S32: 5 | T32: 6 | U32: 7 | V32: 8 | W32: 9 | X32: 10 | Y32: 11 | Z32: 12 | AA32: 14 | AB32: 15 | AC32: 16 | AD32: 17 | AE32: 18 | AG32: =SMALL($AG11:$AU11,AG$1) -> 1 | AH32: =SMALL($AG11:$AU11,AH$1) -> 2 | AI32: =SMALL($AG11:$AU11,AI$1) -> 3 | AJ32: =SMALL($AG11:$AU11,AJ$1) -> 4 | AK32: =SMALL($AG11:$AU11,AK$1) -> 5 | AL32: =SMALL($AG11:$AU11,AL$1) -> 6 | AM32: =SMALL($AG11:$AU11,AM$1) -> 7 | AN32: =SMALL($AG11:$AU11,AN$1) -> 8 | ... AU32: =SMALL($AG11:$AU11,AU$1) -> 24 | AW32: 5 | AY32: =IF(AY31=1,AY28,0) -> 0 | AZ32: =IF(AZ31=1,AZ28,0) -> 0 | BA32: =IF(BA31=1,BA28,0) -> 0 | BB32: =IF(BB31=1,BB28,0) -> 0 | BC32: =IF(BC31=1,BC28,0) -> 5 | BD32: =IF(BD31=1,BD28,0) -> 6 | BE32: =IF(BE31=1,BE28,0) -> 7 | BF32: =IF(BF31=1,BF28,0) -> 8 | ... BW32: =IF(BW31=1,BW28,0) -> 25 | BZ32: =LOOKUP(CP32,$A$3:$Y$3,$A$4:$AE$4) -> 1 | CA32: =LOOKUP(CQ32,$A$3:$Y$3,$A$4:$AE$4) -> 2 | CB32: =LOOKUP(CR32,$A$3:$Y$3,$A$4:$AE$4) -> 3 | CC32: =LOOKUP(CS32,$A$3:$Y$3,$A$4:$AE$4) -> 4 | CD32: =LOOKUP(CT32,$A$3:$Y$3,$A$4:$AE$4) -> 5 | CE32: =LOOKUP(CU32,$A$3:$Y$3,$A$4:$AE$4) -> 6 | CF32: =LOOKUP(CV32,$A$3:$Y$3,$A$4:$AE$4) -> 7 | CG32: =LOOKUP(CW32,$A$3:$Y$3,$A$4:$AE$4) -> 9 | ... CN32: =LOOKUP(DD32,$A$3:$Y$3,$A$4:$AE$4) -> 16 | CP32: 1 | CQ32: 2 | CR32: 3 | CS32: 4 | CT32: 5 | CU32: 6 | CV32: 7 | CW32: 9 | CX32: 10 | CY32: 11 | CZ32: 12 | DA32: 13 | DB32: 14 | DC32: 15 | DD32: 16
A33: =LOOKUP(Q33,$A$3:$Y$3,$A$4:$Y$4) -> 1 | B33: =LOOKUP(R33,$A$3:$Y$3,$A$4:$Y$4) -> 3 | C33: =LOOKUP(S33,$A$3:$Y$3,$A$4:$Y$4) -> 4 | D33: =LOOKUP(T33,$A$3:$Y$3,$A$4:$Y$4) -> 5 | E33: =LOOKUP(U33,$A$3:$Y$3,$A$4:$Y$4) -> 8 | F33: =LOOKUP(V33,$A$3:$Y$3,$A$4:$Y$4) -> 9 | G33: =LOOKUP(W33,$A$3:$Y$3,$A$4:$Y$4) -> 10 | H33: =LOOKUP(X33,$A$3:$Y$3,$A$4:$Y$4) -> 11 | ... O33: =LOOKUP(AE33,$A$3:$Y$3,$A$4:$Y$4) -> 21 | Q33: 1 | R33: 3 | S33: 4 | T33: 5 | U33: 8 | V33: 9 | W33: 10 | X33: 11 | Y33: 12 | Z33: 13 | AA33: 14 | AB33: 15 | AC33: 16 | AD33: 17 | AE33: 18 | AG33: =SMALL($AG12:$AU12,AG$1) -> 1 | AH33: =SMALL($AG12:$AU12,AH$1) -> 2 | AI33: =SMALL($AG12:$AU12,AI$1) -> 3 | AJ33: =SMALL($AG12:$AU12,AJ$1) -> 4 | AK33: =SMALL($AG12:$AU12,AK$1) -> 5 | AL33: =SMALL($AG12:$AU12,AL$1) -> 6 | AM33: =SMALL($AG12:$AU12,AM$1) -> 7 | AN33: =SMALL($AG12:$AU12,AN$1) -> 9 | ... AU33: =SMALL($AG12:$AU12,AU$1) -> 25 | AW33: 6 | AY33: =LARGE($AY$32:$BW$32,AY28) -> 25 | AZ33: =LARGE($AY$32:$BW$32,AZ28) -> 24 | BA33: =LARGE($AY$32:$BW$32,BA28) -> 23 | BB33: =LARGE($AY$32:$BW$32,BB28) -> 22 | BC33: =LARGE($AY$32:$BW$32,BC28) -> 21 | BD33: =LARGE($AY$32:$BW$32,BD28) -> 20 | BE33: =LARGE($AY$32:$BW$32,BE28) -> 19 | BF33: =LARGE($AY$32:$BW$32,BF28) -> 18 | ... BW33: =LARGE($AY$32:$BW$32,BW28) -> 0 | BZ33: =LOOKUP(CP33,$A$3:$Y$3,$A$4:$AE$4) -> 1 | CA33: =LOOKUP(CQ33,$A$3:$Y$3,$A$4:$AE$4) -> 2 | CB33: =LOOKUP(CR33,$A$3:$Y$3,$A$4:$AE$4) -> 3 | CC33: =LOOKUP(CS33,$A$3:$Y$3,$A$4:$AE$4) -> 4 | CD33: =LOOKUP(CT33,$A$3:$Y$3,$A$4:$AE$4) -> 5 | CE33: =LOOKUP(CU33,$A$3:$Y$3,$A$4:$AE$4) -> 6 | CF33: =LOOKUP(CV33,$A$3:$Y$3,$A$4:$AE$4) -> 7 | CG33: =LOOKUP(CW33,$A$3:$Y$3,$A$4:$AE$4) -> 9 | ... CN33: =LOOKUP(DD33,$A$3:$Y$3,$A$4:$AE$4) -> 21 | CP33: 1 | CQ33: 2 | CR33: 3 | CS33: 4 | CT33: 5 | CU33: 6 | CV33: 7 | CW33: 9 | CX33: 11 | CY33: 12 | CZ33: 13 | DA33: 14 | DB33: 15 | DC33: 17 | DD33: 18
A34: =LOOKUP(Q34,$A$3:$Y$3,$A$4:$Y$4) -> 1 | B34: =LOOKUP(R34,$A$3:$Y$3,$A$4:$Y$4) -> 2 | C34: =LOOKUP(S34,$A$3:$Y$3,$A$4:$Y$4) -> 3 | D34: =LOOKUP(T34,$A$3:$Y$3,$A$4:$Y$4) -> 4 | E34: =LOOKUP(U34,$A$3:$Y$3,$A$4:$Y$4) -> 5 | F34: =LOOKUP(V34,$A$3:$Y$3,$A$4:$Y$4) -> 6 | G34: =LOOKUP(W34,$A$3:$Y$3,$A$4:$Y$4) -> 9 | H34: =LOOKUP(X34,$A$3:$Y$3,$A$4:$Y$4) -> 10 | ... O34: =LOOKUP(AE34,$A$3:$Y$3,$A$4:$Y$4) -> 21 | Q34: 1 | R34: 2 | S34: 3 | T34: 4 | U34: 5 | V34: 6 | W34: 9 | X34: 10 | Y34: 12 | Z34: 13 | AA34: 14 | AB34: 15 | AC34: 16 | AD34: 17 | AE34: 18 | AG34: =SMALL($AG13:$AU13,AG$1) -> 1 | AH34: =SMALL($AG13:$AU13,AH$1) -> 2 | AI34: =SMALL($AG13:$AU13,AI$1) -> 3 | AJ34: =SMALL($AG13:$AU13,AJ$1) -> 4 | AK34: =SMALL($AG13:$AU13,AK$1) -> 5 | AL34: =SMALL($AG13:$AU13,AL$1) -> 6 | AM34: =SMALL($AG13:$AU13,AM$1) -> 8 | AN34: =SMALL($AG13:$AU13,AN$1) -> 9 | ... AU34: =SMALL($AG13:$AU13,AU$1) -> 25 | AW34: 7 | AY34: =SMALL($AY$33:$BT$33,AY28) -> 0 | AZ34: =SMALL($AY$33:$BT$33,AZ28) -> 5 | BA34: =SMALL($AY$33:$BT$33,BA28) -> 6 | BB34: =SMALL($AY$33:$BT$33,BB28) -> 7 | BC34: =SMALL($AY$33:$BT$33,BC28) -> 8 | BD34: =SMALL($AY$33:$BT$33,BD28) -> 9 | BE34: =SMALL($AY$33:$BT$33,BE28) -> 10 | BF34: =SMALL($AY$33:$BT$33,BF28) -> 11 | ... BT34: =SMALL($AY$33:$BT$33,BT28) -> 25 | BZ34: =LOOKUP(CP34,$A$3:$Y$3,$A$4:$AE$4) -> 1 | CA34: =LOOKUP(CQ34,$A$3:$Y$3,$A$4:$AE$4) -> 2 | CB34: =LOOKUP(CR34,$A$3:$Y$3,$A$4:$AE$4) -> 3 | CC34: =LOOKUP(CS34,$A$3:$Y$3,$A$4:$AE$4) -> 4 | CD34: =LOOKUP(CT34,$A$3:$Y$3,$A$4:$AE$4) -> 5 | CE34: =LOOKUP(CU34,$A$3:$Y$3,$A$4:$AE$4) -> 6 | CF34: =LOOKUP(CV34,$A$3:$Y$3,$A$4:$AE$4) -> 8 | CG34: =LOOKUP(CW34,$A$3:$Y$3,$A$4:$AE$4) -> 9 | ... CN34: =LOOKUP(DD34,$A$3:$Y$3,$A$4:$AE$4) -> 16 | CP34: 1 | CQ34: 2 | CR34: 3 | CS34: 4 | CT34: 5 | CU34: 6 | CV34: 8 | CW34: 9 | CX34: 10 | CY34: 11 | CZ34: 12 | DA34: 13 | DB34: 14 | DC34: 15 | DD34: 16
A35: =LOOKUP(Q35,$A$3:$Y$3,$A$4:$Y$4) -> 1 | B35: =LOOKUP(R35,$A$3:$Y$3,$A$4:$Y$4) -> 2 | C35: =LOOKUP(S35,$A$3:$Y$3,$A$4:$Y$4) -> 3 | D35: =LOOKUP(T35,$A$3:$Y$3,$A$4:$Y$4) -> 4 | E35: =LOOKUP(U35,$A$3:$Y$3,$A$4:$Y$4) -> 5 | F35: =LOOKUP(V35,$A$3:$Y$3,$A$4:$Y$4) -> 6 | G35: =LOOKUP(W35,$A$3:$Y$3,$A$4:$Y$4) -> 8 | H35: =LOOKUP(X35,$A$3:$Y$3,$A$4:$Y$4) -> 10 | ... O35: =LOOKUP(AE35,$A$3:$Y$3,$A$4:$Y$4) -> 21 | Q35: 1 | R35: 2 | S35: 3 | T35: 4 | U35: 5 | V35: 6 | W35: 8 | X35: 10 | Y35: 11 | Z35: 12 | AA35: 14 | AB35: 15 | AC35: 16 | AD35: 17 | AE35: 18 | AG35: =SMALL($AG14:$AU14,AG$1) -> 1 | AH35: =SMALL($AG14:$AU14,AH$1) -> 2 | AI35: =SMALL($AG14:$AU14,AI$1) -> 3 | AJ35: =SMALL($AG14:$AU14,AJ$1) -> 4 | AK35: =SMALL($AG14:$AU14,AK$1) -> 5 | AL35: =SMALL($AG14:$AU14,AL$1) -> 6 | AM35: =SMALL($AG14:$AU14,AM$1) -> 9 | AN35: =SMALL($AG14:$AU14,AN$1) -> 10 | ... AU35: =SMALL($AG14:$AU14,AU$1) -> 25 | AW35: 8 | AY35: =AY2 -> 17 | AZ35: =AZ2 -> 18 | BA35: =BA2 -> 19 | BB35: =BB2 -> 20 | BC35: =BC2 -> 21 | BD35: =BD2 -> 22 | BE35: =BE2 -> 23 | BF35: =BF2 -> 0 | BZ35: =LOOKUP(CP35,$A$3:$Y$3,$A$4:$AE$4) -> 1 | CA35: =LOOKUP(CQ35,$A$3:$Y$3,$A$4:$AE$4) -> 2 | CB35: =LOOKUP(CR35,$A$3:$Y$3,$A$4:$AE$4) -> 3 | CC35: =LOOKUP(CS35,$A$3:$Y$3,$A$4:$AE$4) -> 4 | CD35: =LOOKUP(CT35,$A$3:$Y$3,$A$4:$AE$4) -> 5 | CE35: =LOOKUP(CU35,$A$3:$Y$3,$A$4:$AE$4) -> 6 | CF35: =LOOKUP(CV35,$A$3:$Y$3,$A$4:$AE$4) -> 8 | CG35: =LOOKUP(CW35,$A$3:$Y$3,$A$4:$AE$4) -> 9 | ... CN35: =LOOKUP(DD35,$A$3:$Y$3,$A$4:$AE$4) -> 22 | CP35: 1 | CQ35: 2 | CR35: 3 | CS35: 4 | CT35: 5 | CU35: 6 | CV35: 8 | CW35: 9 | CX35: 10 | CY35: 11 | CZ35: 12 | DA35: 13 | DB35: 15 | DC35: 16 | DD35: 17
A36: =LOOKUP(Q36,$A$3:$Y$3,$A$4:$Y$4) -> 1 | B36: =LOOKUP(R36,$A$3:$Y$3,$A$4:$Y$4) -> 2 | C36: =LOOKUP(S36,$A$3:$Y$3,$A$4:$Y$4) -> 3 | D36: =LOOKUP(T36,$A$3:$Y$3,$A$4:$Y$4) -> 4 | E36: =LOOKUP(U36,$A$3:$Y$3,$A$4:$Y$4) -> 6 | F36: =LOOKUP(V36,$A$3:$Y$3,$A$4:$Y$4) -> 7 | G36: =LOOKUP(W36,$A$3:$Y$3,$A$4:$Y$4) -> 8 | H36: =LOOKUP(X36,$A$3:$Y$3,$A$4:$Y$4) -> 9 | ... O36: =LOOKUP(AE36,$A$3:$Y$3,$A$4:$Y$4) -> 21 | Q36: 1 | R36: 2 | S36: 3 | T36: 4 | U36: 6 | V36: 7 | W36: 8 | X36: 9 | Y36: 10 | Z36: 11 | AA36: 13 | AB36: 14 | AC36: 15 | AD36: 17 | AE36: 18 | AG36: =SMALL($AG15:$AU15,AG$1) -> 1 | AH36: =SMALL($AG15:$AU15,AH$1) -> 2 | AI36: =SMALL($AG15:$AU15,AI$1) -> 3 | AJ36: =SMALL($AG15:$AU15,AJ$1) -> 4 | AK36: =SMALL($AG15:$AU15,AK$1) -> 5 | AL36: =SMALL($AG15:$AU15,AL$1) -> 7 | AM36: =SMALL($AG15:$AU15,AM$1) -> 8 | AN36: =SMALL($AG15:$AU15,AN$1) -> 9 | ... AU36: =SMALL($AG15:$AU15,AU$1) -> 16 | AW36: 9 | AY36: =COUNTIF($AY$34:$BW$35,AY34) -> 2 | AZ36: =COUNTIF($AY$34:$BW$35,AZ34) -> 1 | BA36: =COUNTIF($AY$34:$BW$35,BA34) -> 1 | BB36: =COUNTIF($AY$34:$BW$35,BB34) -> 1 | BC36: =COUNTIF($AY$34:$BW$35,BC34) -> 1 | BD36: =COUNTIF($AY$34:$BW$35,BD34) -> 1 | BE36: =COUNTIF($AY$34:$BW$35,BE34) -> 1 | BF36: =COUNTIF($AY$34:$BW$35,BF34) -> 1 | ... BT36: =COUNTIF($AY$34:$BW$35,BT34) -> 1 | BZ36: =LOOKUP(CP36,$A$3:$Y$3,$A$4:$AE$4) -> 1 | CA36: =LOOKUP(CQ36,$A$3:$Y$3,$A$4:$AE$4) -> 2 | CB36: =LOOKUP(CR36,$A$3:$Y$3,$A$4:$AE$4) -> 3 | CC36: =LOOKUP(CS36,$A$3:$Y$3,$A$4:$AE$4) -> 4 | CD36: =LOOKUP(CT36,$A$3:$Y$3,$A$4:$AE$4) -> 5 | CE36: =LOOKUP(CU36,$A$3:$Y$3,$A$4:$AE$4) -> 6 | CF36: =LOOKUP(CV36,$A$3:$Y$3,$A$4:$AE$4) -> 8 | CG36: =LOOKUP(CW36,$A$3:$Y$3,$A$4:$AE$4) -> 9 | ... CN36: =LOOKUP(DD36,$A$3:$Y$3,$A$4:$AE$4) -> 21 | CP36: 1 | CQ36: 2 | CR36: 3 | CS36: 4 | CT36: 5 | CU36: 6 | CV36: 8 | CW36: 9 | CX36: 10 | CY36: 11 | CZ36: 12 | DA36: 13 | DB36: 15 | DC36: 16 | DD36: 18
A37: =LOOKUP(Q37,$A$3:$Y$3,$A$4:$Y$4) -> 1 | B37: =LOOKUP(R37,$A$3:$Y$3,$A$4:$Y$4) -> 2 | C37: =LOOKUP(S37,$A$3:$Y$3,$A$4:$Y$4) -> 3 | D37: =LOOKUP(T37,$A$3:$Y$3,$A$4:$Y$4) -> 5 | E37: =LOOKUP(U37,$A$3:$Y$3,$A$4:$Y$4) -> 7 | F37: =LOOKUP(V37,$A$3:$Y$3,$A$4:$Y$4) -> 9 | G37: =LOOKUP(W37,$A$3:$Y$3,$A$4:$Y$4) -> 10 | H37: =LOOKUP(X37,$A$3:$Y$3,$A$4:$Y$4) -> 11 | ... O37: =LOOKUP(AE37,$A$3:$Y$3,$A$4:$Y$4) -> 21 | Q37: 1 | R37: 2 | S37: 3 | T37: 5 | U37: 7 | V37: 9 | W37: 10 | X37: 11 | Y37: 12 | Z37: 13 | AA37: 14 | AB37: 15 | AC37: 16 | AD37: 17 | AE37: 18 | AG37: =SMALL($AG16:$AU16,AG$1) -> 1 | AH37: =SMALL($AG16:$AU16,AH$1) -> 2 | AI37: =SMALL($AG16:$AU16,AI$1) -> 3 | AJ37: =SMALL($AG16:$AU16,AJ$1) -> 4 | AK37: =SMALL($AG16:$AU16,AK$1) -> 5 | AL37: =SMALL($AG16:$AU16,AL$1) -> 7 | AM37: =SMALL($AG16:$AU16,AM$1) -> 8 | AN37: =SMALL($AG16:$AU16,AN$1) -> 9 | ... AU37: =SMALL($AG16:$AU16,AU$1) -> 25 | AW37: 10 | AY37: =IF(AY36=1,AY34,0) -> 0 | AZ37: =IF(AZ36=1,AZ34,0) -> 5 | BA37: =IF(BA36=1,BA34,0) -> 6 | BB37: =IF(BB36=1,BB34,0) -> 7 | BC37: =IF(BC36=1,BC34,0) -> 8 | BD37: =IF(BD36=1,BD34,0) -> 9 | BE37: =IF(BE36=1,BE34,0) -> 10 | BF37: =IF(BF36=1,BF34,0) -> 11 | ... BT37: =IF(BT36=1,BT34,0) -> 25 | BZ37: =LOOKUP(CP37,$A$3:$Y$3,$A$4:$AE$4) -> 1 | CA37: =LOOKUP(CQ37,$A$3:$Y$3,$A$4:$AE$4) -> 2 | CB37: =LOOKUP(CR37,$A$3:$Y$3,$A$4:$AE$4) -> 3 | CC37: =LOOKUP(CS37,$A$3:$Y$3,$A$4:$AE$4) -> 4 | CD37: =LOOKUP(CT37,$A$3:$Y$3,$A$4:$AE$4) -> 5 | CE37: =LOOKUP(CU37,$A$3:$Y$3,$A$4:$AE$4) -> 6 | CF37: =LOOKUP(CV37,$A$3:$Y$3,$A$4:$AE$4) -> 8 | CG37: =LOOKUP(CW37,$A$3:$Y$3,$A$4:$AE$4) -> 9 | ... CN37: =LOOKUP(DD37,$A$3:$Y$3,$A$4:$AE$4) -> 21 | CP37: 1 | CQ37: 2 | CR37: 3 | CS37: 4 | CT37: 5 | CU37: 6 | CV37: 8 | CW37: 9 | CX37: 10 | CY37: 12 | CZ37: 13 | DA37: 15 | DB37: 16 | DC37: 17 | DD37: 18
A38: =LOOKUP(Q38,$A$3:$Y$3,$A$4:$Y$4) -> 1 | B38: =LOOKUP(R38,$A$3:$Y$3,$A$4:$Y$4) -> 2 | C38: =LOOKUP(S38,$A$3:$Y$3,$A$4:$Y$4) -> 3 | D38: =LOOKUP(T38,$A$3:$Y$3,$A$4:$Y$4) -> 4 | E38: =LOOKUP(U38,$A$3:$Y$3,$A$4:$Y$4) -> 6 | F38: =LOOKUP(V38,$A$3:$Y$3,$A$4:$Y$4) -> 7 | G38: =LOOKUP(W38,$A$3:$Y$3,$A$4:$Y$4) -> 8 | H38: =LOOKUP(X38,$A$3:$Y$3,$A$4:$Y$4) -> 9 | ... O38: =LOOKUP(AE38,$A$3:$Y$3,$A$4:$Y$4) -> 21 | Q38: 1 | R38: 2 | S38: 3 | T38: 4 | U38: 6 | V38: 7 | W38: 8 | X38: 9 | Y38: 10 | Z38: 11 | AA38: 12 | AB38: 13 | AC38: 15 | AD38: 16 | AE38: 18 | AG38: =SMALL($AG17:$AU17,AG$1) -> 1 | AH38: =SMALL($AG17:$AU17,AH$1) -> 2 | AI38: =SMALL($AG17:$AU17,AI$1) -> 3 | AJ38: =SMALL($AG17:$AU17,AJ$1) -> 4 | AK38: =SMALL($AG17:$AU17,AK$1) -> 5 | AL38: =SMALL($AG17:$AU17,AL$1) -> 7 | AM38: =SMALL($AG17:$AU17,AM$1) -> 8 | AN38: =SMALL($AG17:$AU17,AN$1) -> 10 | ... AU38: =SMALL($AG17:$AU17,AU$1) -> 25 | AW38: 11 | AY38: =LARGE($AY$37:$BT$37,AY28) -> 25 | AZ38: =LARGE($AY$37:$BT$37,AZ28) -> 24 | BA38: =LARGE($AY$37:$BT$37,BA28) -> 16 | BB38: =LARGE($AY$37:$BT$37,BB28) -> 15 | BC38: =LARGE($AY$37:$BT$37,BC28) -> 14 | BD38: =LARGE($AY$37:$BT$37,BD28) -> 13 | BE38: =LARGE($AY$37:$BT$37,BE28) -> 12 | BF38: =LARGE($AY$37:$BT$37,BF28) -> 11 | ... BP38: =LARGE($AY$37:$BT$37,BP28) -> 0 | BZ38: =LOOKUP(CP38,$A$3:$Y$3,$A$4:$AE$4) -> 1 | CA38: =LOOKUP(CQ38,$A$3:$Y$3,$A$4:$AE$4) -> 2 | CB38: =LOOKUP(CR38,$A$3:$Y$3,$A$4:$AE$4) -> 3 | CC38: =LOOKUP(CS38,$A$3:$Y$3,$A$4:$AE$4) -> 4 | CD38: =LOOKUP(CT38,$A$3:$Y$3,$A$4:$AE$4) -> 5 | CE38: =LOOKUP(CU38,$A$3:$Y$3,$A$4:$AE$4) -> 6 | CF38: =LOOKUP(CV38,$A$3:$Y$3,$A$4:$AE$4) -> 8 | CG38: =LOOKUP(CW38,$A$3:$Y$3,$A$4:$AE$4) -> 9 | ... CN38: =LOOKUP(DD38,$A$3:$Y$3,$A$4:$AE$4) -> 21 | CP38: 1 | CQ38: 2 | CR38: 3 | CS38: 4 | CT38: 5 | CU38: 6 | CV38: 8 | CW38: 9 | CX38: 11 | CY38: 12 | CZ38: 13 | DA38: 14 | DB38: 15 | DC38: 17 | DD38: 18
A39: =LOOKUP(Q39,$A$3:$Y$3,$A$4:$Y$4) -> 1 | B39: =LOOKUP(R39,$A$3:$Y$3,$A$4:$Y$4) -> 2 | C39: =LOOKUP(S39,$A$3:$Y$3,$A$4:$Y$4) -> 4 | D39: =LOOKUP(T39,$A$3:$Y$3,$A$4:$Y$4) -> 5 | E39: =LOOKUP(U39,$A$3:$Y$3,$A$4:$Y$4) -> 6 | F39: =LOOKUP(V39,$A$3:$Y$3,$A$4:$Y$4) -> 7 | G39: =LOOKUP(W39,$A$3:$Y$3,$A$4:$Y$4) -> 9 | H39: =LOOKUP(X39,$A$3:$Y$3,$A$4:$Y$4) -> 10 | ... O39: =LOOKUP(AE39,$A$3:$Y$3,$A$4:$Y$4) -> 21 | Q39: 1 | R39: 2 | S39: 4 | T39: 5 | U39: 6 | V39: 7 | W39: 9 | X39: 10 | Y39: 11 | Z39: 12 | AA39: 14 | AB39: 15 | AC39: 16 | AD39: 17 | AE39: 18 | AG39: =SMALL($AG18:$AU18,AG$1) -> 1 | AH39: =SMALL($AG18:$AU18,AH$1) -> 2 | AI39: =SMALL($AG18:$AU18,AI$1) -> 3 | AJ39: =SMALL($AG18:$AU18,AJ$1) -> 4 | AK39: =SMALL($AG18:$AU18,AK$1) -> 6 | AL39: =SMALL($AG18:$AU18,AL$1) -> 7 | AM39: =SMALL($AG18:$AU18,AM$1) -> 8 | AN39: =SMALL($AG18:$AU18,AN$1) -> 9 | ... AU39: =SMALL($AG18:$AU18,AU$1) -> 25 | AW39: 12 | AY39: =SMALL($AY$38:$BP$38,AY28) -> 0 | AZ39: =SMALL($AY$38:$BP$38,AZ28) -> 0 | BA39: =SMALL($AY$38:$BP$38,BA28) -> 0 | BB39: =SMALL($AY$38:$BP$38,BB28) -> 0 | BC39: =SMALL($AY$38:$BP$38,BC28) -> 5 | BD39: =SMALL($AY$38:$BP$38,BD28) -> 6 | BE39: =SMALL($AY$38:$BP$38,BE28) -> 7 | BF39: =SMALL($AY$38:$BP$38,BF28) -> 8 | ... BP39: =SMALL($AY$38:$BP$38,BP28) -> 25 | BZ39: =LOOKUP(CP39,$A$3:$Y$3,$A$4:$AE$4) -> 1 | CA39: =LOOKUP(CQ39,$A$3:$Y$3,$A$4:$AE$4) -> 2 | CB39: =LOOKUP(CR39,$A$3:$Y$3,$A$4:$AE$4) -> 3 | CC39: =LOOKUP(CS39,$A$3:$Y$3,$A$4:$AE$4) -> 4 | CD39: =LOOKUP(CT39,$A$3:$Y$3,$A$4:$AE$4) -> 5 | CE39: =LOOKUP(CU39,$A$3:$Y$3,$A$4:$AE$4) -> 6 | CF39: =LOOKUP(CV39,$A$3:$Y$3,$A$4:$AE$4) -> 8 | CG39: =LOOKUP(CW39,$A$3:$Y$3,$A$4:$AE$4) -> 10 | ... CN39: =LOOKUP(DD39,$A$3:$Y$3,$A$4:$AE$4) -> 21 | CP39: 1 | CQ39: 2 | CR39: 3 | CS39: 4 | CT39: 5 | CU39: 6 | CV39: 8 | CW39: 10 | CX39: 11 | CY39: 12 | CZ39: 13 | DA39: 15 | DB39: 16 | DC39: 17 | DD39: 18
A40: =LOOKUP(Q40,$A$3:$Y$3,$A$4:$Y$4) -> 1 | B40: =LOOKUP(R40,$A$3:$Y$3,$A$4:$Y$4) -> 2 | C40: =LOOKUP(S40,$A$3:$Y$3,$A$4:$Y$4) -> 4 | D40: =LOOKUP(T40,$A$3:$Y$3,$A$4:$Y$4) -> 5 | E40: =LOOKUP(U40,$A$3:$Y$3,$A$4:$Y$4) -> 7 | F40: =LOOKUP(V40,$A$3:$Y$3,$A$4:$Y$4) -> 8 | G40: =LOOKUP(W40,$A$3:$Y$3,$A$4:$Y$4) -> 10 | H40: =LOOKUP(X40,$A$3:$Y$3,$A$4:$Y$4) -> 11 | ... O40: =LOOKUP(AE40,$A$3:$Y$3,$A$4:$Y$4) -> 21 | Q40: 1 | R40: 2 | S40: 4 | T40: 5 | U40: 7 | V40: 8 | W40: 10 | X40: 11 | Y40: 12 | Z40: 13 | AA40: 14 | AB40: 15 | AC40: 16 | AD40: 17 | AE40: 18 | AG40: =SMALL($AG19:$AU19,AG$1) -> 1 | AH40: =SMALL($AG19:$AU19,AH$1) -> 2 | AI40: =SMALL($AG19:$AU19,AI$1) -> 3 | AJ40: =SMALL($AG19:$AU19,AJ$1) -> 4 | AK40: =SMALL($AG19:$AU19,AK$1) -> 6 | AL40: =SMALL($AG19:$AU19,AL$1) -> 7 | AM40: =SMALL($AG19:$AU19,AM$1) -> 9 | AN40: =SMALL($AG19:$AU19,AN$1) -> 10 | ... AU40: =SMALL($AG19:$AU19,AU$1) -> 25 | AW40: 13 | BZ40: =LOOKUP(CP40,$A$3:$Y$3,$A$4:$AE$4) -> 1 | CA40: =LOOKUP(CQ40,$A$3:$Y$3,$A$4:$AE$4) -> 2 | CB40: =LOOKUP(CR40,$A$3:$Y$3,$A$4:$AE$4) -> 3 | CC40: =LOOKUP(CS40,$A$3:$Y$3,$A$4:$AE$4) -> 4 | CD40: =LOOKUP(CT40,$A$3:$Y$3,$A$4:$AE$4) -> 5 | CE40: =LOOKUP(CU40,$A$3:$Y$3,$A$4:$AE$4) -> 7 | CF40: =LOOKUP(CV40,$A$3:$Y$3,$A$4:$AE$4) -> 8 | CG40: =LOOKUP(CW40,$A$3:$Y$3,$A$4:$AE$4) -> 9 | ... CN40: =LOOKUP(DD40,$A$3:$Y$3,$A$4:$AE$4) -> 16 | CP40: 1 | CQ40: 2 | CR40: 3 | CS40: 4 | CT40: 5 | CU40: 7 | CV40: 8 | CW40: 9 | CX40: 10 | CY40: 11 | CZ40: 12 | DA40: 13 | DB40: 14 | DC40: 15 | DD40: 16
A41: =LOOKUP(Q41,$A$3:$Y$3,$A$4:$Y$4) -> 2 | B41: =LOOKUP(R41,$A$3:$Y$3,$A$4:$Y$4) -> 3 | C41: =LOOKUP(S41,$A$3:$Y$3,$A$4:$Y$4) -> 4 | D41: =LOOKUP(T41,$A$3:$Y$3,$A$4:$Y$4) -> 5 | E41: =LOOKUP(U41,$A$3:$Y$3,$A$4:$Y$4) -> 6 | F41: =LOOKUP(V41,$A$3:$Y$3,$A$4:$Y$4) -> 7 | G41: =LOOKUP(W41,$A$3:$Y$3,$A$4:$Y$4) -> 8 | H41: =LOOKUP(X41,$A$3:$Y$3,$A$4:$Y$4) -> 9 | ... O41: =LOOKUP(AE41,$A$3:$Y$3,$A$4:$Y$4) -> 22 | Q41: 2 | R41: 3 | S41: 4 | T41: 5 | U41: 6 | V41: 7 | W41: 8 | X41: 9 | Y41: 10 | Z41: 11 | AA41: 12 | AB41: 13 | AC41: 15 | AD41: 16 | AE41: 17 | AG41: =SMALL($AG20:$AU20,AG$1) -> 1 | AH41: =SMALL($AG20:$AU20,AH$1) -> 2 | AI41: =SMALL($AG20:$AU20,AI$1) -> 3 | AJ41: =SMALL($AG20:$AU20,AJ$1) -> 4 | AK41: =SMALL($AG20:$AU20,AK$1) -> 6 | AL41: =SMALL($AG20:$AU20,AL$1) -> 8 | AM41: =SMALL($AG20:$AU20,AM$1) -> 9 | AN41: =SMALL($AG20:$AU20,AN$1) -> 11 | ... AU41: =SMALL($AG20:$AU20,AU$1) -> 25 | AW41: 14 | BZ41: =LOOKUP(CP41,$A$3:$Y$3,$A$4:$AE$4) -> 1 | CA41: =LOOKUP(CQ41,$A$3:$Y$3,$A$4:$AE$4) -> 2 | CB41: =LOOKUP(CR41,$A$3:$Y$3,$A$4:$AE$4) -> 3 | CC41: =LOOKUP(CS41,$A$3:$Y$3,$A$4:$AE$4) -> 4 | CD41: =LOOKUP(CT41,$A$3:$Y$3,$A$4:$AE$4) -> 5 | CE41: =LOOKUP(CU41,$A$3:$Y$3,$A$4:$AE$4) -> 7 | CF41: =LOOKUP(CV41,$A$3:$Y$3,$A$4:$AE$4) -> 8 | CG41: =LOOKUP(CW41,$A$3:$Y$3,$A$4:$AE$4) -> 9 | ... CN41: =LOOKUP(DD41,$A$3:$Y$3,$A$4:$AE$4) -> 21 | CP41: 1 | CQ41: 2 | CR41: 3 | CS41: 4 | CT41: 5 | CU41: 7 | CV41: 8 | CW41: 9 | CX41: 10 | CY41: 11 | CZ41: 14 | DA41: 15 | DB41: 16 | DC41: 17 | DD41: 18
A42: =LOOKUP(Q42,$A$3:$Y$3,$A$4:$Y$4) -> 2 | B42: =LOOKUP(R42,$A$3:$Y$3,$A$4:$Y$4) -> 3 | C42: =LOOKUP(S42,$A$3:$Y$3,$A$4:$Y$4) -> 4 | D42: =LOOKUP(T42,$A$3:$Y$3,$A$4:$Y$4) -> 5 | E42: =LOOKUP(U42,$A$3:$Y$3,$A$4:$Y$4) -> 6 | F42: =LOOKUP(V42,$A$3:$Y$3,$A$4:$Y$4) -> 7 | G42: =LOOKUP(W42,$A$3:$Y$3,$A$4:$Y$4) -> 8 | H42: =LOOKUP(X42,$A$3:$Y$3,$A$4:$Y$4) -> 9 | ... O42: =LOOKUP(AE42,$A$3:$Y$3,$A$4:$Y$4) -> 21 | Q42: 2 | R42: 3 | S42: 4 | T42: 5 | U42: 6 | V42: 7 | W42: 8 | X42: 9 | Y42: 10 | Z42: 11 | AA42: 12 | AB42: 13 | AC42: 14 | AD42: 15 | AE42: 18 | BZ42: =LOOKUP(CP42,$A$3:$Y$3,$A$4:$AE$4) -> 1 | CA42: =LOOKUP(CQ42,$A$3:$Y$3,$A$4:$AE$4) -> 2 | CB42: =LOOKUP(CR42,$A$3:$Y$3,$A$4:$AE$4) -> 3 | CC42: =LOOKUP(CS42,$A$3:$Y$3,$A$4:$AE$4) -> 4 | CD42: =LOOKUP(CT42,$A$3:$Y$3,$A$4:$AE$4) -> 5 | CE42: =LOOKUP(CU42,$A$3:$Y$3,$A$4:$AE$4) -> 7 | CF42: =LOOKUP(CV42,$A$3:$Y$3,$A$4:$AE$4) -> 8 | CG42: =LOOKUP(CW42,$A$3:$Y$3,$A$4:$AE$4) -> 9 | ... CN42: =LOOKUP(DD42,$A$3:$Y$3,$A$4:$AE$4) -> 21 | CP42: 1 | CQ42: 2 | CR42: 3 | CS42: 4 | CT42: 5 | CU42: 7 | CV42: 8 | CW42: 9 | CX42: 11 | CY42: 12 | CZ42: 13 | DA42: 14 | DB42: 15 | DC42: 17 | DD42: 18
A43: =LOOKUP(Q43,$A$3:$Y$3,$A$4:$Y$4) -> 2 | B43: =LOOKUP(R43,$A$3:$Y$3,$A$4:$Y$4) -> 3 | C43: =LOOKUP(S43,$A$3:$Y$3,$A$4:$Y$4) -> 4 | D43: =LOOKUP(T43,$A$3:$Y$3,$A$4:$Y$4) -> 6 | E43: =LOOKUP(U43,$A$3:$Y$3,$A$4:$Y$4) -> 7 | F43: =LOOKUP(V43,$A$3:$Y$3,$A$4:$Y$4) -> 8 | G43: =LOOKUP(W43,$A$3:$Y$3,$A$4:$Y$4) -> 9 | H43: =LOOKUP(X43,$A$3:$Y$3,$A$4:$Y$4) -> 11 | ... O43: =LOOKUP(AE43,$A$3:$Y$3,$A$4:$Y$4) -> 21 | Q43: 2 | R43: 3 | S43: 4 | T43: 6 | U43: 7 | V43: 8 | W43: 9 | X43: 11 | Y43: 12 | Z43: 13 | AA43: 14 | AB43: 15 | AC43: 16 | AD43: 17 | AE43: 18 | BZ43: =LOOKUP(CP43,$A$3:$Y$3,$A$4:$AE$4) -> 1 | CA43: =LOOKUP(CQ43,$A$3:$Y$3,$A$4:$AE$4) -> 2 | CB43: =LOOKUP(CR43,$A$3:$Y$3,$A$4:$AE$4) -> 3 | CC43: =LOOKUP(CS43,$A$3:$Y$3,$A$4:$AE$4) -> 4 | CD43: =LOOKUP(CT43,$A$3:$Y$3,$A$4:$AE$4) -> 5 | CE43: =LOOKUP(CU43,$A$3:$Y$3,$A$4:$AE$4) -> 7 | CF43: =LOOKUP(CV43,$A$3:$Y$3,$A$4:$AE$4) -> 9 | CG43: =LOOKUP(CW43,$A$3:$Y$3,$A$4:$AE$4) -> 10 | ... CN43: =LOOKUP(DD43,$A$3:$Y$3,$A$4:$AE$4) -> 21 | CP43: 1 | CQ43: 2 | CR43: 3 | CS43: 4 | CT43: 5 | CU43: 7 | CV43: 9 | CW43: 10 | CX43: 11 | CY43: 12 | CZ43: 13 | DA43: 14 | DB43: 15 | DC43: 17 | DD43: 18
A44: =LOOKUP(Q44,$A$3:$Y$3,$A$4:$Y$4) -> 2 | B44: =LOOKUP(R44,$A$3:$Y$3,$A$4:$Y$4) -> 3 | C44: =LOOKUP(S44,$A$3:$Y$3,$A$4:$Y$4) -> 4 | D44: =LOOKUP(T44,$A$3:$Y$3,$A$4:$Y$4) -> 5 | E44: =LOOKUP(U44,$A$3:$Y$3,$A$4:$Y$4) -> 6 | F44: =LOOKUP(V44,$A$3:$Y$3,$A$4:$Y$4) -> 7 | G44: =LOOKUP(W44,$A$3:$Y$3,$A$4:$Y$4) -> 8 | H44: =LOOKUP(X44,$A$3:$Y$3,$A$4:$Y$4) -> 9 | ... O44: =LOOKUP(AE44,$A$3:$Y$3,$A$4:$Y$4) -> 21 | Q44: 2 | R44: 3 | S44: 4 | T44: 5 | U44: 6 | V44: 7 | W44: 8 | X44: 9 | Y44: 10 | Z44: 11 | AA44: 13 | AB44: 14 | AC44: 16 | AD44: 17 | AE44: 18 | BZ44: =LOOKUP(CP44,$A$3:$Y$3,$A$4:$AE$4) -> 1 | CA44: =LOOKUP(CQ44,$A$3:$Y$3,$A$4:$AE$4) -> 2 | CB44: =LOOKUP(CR44,$A$3:$Y$3,$A$4:$AE$4) -> 3 | CC44: =LOOKUP(CS44,$A$3:$Y$3,$A$4:$AE$4) -> 4 | CD44: =LOOKUP(CT44,$A$3:$Y$3,$A$4:$AE$4) -> 5 | CE44: =LOOKUP(CU44,$A$3:$Y$3,$A$4:$AE$4) -> 7 | CF44: =LOOKUP(CV44,$A$3:$Y$3,$A$4:$AE$4) -> 9 | CG44: =LOOKUP(CW44,$A$3:$Y$3,$A$4:$AE$4) -> 10 | ... CN44: =LOOKUP(DD44,$A$3:$Y$3,$A$4:$AE$4) -> 21 | CP44: 1 | CQ44: 2 | CR44: 3 | CS44: 4 | CT44: 5 | CU44: 7 | CV44: 9 | CW44: 10 | CX44: 11 | CY44: 12 | CZ44: 13 | DA44: 14 | DB44: 16 | DC44: 17 | DD44: 18
AG45: =LOOKUP(AW45,$A$3:$Y$3,$A$4:$AE$4) -> 1 | AH45: =LOOKUP(AX45,$A$3:$Y$3,$A$4:$AE$4) -> 2 | AI45: =LOOKUP(AY45,$A$3:$Y$3,$A$4:$AE$4) -> 3 | AJ45: =LOOKUP(AZ45,$A$3:$Y$3,$A$4:$AE$4) -> 4 | AK45: =LOOKUP(BA45,$A$3:$Y$3,$A$4:$AE$4) -> 5 | AL45: =LOOKUP(BB45,$A$3:$Y$3,$A$4:$AE$4) -> 6 | AM45: =LOOKUP(BC45,$A$3:$Y$3,$A$4:$AE$4) -> 7 | AN45: =LOOKUP(BD45,$A$3:$Y$3,$A$4:$AE$4) -> 8 | ... AU45: =LOOKUP(BK45,$A$3:$Y$3,$A$4:$AE$4) -> 22 | AW45: 1 | AX45: 2 | AY45: 3 | AZ45: 4 | BA45: 5 | BB45: 6 | BC45: 7 | BD45: 8 | BE45: 9 | BF45: 10 | BG45: 11 | BH45: 12 | BI45: 13 | BJ45: 14 | BK45: 17 | BZ45: =LOOKUP(CP45,$A$3:$Y$3,$A$4:$AE$4) -> 1 | CA45: =LOOKUP(CQ45,$A$3:$Y$3,$A$4:$AE$4) -> 2 | CB45: =LOOKUP(CR45,$A$3:$Y$3,$A$4:$AE$4) -> 3 | CC45: =LOOKUP(CS45,$A$3:$Y$3,$A$4:$AE$4) -> 4 | CD45: =LOOKUP(CT45,$A$3:$Y$3,$A$4:$AE$4) -> 5 | CE45: =LOOKUP(CU45,$A$3:$Y$3,$A$4:$AE$4) -> 7 | CF45: =LOOKUP(CV45,$A$3:$Y$3,$A$4:$AE$4) -> 9 | CG45: =LOOKUP(CW45,$A$3:$Y$3,$A$4:$AE$4) -> 11 | ... CN45: =LOOKUP(DD45,$A$3:$Y$3,$A$4:$AE$4) -> 21 | CP45: 1 | CQ45: 2 | CR45: 3 | CS45: 4 | CT45: 5 | CU45: 7 | CV45: 9 | CW45: 11 | CX45: 12 | CY45: 13 | CZ45: 14 | DA45: 15 | DB45: 16 | DC45: 17 | DD45: 18
AG46: =LOOKUP(AW46,$A$3:$Y$3,$A$4:$AE$4) -> 1 | AH46: =LOOKUP(AX46,$A$3:$Y$3,$A$4:$AE$4) -> 2 | AI46: =LOOKUP(AY46,$A$3:$Y$3,$A$4:$AE$4) -> 3 | AJ46: =LOOKUP(AZ46,$A$3:$Y$3,$A$4:$AE$4) -> 4 | AK46: =LOOKUP(BA46,$A$3:$Y$3,$A$4:$AE$4) -> 5 | AL46: =LOOKUP(BB46,$A$3:$Y$3,$A$4:$AE$4) -> 6 | AM46: =LOOKUP(BC46,$A$3:$Y$3,$A$4:$AE$4) -> 7 | AN46: =LOOKUP(BD46,$A$3:$Y$3,$A$4:$AE$4) -> 8 | ... AU46: =LOOKUP(BK46,$A$3:$Y$3,$A$4:$AE$4) -> 16 | AW46: 1 | AX46: 2 | AY46: 3 | AZ46: 4 | BA46: 5 | BB46: 6 | BC46: 7 | BD46: 8 | BE46: 9 | BF46: 10 | BG46: 11 | BH46: 12 | BI46: 13 | BJ46: 15 | BK46: 16 | BZ46: =LOOKUP(CP46,$A$3:$Y$3,$A$4:$AE$4) -> 1 | CA46: =LOOKUP(CQ46,$A$3:$Y$3,$A$4:$AE$4) -> 2 | CB46: =LOOKUP(CR46,$A$3:$Y$3,$A$4:$AE$4) -> 3 | CC46: =LOOKUP(CS46,$A$3:$Y$3,$A$4:$AE$4) -> 4 | CD46: =LOOKUP(CT46,$A$3:$Y$3,$A$4:$AE$4) -> 5 | CE46: =LOOKUP(CU46,$A$3:$Y$3,$A$4:$AE$4) -> 7 | CF46: =LOOKUP(CV46,$A$3:$Y$3,$A$4:$AE$4) -> 10 | CG46: =LOOKUP(CW46,$A$3:$Y$3,$A$4:$AE$4) -> 11 | ... CN46: =LOOKUP(DD46,$A$3:$Y$3,$A$4:$AE$4) -> 21 | CP46: 1 | CQ46: 2 | CR46: 3 | CS46: 4 | CT46: 5 | CU46: 7 | CV46: 10 | CW46: 11 | CX46: 12 | CY46: 13 | CZ46: 14 | DA46: 15 | DB46: 16 | DC46: 17 | DD46: 18
A47: =SMALL($A21:$O21,A$3) -> 1 | B47: =SMALL($A21:$O21,B$3) -> 2 | C47: =SMALL($A21:$O21,C$3) -> 3 | D47: =SMALL($A21:$O21,D$3) -> 4 | E47: =SMALL($A21:$O21,E$3) -> 5 | F47: =SMALL($A21:$O21,F$3) -> 6 | G47: =SMALL($A21:$O21,G$3) -> 7 | H47: =SMALL($A21:$O21,H$3) -> 8 | ... O47: =SMALL($A21:$O21,O$3) -> 22 | R47: 1 | AG47: =LOOKUP(AW47,$A$3:$Y$3,$A$4:$AE$4) -> 1 | AH47: =LOOKUP(AX47,$A$3:$Y$3,$A$4:$AE$4) -> 2 | AI47: =LOOKUP(AY47,$A$3:$Y$3,$A$4:$AE$4) -> 3 | AJ47: =LOOKUP(AZ47,$A$3:$Y$3,$A$4:$AE$4) -> 4 | AK47: =LOOKUP(BA47,$A$3:$Y$3,$A$4:$AE$4) -> 5 | AL47: =LOOKUP(BB47,$A$3:$Y$3,$A$4:$AE$4) -> 6 | AM47: =LOOKUP(BC47,$A$3:$Y$3,$A$4:$AE$4) -> 7 | AN47: =LOOKUP(BD47,$A$3:$Y$3,$A$4:$AE$4) -> 8 | ... AU47: =LOOKUP(BK47,$A$3:$Y$3,$A$4:$AE$4) -> 21 | AW47: 1 | AX47: 2 | AY47: 3 | AZ47: 4 | BA47: 5 | BB47: 6 | BC47: 7 | BD47: 8 | BE47: 9 | BF47: 10 | BG47: 11 | BH47: 12 | BI47: 13 | BJ47: 16 | BK47: 18 | BZ47: =LOOKUP(CP47,$A$3:$Y$3,$A$4:$AE$4) -> 1 | CA47: =LOOKUP(CQ47,$A$3:$Y$3,$A$4:$AE$4) -> 2 | CB47: =LOOKUP(CR47,$A$3:$Y$3,$A$4:$AE$4) -> 3 | CC47: =LOOKUP(CS47,$A$3:$Y$3,$A$4:$AE$4) -> 4 | CD47: =LOOKUP(CT47,$A$3:$Y$3,$A$4:$AE$4) -> 6 | CE47: =LOOKUP(CU47,$A$3:$Y$3,$A$4:$AE$4) -> 7 | CF47: =LOOKUP(CV47,$A$3:$Y$3,$A$4:$AE$4) -> 8 | CG47: =LOOKUP(CW47,$A$3:$Y$3,$A$4:$AE$4) -> 9 | ... CN47: =LOOKUP(DD47,$A$3:$Y$3,$A$4:$AE$4) -> 21 | CP47: 1 | CQ47: 2 | CR47: 3 | CS47: 4 | CT47: 6 | CU47: 7 | CV47: 8 | CW47: 9 | CX47: 10 | CY47: 11 | CZ47: 12 | DA47: 13 | DB47: 14 | DC47: 17 | DD47: 18
A48: =SMALL($A22:$O22,A$3) -> 1 | B48: =SMALL($A22:$O22,B$3) -> 2 | C48: =SMALL($A22:$O22,C$3) -> 3 | D48: =SMALL($A22:$O22,D$3) -> 4 | E48: =SMALL($A22:$O22,E$3) -> 5 | F48: =SMALL($A22:$O22,F$3) -> 6 | G48: =SMALL($A22:$O22,G$3) -> 7 | H48: =SMALL($A22:$O22,H$3) -> 8 | ... O48: =SMALL($A22:$O22,O$3) -> 22 | R48: 2 | AG48: =LOOKUP(AW48,$A$3:$Y$3,$A$4:$AE$4) -> 1 | AH48: =LOOKUP(AX48,$A$3:$Y$3,$A$4:$AE$4) -> 2 | AI48: =LOOKUP(AY48,$A$3:$Y$3,$A$4:$AE$4) -> 3 | AJ48: =LOOKUP(AZ48,$A$3:$Y$3,$A$4:$AE$4) -> 4 | AK48: =LOOKUP(BA48,$A$3:$Y$3,$A$4:$AE$4) -> 5 | AL48: =LOOKUP(BB48,$A$3:$Y$3,$A$4:$AE$4) -> 6 | AM48: =LOOKUP(BC48,$A$3:$Y$3,$A$4:$AE$4) -> 7 | AN48: =LOOKUP(BD48,$A$3:$Y$3,$A$4:$AE$4) -> 8 | ... AU48: =LOOKUP(BK48,$A$3:$Y$3,$A$4:$AE$4) -> 22 | AW48: 1 | AX48: 2 | AY48: 3 | AZ48: 4 | BA48: 5 | BB48: 6 | BC48: 7 | BD48: 8 | BE48: 9 | BF48: 10 | BG48: 11 | BH48: 12 | BI48: 14 | BJ48: 15 | BK48: 17 | BZ48: =LOOKUP(CP48,$A$3:$Y$3,$A$4:$AE$4) -> 1 | CA48: =LOOKUP(CQ48,$A$3:$Y$3,$A$4:$AE$4) -> 2 | CB48: =LOOKUP(CR48,$A$3:$Y$3,$A$4:$AE$4) -> 3 | CC48: =LOOKUP(CS48,$A$3:$Y$3,$A$4:$AE$4) -> 4 | CD48: =LOOKUP(CT48,$A$3:$Y$3,$A$4:$AE$4) -> 6 | CE48: =LOOKUP(CU48,$A$3:$Y$3,$A$4:$AE$4) -> 7 | CF48: =LOOKUP(CV48,$A$3:$Y$3,$A$4:$AE$4) -> 8 | CG48: =LOOKUP(CW48,$A$3:$Y$3,$A$4:$AE$4) -> 9 | ... CN48: =LOOKUP(DD48,$A$3:$Y$3,$A$4:$AE$4) -> 22 | CP48: 1 | CQ48: 2 | CR48: 3 | CS48: 4 | CT48: 6 | CU48: 7 | CV48: 8 | CW48: 9 | CX48: 10 | CY48: 12 | CZ48: 13 | DA48: 14 | DB48: 15 | DC48: 16 | DD48: 17
A49: =SMALL($A23:$O23,A$3) -> 1 | B49: =SMALL($A23:$O23,B$3) -> 2 | C49: =SMALL($A23:$O23,C$3) -> 3 | D49: =SMALL($A23:$O23,D$3) -> 4 | E49: =SMALL($A23:$O23,E$3) -> 5 | F49: =SMALL($A23:$O23,F$3) -> 7 | G49: =SMALL($A23:$O23,G$3) -> 8 | H49: =SMALL($A23:$O23,H$3) -> 9 | ... O49: =SMALL($A23:$O23,O$3) -> 22 | R49: 3 | AG49: =LOOKUP(AW49,$A$3:$Y$3,$A$4:$AE$4) -> 1 | AH49: =LOOKUP(AX49,$A$3:$Y$3,$A$4:$AE$4) -> 2 | AI49: =LOOKUP(AY49,$A$3:$Y$3,$A$4:$AE$4) -> 3 | AJ49: =LOOKUP(AZ49,$A$3:$Y$3,$A$4:$AE$4) -> 4 | AK49: =LOOKUP(BA49,$A$3:$Y$3,$A$4:$AE$4) -> 5 | AL49: =LOOKUP(BB49,$A$3:$Y$3,$A$4:$AE$4) -> 6 | AM49: =LOOKUP(BC49,$A$3:$Y$3,$A$4:$AE$4) -> 7 | AN49: =LOOKUP(BD49,$A$3:$Y$3,$A$4:$AE$4) -> 8 | ... AU49: =LOOKUP(BK49,$A$3:$Y$3,$A$4:$AE$4) -> 22 | AW49: 1 | AX49: 2 | AY49: 3 | AZ49: 4 | BA49: 5 | BB49: 6 | BC49: 7 | BD49: 8 | BE49: 9 | BF49: 10 | BG49: 11 | BH49: 12 | BI49: 14 | BJ49: 16 | BK49: 17 | BZ49: =LOOKUP(CP49,$A$3:$Y$3,$A$4:$AE$4) -> 1 | CA49: =LOOKUP(CQ49,$A$3:$Y$3,$A$4:$AE$4) -> 2 | CB49: =LOOKUP(CR49,$A$3:$Y$3,$A$4:$AE$4) -> 3 | CC49: =LOOKUP(CS49,$A$3:$Y$3,$A$4:$AE$4) -> 4 | CD49: =LOOKUP(CT49,$A$3:$Y$3,$A$4:$AE$4) -> 6 | CE49: =LOOKUP(CU49,$A$3:$Y$3,$A$4:$AE$4) -> 7 | CF49: =LOOKUP(CV49,$A$3:$Y$3,$A$4:$AE$4) -> 8 | CG49: =LOOKUP(CW49,$A$3:$Y$3,$A$4:$AE$4) -> 9 | ... CN49: =LOOKUP(DD49,$A$3:$Y$3,$A$4:$AE$4) -> 21 | CP49: 1 | CQ49: 2 | CR49: 3 | CS49: 4 | CT49: 6 | CU49: 7 | CV49: 8 | CW49: 9 | CX49: 10 | CY49: 12 | CZ49: 13 | DA49: 14 | DB49: 15 | DC49: 16 | DD49: 18
A50: =SMALL($A24:$O24,A$3) -> 1 | B50: =SMALL($A24:$O24,B$3) -> 2 | C50: =SMALL($A24:$O24,C$3) -> 3 | D50: =SMALL($A24:$O24,D$3) -> 4 | E50: =SMALL($A24:$O24,E$3) -> 6 | F50: =SMALL($A24:$O24,F$3) -> 7 | G50: =SMALL($A24:$O24,G$3) -> 8 | H50: =SMALL($A24:$O24,H$3) -> 9 | ... O50: =SMALL($A24:$O24,O$3) -> 22 | R50: 4 | AG50: =LOOKUP(AW50,$A$3:$Y$3,$A$4:$AE$4) -> 1 | AH50: =LOOKUP(AX50,$A$3:$Y$3,$A$4:$AE$4) -> 2 | AI50: =LOOKUP(AY50,$A$3:$Y$3,$A$4:$AE$4) -> 3 | AJ50: =LOOKUP(AZ50,$A$3:$Y$3,$A$4:$AE$4) -> 4 | AK50: =LOOKUP(BA50,$A$3:$Y$3,$A$4:$AE$4) -> 5 | AL50: =LOOKUP(BB50,$A$3:$Y$3,$A$4:$AE$4) -> 6 | AM50: =LOOKUP(BC50,$A$3:$Y$3,$A$4:$AE$4) -> 7 | AN50: =LOOKUP(BD50,$A$3:$Y$3,$A$4:$AE$4) -> 8 | ... AU50: =LOOKUP(BK50,$A$3:$Y$3,$A$4:$AE$4) -> 21 | AW50: 1 | AX50: 2 | AY50: 3 | AZ50: 4 | BA50: 5 | BB50: 6 | BC50: 7 | BD50: 8 | BE50: 9 | BF50: 10 | BG50: 11 | BH50: 12 | BI50: 14 | BJ50: 17 | BK50: 18 | BZ50: =LOOKUP(CP50,$A$3:$Y$3,$A$4:$AE$4) -> 1 | CA50: =LOOKUP(CQ50,$A$3:$Y$3,$A$4:$AE$4) -> 2 | CB50: =LOOKUP(CR50,$A$3:$Y$3,$A$4:$AE$4) -> 3 | CC50: =LOOKUP(CS50,$A$3:$Y$3,$A$4:$AE$4) -> 4 | CD50: =LOOKUP(CT50,$A$3:$Y$3,$A$4:$AE$4) -> 6 | CE50: =LOOKUP(CU50,$A$3:$Y$3,$A$4:$AE$4) -> 7 | CF50: =LOOKUP(CV50,$A$3:$Y$3,$A$4:$AE$4) -> 8 | CG50: =LOOKUP(CW50,$A$3:$Y$3,$A$4:$AE$4) -> 9 | ... CN50: =LOOKUP(DD50,$A$3:$Y$3,$A$4:$AE$4) -> 21 | CP50: 1 | CQ50: 2 | CR50: 3 | CS50: 4 | CT50: 6 | CU50: 7 | CV50: 8 | CW50: 9 | CX50: 11 | CY50: 12 | CZ50: 13 | DA50: 14 | DB50: 16 | DC50: 17 | DD50: 18
A51: =SMALL($A25:$O25,A$3) -> 1 | B51: =SMALL($A25:$O25,B$3) -> 2 | C51: =SMALL($A25:$O25,C$3) -> 3 | D51: =SMALL($A25:$O25,D$3) -> 4 | E51: =SMALL($A25:$O25,E$3) -> 5 | F51: =SMALL($A25:$O25,F$3) -> 6 | G51: =SMALL($A25:$O25,G$3) -> 7 | H51: =SMALL($A25:$O25,H$3) -> 8 | ... O51: =SMALL($A25:$O25,O$3) -> 22 | R51: 5 | AG51: =LOOKUP(AW51,$A$3:$Y$3,$A$4:$AE$4) -> 1 | AH51: =LOOKUP(AX51,$A$3:$Y$3,$A$4:$AE$4) -> 2 | AI51: =LOOKUP(AY51,$A$3:$Y$3,$A$4:$AE$4) -> 3 | AJ51: =LOOKUP(AZ51,$A$3:$Y$3,$A$4:$AE$4) -> 4 | AK51: =LOOKUP(BA51,$A$3:$Y$3,$A$4:$AE$4) -> 5 | AL51: =LOOKUP(BB51,$A$3:$Y$3,$A$4:$AE$4) -> 6 | AM51: =LOOKUP(BC51,$A$3:$Y$3,$A$4:$AE$4) -> 7 | AN51: =LOOKUP(BD51,$A$3:$Y$3,$A$4:$AE$4) -> 8 | ... AU51: =LOOKUP(BK51,$A$3:$Y$3,$A$4:$AE$4) -> 21 | AW51: 1 | AX51: 2 | AY51: 3 | AZ51: 4 | BA51: 5 | BB51: 6 | BC51: 7 | BD51: 8 | BE51: 9 | BF51: 10 | BG51: 11 | BH51: 12 | BI51: 15 | BJ51: 16 | BK51: 18 | BZ51: =LOOKUP(CP51,$A$3:$Y$3,$A$4:$AE$4) -> 1 | CA51: =LOOKUP(CQ51,$A$3:$Y$3,$A$4:$AE$4) -> 2 | CB51: =LOOKUP(CR51,$A$3:$Y$3,$A$4:$AE$4) -> 3 | CC51: =LOOKUP(CS51,$A$3:$Y$3,$A$4:$AE$4) -> 4 | CD51: =LOOKUP(CT51,$A$3:$Y$3,$A$4:$AE$4) -> 6 | CE51: =LOOKUP(CU51,$A$3:$Y$3,$A$4:$AE$4) -> 7 | CF51: =LOOKUP(CV51,$A$3:$Y$3,$A$4:$AE$4) -> 9 | CG51: =LOOKUP(CW51,$A$3:$Y$3,$A$4:$AE$4) -> 10 | ... CN51: =LOOKUP(DD51,$A$3:$Y$3,$A$4:$AE$4) -> 21 | CP51: 1 | CQ51: 2 | CR51: 3 | CS51: 4 | CT51: 6 | CU51: 7 | CV51: 9 | CW51: 10 | CX51: 11 | CY51: 12 | CZ51: 14 | DA51: 15 | DB51: 16 | DC51: 17 | DD51: 18
A52: =SMALL($A26:$O26,A$3) -> 1 | B52: =SMALL($A26:$O26,B$3) -> 3 | C52: =SMALL($A26:$O26,C$3) -> 4 | D52: =SMALL($A26:$O26,D$3) -> 5 | E52: =SMALL($A26:$O26,E$3) -> 6 | F52: =SMALL($A26:$O26,F$3) -> 7 | G52: =SMALL($A26:$O26,G$3) -> 10 | H52: =SMALL($A26:$O26,H$3) -> 11 | ... O52: =SMALL($A26:$O26,O$3) -> 22 | R52: 6 | AG52: =LOOKUP(AW52,$A$3:$Y$3,$A$4:$AE$4) -> 1 | AH52: =LOOKUP(AX52,$A$3:$Y$3,$A$4:$AE$4) -> 2 | AI52: =LOOKUP(AY52,$A$3:$Y$3,$A$4:$AE$4) -> 3 | AJ52: =LOOKUP(AZ52,$A$3:$Y$3,$A$4:$AE$4) -> 4 | AK52: =LOOKUP(BA52,$A$3:$Y$3,$A$4:$AE$4) -> 5 | AL52: =LOOKUP(BB52,$A$3:$Y$3,$A$4:$AE$4) -> 6 | AM52: =LOOKUP(BC52,$A$3:$Y$3,$A$4:$AE$4) -> 7 | AN52: =LOOKUP(BD52,$A$3:$Y$3,$A$4:$AE$4) -> 8 | ... AU52: =LOOKUP(BK52,$A$3:$Y$3,$A$4:$AE$4) -> 16 | AW52: 1 | AX52: 2 | AY52: 3 | AZ52: 4 | BA52: 5 | BB52: 6 | BC52: 7 | BD52: 8 | BE52: 9 | BF52: 10 | BG52: 11 | BH52: 13 | BI52: 14 | BJ52: 15 | BK52: 16 | BZ52: =LOOKUP(CP52,$A$3:$Y$3,$A$4:$AE$4) -> 1 | CA52: =LOOKUP(CQ52,$A$3:$Y$3,$A$4:$AE$4) -> 2 | CB52: =LOOKUP(CR52,$A$3:$Y$3,$A$4:$AE$4) -> 3 | CC52: =LOOKUP(CS52,$A$3:$Y$3,$A$4:$AE$4) -> 4 | CD52: =LOOKUP(CT52,$A$3:$Y$3,$A$4:$AE$4) -> 6 | CE52: =LOOKUP(CU52,$A$3:$Y$3,$A$4:$AE$4) -> 7 | CF52: =LOOKUP(CV52,$A$3:$Y$3,$A$4:$AE$4) -> 9 | CG52: =LOOKUP(CW52,$A$3:$Y$3,$A$4:$AE$4) -> 10 | ... CN52: =LOOKUP(DD52,$A$3:$Y$3,$A$4:$AE$4) -> 21 | CP52: 1 | CQ52: 2 | CR52: 3 | CS52: 4 | CT52: 6 | CU52: 7 | CV52: 9 | CW52: 10 | CX52: 11 | CY52: 13 | CZ52: 14 | DA52: 15 | DB52: 16 | DC52: 17 | DD52: 18
A53: =SMALL($A27:$O27,A$3) -> 1 | B53: =SMALL($A27:$O27,B$3) -> 2 | C53: =SMALL($A27:$O27,C$3) -> 5 | D53: =SMALL($A27:$O27,D$3) -> 6 | E53: =SMALL($A27:$O27,E$3) -> 8 | F53: =SMALL($A27:$O27,F$3) -> 9 | G53: =SMALL($A27:$O27,G$3) -> 10 | H53: =SMALL($A27:$O27,H$3) -> 11 | ... O53: =SMALL($A27:$O27,O$3) -> 22 | R53: 7 | AG53: =LOOKUP(AW53,$A$3:$Y$3,$A$4:$AE$4) -> 1 | AH53: =LOOKUP(AX53,$A$3:$Y$3,$A$4:$AE$4) -> 2 | AI53: =LOOKUP(AY53,$A$3:$Y$3,$A$4:$AE$4) -> 3 | AJ53: =LOOKUP(AZ53,$A$3:$Y$3,$A$4:$AE$4) -> 4 | AK53: =LOOKUP(BA53,$A$3:$Y$3,$A$4:$AE$4) -> 5 | AL53: =LOOKUP(BB53,$A$3:$Y$3,$A$4:$AE$4) -> 6 | AM53: =LOOKUP(BC53,$A$3:$Y$3,$A$4:$AE$4) -> 7 | AN53: =LOOKUP(BD53,$A$3:$Y$3,$A$4:$AE$4) -> 8 | ... AU53: =LOOKUP(BK53,$A$3:$Y$3,$A$4:$AE$4) -> 21 | AW53: 1 | AX53: 2 | AY53: 3 | AZ53: 4 | BA53: 5 | BB53: 6 | BC53: 7 | BD53: 8 | BE53: 9 | BF53: 10 | BG53: 11 | BH53: 13 | BI53: 14 | BJ53: 16 | BK53: 18 | BZ53: =LOOKUP(CP53,$A$3:$Y$3,$A$4:$AE$4) -> 1 | CA53: =LOOKUP(CQ53,$A$3:$Y$3,$A$4:$AE$4) -> 2 | CB53: =LOOKUP(CR53,$A$3:$Y$3,$A$4:$AE$4) -> 3 | CC53: =LOOKUP(CS53,$A$3:$Y$3,$A$4:$AE$4) -> 4 | CD53: =LOOKUP(CT53,$A$3:$Y$3,$A$4:$AE$4) -> 7 | CE53: =LOOKUP(CU53,$A$3:$Y$3,$A$4:$AE$4) -> 8 | CF53: =LOOKUP(CV53,$A$3:$Y$3,$A$4:$AE$4) -> 9 | CG53: =LOOKUP(CW53,$A$3:$Y$3,$A$4:$AE$4) -> 10 | ... CN53: =LOOKUP(DD53,$A$3:$Y$3,$A$4:$AE$4) -> 21 | CP53: 1 | CQ53: 2 | CR53: 3 | CS53: 4 | CT53: 7 | CU53: 8 | CV53: 9 | CW53: 10 | CX53: 11 | CY53: 12 | CZ53: 14 | DA53: 15 | DB53: 16 | DC53: 17 | DD53: 18
A54: =SMALL($A28:$O28,A$3) -> 1 | B54: =SMALL($A28:$O28,B$3) -> 2 | C54: =SMALL($A28:$O28,C$3) -> 3 | D54: =SMALL($A28:$O28,D$3) -> 4 | E54: =SMALL($A28:$O28,E$3) -> 5 | F54: =SMALL($A28:$O28,F$3) -> 6 | G54: =SMALL($A28:$O28,G$3) -> 7 | H54: =SMALL($A28:$O28,H$3) -> 8 | ... O54: =SMALL($A28:$O28,O$3) -> 21 | R54: 8 | AG54: =LOOKUP(AW54,$A$3:$Y$3,$A$4:$AE$4) -> 1 | AH54: =LOOKUP(AX54,$A$3:$Y$3,$A$4:$AE$4) -> 2 | AI54: =LOOKUP(AY54,$A$3:$Y$3,$A$4:$AE$4) -> 3 | AJ54: =LOOKUP(AZ54,$A$3:$Y$3,$A$4:$AE$4) -> 4 | AK54: =LOOKUP(BA54,$A$3:$Y$3,$A$4:$AE$4) -> 5 | AL54: =LOOKUP(BB54,$A$3:$Y$3,$A$4:$AE$4) -> 6 | AM54: =LOOKUP(BC54,$A$3:$Y$3,$A$4:$AE$4) -> 7 | AN54: =LOOKUP(BD54,$A$3:$Y$3,$A$4:$AE$4) -> 8 | ... AU54: =LOOKUP(BK54,$A$3:$Y$3,$A$4:$AE$4) -> 22 | AW54: 1 | AX54: 2 | AY54: 3 | AZ54: 4 | BA54: 5 | BB54: 6 | BC54: 7 | BD54: 8 | BE54: 9 | BF54: 10 | BG54: 11 | BH54: 13 | BI54: 15 | BJ54: 16 | BK54: 17 | BZ54: =LOOKUP(CP54,$A$3:$Y$3,$A$4:$AE$4) -> 1 | CA54: =LOOKUP(CQ54,$A$3:$Y$3,$A$4:$AE$4) -> 2 | CB54: =LOOKUP(CR54,$A$3:$Y$3,$A$4:$AE$4) -> 3 | CC54: =LOOKUP(CS54,$A$3:$Y$3,$A$4:$AE$4) -> 4 | CD54: =LOOKUP(CT54,$A$3:$Y$3,$A$4:$AE$4) -> 7 | CE54: =LOOKUP(CU54,$A$3:$Y$3,$A$4:$AE$4) -> 8 | CF54: =LOOKUP(CV54,$A$3:$Y$3,$A$4:$AE$4) -> 9 | CG54: =LOOKUP(CW54,$A$3:$Y$3,$A$4:$AE$4) -> 10 | ... CN54: =LOOKUP(DD54,$A$3:$Y$3,$A$4:$AE$4) -> 21 | CP54: 1 | CQ54: 2 | CR54: 3 | CS54: 4 | CT54: 7 | CU54: 8 | CV54: 9 | CW54: 10 | CX54: 11 | CY54: 13 | CZ54: 14 | DA54: 15 | DB54: 16 | DC54: 17 | DD54: 18
A55: =SMALL($A29:$O29,A$3) -> 1 | B55: =SMALL($A29:$O29,B$3) -> 2 | C55: =SMALL($A29:$O29,C$3) -> 3 | D55: =SMALL($A29:$O29,D$3) -> 4 | E55: =SMALL($A29:$O29,E$3) -> 5 | F55: =SMALL($A29:$O29,F$3) -> 6 | G55: =SMALL($A29:$O29,G$3) -> 7 | H55: =SMALL($A29:$O29,H$3) -> 8 | ... O55: =SMALL($A29:$O29,O$3) -> 16 | R55: 9 | AG55: =LOOKUP(AW55,$A$3:$Y$3,$A$4:$AE$4) -> 1 | AH55: =LOOKUP(AX55,$A$3:$Y$3,$A$4:$AE$4) -> 2 | AI55: =LOOKUP(AY55,$A$3:$Y$3,$A$4:$AE$4) -> 3 | AJ55: =LOOKUP(AZ55,$A$3:$Y$3,$A$4:$AE$4) -> 4 | AK55: =LOOKUP(BA55,$A$3:$Y$3,$A$4:$AE$4) -> 5 | AL55: =LOOKUP(BB55,$A$3:$Y$3,$A$4:$AE$4) -> 6 | AM55: =LOOKUP(BC55,$A$3:$Y$3,$A$4:$AE$4) -> 7 | AN55: =LOOKUP(BD55,$A$3:$Y$3,$A$4:$AE$4) -> 8 | ... AU55: =LOOKUP(BK55,$A$3:$Y$3,$A$4:$AE$4) -> 21 | AW55: 1 | AX55: 2 | AY55: 3 | AZ55: 4 | BA55: 5 | BB55: 6 | BC55: 7 | BD55: 8 | BE55: 9 | BF55: 10 | BG55: 11 | BH55: 13 | BI55: 15 | BJ55: 16 | BK55: 18 | BZ55: =LOOKUP(CP55,$A$3:$Y$3,$A$4:$AE$4) -> 1 | CA55: =LOOKUP(CQ55,$A$3:$Y$3,$A$4:$AE$4) -> 2 | CB55: =LOOKUP(CR55,$A$3:$Y$3,$A$4:$AE$4) -> 3 | CC55: =LOOKUP(CS55,$A$3:$Y$3,$A$4:$AE$4) -> 5 | CD55: =LOOKUP(CT55,$A$3:$Y$3,$A$4:$AE$4) -> 6 | CE55: =LOOKUP(CU55,$A$3:$Y$3,$A$4:$AE$4) -> 7 | CF55: =LOOKUP(CV55,$A$3:$Y$3,$A$4:$AE$4) -> 9 | CG55: =LOOKUP(CW55,$A$3:$Y$3,$A$4:$AE$4) -> 10 | ... CN55: =LOOKUP(DD55,$A$3:$Y$3,$A$4:$AE$4) -> 21 | CP55: 1 | CQ55: 2 | CR55: 3 | CS55: 5 | CT55: 6 | CU55: 7 | CV55: 9 | CW55: 10 | CX55: 11 | CY55: 12 | CZ55: 13 | DA55: 15 | DB55: 16 | DC55: 17 | DD55: 18
A56: =SMALL($A30:$O30,A$3) -> 1 | B56: =SMALL($A30:$O30,B$3) -> 2 | C56: =SMALL($A30:$O30,C$3) -> 3 | D56: =SMALL($A30:$O30,D$3) -> 5 | E56: =SMALL($A30:$O30,E$3) -> 6 | F56: =SMALL($A30:$O30,F$3) -> 7 | G56: =SMALL($A30:$O30,G$3) -> 8 | H56: =SMALL($A30:$O30,H$3) -> 10 | ... O56: =SMALL($A30:$O30,O$3) -> 22 | R56: 10 | AG56: =LOOKUP(AW56,$A$3:$Y$3,$A$4:$AE$4) -> 1 | AH56: =LOOKUP(AX56,$A$3:$Y$3,$A$4:$AE$4) -> 2 | AI56: =LOOKUP(AY56,$A$3:$Y$3,$A$4:$AE$4) -> 3 | AJ56: =LOOKUP(AZ56,$A$3:$Y$3,$A$4:$AE$4) -> 4 | AK56: =LOOKUP(BA56,$A$3:$Y$3,$A$4:$AE$4) -> 5 | AL56: =LOOKUP(BB56,$A$3:$Y$3,$A$4:$AE$4) -> 6 | AM56: =LOOKUP(BC56,$A$3:$Y$3,$A$4:$AE$4) -> 7 | AN56: =LOOKUP(BD56,$A$3:$Y$3,$A$4:$AE$4) -> 8 | ... AU56: =LOOKUP(BK56,$A$3:$Y$3,$A$4:$AE$4) -> 21 | AW56: 1 | AX56: 2 | AY56: 3 | AZ56: 4 | BA56: 5 | BB56: 6 | BC56: 7 | BD56: 8 | BE56: 9 | BF56: 10 | BG56: 11 | BH56: 13 | BI56: 15 | BJ56: 17 | BK56: 18 | BZ56: =LOOKUP(CP56,$A$3:$Y$3,$A$4:$AE$4) -> 1 | CA56: =LOOKUP(CQ56,$A$3:$Y$3,$A$4:$AE$4) -> 2 | CB56: =LOOKUP(CR56,$A$3:$Y$3,$A$4:$AE$4) -> 3 | CC56: =LOOKUP(CS56,$A$3:$Y$3,$A$4:$AE$4) -> 5 | CD56: =LOOKUP(CT56,$A$3:$Y$3,$A$4:$AE$4) -> 6 | CE56: =LOOKUP(CU56,$A$3:$Y$3,$A$4:$AE$4) -> 9 | CF56: =LOOKUP(CV56,$A$3:$Y$3,$A$4:$AE$4) -> 10 | CG56: =LOOKUP(CW56,$A$3:$Y$3,$A$4:$AE$4) -> 11 | ... CN56: =LOOKUP(DD56,$A$3:$Y$3,$A$4:$AE$4) -> 21 | CP56: 1 | CQ56: 2 | CR56: 3 | CS56: 5 | CT56: 6 | CU56: 9 | CV56: 10 | CW56: 11 | CX56: 12 | CY56: 13 | CZ56: 14 | DA56: 15 | DB56: 16 | DC56: 17 | DD56: 18
A57: =SMALL($A31:$O31,A$3) -> 1 | B57: =SMALL($A31:$O31,B$3) -> 4 | C57: =SMALL($A31:$O31,C$3) -> 5 | D57: =SMALL($A31:$O31,D$3) -> 6 | E57: =SMALL($A31:$O31,E$3) -> 7 | F57: =SMALL($A31:$O31,F$3) -> 8 | G57: =SMALL($A31:$O31,G$3) -> 9 | H57: =SMALL($A31:$O31,H$3) -> 10 | ... O57: =SMALL($A31:$O31,O$3) -> 22 | R57: 11 | AG57: =LOOKUP(AW57,$A$3:$Y$3,$A$4:$AE$4) -> 1 | AH57: =LOOKUP(AX57,$A$3:$Y$3,$A$4:$AE$4) -> 2 | AI57: =LOOKUP(AY57,$A$3:$Y$3,$A$4:$AE$4) -> 3 | AJ57: =LOOKUP(AZ57,$A$3:$Y$3,$A$4:$AE$4) -> 4 | AK57: =LOOKUP(BA57,$A$3:$Y$3,$A$4:$AE$4) -> 5 | AL57: =LOOKUP(BB57,$A$3:$Y$3,$A$4:$AE$4) -> 6 | AM57: =LOOKUP(BC57,$A$3:$Y$3,$A$4:$AE$4) -> 7 | AN57: =LOOKUP(BD57,$A$3:$Y$3,$A$4:$AE$4) -> 8 | ... AU57: =LOOKUP(BK57,$A$3:$Y$3,$A$4:$AE$4) -> 21 | AW57: 1 | AX57: 2 | AY57: 3 | AZ57: 4 | BA57: 5 | BB57: 6 | BC57: 7 | BD57: 8 | BE57: 9 | BF57: 10 | BG57: 11 | BH57: 13 | BI57: 16 | BJ57: 17 | BK57: 18 | BZ57: =LOOKUP(CP57,$A$3:$Y$3,$A$4:$AE$4) -> 1 | CA57: =LOOKUP(CQ57,$A$3:$Y$3,$A$4:$AE$4) -> 2 | CB57: =LOOKUP(CR57,$A$3:$Y$3,$A$4:$AE$4) -> 3 | CC57: =LOOKUP(CS57,$A$3:$Y$3,$A$4:$AE$4) -> 5 | CD57: =LOOKUP(CT57,$A$3:$Y$3,$A$4:$AE$4) -> 7 | CE57: =LOOKUP(CU57,$A$3:$Y$3,$A$4:$AE$4) -> 8 | CF57: =LOOKUP(CV57,$A$3:$Y$3,$A$4:$AE$4) -> 9 | CG57: =LOOKUP(CW57,$A$3:$Y$3,$A$4:$AE$4) -> 10 | ... CN57: =LOOKUP(DD57,$A$3:$Y$3,$A$4:$AE$4) -> 21 | CP57: 1 | CQ57: 2 | CR57: 3 | CS57: 5 | CT57: 7 | CU57: 8 | CV57: 9 | CW57: 10 | CX57: 11 | CY57: 12 | CZ57: 13 | DA57: 15 | DB57: 16 | DC57: 17 | DD57: 18
A58: =SMALL($A32:$O32,A$3) -> 1 | B58: =SMALL($A32:$O32,B$3) -> 3 | C58: =SMALL($A32:$O32,C$3) -> 5 | D58: =SMALL($A32:$O32,D$3) -> 6 | E58: =SMALL($A32:$O32,E$3) -> 7 | F58: =SMALL($A32:$O32,F$3) -> 8 | G58: =SMALL($A32:$O32,G$3) -> 9 | H58: =SMALL($A32:$O32,H$3) -> 10 | ... O58: =SMALL($A32:$O32,O$3) -> 22 | R58: 12 | AG58: =LOOKUP(AW58,$A$3:$Y$3,$A$4:$AE$4) -> 1 | AH58: =LOOKUP(AX58,$A$3:$Y$3,$A$4:$AE$4) -> 2 | AI58: =LOOKUP(AY58,$A$3:$Y$3,$A$4:$AE$4) -> 3 | AJ58: =LOOKUP(AZ58,$A$3:$Y$3,$A$4:$AE$4) -> 4 | AK58: =LOOKUP(BA58,$A$3:$Y$3,$A$4:$AE$4) -> 5 | AL58: =LOOKUP(BB58,$A$3:$Y$3,$A$4:$AE$4) -> 6 | AM58: =LOOKUP(BC58,$A$3:$Y$3,$A$4:$AE$4) -> 7 | AN58: =LOOKUP(BD58,$A$3:$Y$3,$A$4:$AE$4) -> 8 | ... AU58: =LOOKUP(BK58,$A$3:$Y$3,$A$4:$AE$4) -> 21 | AW58: 1 | AX58: 2 | AY58: 3 | AZ58: 4 | BA58: 5 | BB58: 6 | BC58: 7 | BD58: 8 | BE58: 9 | BF58: 10 | BG58: 11 | BH58: 14 | BI58: 15 | BJ58: 16 | BK58: 18 | BZ58: =LOOKUP(CP58,$A$3:$Y$3,$A$4:$AE$4) -> 1 | CA58: =LOOKUP(CQ58,$A$3:$Y$3,$A$4:$AE$4) -> 2 | CB58: =LOOKUP(CR58,$A$3:$Y$3,$A$4:$AE$4) -> 3 | CC58: =LOOKUP(CS58,$A$3:$Y$3,$A$4:$AE$4) -> 5 | CD58: =LOOKUP(CT58,$A$3:$Y$3,$A$4:$AE$4) -> 8 | CE58: =LOOKUP(CU58,$A$3:$Y$3,$A$4:$AE$4) -> 9 | CF58: =LOOKUP(CV58,$A$3:$Y$3,$A$4:$AE$4) -> 10 | CG58: =LOOKUP(CW58,$A$3:$Y$3,$A$4:$AE$4) -> 11 | ... CN58: =LOOKUP(DD58,$A$3:$Y$3,$A$4:$AE$4) -> 21 | CP58: 1 | CQ58: 2 | CR58: 3 | CS58: 5 | CT58: 8 | CU58: 9 | CV58: 10 | CW58: 11 | CX58: 12 | CY58: 13 | CZ58: 14 | DA58: 15 | DB58: 16 | DC58: 17 | DD58: 18
... A70: =SMALL($A44:$O44,A$3) -> 2 | B70: =SMALL($A44:$O44,B$3) -> 3 | C70: =SMALL($A44:$O44,C$3) -> 4 | D70: =SMALL($A44:$O44,D$3) -> 5 | E70: =SMALL($A44:$O44,E$3) -> 6 | F70: =SMALL($A44:$O44,F$3) -> 7 | G70: =SMALL($A44:$O44,G$3) -> 8 | H70: =SMALL($A44:$O44,H$3) -> 9 | ... O70: =SMALL($A44:$O44,O$3) -> 22 | R70: 24 | AG70: =LOOKUP(AW70,$A$3:$Y$3,$A$4:$AE$4) -> 1 | AH70: =LOOKUP(AX70,$A$3:$Y$3,$A$4:$AE$4) -> 2 | AI70: =LOOKUP(AY70,$A$3:$Y$3,$A$4:$AE$4) -> 3 | AJ70: =LOOKUP(AZ70,$A$3:$Y$3,$A$4:$AE$4) -> 4 | AK70: =LOOKUP(BA70,$A$3:$Y$3,$A$4:$AE$4) -> 5 | AL70: =LOOKUP(BB70,$A$3:$Y$3,$A$4:$AE$4) -> 6 | AM70: =LOOKUP(BC70,$A$3:$Y$3,$A$4:$AE$4) -> 7 | AN70: =LOOKUP(BD70,$A$3:$Y$3,$A$4:$AE$4) -> 8 | ... AU70: =LOOKUP(BK70,$A$3:$Y$3,$A$4:$AE$4) -> 21 | AW70: 1 | AX70: 2 | AY70: 3 | AZ70: 4 | BA70: 5 | BB70: 6 | BC70: 7 | BD70: 8 | BE70: 9 | BF70: 11 | BG70: 12 | BH70: 13 | BI70: 14 | BJ70: 16 | BK70: 18 | BZ70: =LOOKUP(CP70,$A$3:$Y$3,$A$4:$AE$4) -> 1 | CA70: =LOOKUP(CQ70,$A$3:$Y$3,$A$4:$AE$4) -> 2 | CB70: =LOOKUP(CR70,$A$3:$Y$3,$A$4:$AE$4) -> 4 | CC70: =LOOKUP(CS70,$A$3:$Y$3,$A$4:$AE$4) -> 5 | CD70: =LOOKUP(CT70,$A$3:$Y$3,$A$4:$AE$4) -> 6 | CE70: =LOOKUP(CU70,$A$3:$Y$3,$A$4:$AE$4) -> 8 | CF70: =LOOKUP(CV70,$A$3:$Y$3,$A$4:$AE$4) -> 9 | CG70: =LOOKUP(CW70,$A$3:$Y$3,$A$4:$AE$4) -> 11 | ... CN70: =LOOKUP(DD70,$A$3:$Y$3,$A$4:$AE$4) -> 21 | CP70: 1 | CQ70: 2 | CR70: 4 | CS70: 5 | CT70: 6 | CU70: 8 | CV70: 9 | CW70: 11 | CX70: 12 | CY70: 13 | CZ70: 14 | DA70: 15 | DB70: 16 | DC70: 17 | DD70: 18
AG71: =LOOKUP(AW71,$A$3:$Y$3,$A$4:$AE$4) -> 1 | AH71: =LOOKUP(AX71,$A$3:$Y$3,$A$4:$AE$4) -> 2 | AI71: =LOOKUP(AY71,$A$3:$Y$3,$A$4:$AE$4) -> 3 | AJ71: =LOOKUP(AZ71,$A$3:$Y$3,$A$4:$AE$4) -> 4 | AK71: =LOOKUP(BA71,$A$3:$Y$3,$A$4:$AE$4) -> 5 | AL71: =LOOKUP(BB71,$A$3:$Y$3,$A$4:$AE$4) -> 6 | AM71: =LOOKUP(BC71,$A$3:$Y$3,$A$4:$AE$4) -> 7 | AN71: =LOOKUP(BD71,$A$3:$Y$3,$A$4:$AE$4) -> 8 | ... AU71: =LOOKUP(BK71,$A$3:$Y$3,$A$4:$AE$4) -> 22 | AW71: 1 | AX71: 2 | AY71: 3 | AZ71: 4 | BA71: 5 | BB71: 6 | BC71: 7 | BD71: 8 | BE71: 9 | BF71: 11 | BG71: 12 | BH71: 13 | BI71: 15 | BJ71: 16 | BK71: 17 | BZ71: =LOOKUP(CP71,$A$3:$Y$3,$A$4:$AE$4) -> 1 | CA71: =LOOKUP(CQ71,$A$3:$Y$3,$A$4:$AE$4) -> 2 | CB71: =LOOKUP(CR71,$A$3:$Y$3,$A$4:$AE$4) -> 4 | CC71: =LOOKUP(CS71,$A$3:$Y$3,$A$4:$AE$4) -> 5 | CD71: =LOOKUP(CT71,$A$3:$Y$3,$A$4:$AE$4) -> 6 | CE71: =LOOKUP(CU71,$A$3:$Y$3,$A$4:$AE$4) -> 8 | CF71: =LOOKUP(CV71,$A$3:$Y$3,$A$4:$AE$4) -> 10 | CG71: =LOOKUP(CW71,$A$3:$Y$3,$A$4:$AE$4) -> 11 | ... CN71: =LOOKUP(DD71,$A$3:$Y$3,$A$4:$AE$4) -> 21 | CP71: 1 | CQ71: 2 | CR71: 4 | CS71: 5 | CT71: 6 | CU71: 8 | CV71: 10 | CW71: 11 | CX71: 12 | CY71: 13 | CZ71: 14 | DA71: 15 | DB71: 16 | DC71: 17 | DD71: 18
AG72: =LOOKUP(AW72,$A$3:$Y$3,$A$4:$AE$4) -> 1 | AH72: =LOOKUP(AX72,$A$3:$Y$3,$A$4:$AE$4) -> 2 | AI72: =LOOKUP(AY72,$A$3:$Y$3,$A$4:$AE$4) -> 3 | AJ72: =LOOKUP(AZ72,$A$3:$Y$3,$A$4:$AE$4) -> 4 | AK72: =LOOKUP(BA72,$A$3:$Y$3,$A$4:$AE$4) -> 5 | AL72: =LOOKUP(BB72,$A$3:$Y$3,$A$4:$AE$4) -> 6 | AM72: =LOOKUP(BC72,$A$3:$Y$3,$A$4:$AE$4) -> 7 | AN72: =LOOKUP(BD72,$A$3:$Y$3,$A$4:$AE$4) -> 8 | ... AU72: =LOOKUP(BK72,$A$3:$Y$3,$A$4:$AE$4) -> 21 | AW72: 1 | AX72: 2 | AY72: 3 | AZ72: 4 | BA72: 5 | BB72: 6 | BC72: 7 | BD72: 8 | BE72: 9 | BF72: 11 | BG72: 12 | BH72: 13 | BI72: 15 | BJ72: 16 | BK72: 18 | BZ72: =LOOKUP(CP72,$A$3:$Y$3,$A$4:$AE$4) -> 1 | CA72: =LOOKUP(CQ72,$A$3:$Y$3,$A$4:$AE$4) -> 2 | CB72: =LOOKUP(CR72,$A$3:$Y$3,$A$4:$AE$4) -> 4 | CC72: =LOOKUP(CS72,$A$3:$Y$3,$A$4:$AE$4) -> 5 | CD72: =LOOKUP(CT72,$A$3:$Y$3,$A$4:$AE$4) -> 7 | CE72: =LOOKUP(CU72,$A$3:$Y$3,$A$4:$AE$4) -> 9 | CF72: =LOOKUP(CV72,$A$3:$Y$3,$A$4:$AE$4) -> 10 | CG72: =LOOKUP(CW72,$A$3:$Y$3,$A$4:$AE$4) -> 11 | ... CN72: =LOOKUP(DD72,$A$3:$Y$3,$A$4:$AE$4) -> 21 | CP72: 1 | CQ72: 2 | CR72: 4 | CS72: 5 | CT72: 7 | CU72: 9 | CV72: 10 | CW72: 11 | CX72: 12 | CY72: 13 | CZ72: 14 | DA72: 15 | DB72: 16 | DC72: 17 | DD72: 18
A73: =LOOKUP(Q73,$A$3:$Y$3,$A$4:$AE$4) -> 1 | B73: =LOOKUP(R73,$A$3:$Y$3,$A$4:$AE$4) -> 2 | C73: =LOOKUP(S73,$A$3:$Y$3,$A$4:$AE$4) -> 3 | D73: =LOOKUP(T73,$A$3:$Y$3,$A$4:$AE$4) -> 4 | E73: =LOOKUP(U73,$A$3:$Y$3,$A$4:$AE$4) -> 5 | F73: =LOOKUP(V73,$A$3:$Y$3,$A$4:$AE$4) -> 6 | G73: =LOOKUP(W73,$A$3:$Y$3,$A$4:$AE$4) -> 7 | H73: =LOOKUP(X73,$A$3:$Y$3,$A$4:$AE$4) -> 8 | ... O73: =LOOKUP(AE73,$A$3:$Y$3,$A$4:$AE$4) -> 21 | Q73: 1 | R73: 2 | S73: 3 | T73: 4 | U73: 5 | V73: 6 | W73: 7 | X73: 8 | Y73: 9 | Z73: 10 | AA73: 11 | AB73: 12 | AC73: 13 | AD73: 14 | AE73: 18 | AG73: =LOOKUP(AW73,$A$3:$Y$3,$A$4:$AE$4) -> 1 | AH73: =LOOKUP(AX73,$A$3:$Y$3,$A$4:$AE$4) -> 2 | AI73: =LOOKUP(AY73,$A$3:$Y$3,$A$4:$AE$4) -> 3 | AJ73: =LOOKUP(AZ73,$A$3:$Y$3,$A$4:$AE$4) -> 4 | AK73: =LOOKUP(BA73,$A$3:$Y$3,$A$4:$AE$4) -> 5 | AL73: =LOOKUP(BB73,$A$3:$Y$3,$A$4:$AE$4) -> 6 | AM73: =LOOKUP(BC73,$A$3:$Y$3,$A$4:$AE$4) -> 7 | AN73: =LOOKUP(BD73,$A$3:$Y$3,$A$4:$AE$4) -> 8 | ... AU73: =LOOKUP(BK73,$A$3:$Y$3,$A$4:$AE$4) -> 21 | AW73: 1 | AX73: 2 | AY73: 3 | AZ73: 4 | BA73: 5 | BB73: 6 | BC73: 7 | BD73: 8 | BE73: 9 | BF73: 11 | BG73: 12 | BH73: 13 | BI73: 15 | BJ73: 17 | BK73: 18 | BZ73: =LOOKUP(CP73,$A$3:$Y$3,$A$4:$AE$4) -> 1 | CA73: =LOOKUP(CQ73,$A$3:$Y$3,$A$4:$AE$4) -> 2 | CB73: =LOOKUP(CR73,$A$3:$Y$3,$A$4:$AE$4) -> 5 | CC73: =LOOKUP(CS73,$A$3:$Y$3,$A$4:$AE$4) -> 6 | CD73: =LOOKUP(CT73,$A$3:$Y$3,$A$4:$AE$4) -> 7 | CE73: =LOOKUP(CU73,$A$3:$Y$3,$A$4:$AE$4) -> 9 | CF73: =LOOKUP(CV73,$A$3:$Y$3,$A$4:$AE$4) -> 10 | CG73: =LOOKUP(CW73,$A$3:$Y$3,$A$4:$AE$4) -> 11 | ... CN73: =LOOKUP(DD73,$A$3:$Y$3,$A$4:$AE$4) -> 21 | CP73: 1 | CQ73: 2 | CR73: 5 | CS73: 6 | CT73: 7 | CU73: 9 | CV73: 10 | CW73: 11 | CX73: 12 | CY73: 13 | CZ73: 14 | DA73: 15 | DB73: 16 | DC73: 17 | DD73: 18
A74: =LOOKUP(Q74,$A$3:$Y$3,$A$4:$AE$4) -> 1 | B74: =LOOKUP(R74,$A$3:$Y$3,$A$4:$AE$4) -> 2 | C74: =LOOKUP(S74,$A$3:$Y$3,$A$4:$AE$4) -> 3 | D74: =LOOKUP(T74,$A$3:$Y$3,$A$4:$AE$4) -> 4 | E74: =LOOKUP(U74,$A$3:$Y$3,$A$4:$AE$4) -> 5 | F74: =LOOKUP(V74,$A$3:$Y$3,$A$4:$AE$4) -> 6 | G74: =LOOKUP(W74,$A$3:$Y$3,$A$4:$AE$4) -> 7 | H74: =LOOKUP(X74,$A$3:$Y$3,$A$4:$AE$4) -> 8 | ... O74: =LOOKUP(AE74,$A$3:$Y$3,$A$4:$AE$4) -> 21 | Q74: 1 | R74: 2 | S74: 3 | T74: 4 | U74: 5 | V74: 6 | W74: 7 | X74: 8 | Y74: 9 | Z74: 10 | AA74: 11 | AB74: 12 | AC74: 14 | AD74: 16 | AE74: 18 | AG74: =LOOKUP(AW74,$A$3:$Y$3,$A$4:$AE$4) -> 1 | AH74: =LOOKUP(AX74,$A$3:$Y$3,$A$4:$AE$4) -> 2 | AI74: =LOOKUP(AY74,$A$3:$Y$3,$A$4:$AE$4) -> 3 | AJ74: =LOOKUP(AZ74,$A$3:$Y$3,$A$4:$AE$4) -> 4 | AK74: =LOOKUP(BA74,$A$3:$Y$3,$A$4:$AE$4) -> 5 | AL74: =LOOKUP(BB74,$A$3:$Y$3,$A$4:$AE$4) -> 6 | AM74: =LOOKUP(BC74,$A$3:$Y$3,$A$4:$AE$4) -> 7 | AN74: =LOOKUP(BD74,$A$3:$Y$3,$A$4:$AE$4) -> 8 | ... AU74: =LOOKUP(BK74,$A$3:$Y$3,$A$4:$AE$4) -> 21 | AW74: 1 | AX74: 2 | AY74: 3 | AZ74: 4 | BA74: 5 | BB74: 6 | BC74: 7 | BD74: 8 | BE74: 9 | BF74: 11 | BG74: 12 | BH74: 13 | BI74: 16 | BJ74: 17 | BK74: 18 | BZ74: =LOOKUP(CP74,$A$3:$Y$3,$A$4:$AE$4) -> 1 | CA74: =LOOKUP(CQ74,$A$3:$Y$3,$A$4:$AE$4) -> 2 | CB74: =LOOKUP(CR74,$A$3:$Y$3,$A$4:$AE$4) -> 5 | CC74: =LOOKUP(CS74,$A$3:$Y$3,$A$4:$AE$4) -> 7 | CD74: =LOOKUP(CT74,$A$3:$Y$3,$A$4:$AE$4) -> 8 | CE74: =LOOKUP(CU74,$A$3:$Y$3,$A$4:$AE$4) -> 9 | CF74: =LOOKUP(CV74,$A$3:$Y$3,$A$4:$AE$4) -> 10 | CG74: =LOOKUP(CW74,$A$3:$Y$3,$A$4:$AE$4) -> 11 | ... CN74: =LOOKUP(DD74,$A$3:$Y$3,$A$4:$AE$4) -> 21 | CP74: 1 | CQ74: 2 | CR74: 5 | CS74: 7 | CT74: 8 | CU74: 9 | CV74: 10 | CW74: 11 | CX74: 12 | CY74: 13 | CZ74: 14 | DA74: 15 | DB74: 16 | DC74: 17 | DD74: 18
A75: =LOOKUP(Q75,$A$3:$Y$3,$A$4:$AE$4) -> 1 | B75: =LOOKUP(R75,$A$3:$Y$3,$A$4:$AE$4) -> 2 | C75: =LOOKUP(S75,$A$3:$Y$3,$A$4:$AE$4) -> 3 | D75: =LOOKUP(T75,$A$3:$Y$3,$A$4:$AE$4) -> 4 | E75: =LOOKUP(U75,$A$3:$Y$3,$A$4:$AE$4) -> 5 | F75: =LOOKUP(V75,$A$3:$Y$3,$A$4:$AE$4) -> 6 | G75: =LOOKUP(W75,$A$3:$Y$3,$A$4:$AE$4) -> 7 | H75: =LOOKUP(X75,$A$3:$Y$3,$A$4:$AE$4) -> 8 | ... O75: =LOOKUP(AE75,$A$3:$Y$3,$A$4:$AE$4) -> 16 | Q75: 1 | R75: 2 | S75: 3 | T75: 4 | U75: 5 | V75: 6 | W75: 7 | X75: 8 | Y75: 9 | Z75: 10 | AA75: 11 | AB75: 13 | AC75: 14 | AD75: 15 | AE75: 16 | AG75: =LOOKUP(AW75,$A$3:$Y$3,$A$4:$AE$4) -> 1 | AH75: =LOOKUP(AX75,$A$3:$Y$3,$A$4:$AE$4) -> 2 | AI75: =LOOKUP(AY75,$A$3:$Y$3,$A$4:$AE$4) -> 3 | AJ75: =LOOKUP(AZ75,$A$3:$Y$3,$A$4:$AE$4) -> 4 | AK75: =LOOKUP(BA75,$A$3:$Y$3,$A$4:$AE$4) -> 5 | AL75: =LOOKUP(BB75,$A$3:$Y$3,$A$4:$AE$4) -> 6 | AM75: =LOOKUP(BC75,$A$3:$Y$3,$A$4:$AE$4) -> 7 | AN75: =LOOKUP(BD75,$A$3:$Y$3,$A$4:$AE$4) -> 8 | ... AU75: =LOOKUP(BK75,$A$3:$Y$3,$A$4:$AE$4) -> 21 | AW75: 1 | AX75: 2 | AY75: 3 | AZ75: 4 | BA75: 5 | BB75: 6 | BC75: 7 | BD75: 8 | BE75: 9 | BF75: 11 | BG75: 12 | BH75: 14 | BI75: 15 | BJ75: 16 | BK75: 18 | BZ75: =LOOKUP(CP75,$A$3:$Y$3,$A$4:$AE$4) -> 1 | CA75: =LOOKUP(CQ75,$A$3:$Y$3,$A$4:$AE$4) -> 3 | CB75: =LOOKUP(CR75,$A$3:$Y$3,$A$4:$AE$4) -> 4 | CC75: =LOOKUP(CS75,$A$3:$Y$3,$A$4:$AE$4) -> 5 | CD75: =LOOKUP(CT75,$A$3:$Y$3,$A$4:$AE$4) -> 6 | CE75: =LOOKUP(CU75,$A$3:$Y$3,$A$4:$AE$4) -> 7 | CF75: =LOOKUP(CV75,$A$3:$Y$3,$A$4:$AE$4) -> 8 | CG75: =LOOKUP(CW75,$A$3:$Y$3,$A$4:$AE$4) -> 9 | ... CN75: =LOOKUP(DD75,$A$3:$Y$3,$A$4:$AE$4) -> 21 | CP75: 1 | CQ75: 3 | CR75: 4 | CS75: 5 | CT75: 6 | CU75: 7 | CV75: 8 | CW75: 9 | CX75: 10 | CY75: 11 | CZ75: 12 | DA75: 13 | DB75: 14 | DC75: 17 | DD75: 18
A76: =LOOKUP(Q76,$A$3:$Y$3,$A$4:$AE$4) -> 1 | B76: =LOOKUP(R76,$A$3:$Y$3,$A$4:$AE$4) -> 2 | C76: =LOOKUP(S76,$A$3:$Y$3,$A$4:$AE$4) -> 3 | D76: =LOOKUP(T76,$A$3:$Y$3,$A$4:$AE$4) -> 4 | E76: =LOOKUP(U76,$A$3:$Y$3,$A$4:$AE$4) -> 5 | F76: =LOOKUP(V76,$A$3:$Y$3,$A$4:$AE$4) -> 6 | G76: =LOOKUP(W76,$A$3:$Y$3,$A$4:$AE$4) -> 7 | H76: =LOOKUP(X76,$A$3:$Y$3,$A$4:$AE$4) -> 8 | ... O76: =LOOKUP(AE76,$A$3:$Y$3,$A$4:$AE$4) -> 22 | Q76: 1 | R76: 2 | S76: 3 | T76: 4 | U76: 5 | V76: 6 | W76: 7 | X76: 8 | Y76: 9 | Z76: 10 | AA76: 11 | AB76: 13 | AC76: 14 | AD76: 16 | AE76: 17 | AG76: =LOOKUP(AW76,$A$3:$Y$3,$A$4:$AE$4) -> 1 | AH76: =LOOKUP(AX76,$A$3:$Y$3,$A$4:$AE$4) -> 2 | AI76: =LOOKUP(AY76,$A$3:$Y$3,$A$4:$AE$4) -> 3 | AJ76: =LOOKUP(AZ76,$A$3:$Y$3,$A$4:$AE$4) -> 4 | AK76: =LOOKUP(BA76,$A$3:$Y$3,$A$4:$AE$4) -> 5 | AL76: =LOOKUP(BB76,$A$3:$Y$3,$A$4:$AE$4) -> 6 | AM76: =LOOKUP(BC76,$A$3:$Y$3,$A$4:$AE$4) -> 7 | AN76: =LOOKUP(BD76,$A$3:$Y$3,$A$4:$AE$4) -> 8 | ... AU76: =LOOKUP(BK76,$A$3:$Y$3,$A$4:$AE$4) -> 22 | AW76: 1 | AX76: 2 | AY76: 3 | AZ76: 4 | BA76: 5 | BB76: 6 | BC76: 7 | BD76: 8 | BE76: 9 | BF76: 11 | BG76: 13 | BH76: 14 | BI76: 15 | BJ76: 16 | BK76: 17 | BZ76: =LOOKUP(CP76,$A$3:$Y$3,$A$4:$AE$4) -> 1 | CA76: =LOOKUP(CQ76,$A$3:$Y$3,$A$4:$AE$4) -> 3 | CB76: =LOOKUP(CR76,$A$3:$Y$3,$A$4:$AE$4) -> 4 | CC76: =LOOKUP(CS76,$A$3:$Y$3,$A$4:$AE$4) -> 5 | CD76: =LOOKUP(CT76,$A$3:$Y$3,$A$4:$AE$4) -> 6 | CE76: =LOOKUP(CU76,$A$3:$Y$3,$A$4:$AE$4) -> 7 | CF76: =LOOKUP(CV76,$A$3:$Y$3,$A$4:$AE$4) -> 8 | CG76: =LOOKUP(CW76,$A$3:$Y$3,$A$4:$AE$4) -> 9 | ... CN76: =LOOKUP(DD76,$A$3:$Y$3,$A$4:$AE$4) -> 21 | CP76: 1 | CQ76: 3 | CR76: 4 | CS76: 5 | CT76: 6 | CU76: 7 | CV76: 8 | CW76: 9 | CX76: 10 | CY76: 11 | CZ76: 12 | DA76: 15 | DB76: 16 | DC76: 17 | DD76: 18
A77: =LOOKUP(Q77,$A$3:$Y$3,$A$4:$AE$4) -> 1 | B77: =LOOKUP(R77,$A$3:$Y$3,$A$4:$AE$4) -> 2 | C77: =LOOKUP(S77,$A$3:$Y$3,$A$4:$AE$4) -> 3 | D77: =LOOKUP(T77,$A$3:$Y$3,$A$4:$AE$4) -> 4 | E77: =LOOKUP(U77,$A$3:$Y$3,$A$4:$AE$4) -> 5 | F77: =LOOKUP(V77,$A$3:$Y$3,$A$4:$AE$4) -> 6 | G77: =LOOKUP(W77,$A$3:$Y$3,$A$4:$AE$4) -> 7 | H77: =LOOKUP(X77,$A$3:$Y$3,$A$4:$AE$4) -> 8 | ... O77: =LOOKUP(AE77,$A$3:$Y$3,$A$4:$AE$4) -> 21 | Q77: 1 | R77: 2 | S77: 3 | T77: 4 | U77: 5 | V77: 6 | W77: 7 | X77: 8 | Y77: 9 | Z77: 10 | AA77: 12 | AB77: 13 | AC77: 14 | AD77: 16 | AE77: 18 | AG77: =LOOKUP(AW77,$A$3:$Y$3,$A$4:$AE$4) -> 1 | AH77: =LOOKUP(AX77,$A$3:$Y$3,$A$4:$AE$4) -> 2 | AI77: =LOOKUP(AY77,$A$3:$Y$3,$A$4:$AE$4) -> 3 | AJ77: =LOOKUP(AZ77,$A$3:$Y$3,$A$4:$AE$4) -> 4 | AK77: =LOOKUP(BA77,$A$3:$Y$3,$A$4:$AE$4) -> 5 | AL77: =LOOKUP(BB77,$A$3:$Y$3,$A$4:$AE$4) -> 6 | AM77: =LOOKUP(BC77,$A$3:$Y$3,$A$4:$AE$4) -> 7 | AN77: =LOOKUP(BD77,$A$3:$Y$3,$A$4:$AE$4) -> 8 | ... AU77: =LOOKUP(BK77,$A$3:$Y$3,$A$4:$AE$4) -> 21 | AW77: 1 | AX77: 2 | AY77: 3 | AZ77: 4 | BA77: 5 | BB77: 6 | BC77: 7 | BD77: 8 | BE77: 9 | BF77: 11 | BG77: 13 | BH77: 14 | BI77: 15 | BJ77: 16 | BK77: 18 | BZ77: =LOOKUP(CP77,$A$3:$Y$3,$A$4:$AE$4) -> 1 | CA77: =LOOKUP(CQ77,$A$3:$Y$3,$A$4:$AE$4) -> 3 | CB77: =LOOKUP(CR77,$A$3:$Y$3,$A$4:$AE$4) -> 4 | CC77: =LOOKUP(CS77,$A$3:$Y$3,$A$4:$AE$4) -> 5 | CD77: =LOOKUP(CT77,$A$3:$Y$3,$A$4:$AE$4) -> 6 | CE77: =LOOKUP(CU77,$A$3:$Y$3,$A$4:$AE$4) -> 7 | CF77: =LOOKUP(CV77,$A$3:$Y$3,$A$4:$AE$4) -> 8 | CG77: =LOOKUP(CW77,$A$3:$Y$3,$A$4:$AE$4) -> 9 | ... CN77: =LOOKUP(DD77,$A$3:$Y$3,$A$4:$AE$4) -> 22 | CP77: 1 | CQ77: 3 | CR77: 4 | CS77: 5 | CT77: 6 | CU77: 7 | CV77: 8 | CW77: 9 | CX77: 10 | CY77: 12 | CZ77: 13 | DA77: 14 | DB77: 15 | DC77: 16 | DD77: 17
A78: =LOOKUP(Q78,$A$3:$Y$3,$A$4:$AE$4) -> 1 | B78: =LOOKUP(R78,$A$3:$Y$3,$A$4:$AE$4) -> 2 | C78: =LOOKUP(S78,$A$3:$Y$3,$A$4:$AE$4) -> 3 | D78: =LOOKUP(T78,$A$3:$Y$3,$A$4:$AE$4) -> 4 | E78: =LOOKUP(U78,$A$3:$Y$3,$A$4:$AE$4) -> 5 | F78: =LOOKUP(V78,$A$3:$Y$3,$A$4:$AE$4) -> 6 | G78: =LOOKUP(W78,$A$3:$Y$3,$A$4:$AE$4) -> 7 | H78: =LOOKUP(X78,$A$3:$Y$3,$A$4:$AE$4) -> 8 | ... O78: =LOOKUP(AE78,$A$3:$Y$3,$A$4:$AE$4) -> 21 | Q78: 1 | R78: 2 | S78: 3 | T78: 4 | U78: 5 | V78: 6 | W78: 7 | X78: 8 | Y78: 9 | Z78: 10 | AA78: 12 | AB78: 14 | AC78: 15 | AD78: 17 | AE78: 18 | AG78: =LOOKUP(AW78,$A$3:$Y$3,$A$4:$AE$4) -> 1 | AH78: =LOOKUP(AX78,$A$3:$Y$3,$A$4:$AE$4) -> 2 | AI78: =LOOKUP(AY78,$A$3:$Y$3,$A$4:$AE$4) -> 3 | AJ78: =LOOKUP(AZ78,$A$3:$Y$3,$A$4:$AE$4) -> 4 | AK78: =LOOKUP(BA78,$A$3:$Y$3,$A$4:$AE$4) -> 5 | AL78: =LOOKUP(BB78,$A$3:$Y$3,$A$4:$AE$4) -> 6 | AM78: =LOOKUP(BC78,$A$3:$Y$3,$A$4:$AE$4) -> 7 | AN78: =LOOKUP(BD78,$A$3:$Y$3,$A$4:$AE$4) -> 8 | ... AU78: =LOOKUP(BK78,$A$3:$Y$3,$A$4:$AE$4) -> 21 | AW78: 1 | AX78: 2 | AY78: 3 | AZ78: 4 | BA78: 5 | BB78: 6 | BC78: 7 | BD78: 8 | BE78: 9 | BF78: 11 | BG78: 13 | BH78: 14 | BI78: 15 | BJ78: 17 | BK78: 18 | BZ78: =LOOKUP(CP78,$A$3:$Y$3,$A$4:$AE$4) -> 1 | CA78: =LOOKUP(CQ78,$A$3:$Y$3,$A$4:$AE$4) -> 3 | CB78: =LOOKUP(CR78,$A$3:$Y$3,$A$4:$AE$4) -> 4 | CC78: =LOOKUP(CS78,$A$3:$Y$3,$A$4:$AE$4) -> 5 | CD78: =LOOKUP(CT78,$A$3:$Y$3,$A$4:$AE$4) -> 6 | CE78: =LOOKUP(CU78,$A$3:$Y$3,$A$4:$AE$4) -> 7 | CF78: =LOOKUP(CV78,$A$3:$Y$3,$A$4:$AE$4) -> 8 | CG78: =LOOKUP(CW78,$A$3:$Y$3,$A$4:$AE$4) -> 9 | ... CN78: =LOOKUP(DD78,$A$3:$Y$3,$A$4:$AE$4) -> 21 | CP78: 1 | CQ78: 3 | CR78: 4 | CS78: 5 | CT78: 6 | CU78: 7 | CV78: 8 | CW78: 9 | CX78: 10 | CY78: 12 | CZ78: 13 | DA78: 14 | DB78: 15 | DC78: 16 | DD78: 18
A79: =LOOKUP(Q79,$A$3:$Y$3,$A$4:$AE$4) -> 1 | B79: =LOOKUP(R79,$A$3:$Y$3,$A$4:$AE$4) -> 2 | C79: =LOOKUP(S79,$A$3:$Y$3,$A$4:$AE$4) -> 3 | D79: =LOOKUP(T79,$A$3:$Y$3,$A$4:$AE$4) -> 4 | E79: =LOOKUP(U79,$A$3:$Y$3,$A$4:$AE$4) -> 5 | F79: =LOOKUP(V79,$A$3:$Y$3,$A$4:$AE$4) -> 6 | G79: =LOOKUP(W79,$A$3:$Y$3,$A$4:$AE$4) -> 7 | H79: =LOOKUP(X79,$A$3:$Y$3,$A$4:$AE$4) -> 8 | ... O79: =LOOKUP(AE79,$A$3:$Y$3,$A$4:$AE$4) -> 21 | Q79: 1 | R79: 2 | S79: 3 | T79: 4 | U79: 5 | V79: 6 | W79: 7 | X79: 8 | Y79: 10 | Z79: 11 | AA79: 12 | AB79: 13 | AC79: 15 | AD79: 16 | AE79: 18 | AG79: =LOOKUP(AW79,$A$3:$Y$3,$A$4:$AE$4) -> 1 | AH79: =LOOKUP(AX79,$A$3:$Y$3,$A$4:$AE$4) -> 2 | AI79: =LOOKUP(AY79,$A$3:$Y$3,$A$4:$AE$4) -> 3 | AJ79: =LOOKUP(AZ79,$A$3:$Y$3,$A$4:$AE$4) -> 4 | AK79: =LOOKUP(BA79,$A$3:$Y$3,$A$4:$AE$4) -> 5 | AL79: =LOOKUP(BB79,$A$3:$Y$3,$A$4:$AE$4) -> 6 | AM79: =LOOKUP(BC79,$A$3:$Y$3,$A$4:$AE$4) -> 7 | AN79: =LOOKUP(BD79,$A$3:$Y$3,$A$4:$AE$4) -> 8 | ... AU79: =LOOKUP(BK79,$A$3:$Y$3,$A$4:$AE$4) -> 21 | AW79: 1 | AX79: 2 | AY79: 3 | AZ79: 4 | BA79: 5 | BB79: 6 | BC79: 7 | BD79: 8 | BE79: 9 | BF79: 11 | BG79: 13 | BH79: 14 | BI79: 16 | BJ79: 17 | BK79: 18 | BZ79: =LOOKUP(CP79,$A$3:$Y$3,$A$4:$AE$4) -> 1 | CA79: =LOOKUP(CQ79,$A$3:$Y$3,$A$4:$AE$4) -> 3 | CB79: =LOOKUP(CR79,$A$3:$Y$3,$A$4:$AE$4) -> 4 | CC79: =LOOKUP(CS79,$A$3:$Y$3,$A$4:$AE$4) -> 5 | CD79: =LOOKUP(CT79,$A$3:$Y$3,$A$4:$AE$4) -> 6 | CE79: =LOOKUP(CU79,$A$3:$Y$3,$A$4:$AE$4) -> 7 | CF79: =LOOKUP(CV79,$A$3:$Y$3,$A$4:$AE$4) -> 8 | CG79: =LOOKUP(CW79,$A$3:$Y$3,$A$4:$AE$4) -> 9 | ... CN79: =LOOKUP(DD79,$A$3:$Y$3,$A$4:$AE$4) -> 21 | CP79: 1 | CQ79: 3 | CR79: 4 | CS79: 5 | CT79: 6 | CU79: 7 | CV79: 8 | CW79: 9 | CX79: 11 | CY79: 12 | CZ79: 13 | DA79: 14 | DB79: 16 | DC79: 17 | DD79: 18
A80: =LOOKUP(Q80,$A$3:$Y$3,$A$4:$AE$4) -> 1 | B80: =LOOKUP(R80,$A$3:$Y$3,$A$4:$AE$4) -> 2 | C80: =LOOKUP(S80,$A$3:$Y$3,$A$4:$AE$4) -> 3 | D80: =LOOKUP(T80,$A$3:$Y$3,$A$4:$AE$4) -> 4 | E80: =LOOKUP(U80,$A$3:$Y$3,$A$4:$AE$4) -> 5 | F80: =LOOKUP(V80,$A$3:$Y$3,$A$4:$AE$4) -> 6 | G80: =LOOKUP(W80,$A$3:$Y$3,$A$4:$AE$4) -> 7 | H80: =LOOKUP(X80,$A$3:$Y$3,$A$4:$AE$4) -> 8 | ... O80: =LOOKUP(AE80,$A$3:$Y$3,$A$4:$AE$4) -> 21 | Q80: 1 | R80: 2 | S80: 3 | T80: 4 | U80: 5 | V80: 6 | W80: 7 | X80: 8 | Y80: 10 | Z80: 11 | AA80: 12 | AB80: 13 | AC80: 16 | AD80: 17 | AE80: 18 | AG80: =LOOKUP(AW80,$A$3:$Y$3,$A$4:$AE$4) -> 1 | AH80: =LOOKUP(AX80,$A$3:$Y$3,$A$4:$AE$4) -> 2 | AI80: =LOOKUP(AY80,$A$3:$Y$3,$A$4:$AE$4) -> 3 | AJ80: =LOOKUP(AZ80,$A$3:$Y$3,$A$4:$AE$4) -> 4 | AK80: =LOOKUP(BA80,$A$3:$Y$3,$A$4:$AE$4) -> 5 | AL80: =LOOKUP(BB80,$A$3:$Y$3,$A$4:$AE$4) -> 6 | AM80: =LOOKUP(BC80,$A$3:$Y$3,$A$4:$AE$4) -> 7 | AN80: =LOOKUP(BD80,$A$3:$Y$3,$A$4:$AE$4) -> 8 | ... AU80: =LOOKUP(BK80,$A$3:$Y$3,$A$4:$AE$4) -> 21 | AW80: 1 | AX80: 2 | AY80: 3 | AZ80: 4 | BA80: 5 | BB80: 6 | BC80: 7 | BD80: 8 | BE80: 9 | BF80: 11 | BG80: 13 | BH80: 15 | BI80: 16 | BJ80: 17 | BK80: 18 | BZ80: =LOOKUP(CP80,$A$3:$Y$3,$A$4:$AE$4) -> 1 | CA80: =LOOKUP(CQ80,$A$3:$Y$3,$A$4:$AE$4) -> 3 | CB80: =LOOKUP(CR80,$A$3:$Y$3,$A$4:$AE$4) -> 4 | CC80: =LOOKUP(CS80,$A$3:$Y$3,$A$4:$AE$4) -> 5 | CD80: =LOOKUP(CT80,$A$3:$Y$3,$A$4:$AE$4) -> 6 | CE80: =LOOKUP(CU80,$A$3:$Y$3,$A$4:$AE$4) -> 7 | CF80: =LOOKUP(CV80,$A$3:$Y$3,$A$4:$AE$4) -> 9 | CG80: =LOOKUP(CW80,$A$3:$Y$3,$A$4:$AE$4) -> 10 | ... CN80: =LOOKUP(DD80,$A$3:$Y$3,$A$4:$AE$4) -> 21 | CP80: 1 | CQ80: 3 | CR80: 4 | CS80: 5 | CT80: 6 | CU80: 7 | CV80: 9 | CW80: 10 | CX80: 11 | CY80: 13 | CZ80: 14 | DA80: 15 | DB80: 16 | DC80: 17 | DD80: 18
A81: =LOOKUP(Q81,$A$3:$Y$3,$A$4:$AE$4) -> 1 | B81: =LOOKUP(R81,$A$3:$Y$3,$A$4:$AE$4) -> 2 | C81: =LOOKUP(S81,$A$3:$Y$3,$A$4:$AE$4) -> 3 | D81: =LOOKUP(T81,$A$3:$Y$3,$A$4:$AE$4) -> 4 | E81: =LOOKUP(U81,$A$3:$Y$3,$A$4:$AE$4) -> 5 | F81: =LOOKUP(V81,$A$3:$Y$3,$A$4:$AE$4) -> 6 | G81: =LOOKUP(W81,$A$3:$Y$3,$A$4:$AE$4) -> 7 | H81: =LOOKUP(X81,$A$3:$Y$3,$A$4:$AE$4) -> 8 | ... O81: =LOOKUP(AE81,$A$3:$Y$3,$A$4:$AE$4) -> 21 | Q81: 1 | R81: 2 | S81: 3 | T81: 4 | U81: 5 | V81: 6 | W81: 7 | X81: 8 | Y81: 11 | Z81: 13 | AA81: 14 | AB81: 15 | AC81: 16 | AD81: 17 | AE81: 18 | AG81: =LOOKUP(AW81,$A$3:$Y$3,$A$4:$AE$4) -> 1 | AH81: =LOOKUP(AX81,$A$3:$Y$3,$A$4:$AE$4) -> 2 | AI81: =LOOKUP(AY81,$A$3:$Y$3,$A$4:$AE$4) -> 3 | AJ81: =LOOKUP(AZ81,$A$3:$Y$3,$A$4:$AE$4) -> 4 | AK81: =LOOKUP(BA81,$A$3:$Y$3,$A$4:$AE$4) -> 5 | AL81: =LOOKUP(BB81,$A$3:$Y$3,$A$4:$AE$4) -> 6 | AM81: =LOOKUP(BC81,$A$3:$Y$3,$A$4:$AE$4) -> 7 | AN81: =LOOKUP(BD81,$A$3:$Y$3,$A$4:$AE$4) -> 8 | ... AU81: =LOOKUP(BK81,$A$3:$Y$3,$A$4:$AE$4) -> 21 | AW81: 1 | AX81: 2 | AY81: 3 | AZ81: 4 | BA81: 5 | BB81: 6 | BC81: 7 | BD81: 8 | BE81: 9 | BF81: 11 | BG81: 14 | BH81: 15 | BI81: 16 | BJ81: 17 | BK81: 18 | BZ81: =LOOKUP(CP81,$A$3:$Y$3,$A$4:$AE$4) -> 1 | CA81: =LOOKUP(CQ81,$A$3:$Y$3,$A$4:$AE$4) -> 3 | CB81: =LOOKUP(CR81,$A$3:$Y$3,$A$4:$AE$4) -> 4 | CC81: =LOOKUP(CS81,$A$3:$Y$3,$A$4:$AE$4) -> 5 | CD81: =LOOKUP(CT81,$A$3:$Y$3,$A$4:$AE$4) -> 6 | CE81: =LOOKUP(CU81,$A$3:$Y$3,$A$4:$AE$4) -> 8 | CF81: =LOOKUP(CV81,$A$3:$Y$3,$A$4:$AE$4) -> 9 | CG81: =LOOKUP(CW81,$A$3:$Y$3,$A$4:$AE$4) -> 10 | ... CN81: =LOOKUP(DD81,$A$3:$Y$3,$A$4:$AE$4) -> 21 | CP81: 1 | CQ81: 3 | CR81: 4 | CS81: 5 | CT81: 6 | CU81: 8 | CV81: 9 | CW81: 10 | CX81: 11 | CY81: 12 | CZ81: 14 | DA81: 15 | DB81: 16 | DC81: 17 | DD81: 18
A82: =LOOKUP(Q82,$A$3:$Y$3,$A$4:$AE$4) -> 1 | B82: =LOOKUP(R82,$A$3:$Y$3,$A$4:$AE$4) -> 2 | C82: =LOOKUP(S82,$A$3:$Y$3,$A$4:$AE$4) -> 3 | D82: =LOOKUP(T82,$A$3:$Y$3,$A$4:$AE$4) -> 4 | E82: =LOOKUP(U82,$A$3:$Y$3,$A$4:$AE$4) -> 5 | F82: =LOOKUP(V82,$A$3:$Y$3,$A$4:$AE$4) -> 6 | G82: =LOOKUP(W82,$A$3:$Y$3,$A$4:$AE$4) -> 7 | H82: =LOOKUP(X82,$A$3:$Y$3,$A$4:$AE$4) -> 9 | ... O82: =LOOKUP(AE82,$A$3:$Y$3,$A$4:$AE$4) -> 22 | Q82: 1 | R82: 2 | S82: 3 | T82: 4 | U82: 5 | V82: 6 | W82: 7 | X82: 9 | Y82: 10 | Z82: 11 | AA82: 12 | AB82: 13 | AC82: 15 | AD82: 16 | AE82: 17 | AG82: =LOOKUP(AW82,$A$3:$Y$3,$A$4:$AE$4) -> 1 | AH82: =LOOKUP(AX82,$A$3:$Y$3,$A$4:$AE$4) -> 2 | AI82: =LOOKUP(AY82,$A$3:$Y$3,$A$4:$AE$4) -> 3 | AJ82: =LOOKUP(AZ82,$A$3:$Y$3,$A$4:$AE$4) -> 4 | AK82: =LOOKUP(BA82,$A$3:$Y$3,$A$4:$AE$4) -> 5 | AL82: =LOOKUP(BB82,$A$3:$Y$3,$A$4:$AE$4) -> 6 | AM82: =LOOKUP(BC82,$A$3:$Y$3,$A$4:$AE$4) -> 7 | AN82: =LOOKUP(BD82,$A$3:$Y$3,$A$4:$AE$4) -> 8 | ... AU82: =LOOKUP(BK82,$A$3:$Y$3,$A$4:$AE$4) -> 22 | AW82: 1 | AX82: 2 | AY82: 3 | AZ82: 4 | BA82: 5 | BB82: 6 | BC82: 7 | BD82: 8 | BE82: 9 | BF82: 12 | BG82: 13 | BH82: 14 | BI82: 15 | BJ82: 16 | BK82: 17 | BZ82: =LOOKUP(CP82,$A$3:$Y$3,$A$4:$AE$4) -> 1 | CA82: =LOOKUP(CQ82,$A$3:$Y$3,$A$4:$AE$4) -> 3 | CB82: =LOOKUP(CR82,$A$3:$Y$3,$A$4:$AE$4) -> 4 | CC82: =LOOKUP(CS82,$A$3:$Y$3,$A$4:$AE$4) -> 5 | CD82: =LOOKUP(CT82,$A$3:$Y$3,$A$4:$AE$4) -> 7 | CE82: =LOOKUP(CU82,$A$3:$Y$3,$A$4:$AE$4) -> 8 | CF82: =LOOKUP(CV82,$A$3:$Y$3,$A$4:$AE$4) -> 9 | CG82: =LOOKUP(CW82,$A$3:$Y$3,$A$4:$AE$4) -> 10 | ... CN82: =LOOKUP(DD82,$A$3:$Y$3,$A$4:$AE$4) -> 21 | CP82: 1 | CQ82: 3 | CR82: 4 | CS82: 5 | CT82: 7 | CU82: 8 | CV82: 9 | CW82: 10 | CX82: 11 | CY82: 13 | CZ82: 14 | DA82: 15 | DB82: 16 | DC82: 17 | DD82: 18
A83: =LOOKUP(Q83,$A$3:$Y$3,$A$4:$AE$4) -> 1 | B83: =LOOKUP(R83,$A$3:$Y$3,$A$4:$AE$4) -> 2 | C83: =LOOKUP(S83,$A$3:$Y$3,$A$4:$AE$4) -> 3 | D83: =LOOKUP(T83,$A$3:$Y$3,$A$4:$AE$4) -> 4 | E83: =LOOKUP(U83,$A$3:$Y$3,$A$4:$AE$4) -> 5 | F83: =LOOKUP(V83,$A$3:$Y$3,$A$4:$AE$4) -> 6 | G83: =LOOKUP(W83,$A$3:$Y$3,$A$4:$AE$4) -> 7 | H83: =LOOKUP(X83,$A$3:$Y$3,$A$4:$AE$4) -> 9 | ... O83: =LOOKUP(AE83,$A$3:$Y$3,$A$4:$AE$4) -> 21 | Q83: 1 | R83: 2 | S83: 3 | T83: 4 | U83: 5 | V83: 6 | W83: 7 | X83: 9 | Y83: 11 | Z83: 12 | AA83: 13 | AB83: 14 | AC83: 15 | AD83: 16 | AE83: 18 | AG83: =LOOKUP(AW83,$A$3:$Y$3,$A$4:$AE$4) -> 1 | AH83: =LOOKUP(AX83,$A$3:$Y$3,$A$4:$AE$4) -> 2 | AI83: =LOOKUP(AY83,$A$3:$Y$3,$A$4:$AE$4) -> 3 | AJ83: =LOOKUP(AZ83,$A$3:$Y$3,$A$4:$AE$4) -> 4 | AK83: =LOOKUP(BA83,$A$3:$Y$3,$A$4:$AE$4) -> 5 | AL83: =LOOKUP(BB83,$A$3:$Y$3,$A$4:$AE$4) -> 6 | AM83: =LOOKUP(BC83,$A$3:$Y$3,$A$4:$AE$4) -> 7 | AN83: =LOOKUP(BD83,$A$3:$Y$3,$A$4:$AE$4) -> 8 | ... AU83: =LOOKUP(BK83,$A$3:$Y$3,$A$4:$AE$4) -> 21 | AW83: 1 | AX83: 2 | AY83: 3 | AZ83: 4 | BA83: 5 | BB83: 6 | BC83: 7 | BD83: 8 | BE83: 9 | BF83: 12 | BG83: 13 | BH83: 14 | BI83: 15 | BJ83: 16 | BK83: 18 | BZ83: =LOOKUP(CP83,$A$3:$Y$3,$A$4:$AE$4) -> 1 | CA83: =LOOKUP(CQ83,$A$3:$Y$3,$A$4:$AE$4) -> 3 | CB83: =LOOKUP(CR83,$A$3:$Y$3,$A$4:$AE$4) -> 4 | CC83: =LOOKUP(CS83,$A$3:$Y$3,$A$4:$AE$4) -> 6 | CD83: =LOOKUP(CT83,$A$3:$Y$3,$A$4:$AE$4) -> 7 | CE83: =LOOKUP(CU83,$A$3:$Y$3,$A$4:$AE$4) -> 8 | CF83: =LOOKUP(CV83,$A$3:$Y$3,$A$4:$AE$4) -> 9 | CG83: =LOOKUP(CW83,$A$3:$Y$3,$A$4:$AE$4) -> 10 | ... CN83: =LOOKUP(DD83,$A$3:$Y$3,$A$4:$AE$4) -> 22 | CP83: 1 | CQ83: 3 | CR83: 4 | CS83: 6 | CT83: 7 | CU83: 8 | CV83: 9 | CW83: 10 | CX83: 11 | CY83: 12 | CZ83: 13 | DA83: 14 | DB83: 15 | DC83: 16 | DD83: 17
A84: =LOOKUP(Q84,$A$3:$Y$3,$A$4:$AE$4) -> 1 | B84: =LOOKUP(R84,$A$3:$Y$3,$A$4:$AE$4) -> 2 | C84: =LOOKUP(S84,$A$3:$Y$3,$A$4:$AE$4) -> 3 | D84: =LOOKUP(T84,$A$3:$Y$3,$A$4:$AE$4) -> 4 | E84: =LOOKUP(U84,$A$3:$Y$3,$A$4:$AE$4) -> 5 | F84: =LOOKUP(V84,$A$3:$Y$3,$A$4:$AE$4) -> 6 | G84: =LOOKUP(W84,$A$3:$Y$3,$A$4:$AE$4) -> 7 | H84: =LOOKUP(X84,$A$3:$Y$3,$A$4:$AE$4) -> 9 | ... O84: =LOOKUP(AE84,$A$3:$Y$3,$A$4:$AE$4) -> 21 | Q84: 1 | R84: 2 | S84: 3 | T84: 4 | U84: 5 | V84: 6 | W84: 7 | X84: 9 | Y84: 11 | Z84: 12 | AA84: 13 | AB84: 14 | AC84: 16 | AD84: 17 | AE84: 18 | AG84: =LOOKUP(AW84,$A$3:$Y$3,$A$4:$AE$4) -> 1 | AH84: =LOOKUP(AX84,$A$3:$Y$3,$A$4:$AE$4) -> 2 | AI84: =LOOKUP(AY84,$A$3:$Y$3,$A$4:$AE$4) -> 3 | AJ84: =LOOKUP(AZ84,$A$3:$Y$3,$A$4:$AE$4) -> 4 | AK84: =LOOKUP(BA84,$A$3:$Y$3,$A$4:$AE$4) -> 5 | AL84: =LOOKUP(BB84,$A$3:$Y$3,$A$4:$AE$4) -> 6 | AM84: =LOOKUP(BC84,$A$3:$Y$3,$A$4:$AE$4) -> 7 | AN84: =LOOKUP(BD84,$A$3:$Y$3,$A$4:$AE$4) -> 8 | ... AU84: =LOOKUP(BK84,$A$3:$Y$3,$A$4:$AE$4) -> 21 | AW84: 1 | AX84: 2 | AY84: 3 | AZ84: 4 | BA84: 5 | BB84: 6 | BC84: 7 | BD84: 8 | BE84: 9 | BF84: 12 | BG84: 13 | BH84: 14 | BI84: 15 | BJ84: 17 | BK84: 18 | BZ84: =LOOKUP(CP84,$A$3:$Y$3,$A$4:$AE$4) -> 1 | CA84: =LOOKUP(CQ84,$A$3:$Y$3,$A$4:$AE$4) -> 3 | CB84: =LOOKUP(CR84,$A$3:$Y$3,$A$4:$AE$4) -> 4 | CC84: =LOOKUP(CS84,$A$3:$Y$3,$A$4:$AE$4) -> 6 | CD84: =LOOKUP(CT84,$A$3:$Y$3,$A$4:$AE$4) -> 7 | CE84: =LOOKUP(CU84,$A$3:$Y$3,$A$4:$AE$4) -> 8 | CF84: =LOOKUP(CV84,$A$3:$Y$3,$A$4:$AE$4) -> 9 | CG84: =LOOKUP(CW84,$A$3:$Y$3,$A$4:$AE$4) -> 10 | ... CN84: =LOOKUP(DD84,$A$3:$Y$3,$A$4:$AE$4) -> 21 | CP84: 1 | CQ84: 3 | CR84: 4 | CS84: 6 | CT84: 7 | CU84: 8 | CV84: 9 | CW84: 10 | CX84: 11 | CY84: 12 | CZ84: 13 | DA84: 14 | DB84: 15 | DC84: 16 | DD84: 18
... A106: =LOOKUP(Q106,$A$3:$Y$3,$A$4:$AE$4) -> 1 | B106: =LOOKUP(R106,$A$3:$Y$3,$A$4:$AE$4) -> 2 | C106: =LOOKUP(S106,$A$3:$Y$3,$A$4:$AE$4) -> 4 | D106: =LOOKUP(T106,$A$3:$Y$3,$A$4:$AE$4) -> 5 | E106: =LOOKUP(U106,$A$3:$Y$3,$A$4:$AE$4) -> 6 | F106: =LOOKUP(V106,$A$3:$Y$3,$A$4:$AE$4) -> 7 | G106: =LOOKUP(W106,$A$3:$Y$3,$A$4:$AE$4) -> 8 | H106: =LOOKUP(X106,$A$3:$Y$3,$A$4:$AE$4) -> 9 | ... O106: =LOOKUP(AE106,$A$3:$Y$3,$A$4:$AE$4) -> 21 | Q106: 1 | R106: 2 | S106: 4 | T106: 5 | U106: 6 | V106: 7 | W106: 8 | X106: 9 | Y106: 10 | Z106: 11 | AA106: 12 | AB106: 13 | AC106: 15 | AD106: 16 | AE106: 18 | AG106: =LOOKUP(AW106,$A$3:$Y$3,$A$4:$AE$4) -> 1 | AH106: =LOOKUP(AX106,$A$3:$Y$3,$A$4:$AE$4) -> 2 | AI106: =LOOKUP(AY106,$A$3:$Y$3,$A$4:$AE$4) -> 3 | AJ106: =LOOKUP(AZ106,$A$3:$Y$3,$A$4:$AE$4) -> 4 | AK106: =LOOKUP(BA106,$A$3:$Y$3,$A$4:$AE$4) -> 5 | AL106: =LOOKUP(BB106,$A$3:$Y$3,$A$4:$AE$4) -> 6 | AM106: =LOOKUP(BC106,$A$3:$Y$3,$A$4:$AE$4) -> 7 | AN106: =LOOKUP(BD106,$A$3:$Y$3,$A$4:$AE$4) -> 9 | ... AU106: =LOOKUP(BK106,$A$3:$Y$3,$A$4:$AE$4) -> 21 | AW106: 1 | AX106: 2 | AY106: 3 | AZ106: 4 | BA106: 5 | BB106: 6 | BC106: 7 | BD106: 9 | BE106: 10 | BF106: 11 | BG106: 12 | BH106: 13 | BI106: 15 | BJ106: 16 | BK106: 18 | BZ106: =LOOKUP(CP106,$A$3:$Y$3,$A$4:$AE$4) -> 3 | CA106: =LOOKUP(CQ106,$A$3:$Y$3,$A$4:$AE$4) -> 4 | CB106: =LOOKUP(CR106,$A$3:$Y$3,$A$4:$AE$4) -> 5 | CC106: =LOOKUP(CS106,$A$3:$Y$3,$A$4:$AE$4) -> 6 | CD106: =LOOKUP(CT106,$A$3:$Y$3,$A$4:$AE$4) -> 7 | CE106: =LOOKUP(CU106,$A$3:$Y$3,$A$4:$AE$4) -> 8 | CF106: =LOOKUP(CV106,$A$3:$Y$3,$A$4:$AE$4) -> 9 | CG106: =LOOKUP(CW106,$A$3:$Y$3,$A$4:$AE$4) -> 10 | ... CN106: =LOOKUP(DD106,$A$3:$Y$3,$A$4:$AE$4) -> 21 | CP106: 3 | CQ106: 4 | CR106: 5 | CS106: 6 | CT106: 7 | CU106: 8 | CV106: 9 | CW106: 10 | CX106: 11 | CY106: 13 | CZ106: 14 | DA106: 15 | DB106: 16 | DC106: 17 | DD106: 18
A107: =LOOKUP(Q107,$A$3:$Y$3,$A$4:$AE$4) -> 1 | B107: =LOOKUP(R107,$A$3:$Y$3,$A$4:$AE$4) -> 2 | C107: =LOOKUP(S107,$A$3:$Y$3,$A$4:$AE$4) -> 4 | D107: =LOOKUP(T107,$A$3:$Y$3,$A$4:$AE$4) -> 5 | E107: =LOOKUP(U107,$A$3:$Y$3,$A$4:$AE$4) -> 6 | F107: =LOOKUP(V107,$A$3:$Y$3,$A$4:$AE$4) -> 7 | G107: =LOOKUP(W107,$A$3:$Y$3,$A$4:$AE$4) -> 8 | H107: =LOOKUP(X107,$A$3:$Y$3,$A$4:$AE$4) -> 9 | ... O107: =LOOKUP(AE107,$A$3:$Y$3,$A$4:$AE$4) -> 21 | Q107: 1 | R107: 2 | S107: 4 | T107: 5 | U107: 6 | V107: 7 | W107: 8 | X107: 9 | Y107: 10 | Z107: 11 | AA107: 12 | AB107: 13 | AC107: 16 | AD107: 17 | AE107: 18 | AG107: =LOOKUP(AW107,$A$3:$Y$3,$A$4:$AE$4) -> 1 | AH107: =LOOKUP(AX107,$A$3:$Y$3,$A$4:$AE$4) -> 2 | AI107: =LOOKUP(AY107,$A$3:$Y$3,$A$4:$AE$4) -> 3 | AJ107: =LOOKUP(AZ107,$A$3:$Y$3,$A$4:$AE$4) -> 4 | AK107: =LOOKUP(BA107,$A$3:$Y$3,$A$4:$AE$4) -> 5 | AL107: =LOOKUP(BB107,$A$3:$Y$3,$A$4:$AE$4) -> 6 | AM107: =LOOKUP(BC107,$A$3:$Y$3,$A$4:$AE$4) -> 7 | AN107: =LOOKUP(BD107,$A$3:$Y$3,$A$4:$AE$4) -> 9 | ... AU107: =LOOKUP(BK107,$A$3:$Y$3,$A$4:$AE$4) -> 21 | AW107: 1 | AX107: 2 | AY107: 3 | AZ107: 4 | BA107: 5 | BB107: 6 | BC107: 7 | BD107: 9 | BE107: 10 | BF107: 11 | BG107: 12 | BH107: 13 | BI107: 15 | BJ107: 17 | BK107: 18
A108: =LOOKUP(Q108,$A$3:$Y$3,$A$4:$AE$4) -> 1 | B108: =LOOKUP(R108,$A$3:$Y$3,$A$4:$AE$4) -> 2 | C108: =LOOKUP(S108,$A$3:$Y$3,$A$4:$AE$4) -> 4 | D108: =LOOKUP(T108,$A$3:$Y$3,$A$4:$AE$4) -> 5 | E108: =LOOKUP(U108,$A$3:$Y$3,$A$4:$AE$4) -> 6 | F108: =LOOKUP(V108,$A$3:$Y$3,$A$4:$AE$4) -> 7 | G108: =LOOKUP(W108,$A$3:$Y$3,$A$4:$AE$4) -> 8 | H108: =LOOKUP(X108,$A$3:$Y$3,$A$4:$AE$4) -> 9 | ... O108: =LOOKUP(AE108,$A$3:$Y$3,$A$4:$AE$4) -> 21 | Q108: 1 | R108: 2 | S108: 4 | T108: 5 | U108: 6 | V108: 7 | W108: 8 | X108: 9 | Y108: 10 | Z108: 11 | AA108: 13 | AB108: 14 | AC108: 15 | AD108: 17 | AE108: 18 | AG108: =LOOKUP(AW108,$A$3:$Y$3,$A$4:$AE$4) -> 1 | AH108: =LOOKUP(AX108,$A$3:$Y$3,$A$4:$AE$4) -> 2 | AI108: =LOOKUP(AY108,$A$3:$Y$3,$A$4:$AE$4) -> 3 | AJ108: =LOOKUP(AZ108,$A$3:$Y$3,$A$4:$AE$4) -> 4 | AK108: =LOOKUP(BA108,$A$3:$Y$3,$A$4:$AE$4) -> 5 | AL108: =LOOKUP(BB108,$A$3:$Y$3,$A$4:$AE$4) -> 6 | AM108: =LOOKUP(BC108,$A$3:$Y$3,$A$4:$AE$4) -> 7 | AN108: =LOOKUP(BD108,$A$3:$Y$3,$A$4:$AE$4) -> 9 | ... AU108: =LOOKUP(BK108,$A$3:$Y$3,$A$4:$AE$4) -> 21 | AW108: 1 | AX108: 2 | AY108: 3 | AZ108: 4 | BA108: 5 | BB108: 6 | BC108: 7 | BD108: 9 | BE108: 10 | BF108: 11 | BG108: 12 | BH108: 13 | BI108: 16 | BJ108: 17 | BK108: 18
A109: =LOOKUP(Q109,$A$3:$Y$3,$A$4:$AE$4) -> 1 | B109: =LOOKUP(R109,$A$3:$Y$3,$A$4:$AE$4) -> 2 | C109: =LOOKUP(S109,$A$3:$Y$3,$A$4:$AE$4) -> 4 | D109: =LOOKUP(T109,$A$3:$Y$3,$A$4:$AE$4) -> 5 | E109: =LOOKUP(U109,$A$3:$Y$3,$A$4:$AE$4) -> 6 | F109: =LOOKUP(V109,$A$3:$Y$3,$A$4:$AE$4) -> 7 | G109: =LOOKUP(W109,$A$3:$Y$3,$A$4:$AE$4) -> 8 | H109: =LOOKUP(X109,$A$3:$Y$3,$A$4:$AE$4) -> 9 | ... O109: =LOOKUP(AE109,$A$3:$Y$3,$A$4:$AE$4) -> 21 | Q109: 1 | R109: 2 | S109: 4 | T109: 5 | U109: 6 | V109: 7 | W109: 8 | X109: 9 | Y109: 10 | Z109: 12 | AA109: 14 | AB109: 15 | AC109: 16 | AD109: 17 | AE109: 18 | AG109: =LOOKUP(AW109,$A$3:$Y$3,$A$4:$AE$4) -> 1 | AH109: =LOOKUP(AX109,$A$3:$Y$3,$A$4:$AE$4) -> 2 | AI109: =LOOKUP(AY109,$A$3:$Y$3,$A$4:$AE$4) -> 3 | AJ109: =LOOKUP(AZ109,$A$3:$Y$3,$A$4:$AE$4) -> 4 | AK109: =LOOKUP(BA109,$A$3:$Y$3,$A$4:$AE$4) -> 5 | AL109: =LOOKUP(BB109,$A$3:$Y$3,$A$4:$AE$4) -> 6 | AM109: =LOOKUP(BC109,$A$3:$Y$3,$A$4:$AE$4) -> 7 | AN109: =LOOKUP(BD109,$A$3:$Y$3,$A$4:$AE$4) -> 9 | ... AU109: =LOOKUP(BK109,$A$3:$Y$3,$A$4:$AE$4) -> 21 | AW109: 1 | AX109: 2 | AY109: 3 | AZ109: 4 | BA109: 5 | BB109: 6 | BC109: 7 | BD109: 9 | BE109: 10 | BF109: 11 | BG109: 12 | BH109: 14 | BI109: 15 | BJ109: 16 | BK109: 18
A110: =LOOKUP(Q110,$A$3:$Y$3,$A$4:$AE$4) -> 1 | B110: =LOOKUP(R110,$A$3:$Y$3,$A$4:$AE$4) -> 2 | C110: =LOOKUP(S110,$A$3:$Y$3,$A$4:$AE$4) -> 4 | D110: =LOOKUP(T110,$A$3:$Y$3,$A$4:$AE$4) -> 5 | E110: =LOOKUP(U110,$A$3:$Y$3,$A$4:$AE$4) -> 6 | F110: =LOOKUP(V110,$A$3:$Y$3,$A$4:$AE$4) -> 7 | G110: =LOOKUP(W110,$A$3:$Y$3,$A$4:$AE$4) -> 8 | H110: =LOOKUP(X110,$A$3:$Y$3,$A$4:$AE$4) -> 10 | ... O110: =LOOKUP(AE110,$A$3:$Y$3,$A$4:$AE$4) -> 21 | Q110: 1 | R110: 2 | S110: 4 | T110: 5 | U110: 6 | V110: 7 | W110: 8 | X110: 10 | Y110: 11 | Z110: 12 | AA110: 13 | AB110: 14 | AC110: 15 | AD110: 17 | AE110: 18 | AG110: =LOOKUP(AW110,$A$3:$Y$3,$A$4:$AE$4) -> 1 | AH110: =LOOKUP(AX110,$A$3:$Y$3,$A$4:$AE$4) -> 2 | AI110: =LOOKUP(AY110,$A$3:$Y$3,$A$4:$AE$4) -> 3 | AJ110: =LOOKUP(AZ110,$A$3:$Y$3,$A$4:$AE$4) -> 4 | AK110: =LOOKUP(BA110,$A$3:$Y$3,$A$4:$AE$4) -> 5 | AL110: =LOOKUP(BB110,$A$3:$Y$3,$A$4:$AE$4) -> 6 | AM110: =LOOKUP(BC110,$A$3:$Y$3,$A$4:$AE$4) -> 7 | AN110: =LOOKUP(BD110,$A$3:$Y$3,$A$4:$AE$4) -> 9 | ... AU110: =LOOKUP(BK110,$A$3:$Y$3,$A$4:$AE$4) -> 22 | AW110: 1 | AX110: 2 | AY110: 3 | AZ110: 4 | BA110: 5 | BB110: 6 | BC110: 7 | BD110: 9 | BE110: 10 | BF110: 11 | BG110: 13 | BH110: 14 | BI110: 15 | BJ110: 16 | BK110: 17 | BZ110: =SMALL($BZ6:$CN6,A$3) -> 1 | CA110: =SMALL($BZ6:$CN6,B$3) -> 2 | CB110: =SMALL($BZ6:$CN6,C$3) -> 3 | CC110: =SMALL($BZ6:$CN6,D$3) -> 4 | CD110: =SMALL($BZ6:$CN6,E$3) -> 5 | CE110: =SMALL($BZ6:$CN6,F$3) -> 6 | CF110: =SMALL($BZ6:$CN6,G$3) -> 7 | CG110: =SMALL($BZ6:$CN6,H$3) -> 8 | ... CN110: =SMALL($BZ6:$CN6,O$3) -> 16 | CQ110: 1
A111: =LOOKUP(Q111,$A$3:$Y$3,$A$4:$AE$4) -> 1 | B111: =LOOKUP(R111,$A$3:$Y$3,$A$4:$AE$4) -> 2 | C111: =LOOKUP(S111,$A$3:$Y$3,$A$4:$AE$4) -> 4 | D111: =LOOKUP(T111,$A$3:$Y$3,$A$4:$AE$4) -> 5 | E111: =LOOKUP(U111,$A$3:$Y$3,$A$4:$AE$4) -> 6 | F111: =LOOKUP(V111,$A$3:$Y$3,$A$4:$AE$4) -> 8 | G111: =LOOKUP(W111,$A$3:$Y$3,$A$4:$AE$4) -> 9 | H111: =LOOKUP(X111,$A$3:$Y$3,$A$4:$AE$4) -> 10 | ... O111: =LOOKUP(AE111,$A$3:$Y$3,$A$4:$AE$4) -> 21 | Q111: 1 | R111: 2 | S111: 4 | T111: 5 | U111: 6 | V111: 8 | W111: 9 | X111: 10 | Y111: 11 | Z111: 13 | AA111: 14 | AB111: 15 | AC111: 16 | AD111: 17 | AE111: 18 | AG111: =LOOKUP(AW111,$A$3:$Y$3,$A$4:$AE$4) -> 1 | AH111: =LOOKUP(AX111,$A$3:$Y$3,$A$4:$AE$4) -> 2 | AI111: =LOOKUP(AY111,$A$3:$Y$3,$A$4:$AE$4) -> 3 | AJ111: =LOOKUP(AZ111,$A$3:$Y$3,$A$4:$AE$4) -> 4 | AK111: =LOOKUP(BA111,$A$3:$Y$3,$A$4:$AE$4) -> 5 | AL111: =LOOKUP(BB111,$A$3:$Y$3,$A$4:$AE$4) -> 6 | AM111: =LOOKUP(BC111,$A$3:$Y$3,$A$4:$AE$4) -> 7 | AN111: =LOOKUP(BD111,$A$3:$Y$3,$A$4:$AE$4) -> 9 | ... AU111: =LOOKUP(BK111,$A$3:$Y$3,$A$4:$AE$4) -> 21 | AW111: 1 | AX111: 2 | AY111: 3 | AZ111: 4 | BA111: 5 | BB111: 6 | BC111: 7 | BD111: 9 | BE111: 10 | BF111: 11 | BG111: 13 | BH111: 14 | BI111: 15 | BJ111: 16 | BK111: 18 | BZ111: =SMALL($BZ7:$CN7,A$3) -> 1 | CA111: =SMALL($BZ7:$CN7,B$3) -> 2 | CB111: =SMALL($BZ7:$CN7,C$3) -> 3 | CC111: =SMALL($BZ7:$CN7,D$3) -> 4 | CD111: =SMALL($BZ7:$CN7,E$3) -> 5 | CE111: =SMALL($BZ7:$CN7,F$3) -> 6 | CF111: =SMALL($BZ7:$CN7,G$3) -> 7 | CG111: =SMALL($BZ7:$CN7,H$3) -> 8 | ... CN111: =SMALL($BZ7:$CN7,O$3) -> 22 | CQ111: 2
A112: =LOOKUP(Q112,$A$3:$Y$3,$A$4:$AE$4) -> 1 | B112: =LOOKUP(R112,$A$3:$Y$3,$A$4:$AE$4) -> 2 | C112: =LOOKUP(S112,$A$3:$Y$3,$A$4:$AE$4) -> 4 | D112: =LOOKUP(T112,$A$3:$Y$3,$A$4:$AE$4) -> 5 | E112: =LOOKUP(U112,$A$3:$Y$3,$A$4:$AE$4) -> 6 | F112: =LOOKUP(V112,$A$3:$Y$3,$A$4:$AE$4) -> 8 | G112: =LOOKUP(W112,$A$3:$Y$3,$A$4:$AE$4) -> 10 | H112: =LOOKUP(X112,$A$3:$Y$3,$A$4:$AE$4) -> 11 | ... O112: =LOOKUP(AE112,$A$3:$Y$3,$A$4:$AE$4) -> 21 | Q112: 1 | R112: 2 | S112: 4 | T112: 5 | U112: 6 | V112: 8 | W112: 10 | X112: 11 | Y112: 12 | Z112: 13 | AA112: 14 | AB112: 15 | AC112: 16 | AD112: 17 | AE112: 18 | AG112: =LOOKUP(AW112,$A$3:$Y$3,$A$4:$AE$4) -> 1 | AH112: =LOOKUP(AX112,$A$3:$Y$3,$A$4:$AE$4) -> 2 | AI112: =LOOKUP(AY112,$A$3:$Y$3,$A$4:$AE$4) -> 3 | AJ112: =LOOKUP(AZ112,$A$3:$Y$3,$A$4:$AE$4) -> 4 | AK112: =LOOKUP(BA112,$A$3:$Y$3,$A$4:$AE$4) -> 5 | AL112: =LOOKUP(BB112,$A$3:$Y$3,$A$4:$AE$4) -> 6 | AM112: =LOOKUP(BC112,$A$3:$Y$3,$A$4:$AE$4) -> 7 | AN112: =LOOKUP(BD112,$A$3:$Y$3,$A$4:$AE$4) -> 9 | ... AU112: =LOOKUP(BK112,$A$3:$Y$3,$A$4:$AE$4) -> 21 | AW112: 1 | AX112: 2 | AY112: 3 | AZ112: 4 | BA112: 5 | BB112: 6 | BC112: 7 | BD112: 9 | BE112: 10 | BF112: 11 | BG112: 13 | BH112: 14 | BI112: 15 | BJ112: 17 | BK112: 18 | BZ112: =SMALL($BZ8:$CN8,A$3) -> 1 | CA112: =SMALL($BZ8:$CN8,B$3) -> 2 | CB112: =SMALL($BZ8:$CN8,C$3) -> 3 | CC112: =SMALL($BZ8:$CN8,D$3) -> 4 | CD112: =SMALL($BZ8:$CN8,E$3) -> 5 | CE112: =SMALL($BZ8:$CN8,F$3) -> 6 | CF112: =SMALL($BZ8:$CN8,G$3) -> 7 | CG112: =SMALL($BZ8:$CN8,H$3) -> 8 | ... CN112: =SMALL($BZ8:$CN8,O$3) -> 22 | CQ112: 3
A113: =LOOKUP(Q113,$A$3:$Y$3,$A$4:$AE$4) -> 1 | B113: =LOOKUP(R113,$A$3:$Y$3,$A$4:$AE$4) -> 2 | C113: =LOOKUP(S113,$A$3:$Y$3,$A$4:$AE$4) -> 4 | D113: =LOOKUP(T113,$A$3:$Y$3,$A$4:$AE$4) -> 5 | E113: =LOOKUP(U113,$A$3:$Y$3,$A$4:$AE$4) -> 7 | F113: =LOOKUP(V113,$A$3:$Y$3,$A$4:$AE$4) -> 8 | G113: =LOOKUP(W113,$A$3:$Y$3,$A$4:$AE$4) -> 9 | H113: =LOOKUP(X113,$A$3:$Y$3,$A$4:$AE$4) -> 10 | ... O113: =LOOKUP(AE113,$A$3:$Y$3,$A$4:$AE$4) -> 22 | Q113: 1 | R113: 2 | S113: 4 | T113: 5 | U113: 7 | V113: 8 | W113: 9 | X113: 10 | Y113: 11 | Z113: 12 | AA113: 13 | AB113: 14 | AC113: 15 | AD113: 16 | AE113: 17 | AG113: =LOOKUP(AW113,$A$3:$Y$3,$A$4:$AE$4) -> 1 | AH113: =LOOKUP(AX113,$A$3:$Y$3,$A$4:$AE$4) -> 2 | AI113: =LOOKUP(AY113,$A$3:$Y$3,$A$4:$AE$4) -> 3 | AJ113: =LOOKUP(AZ113,$A$3:$Y$3,$A$4:$AE$4) -> 4 | AK113: =LOOKUP(BA113,$A$3:$Y$3,$A$4:$AE$4) -> 5 | AL113: =LOOKUP(BB113,$A$3:$Y$3,$A$4:$AE$4) -> 6 | AM113: =LOOKUP(BC113,$A$3:$Y$3,$A$4:$AE$4) -> 7 | AN113: =LOOKUP(BD113,$A$3:$Y$3,$A$4:$AE$4) -> 9 | ... AU113: =LOOKUP(BK113,$A$3:$Y$3,$A$4:$AE$4) -> 21 | AW113: 1 | AX113: 2 | AY113: 3 | AZ113: 4 | BA113: 5 | BB113: 6 | BC113: 7 | BD113: 9 | BE113: 10 | BF113: 11 | BG113: 13 | BH113: 14 | BI113: 16 | BJ113: 17 | BK113: 18 | BZ113: =SMALL($BZ9:$CN9,A$3) -> 1 | CA113: =SMALL($BZ9:$CN9,B$3) -> 2 | CB113: =SMALL($BZ9:$CN9,C$3) -> 3 | CC113: =SMALL($BZ9:$CN9,D$3) -> 4 | CD113: =SMALL($BZ9:$CN9,E$3) -> 5 | CE113: =SMALL($BZ9:$CN9,F$3) -> 6 | CF113: =SMALL($BZ9:$CN9,G$3) -> 7 | CG113: =SMALL($BZ9:$CN9,H$3) -> 8 | ... CN113: =SMALL($BZ9:$CN9,O$3) -> 22 | CQ113: 4
A114: =LOOKUP(Q114,$A$3:$Y$3,$A$4:$AE$4) -> 1 | B114: =LOOKUP(R114,$A$3:$Y$3,$A$4:$AE$4) -> 2 | C114: =LOOKUP(S114,$A$3:$Y$3,$A$4:$AE$4) -> 4 | D114: =LOOKUP(T114,$A$3:$Y$3,$A$4:$AE$4) -> 6 | E114: =LOOKUP(U114,$A$3:$Y$3,$A$4:$AE$4) -> 7 | F114: =LOOKUP(V114,$A$3:$Y$3,$A$4:$AE$4) -> 8 | G114: =LOOKUP(W114,$A$3:$Y$3,$A$4:$AE$4) -> 9 | H114: =LOOKUP(X114,$A$3:$Y$3,$A$4:$AE$4) -> 10 | ... O114: =LOOKUP(AE114,$A$3:$Y$3,$A$4:$AE$4) -> 21 | Q114: 1 | R114: 2 | S114: 4 | T114: 6 | U114: 7 | V114: 8 | W114: 9 | X114: 10 | Y114: 11 | Z114: 12 | AA114: 13 | AB114: 14 | AC114: 15 | AD114: 17 | AE114: 18 | AG114: =LOOKUP(AW114,$A$3:$Y$3,$A$4:$AE$4) -> 1 | AH114: =LOOKUP(AX114,$A$3:$Y$3,$A$4:$AE$4) -> 2 | AI114: =LOOKUP(AY114,$A$3:$Y$3,$A$4:$AE$4) -> 3 | AJ114: =LOOKUP(AZ114,$A$3:$Y$3,$A$4:$AE$4) -> 4 | AK114: =LOOKUP(BA114,$A$3:$Y$3,$A$4:$AE$4) -> 5 | AL114: =LOOKUP(BB114,$A$3:$Y$3,$A$4:$AE$4) -> 6 | AM114: =LOOKUP(BC114,$A$3:$Y$3,$A$4:$AE$4) -> 7 | AN114: =LOOKUP(BD114,$A$3:$Y$3,$A$4:$AE$4) -> 9 | ... AU114: =LOOKUP(BK114,$A$3:$Y$3,$A$4:$AE$4) -> 21 | AW114: 1 | AX114: 2 | AY114: 3 | AZ114: 4 | BA114: 5 | BB114: 6 | BC114: 7 | BD114: 9 | BE114: 10 | BF114: 11 | BG114: 13 | BH114: 15 | BI114: 16 | BJ114: 17 | BK114: 18 | BZ114: =SMALL($BZ10:$CN10,A$3) -> 1 | CA114: =SMALL($BZ10:$CN10,B$3) -> 2 | CB114: =SMALL($BZ10:$CN10,C$3) -> 3 | CC114: =SMALL($BZ10:$CN10,D$3) -> 4 | CD114: =SMALL($BZ10:$CN10,E$3) -> 5 | CE114: =SMALL($BZ10:$CN10,F$3) -> 6 | CF114: =SMALL($BZ10:$CN10,G$3) -> 7 | CG114: =SMALL($BZ10:$CN10,H$3) -> 8 | ... CN114: =SMALL($BZ10:$CN10,O$3) -> 22 | CQ114: 5
A115: =LOOKUP(Q115,$A$3:$Y$3,$A$4:$AE$4) -> 1 | B115: =LOOKUP(R115,$A$3:$Y$3,$A$4:$AE$4) -> 2 | C115: =LOOKUP(S115,$A$3:$Y$3,$A$4:$AE$4) -> 4 | D115: =LOOKUP(T115,$A$3:$Y$3,$A$4:$AE$4) -> 6 | E115: =LOOKUP(U115,$A$3:$Y$3,$A$4:$AE$4) -> 8 | F115: =LOOKUP(V115,$A$3:$Y$3,$A$4:$AE$4) -> 9 | G115: =LOOKUP(W115,$A$3:$Y$3,$A$4:$AE$4) -> 10 | H115: =LOOKUP(X115,$A$3:$Y$3,$A$4:$AE$4) -> 11 | ... O115: =LOOKUP(AE115,$A$3:$Y$3,$A$4:$AE$4) -> 21 | Q115: 1 | R115: 2 | S115: 4 | T115: 6 | U115: 8 | V115: 9 | W115: 10 | X115: 11 | Y115: 12 | Z115: 13 | AA115: 14 | AB115: 15 | AC115: 16 | AD115: 17 | AE115: 18 | AG115: =LOOKUP(AW115,$A$3:$Y$3,$A$4:$AE$4) -> 1 | AH115: =LOOKUP(AX115,$A$3:$Y$3,$A$4:$AE$4) -> 2 | AI115: =LOOKUP(AY115,$A$3:$Y$3,$A$4:$AE$4) -> 3 | AJ115: =LOOKUP(AZ115,$A$3:$Y$3,$A$4:$AE$4) -> 4 | AK115: =LOOKUP(BA115,$A$3:$Y$3,$A$4:$AE$4) -> 5 | AL115: =LOOKUP(BB115,$A$3:$Y$3,$A$4:$AE$4) -> 6 | AM115: =LOOKUP(BC115,$A$3:$Y$3,$A$4:$AE$4) -> 7 | AN115: =LOOKUP(BD115,$A$3:$Y$3,$A$4:$AE$4) -> 9 | ... AU115: =LOOKUP(BK115,$A$3:$Y$3,$A$4:$AE$4) -> 21 | AW115: 1 | AX115: 2 | AY115: 3 | AZ115: 4 | BA115: 5 | BB115: 6 | BC115: 7 | BD115: 9 | BE115: 10 | BF115: 11 | BG115: 14 | BH115: 15 | BI115: 16 | BJ115: 17 | BK115: 18 | BZ115: =SMALL($BZ11:$CN11,A$3) -> 1 | CA115: =SMALL($BZ11:$CN11,B$3) -> 2 | CB115: =SMALL($BZ11:$CN11,C$3) -> 3 | CC115: =SMALL($BZ11:$CN11,D$3) -> 4 | CD115: =SMALL($BZ11:$CN11,E$3) -> 5 | CE115: =SMALL($BZ11:$CN11,F$3) -> 6 | CF115: =SMALL($BZ11:$CN11,G$3) -> 7 | CG115: =SMALL($BZ11:$CN11,H$3) -> 8 | ... CN115: =SMALL($BZ11:$CN11,O$3) -> 22 | CQ115: 6
A116: =LOOKUP(Q116,$A$3:$Y$3,$A$4:$AE$4) -> 1 | B116: =LOOKUP(R116,$A$3:$Y$3,$A$4:$AE$4) -> 2 | C116: =LOOKUP(S116,$A$3:$Y$3,$A$4:$AE$4) -> 5 | D116: =LOOKUP(T116,$A$3:$Y$3,$A$4:$AE$4) -> 6 | E116: =LOOKUP(U116,$A$3:$Y$3,$A$4:$AE$4) -> 7 | F116: =LOOKUP(V116,$A$3:$Y$3,$A$4:$AE$4) -> 9 | G116: =LOOKUP(W116,$A$3:$Y$3,$A$4:$AE$4) -> 10 | H116: =LOOKUP(X116,$A$3:$Y$3,$A$4:$AE$4) -> 11 | ... O116: =LOOKUP(AE116,$A$3:$Y$3,$A$4:$AE$4) -> 21 | Q116: 1 | R116: 2 | S116: 5 | T116: 6 | U116: 7 | V116: 9 | W116: 10 | X116: 11 | Y116: 12 | Z116: 13 | AA116: 14 | AB116: 15 | AC116: 16 | AD116: 17 | AE116: 18 | AG116: =LOOKUP(AW116,$A$3:$Y$3,$A$4:$AE$4) -> 1 | AH116: =LOOKUP(AX116,$A$3:$Y$3,$A$4:$AE$4) -> 2 | AI116: =LOOKUP(AY116,$A$3:$Y$3,$A$4:$AE$4) -> 3 | AJ116: =LOOKUP(AZ116,$A$3:$Y$3,$A$4:$AE$4) -> 4 | AK116: =LOOKUP(BA116,$A$3:$Y$3,$A$4:$AE$4) -> 5 | AL116: =LOOKUP(BB116,$A$3:$Y$3,$A$4:$AE$4) -> 6 | AM116: =LOOKUP(BC116,$A$3:$Y$3,$A$4:$AE$4) -> 7 | AN116: =LOOKUP(BD116,$A$3:$Y$3,$A$4:$AE$4) -> 9 | ... AU116: =LOOKUP(BK116,$A$3:$Y$3,$A$4:$AE$4) -> 22 | AW116: 1 | AX116: 2 | AY116: 3 | AZ116: 4 | BA116: 5 | BB116: 6 | BC116: 7 | BD116: 9 | BE116: 10 | BF116: 12 | BG116: 13 | BH116: 14 | BI116: 15 | BJ116: 16 | BK116: 17 | BZ116: =SMALL($BZ12:$CN12,A$3) -> 1 | CA116: =SMALL($BZ12:$CN12,B$3) -> 2 | CB116: =SMALL($BZ12:$CN12,C$3) -> 3 | CC116: =SMALL($BZ12:$CN12,D$3) -> 4 | CD116: =SMALL($BZ12:$CN12,E$3) -> 5 | CE116: =SMALL($BZ12:$CN12,F$3) -> 6 | CF116: =SMALL($BZ12:$CN12,G$3) -> 7 | CG116: =SMALL($BZ12:$CN12,H$3) -> 8 | ... CN116: =SMALL($BZ12:$CN12,O$3) -> 22 | CQ116: 7
A117: =LOOKUP(Q117,$A$3:$Y$3,$A$4:$AE$4) -> 1 | B117: =LOOKUP(R117,$A$3:$Y$3,$A$4:$AE$4) -> 3 | C117: =LOOKUP(S117,$A$3:$Y$3,$A$4:$AE$4) -> 4 | D117: =LOOKUP(T117,$A$3:$Y$3,$A$4:$AE$4) -> 5 | E117: =LOOKUP(U117,$A$3:$Y$3,$A$4:$AE$4) -> 6 | F117: =LOOKUP(V117,$A$3:$Y$3,$A$4:$AE$4) -> 7 | G117: =LOOKUP(W117,$A$3:$Y$3,$A$4:$AE$4) -> 8 | H117: =LOOKUP(X117,$A$3:$Y$3,$A$4:$AE$4) -> 9 | ... O117: =LOOKUP(AE117,$A$3:$Y$3,$A$4:$AE$4) -> 21 | Q117: 1 | R117: 3 | S117: 4 | T117: 5 | U117: 6 | V117: 7 | W117: 8 | X117: 9 | Y117: 10 | Z117: 11 | AA117: 12 | AB117: 13 | AC117: 14 | AD117: 16 | AE117: 18 | AG117: =LOOKUP(AW117,$A$3:$Y$3,$A$4:$AE$4) -> 1 | AH117: =LOOKUP(AX117,$A$3:$Y$3,$A$4:$AE$4) -> 2 | AI117: =LOOKUP(AY117,$A$3:$Y$3,$A$4:$AE$4) -> 3 | AJ117: =LOOKUP(AZ117,$A$3:$Y$3,$A$4:$AE$4) -> 4 | AK117: =LOOKUP(BA117,$A$3:$Y$3,$A$4:$AE$4) -> 5 | AL117: =LOOKUP(BB117,$A$3:$Y$3,$A$4:$AE$4) -> 6 | AM117: =LOOKUP(BC117,$A$3:$Y$3,$A$4:$AE$4) -> 7 | AN117: =LOOKUP(BD117,$A$3:$Y$3,$A$4:$AE$4) -> 9 | ... AU117: =LOOKUP(BK117,$A$3:$Y$3,$A$4:$AE$4) -> 21 | AW117: 1 | AX117: 2 | AY117: 3 | AZ117: 4 | BA117: 5 | BB117: 6 | BC117: 7 | BD117: 9 | BE117: 10 | BF117: 12 | BG117: 13 | BH117: 14 | BI117: 15 | BJ117: 16 | BK117: 18 | BZ117: =SMALL($BZ13:$CN13,A$3) -> 1 | CA117: =SMALL($BZ13:$CN13,B$3) -> 2 | CB117: =SMALL($BZ13:$CN13,C$3) -> 3 | CC117: =SMALL($BZ13:$CN13,D$3) -> 4 | CD117: =SMALL($BZ13:$CN13,E$3) -> 5 | CE117: =SMALL($BZ13:$CN13,F$3) -> 6 | CF117: =SMALL($BZ13:$CN13,G$3) -> 7 | CG117: =SMALL($BZ13:$CN13,H$3) -> 8 | ... CN117: =SMALL($BZ13:$CN13,O$3) -> 21 | CQ117: 8
A118: =LOOKUP(Q118,$A$3:$Y$3,$A$4:$AE$4) -> 1 | B118: =LOOKUP(R118,$A$3:$Y$3,$A$4:$AE$4) -> 3 | C118: =LOOKUP(S118,$A$3:$Y$3,$A$4:$AE$4) -> 4 | D118: =LOOKUP(T118,$A$3:$Y$3,$A$4:$AE$4) -> 5 | E118: =LOOKUP(U118,$A$3:$Y$3,$A$4:$AE$4) -> 6 | F118: =LOOKUP(V118,$A$3:$Y$3,$A$4:$AE$4) -> 7 | G118: =LOOKUP(W118,$A$3:$Y$3,$A$4:$AE$4) -> 8 | H118: =LOOKUP(X118,$A$3:$Y$3,$A$4:$AE$4) -> 9 | ... O118: =LOOKUP(AE118,$A$3:$Y$3,$A$4:$AE$4) -> 21 | Q118: 1 | R118: 3 | S118: 4 | T118: 5 | U118: 6 | V118: 7 | W118: 8 | X118: 9 | Y118: 11 | Z118: 12 | AA118: 14 | AB118: 15 | AC118: 16 | AD118: 17 | AE118: 18 | AG118: =LOOKUP(AW118,$A$3:$Y$3,$A$4:$AE$4) -> 1 | AH118: =LOOKUP(AX118,$A$3:$Y$3,$A$4:$AE$4) -> 2 | AI118: =LOOKUP(AY118,$A$3:$Y$3,$A$4:$AE$4) -> 3 | AJ118: =LOOKUP(AZ118,$A$3:$Y$3,$A$4:$AE$4) -> 4 | AK118: =LOOKUP(BA118,$A$3:$Y$3,$A$4:$AE$4) -> 5 | AL118: =LOOKUP(BB118,$A$3:$Y$3,$A$4:$AE$4) -> 6 | AM118: =LOOKUP(BC118,$A$3:$Y$3,$A$4:$AE$4) -> 7 | AN118: =LOOKUP(BD118,$A$3:$Y$3,$A$4:$AE$4) -> 9 | ... AU118: =LOOKUP(BK118,$A$3:$Y$3,$A$4:$AE$4) -> 21 | AW118: 1 | AX118: 2 | AY118: 3 | AZ118: 4 | BA118: 5 | BB118: 6 | BC118: 7 | BD118: 9 | BE118: 10 | BF118: 12 | BG118: 13 | BH118: 14 | BI118: 15 | BJ118: 17 | BK118: 18 | BZ118: =SMALL($BZ14:$CN14,A$3) -> 1 | CA118: =SMALL($BZ14:$CN14,B$3) -> 2 | CB118: =SMALL($BZ14:$CN14,C$3) -> 3 | CC118: =SMALL($BZ14:$CN14,D$3) -> 4 | CD118: =SMALL($BZ14:$CN14,E$3) -> 5 | CE118: =SMALL($BZ14:$CN14,F$3) -> 6 | CF118: =SMALL($BZ14:$CN14,G$3) -> 7 | CG118: =SMALL($BZ14:$CN14,H$3) -> 8 | ... CN118: =SMALL($BZ14:$CN14,O$3) -> 22 | CQ118: 9
A119: =LOOKUP(Q119,$A$3:$Y$3,$A$4:$AE$4) -> 1 | B119: =LOOKUP(R119,$A$3:$Y$3,$A$4:$AE$4) -> 3 | C119: =LOOKUP(S119,$A$3:$Y$3,$A$4:$AE$4) -> 4 | D119: =LOOKUP(T119,$A$3:$Y$3,$A$4:$AE$4) -> 5 | E119: =LOOKUP(U119,$A$3:$Y$3,$A$4:$AE$4) -> 6 | F119: =LOOKUP(V119,$A$3:$Y$3,$A$4:$AE$4) -> 7 | G119: =LOOKUP(W119,$A$3:$Y$3,$A$4:$AE$4) -> 8 | H119: =LOOKUP(X119,$A$3:$Y$3,$A$4:$AE$4) -> 9 | ... O119: =LOOKUP(AE119,$A$3:$Y$3,$A$4:$AE$4) -> 21 | Q119: 1 | R119: 3 | S119: 4 | T119: 5 | U119: 6 | V119: 7 | W119: 8 | X119: 9 | Y119: 12 | Z119: 13 | AA119: 14 | AB119: 15 | AC119: 16 | AD119: 17 | AE119: 18 | AG119: =LOOKUP(AW119,$A$3:$Y$3,$A$4:$AE$4) -> 1 | AH119: =LOOKUP(AX119,$A$3:$Y$3,$A$4:$AE$4) -> 2 | AI119: =LOOKUP(AY119,$A$3:$Y$3,$A$4:$AE$4) -> 3 | AJ119: =LOOKUP(AZ119,$A$3:$Y$3,$A$4:$AE$4) -> 4 | AK119: =LOOKUP(BA119,$A$3:$Y$3,$A$4:$AE$4) -> 5 | AL119: =LOOKUP(BB119,$A$3:$Y$3,$A$4:$AE$4) -> 6 | AM119: =LOOKUP(BC119,$A$3:$Y$3,$A$4:$AE$4) -> 7 | AN119: =LOOKUP(BD119,$A$3:$Y$3,$A$4:$AE$4) -> 9 | ... AU119: =LOOKUP(BK119,$A$3:$Y$3,$A$4:$AE$4) -> 21 | AW119: 1 | AX119: 2 | AY119: 3 | AZ119: 4 | BA119: 5 | BB119: 6 | BC119: 7 | BD119: 9 | BE119: 10 | BF119: 12 | BG119: 13 | BH119: 14 | BI119: 16 | BJ119: 17 | BK119: 18 | BZ119: =SMALL($BZ15:$CN15,A$3) -> 1 | CA119: =SMALL($BZ15:$CN15,B$3) -> 2 | CB119: =SMALL($BZ15:$CN15,C$3) -> 3 | CC119: =SMALL($BZ15:$CN15,D$3) -> 4 | CD119: =SMALL($BZ15:$CN15,E$3) -> 5 | CE119: =SMALL($BZ15:$CN15,F$3) -> 6 | CF119: =SMALL($BZ15:$CN15,G$3) -> 7 | CG119: =SMALL($BZ15:$CN15,H$3) -> 8 | ... CN119: =SMALL($BZ15:$CN15,O$3) -> 21 | CQ119: 10
A120: =LOOKUP(Q120,$A$3:$Y$3,$A$4:$AE$4) -> 1 | B120: =LOOKUP(R120,$A$3:$Y$3,$A$4:$AE$4) -> 3 | C120: =LOOKUP(S120,$A$3:$Y$3,$A$4:$AE$4) -> 4 | D120: =LOOKUP(T120,$A$3:$Y$3,$A$4:$AE$4) -> 5 | E120: =LOOKUP(U120,$A$3:$Y$3,$A$4:$AE$4) -> 6 | F120: =LOOKUP(V120,$A$3:$Y$3,$A$4:$AE$4) -> 7 | G120: =LOOKUP(W120,$A$3:$Y$3,$A$4:$AE$4) -> 8 | H120: =LOOKUP(X120,$A$3:$Y$3,$A$4:$AE$4) -> 10 | ... O120: =LOOKUP(AE120,$A$3:$Y$3,$A$4:$AE$4) -> 21 | Q120: 1 | R120: 3 | S120: 4 | T120: 5 | U120: 6 | V120: 7 | W120: 8 | X120: 10 | Y120: 11 | Z120: 13 | AA120: 14 | AB120: 15 | AC120: 16 | AD120: 17 | AE120: 18 | AG120: =LOOKUP(AW120,$A$3:$Y$3,$A$4:$AE$4) -> 1 | AH120: =LOOKUP(AX120,$A$3:$Y$3,$A$4:$AE$4) -> 2 | AI120: =LOOKUP(AY120,$A$3:$Y$3,$A$4:$AE$4) -> 3 | AJ120: =LOOKUP(AZ120,$A$3:$Y$3,$A$4:$AE$4) -> 4 | AK120: =LOOKUP(BA120,$A$3:$Y$3,$A$4:$AE$4) -> 5 | AL120: =LOOKUP(BB120,$A$3:$Y$3,$A$4:$AE$4) -> 6 | AM120: =LOOKUP(BC120,$A$3:$Y$3,$A$4:$AE$4) -> 7 | AN120: =LOOKUP(BD120,$A$3:$Y$3,$A$4:$AE$4) -> 9 | ... AU120: =LOOKUP(BK120,$A$3:$Y$3,$A$4:$AE$4) -> 21 | AW120: 1 | AX120: 2 | AY120: 3 | AZ120: 4 | BA120: 5 | BB120: 6 | BC120: 7 | BD120: 9 | BE120: 10 | BF120: 12 | BG120: 13 | BH120: 15 | BI120: 16 | BJ120: 17 | BK120: 18 | BZ120: =SMALL($BZ16:$CN16,A$3) -> 1 | CA120: =SMALL($BZ16:$CN16,B$3) -> 2 | CB120: =SMALL($BZ16:$CN16,C$3) -> 3 | CC120: =SMALL($BZ16:$CN16,D$3) -> 4 | CD120: =SMALL($BZ16:$CN16,E$3) -> 5 | CE120: =SMALL($BZ16:$CN16,F$3) -> 6 | CF120: =SMALL($BZ16:$CN16,G$3) -> 7 | CG120: =SMALL($BZ16:$CN16,H$3) -> 8 | ... CN120: =SMALL($BZ16:$CN16,O$3) -> 16 | CQ120: 11
A121: =LOOKUP(Q121,$A$3:$Y$3,$A$4:$AE$4) -> 1 | B121: =LOOKUP(R121,$A$3:$Y$3,$A$4:$AE$4) -> 3 | C121: =LOOKUP(S121,$A$3:$Y$3,$A$4:$AE$4) -> 4 | D121: =LOOKUP(T121,$A$3:$Y$3,$A$4:$AE$4) -> 5 | E121: =LOOKUP(U121,$A$3:$Y$3,$A$4:$AE$4) -> 6 | F121: =LOOKUP(V121,$A$3:$Y$3,$A$4:$AE$4) -> 7 | G121: =LOOKUP(W121,$A$3:$Y$3,$A$4:$AE$4) -> 9 | H121: =LOOKUP(X121,$A$3:$Y$3,$A$4:$AE$4) -> 10 | ... O121: =LOOKUP(AE121,$A$3:$Y$3,$A$4:$AE$4) -> 21 | Q121: 1 | R121: 3 | S121: 4 | T121: 5 | U121: 6 | V121: 7 | W121: 9 | X121: 10 | Y121: 11 | Z121: 12 | AA121: 13 | AB121: 14 | AC121: 15 | AD121: 16 | AE121: 18 | AG121: =LOOKUP(AW121,$A$3:$Y$3,$A$4:$AE$4) -> 1 | AH121: =LOOKUP(AX121,$A$3:$Y$3,$A$4:$AE$4) -> 2 | AI121: =LOOKUP(AY121,$A$3:$Y$3,$A$4:$AE$4) -> 3 | AJ121: =LOOKUP(AZ121,$A$3:$Y$3,$A$4:$AE$4) -> 4 | AK121: =LOOKUP(BA121,$A$3:$Y$3,$A$4:$AE$4) -> 5 | AL121: =LOOKUP(BB121,$A$3:$Y$3,$A$4:$AE$4) -> 6 | AM121: =LOOKUP(BC121,$A$3:$Y$3,$A$4:$AE$4) -> 7 | AN121: =LOOKUP(BD121,$A$3:$Y$3,$A$4:$AE$4) -> 9 | ... AU121: =LOOKUP(BK121,$A$3:$Y$3,$A$4:$AE$4) -> 21 | AW121: 1 | AX121: 2 | AY121: 3 | AZ121: 4 | BA121: 5 | BB121: 6 | BC121: 7 | BD121: 9 | BE121: 10 | BF121: 12 | BG121: 14 | BH121: 15 | BI121: 16 | BJ121: 17 | BK121: 18 | BZ121: =SMALL($BZ17:$CN17,A$3) -> 1 | CA121: =SMALL($BZ17:$CN17,B$3) -> 2 | CB121: =SMALL($BZ17:$CN17,C$3) -> 3 | CC121: =SMALL($BZ17:$CN17,D$3) -> 4 | CD121: =SMALL($BZ17:$CN17,E$3) -> 5 | CE121: =SMALL($BZ17:$CN17,F$3) -> 6 | CF121: =SMALL($BZ17:$CN17,G$3) -> 7 | CG121: =SMALL($BZ17:$CN17,H$3) -> 8 | ... CN121: =SMALL($BZ17:$CN17,O$3) -> 22 | CQ121: 12
... A137: =LOOKUP(Q137,$A$3:$Y$3,$A$4:$AE$4) -> 3 | B137: =LOOKUP(R137,$A$3:$Y$3,$A$4:$AE$4) -> 5 | C137: =LOOKUP(S137,$A$3:$Y$3,$A$4:$AE$4) -> 6 | D137: =LOOKUP(T137,$A$3:$Y$3,$A$4:$AE$4) -> 7 | E137: =LOOKUP(U137,$A$3:$Y$3,$A$4:$AE$4) -> 8 | F137: =LOOKUP(V137,$A$3:$Y$3,$A$4:$AE$4) -> 9 | G137: =LOOKUP(W137,$A$3:$Y$3,$A$4:$AE$4) -> 10 | H137: =LOOKUP(X137,$A$3:$Y$3,$A$4:$AE$4) -> 11 | ... O137: =LOOKUP(AE137,$A$3:$Y$3,$A$4:$AE$4) -> 21 | Q137: 3 | R137: 5 | S137: 6 | T137: 7 | U137: 8 | V137: 9 | W137: 10 | X137: 11 | Y137: 12 | Z137: 13 | AA137: 14 | AB137: 15 | AC137: 16 | AD137: 17 | AE137: 18 | AG137: =LOOKUP(AW137,$A$3:$Y$3,$A$4:$AE$4) -> 1 | AH137: =LOOKUP(AX137,$A$3:$Y$3,$A$4:$AE$4) -> 2 | AI137: =LOOKUP(AY137,$A$3:$Y$3,$A$4:$AE$4) -> 3 | AJ137: =LOOKUP(AZ137,$A$3:$Y$3,$A$4:$AE$4) -> 4 | AK137: =LOOKUP(BA137,$A$3:$Y$3,$A$4:$AE$4) -> 5 | AL137: =LOOKUP(BB137,$A$3:$Y$3,$A$4:$AE$4) -> 6 | AM137: =LOOKUP(BC137,$A$3:$Y$3,$A$4:$AE$4) -> 8 | AN137: =LOOKUP(BD137,$A$3:$Y$3,$A$4:$AE$4) -> 9 | ... AU137: =LOOKUP(BK137,$A$3:$Y$3,$A$4:$AE$4) -> 21 | AW137: 1 | AX137: 2 | AY137: 3 | AZ137: 4 | BA137: 5 | BB137: 6 | BC137: 8 | BD137: 9 | BE137: 10 | BF137: 11 | BG137: 12 | BH137: 13 | BI137: 15 | BJ137: 17 | BK137: 18 | BZ137: =SMALL($BZ33:$CN33,A$3) -> 1 | CA137: =SMALL($BZ33:$CN33,B$3) -> 2 | CB137: =SMALL($BZ33:$CN33,C$3) -> 3 | CC137: =SMALL($BZ33:$CN33,D$3) -> 4 | CD137: =SMALL($BZ33:$CN33,E$3) -> 5 | CE137: =SMALL($BZ33:$CN33,F$3) -> 6 | CF137: =SMALL($BZ33:$CN33,G$3) -> 7 | CG137: =SMALL($BZ33:$CN33,H$3) -> 9 | ... CN137: =SMALL($BZ33:$CN33,O$3) -> 22 | CQ137: 28
AG138: =LOOKUP(AW138,$A$3:$Y$3,$A$4:$AE$4) -> 1 | AH138: =LOOKUP(AX138,$A$3:$Y$3,$A$4:$AE$4) -> 2 | AI138: =LOOKUP(AY138,$A$3:$Y$3,$A$4:$AE$4) -> 3 | AJ138: =LOOKUP(AZ138,$A$3:$Y$3,$A$4:$AE$4) -> 4 | AK138: =LOOKUP(BA138,$A$3:$Y$3,$A$4:$AE$4) -> 5 | AL138: =LOOKUP(BB138,$A$3:$Y$3,$A$4:$AE$4) -> 6 | AM138: =LOOKUP(BC138,$A$3:$Y$3,$A$4:$AE$4) -> 8 | AN138: =LOOKUP(BD138,$A$3:$Y$3,$A$4:$AE$4) -> 9 | ... AU138: =LOOKUP(BK138,$A$3:$Y$3,$A$4:$AE$4) -> 21 | AW138: 1 | AX138: 2 | AY138: 3 | AZ138: 4 | BA138: 5 | BB138: 6 | BC138: 8 | BD138: 9 | BE138: 10 | BF138: 11 | BG138: 12 | BH138: 13 | BI138: 16 | BJ138: 17 | BK138: 18 | BZ138: =SMALL($BZ34:$CN34,A$3) -> 1 | CA138: =SMALL($BZ34:$CN34,B$3) -> 2 | CB138: =SMALL($BZ34:$CN34,C$3) -> 3 | CC138: =SMALL($BZ34:$CN34,D$3) -> 4 | CD138: =SMALL($BZ34:$CN34,E$3) -> 5 | CE138: =SMALL($BZ34:$CN34,F$3) -> 6 | CF138: =SMALL($BZ34:$CN34,G$3) -> 8 | CG138: =SMALL($BZ34:$CN34,H$3) -> 9 | ... CN138: =SMALL($BZ34:$CN34,O$3) -> 16 | CQ138: 29
AG139: =LOOKUP(AW139,$A$3:$Y$3,$A$4:$AE$4) -> 1 | AH139: =LOOKUP(AX139,$A$3:$Y$3,$A$4:$AE$4) -> 2 | AI139: =LOOKUP(AY139,$A$3:$Y$3,$A$4:$AE$4) -> 3 | AJ139: =LOOKUP(AZ139,$A$3:$Y$3,$A$4:$AE$4) -> 4 | AK139: =LOOKUP(BA139,$A$3:$Y$3,$A$4:$AE$4) -> 5 | AL139: =LOOKUP(BB139,$A$3:$Y$3,$A$4:$AE$4) -> 6 | AM139: =LOOKUP(BC139,$A$3:$Y$3,$A$4:$AE$4) -> 8 | AN139: =LOOKUP(BD139,$A$3:$Y$3,$A$4:$AE$4) -> 9 | ... AU139: =LOOKUP(BK139,$A$3:$Y$3,$A$4:$AE$4) -> 22 | AW139: 1 | AX139: 2 | AY139: 3 | AZ139: 4 | BA139: 5 | BB139: 6 | BC139: 8 | BD139: 9 | BE139: 10 | BF139: 11 | BG139: 12 | BH139: 14 | BI139: 15 | BJ139: 16 | BK139: 17 | BZ139: =SMALL($BZ35:$CN35,A$3) -> 1 | CA139: =SMALL($BZ35:$CN35,B$3) -> 2 | CB139: =SMALL($BZ35:$CN35,C$3) -> 3 | CC139: =SMALL($BZ35:$CN35,D$3) -> 4 | CD139: =SMALL($BZ35:$CN35,E$3) -> 5 | CE139: =SMALL($BZ35:$CN35,F$3) -> 6 | CF139: =SMALL($BZ35:$CN35,G$3) -> 8 | CG139: =SMALL($BZ35:$CN35,H$3) -> 9 | ... CN139: =SMALL($BZ35:$CN35,O$3) -> 22 | CQ139: 30
AG140: =LOOKUP(AW140,$A$3:$Y$3,$A$4:$AE$4) -> 1 | AH140: =LOOKUP(AX140,$A$3:$Y$3,$A$4:$AE$4) -> 2 | AI140: =LOOKUP(AY140,$A$3:$Y$3,$A$4:$AE$4) -> 3 | AJ140: =LOOKUP(AZ140,$A$3:$Y$3,$A$4:$AE$4) -> 4 | AK140: =LOOKUP(BA140,$A$3:$Y$3,$A$4:$AE$4) -> 5 | AL140: =LOOKUP(BB140,$A$3:$Y$3,$A$4:$AE$4) -> 6 | AM140: =LOOKUP(BC140,$A$3:$Y$3,$A$4:$AE$4) -> 8 | AN140: =LOOKUP(BD140,$A$3:$Y$3,$A$4:$AE$4) -> 9 | ... AU140: =LOOKUP(BK140,$A$3:$Y$3,$A$4:$AE$4) -> 21 | AW140: 1 | AX140: 2 | AY140: 3 | AZ140: 4 | BA140: 5 | BB140: 6 | BC140: 8 | BD140: 9 | BE140: 10 | BF140: 11 | BG140: 12 | BH140: 14 | BI140: 15 | BJ140: 17 | BK140: 18 | BZ140: =SMALL($BZ36:$CN36,A$3) -> 1 | CA140: =SMALL($BZ36:$CN36,B$3) -> 2 | CB140: =SMALL($BZ36:$CN36,C$3) -> 3 | CC140: =SMALL($BZ36:$CN36,D$3) -> 4 | CD140: =SMALL($BZ36:$CN36,E$3) -> 5 | CE140: =SMALL($BZ36:$CN36,F$3) -> 6 | CF140: =SMALL($BZ36:$CN36,G$3) -> 8 | CG140: =SMALL($BZ36:$CN36,H$3) -> 9 | ... CN140: =SMALL($BZ36:$CN36,O$3) -> 21 | CQ140: 31
A141: =SMALL($A73:$O73,A$3) -> 1 | B141: =SMALL($A73:$O73,B$3) -> 2 | C141: =SMALL($A73:$O73,C$3) -> 3 | D141: =SMALL($A73:$O73,D$3) -> 4 | E141: =SMALL($A73:$O73,E$3) -> 5 | F141: =SMALL($A73:$O73,F$3) -> 6 | G141: =SMALL($A73:$O73,G$3) -> 7 | H141: =SMALL($A73:$O73,H$3) -> 8 | ... O141: =SMALL($A73:$O73,O$3) -> 21 | R141: 1 | AG141: =LOOKUP(AW141,$A$3:$Y$3,$A$4:$AE$4) -> 1 | AH141: =LOOKUP(AX141,$A$3:$Y$3,$A$4:$AE$4) -> 2 | AI141: =LOOKUP(AY141,$A$3:$Y$3,$A$4:$AE$4) -> 3 | AJ141: =LOOKUP(AZ141,$A$3:$Y$3,$A$4:$AE$4) -> 4 | AK141: =LOOKUP(BA141,$A$3:$Y$3,$A$4:$AE$4) -> 5 | AL141: =LOOKUP(BB141,$A$3:$Y$3,$A$4:$AE$4) -> 6 | AM141: =LOOKUP(BC141,$A$3:$Y$3,$A$4:$AE$4) -> 8 | AN141: =LOOKUP(BD141,$A$3:$Y$3,$A$4:$AE$4) -> 9 | ... AU141: =LOOKUP(BK141,$A$3:$Y$3,$A$4:$AE$4) -> 21 | AW141: 1 | AX141: 2 | AY141: 3 | AZ141: 4 | BA141: 5 | BB141: 6 | BC141: 8 | BD141: 9 | BE141: 10 | BF141: 11 | BG141: 12 | BH141: 14 | BI141: 16 | BJ141: 17 | BK141: 18 | BZ141: =SMALL($BZ37:$CN37,A$3) -> 1 | CA141: =SMALL($BZ37:$CN37,B$3) -> 2 | CB141: =SMALL($BZ37:$CN37,C$3) -> 3 | CC141: =SMALL($BZ37:$CN37,D$3) -> 4 | CD141: =SMALL($BZ37:$CN37,E$3) -> 5 | CE141: =SMALL($BZ37:$CN37,F$3) -> 6 | CF141: =SMALL($BZ37:$CN37,G$3) -> 8 | CG141: =SMALL($BZ37:$CN37,H$3) -> 9 | ... CN141: =SMALL($BZ37:$CN37,O$3) -> 22 | CQ141: 32
A142: =SMALL($A74:$O74,A$3) -> 1 | B142: =SMALL($A74:$O74,B$3) -> 2 | C142: =SMALL($A74:$O74,C$3) -> 3 | D142: =SMALL($A74:$O74,D$3) -> 4 | E142: =SMALL($A74:$O74,E$3) -> 5 | F142: =SMALL($A74:$O74,F$3) -> 6 | G142: =SMALL($A74:$O74,G$3) -> 7 | H142: =SMALL($A74:$O74,H$3) -> 8 | ... O142: =SMALL($A74:$O74,O$3) -> 21 | R142: 2 | AG142: =LOOKUP(AW142,$A$3:$Y$3,$A$4:$AE$4) -> 1 | AH142: =LOOKUP(AX142,$A$3:$Y$3,$A$4:$AE$4) -> 2 | AI142: =LOOKUP(AY142,$A$3:$Y$3,$A$4:$AE$4) -> 3 | AJ142: =LOOKUP(AZ142,$A$3:$Y$3,$A$4:$AE$4) -> 4 | AK142: =LOOKUP(BA142,$A$3:$Y$3,$A$4:$AE$4) -> 5 | AL142: =LOOKUP(BB142,$A$3:$Y$3,$A$4:$AE$4) -> 6 | AM142: =LOOKUP(BC142,$A$3:$Y$3,$A$4:$AE$4) -> 8 | AN142: =LOOKUP(BD142,$A$3:$Y$3,$A$4:$AE$4) -> 9 | ... AU142: =LOOKUP(BK142,$A$3:$Y$3,$A$4:$AE$4) -> 21 | AW142: 1 | AX142: 2 | AY142: 3 | AZ142: 4 | BA142: 5 | BB142: 6 | BC142: 8 | BD142: 9 | BE142: 10 | BF142: 11 | BG142: 12 | BH142: 15 | BI142: 16 | BJ142: 17 | BK142: 18 | BZ142: =SMALL($BZ38:$CN38,A$3) -> 1 | CA142: =SMALL($BZ38:$CN38,B$3) -> 2 | CB142: =SMALL($BZ38:$CN38,C$3) -> 3 | CC142: =SMALL($BZ38:$CN38,D$3) -> 4 | CD142: =SMALL($BZ38:$CN38,E$3) -> 5 | CE142: =SMALL($BZ38:$CN38,F$3) -> 6 | CF142: =SMALL($BZ38:$CN38,G$3) -> 8 | CG142: =SMALL($BZ38:$CN38,H$3) -> 9 | ... CN142: =SMALL($BZ38:$CN38,O$3) -> 22 | CQ142: 33
A143: =SMALL($A75:$O75,A$3) -> 1 | B143: =SMALL($A75:$O75,B$3) -> 2 | C143: =SMALL($A75:$O75,C$3) -> 3 | D143: =SMALL($A75:$O75,D$3) -> 4 | E143: =SMALL($A75:$O75,E$3) -> 5 | F143: =SMALL($A75:$O75,F$3) -> 6 | G143: =SMALL($A75:$O75,G$3) -> 7 | H143: =SMALL($A75:$O75,H$3) -> 8 | ... O143: =SMALL($A75:$O75,O$3) -> 16 | R143: 3 | AG143: =LOOKUP(AW143,$A$3:$Y$3,$A$4:$AE$4) -> 1 | AH143: =LOOKUP(AX143,$A$3:$Y$3,$A$4:$AE$4) -> 2 | AI143: =LOOKUP(AY143,$A$3:$Y$3,$A$4:$AE$4) -> 3 | AJ143: =LOOKUP(AZ143,$A$3:$Y$3,$A$4:$AE$4) -> 4 | AK143: =LOOKUP(BA143,$A$3:$Y$3,$A$4:$AE$4) -> 5 | AL143: =LOOKUP(BB143,$A$3:$Y$3,$A$4:$AE$4) -> 6 | AM143: =LOOKUP(BC143,$A$3:$Y$3,$A$4:$AE$4) -> 8 | AN143: =LOOKUP(BD143,$A$3:$Y$3,$A$4:$AE$4) -> 9 | ... AU143: =LOOKUP(BK143,$A$3:$Y$3,$A$4:$AE$4) -> 21 | AW143: 1 | AX143: 2 | AY143: 3 | AZ143: 4 | BA143: 5 | BB143: 6 | BC143: 8 | BD143: 9 | BE143: 10 | BF143: 13 | BG143: 14 | BH143: 15 | BI143: 16 | BJ143: 17 | BK143: 18 | BZ143: =SMALL($BZ39:$CN39,A$3) -> 1 | CA143: =SMALL($BZ39:$CN39,B$3) -> 2 | CB143: =SMALL($BZ39:$CN39,C$3) -> 3 | CC143: =SMALL($BZ39:$CN39,D$3) -> 4 | CD143: =SMALL($BZ39:$CN39,E$3) -> 5 | CE143: =SMALL($BZ39:$CN39,F$3) -> 6 | CF143: =SMALL($BZ39:$CN39,G$3) -> 8 | CG143: =SMALL($BZ39:$CN39,H$3) -> 10 | ... CN143: =SMALL($BZ39:$CN39,O$3) -> 22 | CQ143: 34
A144: =SMALL($A76:$O76,A$3) -> 1 | B144: =SMALL($A76:$O76,B$3) -> 2 | C144: =SMALL($A76:$O76,C$3) -> 3 | D144: =SMALL($A76:$O76,D$3) -> 4 | E144: =SMALL($A76:$O76,E$3) -> 5 | F144: =SMALL($A76:$O76,F$3) -> 6 | G144: =SMALL($A76:$O76,G$3) -> 7 | H144: =SMALL($A76:$O76,H$3) -> 8 | ... O144: =SMALL($A76:$O76,O$3) -> 22 | R144: 4 | AG144: =LOOKUP(AW144,$A$3:$Y$3,$A$4:$AE$4) -> 1 | AH144: =LOOKUP(AX144,$A$3:$Y$3,$A$4:$AE$4) -> 2 | AI144: =LOOKUP(AY144,$A$3:$Y$3,$A$4:$AE$4) -> 3 | AJ144: =LOOKUP(AZ144,$A$3:$Y$3,$A$4:$AE$4) -> 4 | AK144: =LOOKUP(BA144,$A$3:$Y$3,$A$4:$AE$4) -> 5 | AL144: =LOOKUP(BB144,$A$3:$Y$3,$A$4:$AE$4) -> 6 | AM144: =LOOKUP(BC144,$A$3:$Y$3,$A$4:$AE$4) -> 8 | AN144: =LOOKUP(BD144,$A$3:$Y$3,$A$4:$AE$4) -> 9 | ... AU144: =LOOKUP(BK144,$A$3:$Y$3,$A$4:$AE$4) -> 22 | AW144: 1 | AX144: 2 | AY144: 3 | AZ144: 4 | BA144: 5 | BB144: 6 | BC144: 8 | BD144: 9 | BE144: 11 | BF144: 12 | BG144: 13 | BH144: 14 | BI144: 15 | BJ144: 16 | BK144: 17 | BZ144: =SMALL($BZ40:$CN40,A$3) -> 1 | CA144: =SMALL($BZ40:$CN40,B$3) -> 2 | CB144: =SMALL($BZ40:$CN40,C$3) -> 3 | CC144: =SMALL($BZ40:$CN40,D$3) -> 4 | CD144: =SMALL($BZ40:$CN40,E$3) -> 5 | CE144: =SMALL($BZ40:$CN40,F$3) -> 7 | CF144: =SMALL($BZ40:$CN40,G$3) -> 8 | CG144: =SMALL($BZ40:$CN40,H$3) -> 9 | ... CN144: =SMALL($BZ40:$CN40,O$3) -> 16 | CQ144: 35
A145: =SMALL($A77:$O77,A$3) -> 1 | B145: =SMALL($A77:$O77,B$3) -> 2 | C145: =SMALL($A77:$O77,C$3) -> 3 | D145: =SMALL($A77:$O77,D$3) -> 4 | E145: =SMALL($A77:$O77,E$3) -> 5 | F145: =SMALL($A77:$O77,F$3) -> 6 | G145: =SMALL($A77:$O77,G$3) -> 7 | H145: =SMALL($A77:$O77,H$3) -> 8 | ... O145: =SMALL($A77:$O77,O$3) -> 21 | R145: 5 | AG145: =LOOKUP(AW145,$A$3:$Y$3,$A$4:$AE$4) -> 1 | AH145: =LOOKUP(AX145,$A$3:$Y$3,$A$4:$AE$4) -> 2 | AI145: =LOOKUP(AY145,$A$3:$Y$3,$A$4:$AE$4) -> 3 | AJ145: =LOOKUP(AZ145,$A$3:$Y$3,$A$4:$AE$4) -> 4 | AK145: =LOOKUP(BA145,$A$3:$Y$3,$A$4:$AE$4) -> 5 | AL145: =LOOKUP(BB145,$A$3:$Y$3,$A$4:$AE$4) -> 6 | AM145: =LOOKUP(BC145,$A$3:$Y$3,$A$4:$AE$4) -> 8 | AN145: =LOOKUP(BD145,$A$3:$Y$3,$A$4:$AE$4) -> 9 | ... AU145: =LOOKUP(BK145,$A$3:$Y$3,$A$4:$AE$4) -> 21 | AW145: 1 | AX145: 2 | AY145: 3 | AZ145: 4 | BA145: 5 | BB145: 6 | BC145: 8 | BD145: 9 | BE145: 11 | BF145: 12 | BG145: 13 | BH145: 14 | BI145: 15 | BJ145: 16 | BK145: 18 | BZ145: =SMALL($BZ41:$CN41,A$3) -> 1 | CA145: =SMALL($BZ41:$CN41,B$3) -> 2 | CB145: =SMALL($BZ41:$CN41,C$3) -> 3 | CC145: =SMALL($BZ41:$CN41,D$3) -> 4 | CD145: =SMALL($BZ41:$CN41,E$3) -> 5 | CE145: =SMALL($BZ41:$CN41,F$3) -> 7 | CF145: =SMALL($BZ41:$CN41,G$3) -> 8 | CG145: =SMALL($BZ41:$CN41,H$3) -> 9 | ... CN145: =SMALL($BZ41:$CN41,O$3) -> 22 | CQ145: 36
A146: =SMALL($A78:$O78,A$3) -> 1 | B146: =SMALL($A78:$O78,B$3) -> 2 | C146: =SMALL($A78:$O78,C$3) -> 3 | D146: =SMALL($A78:$O78,D$3) -> 4 | E146: =SMALL($A78:$O78,E$3) -> 5 | F146: =SMALL($A78:$O78,F$3) -> 6 | G146: =SMALL($A78:$O78,G$3) -> 7 | H146: =SMALL($A78:$O78,H$3) -> 8 | ... O146: =SMALL($A78:$O78,O$3) -> 22 | R146: 6 | AG146: =LOOKUP(AW146,$A$3:$Y$3,$A$4:$AE$4) -> 1 | AH146: =LOOKUP(AX146,$A$3:$Y$3,$A$4:$AE$4) -> 2 | AI146: =LOOKUP(AY146,$A$3:$Y$3,$A$4:$AE$4) -> 3 | AJ146: =LOOKUP(AZ146,$A$3:$Y$3,$A$4:$AE$4) -> 4 | AK146: =LOOKUP(BA146,$A$3:$Y$3,$A$4:$AE$4) -> 5 | AL146: =LOOKUP(BB146,$A$3:$Y$3,$A$4:$AE$4) -> 6 | AM146: =LOOKUP(BC146,$A$3:$Y$3,$A$4:$AE$4) -> 8 | AN146: =LOOKUP(BD146,$A$3:$Y$3,$A$4:$AE$4) -> 9 | ... AU146: =LOOKUP(BK146,$A$3:$Y$3,$A$4:$AE$4) -> 21 | AW146: 1 | AX146: 2 | AY146: 3 | AZ146: 4 | BA146: 5 | BB146: 6 | BC146: 8 | BD146: 9 | BE146: 11 | BF146: 12 | BG146: 13 | BH146: 14 | BI146: 15 | BJ146: 17 | BK146: 18 | BZ146: =SMALL($BZ42:$CN42,A$3) -> 1 | CA146: =SMALL($BZ42:$CN42,B$3) -> 2 | CB146: =SMALL($BZ42:$CN42,C$3) -> 3 | CC146: =SMALL($BZ42:$CN42,D$3) -> 4 | CD146: =SMALL($BZ42:$CN42,E$3) -> 5 | CE146: =SMALL($BZ42:$CN42,F$3) -> 7 | CF146: =SMALL($BZ42:$CN42,G$3) -> 8 | CG146: =SMALL($BZ42:$CN42,H$3) -> 9 | ... CN146: =SMALL($BZ42:$CN42,O$3) -> 22 | CQ146: 37
A147: =SMALL($A79:$O79,A$3) -> 1 | B147: =SMALL($A79:$O79,B$3) -> 2 | C147: =SMALL($A79:$O79,C$3) -> 3 | D147: =SMALL($A79:$O79,D$3) -> 4 | E147: =SMALL($A79:$O79,E$3) -> 5 | F147: =SMALL($A79:$O79,F$3) -> 6 | G147: =SMALL($A79:$O79,G$3) -> 7 | H147: =SMALL($A79:$O79,H$3) -> 8 | ... O147: =SMALL($A79:$O79,O$3) -> 21 | R147: 7 | AG147: =LOOKUP(AW147,$A$3:$Y$3,$A$4:$AE$4) -> 1 | AH147: =LOOKUP(AX147,$A$3:$Y$3,$A$4:$AE$4) -> 2 | AI147: =LOOKUP(AY147,$A$3:$Y$3,$A$4:$AE$4) -> 3 | AJ147: =LOOKUP(AZ147,$A$3:$Y$3,$A$4:$AE$4) -> 4 | AK147: =LOOKUP(BA147,$A$3:$Y$3,$A$4:$AE$4) -> 5 | AL147: =LOOKUP(BB147,$A$3:$Y$3,$A$4:$AE$4) -> 6 | AM147: =LOOKUP(BC147,$A$3:$Y$3,$A$4:$AE$4) -> 8 | AN147: =LOOKUP(BD147,$A$3:$Y$3,$A$4:$AE$4) -> 9 | ... AU147: =LOOKUP(BK147,$A$3:$Y$3,$A$4:$AE$4) -> 21 | AW147: 1 | AX147: 2 | AY147: 3 | AZ147: 4 | BA147: 5 | BB147: 6 | BC147: 8 | BD147: 9 | BE147: 11 | BF147: 12 | BG147: 13 | BH147: 14 | BI147: 16 | BJ147: 17 | BK147: 18 | BZ147: =SMALL($BZ43:$CN43,A$3) -> 1 | CA147: =SMALL($BZ43:$CN43,B$3) -> 2 | CB147: =SMALL($BZ43:$CN43,C$3) -> 3 | CC147: =SMALL($BZ43:$CN43,D$3) -> 4 | CD147: =SMALL($BZ43:$CN43,E$3) -> 5 | CE147: =SMALL($BZ43:$CN43,F$3) -> 7 | CF147: =SMALL($BZ43:$CN43,G$3) -> 9 | CG147: =SMALL($BZ43:$CN43,H$3) -> 10 | ... CN147: =SMALL($BZ43:$CN43,O$3) -> 22 | CQ147: 38
A148: =SMALL($A80:$O80,A$3) -> 1 | B148: =SMALL($A80:$O80,B$3) -> 2 | C148: =SMALL($A80:$O80,C$3) -> 3 | D148: =SMALL($A80:$O80,D$3) -> 4 | E148: =SMALL($A80:$O80,E$3) -> 5 | F148: =SMALL($A80:$O80,F$3) -> 6 | G148: =SMALL($A80:$O80,G$3) -> 7 | H148: =SMALL($A80:$O80,H$3) -> 8 | ... O148: =SMALL($A80:$O80,O$3) -> 22 | R148: 8 | AG148: =LOOKUP(AW148,$A$3:$Y$3,$A$4:$AE$4) -> 1 | AH148: =LOOKUP(AX148,$A$3:$Y$3,$A$4:$AE$4) -> 2 | AI148: =LOOKUP(AY148,$A$3:$Y$3,$A$4:$AE$4) -> 3 | AJ148: =LOOKUP(AZ148,$A$3:$Y$3,$A$4:$AE$4) -> 4 | AK148: =LOOKUP(BA148,$A$3:$Y$3,$A$4:$AE$4) -> 5 | AL148: =LOOKUP(BB148,$A$3:$Y$3,$A$4:$AE$4) -> 6 | AM148: =LOOKUP(BC148,$A$3:$Y$3,$A$4:$AE$4) -> 8 | AN148: =LOOKUP(BD148,$A$3:$Y$3,$A$4:$AE$4) -> 9 | ... AU148: =LOOKUP(BK148,$A$3:$Y$3,$A$4:$AE$4) -> 21 | AW148: 1 | AX148: 2 | AY148: 3 | AZ148: 4 | BA148: 5 | BB148: 6 | BC148: 8 | BD148: 9 | BE148: 11 | BF148: 12 | BG148: 13 | BH148: 15 | BI148: 16 | BJ148: 17 | BK148: 18 | BZ148: =SMALL($BZ44:$CN44,A$3) -> 1 | CA148: =SMALL($BZ44:$CN44,B$3) -> 2 | CB148: =SMALL($BZ44:$CN44,C$3) -> 3 | CC148: =SMALL($BZ44:$CN44,D$3) -> 4 | CD148: =SMALL($BZ44:$CN44,E$3) -> 5 | CE148: =SMALL($BZ44:$CN44,F$3) -> 7 | CF148: =SMALL($BZ44:$CN44,G$3) -> 9 | CG148: =SMALL($BZ44:$CN44,H$3) -> 10 | ... CN148: =SMALL($BZ44:$CN44,O$3) -> 22 | CQ148: 39
...
