Workbook

Sheet Início
A1: Sua Logo Aqui | AA1: ="V"&X5 -> V1
E2: Desdobramento Lotofácil com 19 Números
X5: 1 | Y5: 10
U9: Opção 1: Se você acertar os 14 números fixos dos 19 escolhidos garante ao menos 1 cartela com 13 pontos. ( 75 volantes ) Opção 2: Se você acertar os 15 números fixos dos 19 escolhidos garante ao menos 1 cartela com 13 pontos + 97% de 1 cartela com 14 pontos . ( 34 volantes ). Opção 3: Se você acertar os 15 números fixos dos 19 escolhidos garante ao menos 1 cartela com 13 pontos. ( 11 volantes ). Opção 4: Se você acertar os 15 números fixos dos 19 escolhidos garante ao menos 1 cartela com 14 pontos. ( 127 volantes )
B16: Digite 19 Números Fixo | J16: ( Qualquer Ordem)
B17: 1 | C17: 2 | D17: 3 | E17: 4 | F17: 5 | G17: 6 | H17: 7 | I17: 8 | J17: 9 | K17: 10
B18: 11 | C18: 12 | D18: 13 | E18: 14 | F18: 15 | G18: 16 | H18: 22 | I18: 21 | J18: 20

Sheet Opcao1
AA1: ="V"&X5 -> V1
A2: Opção 1 ( 19 fixos )
X5: 1 | Y5: 10
B16: Total de 75 volantes
B18: =Apoio!A86 -> 2 | C18: =Apoio!B86 -> 5 | D18: =Apoio!C86 -> 6 | E18: =Apoio!D86 -> 7 | F18: =Apoio!E86 -> 8 | G18: =Apoio!F86 -> 10 | H18: =Apoio!G86 -> 11 | I18: =Apoio!H86 -> 12 | ... P18: =Apoio!O86 -> 22 | R18: 1
B19: =Apoio!A87 -> 3 | C19: =Apoio!B87 -> 4 | D19: =Apoio!C87 -> 5 | E19: =Apoio!D87 -> 7 | F19: =Apoio!E87 -> 8 | G19: =Apoio!F87 -> 10 | H19: =Apoio!G87 -> 11 | I19: =Apoio!H87 -> 12 | ... P19: =Apoio!O87 -> 22 | R19: 2
B20: =Apoio!A88 -> 1 | C20: =Apoio!B88 -> 2 | D20: =Apoio!C88 -> 3 | E20: =Apoio!D88 -> 5 | F20: =Apoio!E88 -> 6 | G20: =Apoio!F88 -> 10 | H20: =Apoio!G88 -> 11 | I20: =Apoio!H88 -> 12 | ... P20: =Apoio!O88 -> 22 | R20: 3
B21: =Apoio!A89 -> 3 | C21: =Apoio!B89 -> 4 | D21: =Apoio!C89 -> 5 | E21: =Apoio!D89 -> 7 | F21: =Apoio!E89 -> 8 | G21: =Apoio!F89 -> 9 | H21: =Apoio!G89 -> 11 | I21: =Apoio!H89 -> 12 | ... P21: =Apoio!O89 -> 22 | R21: 4
B22: =Apoio!A90 -> 1 | C22: =Apoio!B90 -> 2 | D22: =Apoio!C90 -> 3 | E22: =Apoio!D90 -> 4 | F22: =Apoio!E90 -> 8 | G22: =Apoio!F90 -> 9 | H22: =Apoio!G90 -> 10 | I22: =Apoio!H90 -> 12 | ... P22: =Apoio!O90 -> 22 | R22: 5
B23: =Apoio!A91 -> 1 | C23: =Apoio!B91 -> 2 | D23: =Apoio!C91 -> 5 | E23: =Apoio!D91 -> 6 | F23: =Apoio!E91 -> 7 | G23: =Apoio!F91 -> 9 | H23: =Apoio!G91 -> 10 | I23: =Apoio!H91 -> 12 | ... P23: =Apoio!O91 -> 22 | R23: 6
B24: =Apoio!A92 -> 1 | C24: =Apoio!B92 -> 2 | D24: =Apoio!C92 -> 3 | E24: =Apoio!D92 -> 4 | F24: =Apoio!E92 -> 5 | G24: =Apoio!F92 -> 6 | H24: =Apoio!G92 -> 8 | I24: =Apoio!H92 -> 11 | ... P24: =Apoio!O92 -> 22 | R24: 7
B25: =Apoio!A93 -> 2 | C25: =Apoio!B93 -> 4 | D25: =Apoio!C93 -> 5 | E25: =Apoio!D93 -> 6 | F25: =Apoio!E93 -> 7 | G25: =Apoio!F93 -> 8 | H25: =Apoio!G93 -> 9 | I25: =Apoio!H93 -> 10 | ... P25: =Apoio!O93 -> 22 | R25: 8
B26: =Apoio!A94 -> 1 | C26: =Apoio!B94 -> 3 | D26: =Apoio!C94 -> 4 | E26: =Apoio!D94 -> 6 | F26: =Apoio!E94 -> 7 | G26: =Apoio!F94 -> 8 | H26: =Apoio!G94 -> 9 | I26: =Apoio!H94 -> 10 | ... P26: =Apoio!O94 -> 22 | R26: 9
B27: =Apoio!A95 -> 1 | C27: =Apoio!B95 -> 4 | D27: =Apoio!C95 -> 6 | E27: =Apoio!D95 -> 7 | F27: =Apoio!E95 -> 8 | G27: =Apoio!F95 -> 9 | H27: =Apoio!G95 -> 10 | I27: =Apoio!H95 -> 11 | ... P27: =Apoio!O95 -> 22 | R27: 10
B28: =Apoio!A96 -> 1 | C28: =Apoio!B96 -> 2 | D28: =Apoio!C96 -> 3 | E28: =Apoio!D96 -> 6 | F28: =Apoio!E96 -> 8 | G28: =Apoio!F96 -> 9 | H28: =Apoio!G96 -> 10 | I28: =Apoio!H96 -> 11 | ... P28: =Apoio!O96 -> 22 | R28: 11
B29: =Apoio!A97 -> 1 | C29: =Apoio!B97 -> 3 | D29: =Apoio!C97 -> 5 | E29: =Apoio!D97 -> 6 | F29: =Apoio!E97 -> 7 | G29: =Apoio!F97 -> 8 | H29: =Apoio!G97 -> 10 | I29: =Apoio!H97 -> 11 | ... P29: =Apoio!O97 -> 22 | R29: 12
... B92: =Apoio!A160 -> 1 | C92: =Apoio!B160 -> 2 | D92: =Apoio!C160 -> 3 | E92: =Apoio!D160 -> 4 | F92: =Apoio!E160 -> 5 | G92: =Apoio!F160 -> 6 | H92: =Apoio!G160 -> 7 | I92: =Apoio!H160 -> 8 | ... P92: =Apoio!O160 -> 22 | R92: 75

Sheet Opcao2
AA1: ="V"&X5 -> V1
A2: Opção 2 ( 19 fixos )
X5: 1 | Y5: 10
B16: Total de 34 volantes
B18: =Apoio!AG45 -> 1 | C18: =Apoio!AH45 -> 2 | D18: =Apoio!AI45 -> 3 | E18: =Apoio!AJ45 -> 4 | F18: =Apoio!AK45 -> 5 | G18: =Apoio!AL45 -> 6 | H18: =Apoio!AM45 -> 7 | I18: =Apoio!AN45 -> 8 | ... P18: =Apoio!AU45 -> 22 | R18: 1
B19: =Apoio!AG46 -> 1 | C19: =Apoio!AH46 -> 2 | D19: =Apoio!AI46 -> 3 | E19: =Apoio!AJ46 -> 4 | F19: =Apoio!AK46 -> 5 | G19: =Apoio!AL46 -> 6 | H19: =Apoio!AM46 -> 7 | I19: =Apoio!AN46 -> 8 | ... P19: =Apoio!AU46 -> 21 | R19: 2
B20: =Apoio!AG47 -> 1 | C20: =Apoio!AH47 -> 2 | D20: =Apoio!AI47 -> 3 | E20: =Apoio!AJ47 -> 4 | F20: =Apoio!AK47 -> 5 | G20: =Apoio!AL47 -> 6 | H20: =Apoio!AM47 -> 7 | I20: =Apoio!AN47 -> 9 | ... P20: =Apoio!AU47 -> 22 | R20: 3
B21: =Apoio!AG48 -> 1 | C21: =Apoio!AH48 -> 2 | D21: =Apoio!AI48 -> 3 | E21: =Apoio!AJ48 -> 4 | F21: =Apoio!AK48 -> 5 | G21: =Apoio!AL48 -> 6 | H21: =Apoio!AM48 -> 7 | I21: =Apoio!AN48 -> 11 | ... P21: =Apoio!AU48 -> 22 | R21: 4
B22: =Apoio!AG49 -> 1 | C22: =Apoio!AH49 -> 2 | D22: =Apoio!AI49 -> 3 | E22: =Apoio!AJ49 -> 4 | F22: =Apoio!AK49 -> 5 | G22: =Apoio!AL49 -> 6 | H22: =Apoio!AM49 -> 8 | I22: =Apoio!AN49 -> 9 | ... P22: =Apoio!AU49 -> 22 | R22: 5
B23: =Apoio!AG50 -> 1 | C23: =Apoio!AH50 -> 2 | D23: =Apoio!AI50 -> 3 | E23: =Apoio!AJ50 -> 4 | F23: =Apoio!AK50 -> 5 | G23: =Apoio!AL50 -> 6 | H23: =Apoio!AM50 -> 8 | I23: =Apoio!AN50 -> 9 | ... P23: =Apoio!AU50 -> 22 | R23: 6
B24: =Apoio!AG51 -> 1 | C24: =Apoio!AH51 -> 2 | D24: =Apoio!AI51 -> 3 | E24: =Apoio!AJ51 -> 4 | F24: =Apoio!AK51 -> 5 | G24: =Apoio!AL51 -> 7 | H24: =Apoio!AM51 -> 8 | I24: =Apoio!AN51 -> 9 | ... P24: =Apoio!AU51 -> 21 | R24: 7
B25: =Apoio!AG52 -> 1 | C25: =Apoio!AH52 -> 2 | D25: =Apoio!AI52 -> 3 | E25: =Apoio!AJ52 -> 4 | F25: =Apoio!AK52 -> 5 | G25: =Apoio!AL52 -> 7 | H25: =Apoio!AM52 -> 8 | I25: =Apoio!AN52 -> 9 | ... P25: =Apoio!AU52 -> 22 | R25: 8
B26: =Apoio!AG53 -> 1 | C26: =Apoio!AH53 -> 2 | D26: =Apoio!AI53 -> 3 | E26: =Apoio!AJ53 -> 4 | F26: =Apoio!AK53 -> 5 | G26: =Apoio!AL53 -> 7 | H26: =Apoio!AM53 -> 8 | I26: =Apoio!AN53 -> 10 | ... P26: =Apoio!AU53 -> 22 | R26: 9
B27: =Apoio!AG54 -> 1 | C27: =Apoio!AH54 -> 2 | D27: =Apoio!AI54 -> 3 | E27: =Apoio!AJ54 -> 4 | F27: =Apoio!AK54 -> 6 | G27: =Apoio!AL54 -> 7 | H27: =Apoio!AM54 -> 9 | I27: =Apoio!AN54 -> 10 | ... P27: =Apoio!AU54 -> 21 | R27: 10
B28: =Apoio!AG55 -> 1 | C28: =Apoio!AH55 -> 2 | D28: =Apoio!AI55 -> 3 | E28: =Apoio!AJ55 -> 4 | F28: =Apoio!AK55 -> 6 | G28: =Apoio!AL55 -> 8 | H28: =Apoio!AM55 -> 9 | I28: =Apoio!AN55 -> 10 | ... P28: =Apoio!AU55 -> 22 | R28: 11
B29: =Apoio!AG56 -> 1 | C29: =Apoio!AH56 -> 2 | D29: =Apoio!AI56 -> 3 | E29: =Apoio!AJ56 -> 5 | F29: =Apoio!AK56 -> 6 | G29: =Apoio!AL56 -> 7 | H29: =Apoio!AM56 -> 8 | I29: =Apoio!AN56 -> 9 | ... P29: =Apoio!AU56 -> 21 | R29: 12
... B51: =Apoio!AG78 -> 3 | C51: =Apoio!AH78 -> 4 | D51: =Apoio!AI78 -> 5 | E51: =Apoio!AJ78 -> 6 | F51: =Apoio!AK78 -> 7 | G51: =Apoio!AL78 -> 8 | H51: =Apoio!AM78 -> 9 | I51: =Apoio!AN78 -> 10 | ... P51: =Apoio!AU78 -> 22 | R51: 34

Sheet Opcao3
AA1: ="V"&X5 -> V1
A2: Opção 3 ( 19 fixos )
X5: 1 | Y5: 10
B16: Total de 11 volantes
B18: =Apoio!AG100 -> 1 | C18: =Apoio!AH100 -> 4 | D18: =Apoio!AI100 -> 5 | E18: =Apoio!AJ100 -> 6 | F18: =Apoio!AK100 -> 7 | G18: =Apoio!AL100 -> 8 | H18: =Apoio!AM100 -> 10 | I18: =Apoio!AN100 -> 11 | ... P18: =Apoio!AU100 -> 22 | R18: 1
B19: =Apoio!AG101 -> 1 | C19: =Apoio!AH101 -> 3 | D19: =Apoio!AI101 -> 4 | E19: =Apoio!AJ101 -> 5 | F19: =Apoio!AK101 -> 9 | G19: =Apoio!AL101 -> 10 | H19: =Apoio!AM101 -> 11 | I19: =Apoio!AN101 -> 12 | ... P19: =Apoio!AU101 -> 22 | R19: 2
B20: =Apoio!AG102 -> 1 | C20: =Apoio!AH102 -> 2 | D20: =Apoio!AI102 -> 3 | E20: =Apoio!AJ102 -> 5 | F20: =Apoio!AK102 -> 7 | G20: =Apoio!AL102 -> 8 | H20: =Apoio!AM102 -> 9 | I20: =Apoio!AN102 -> 11 | ... P20: =Apoio!AU102 -> 22 | R20: 3
B21: =Apoio!AG103 -> 1 | C21: =Apoio!AH103 -> 2 | D21: =Apoio!AI103 -> 3 | E21: =Apoio!AJ103 -> 5 | F21: =Apoio!AK103 -> 6 | G21: =Apoio!AL103 -> 9 | H21: =Apoio!AM103 -> 10 | I21: =Apoio!AN103 -> 11 | ... P21: =Apoio!AU103 -> 22 | R21: 4
B22: =Apoio!AG104 -> 1 | C22: =Apoio!AH104 -> 2 | D22: =Apoio!AI104 -> 3 | E22: =Apoio!AJ104 -> 4 | F22: =Apoio!AK104 -> 6 | G22: =Apoio!AL104 -> 7 | H22: =Apoio!AM104 -> 8 | I22: =Apoio!AN104 -> 9 | ... P22: =Apoio!AU104 -> 22 | R22: 5
B23: =Apoio!AG105 -> 1 | C23: =Apoio!AH105 -> 2 | D23: =Apoio!AI105 -> 3 | E23: =Apoio!AJ105 -> 4 | F23: =Apoio!AK105 -> 6 | G23: =Apoio!AL105 -> 7 | H23: =Apoio!AM105 -> 8 | I23: =Apoio!AN105 -> 9 | ... P23: =Apoio!AU105 -> 22 | R23: 6
B24: =Apoio!AG106 -> 1 | C24: =Apoio!AH106 -> 2 | D24: =Apoio!AI106 -> 3 | E24: =Apoio!AJ106 -> 4 | F24: =Apoio!AK106 -> 5 | G24: =Apoio!AL106 -> 7 | H24: =Apoio!AM106 -> 8 | I24: =Apoio!AN106 -> 9 | ... P24: =Apoio!AU106 -> 22 | R24: 7
B25: =Apoio!AG107 -> 1 | C25: =Apoio!AH107 -> 2 | D25: =Apoio!AI107 -> 3 | E25: =Apoio!AJ107 -> 4 | F25: =Apoio!AK107 -> 5 | G25: =Apoio!AL107 -> 6 | H25: =Apoio!AM107 -> 9 | I25: =Apoio!AN107 -> 11 | ... P25: =Apoio!AU107 -> 22 | R25: 8
B26: =Apoio!AG108 -> 1 | C26: =Apoio!AH108 -> 2 | D26: =Apoio!AI108 -> 3 | E26: =Apoio!AJ108 -> 4 | F26: =Apoio!AK108 -> 5 | G26: =Apoio!AL108 -> 6 | H26: =Apoio!AM108 -> 7 | I26: =Apoio!AN108 -> 8 | ... P26: =Apoio!AU108 -> 22 | R26: 9
B27: =Apoio!AG109 -> 2 | C27: =Apoio!AH109 -> 4 | D27: =Apoio!AI109 -> 5 | E27: =Apoio!AJ109 -> 6 | F27: =Apoio!AK109 -> 7 | G27: =Apoio!AL109 -> 8 | H27: =Apoio!AM109 -> 10 | I27: =Apoio!AN109 -> 11 | ... P27: =Apoio!AU109 -> 21 | R27: 10
B28: =Apoio!AG110 -> 3 | C28: =Apoio!AH110 -> 4 | D28: =Apoio!AI110 -> 5 | E28: =Apoio!AJ110 -> 6 | F28: =Apoio!AK110 -> 7 | G28: =Apoio!AL110 -> 8 | H28: =Apoio!AM110 -> 9 | I28: =Apoio!AN110 -> 10 | ... P28: =Apoio!AU110 -> 21 | R28: 11

Sheet Opcao4
AA1: ="V"&X5 -> V1
A2: Opção 4 ( 19 fixos )
X5: 1 | Y5: 10
B16: Total de 127 volantes
B18: =Apoio!BM140 -> 1 | C18: =Apoio!BN140 -> 2 | D18: =Apoio!BO140 -> 5 | E18: =Apoio!BP140 -> 6 | F18: =Apoio!BQ140 -> 7 | G18: =Apoio!BR140 -> 9 | H18: =Apoio!BS140 -> 11 | I18: =Apoio!BT140 -> 12 | ... P18: =Apoio!CA140 -> 22 | R18: 1 | T18: =Apoio!BM204 -> 1 | U18: =Apoio!BN204 -> 2 | V18: =Apoio!BO204 -> 3 | W18: =Apoio!BP204 -> 5 | X18: =Apoio!BQ204 -> 6 | Y18: =Apoio!BR204 -> 7 | Z18: =Apoio!BS204 -> 8 | AA18: =Apoio!BT204 -> 9 | ... AH18: =Apoio!CA204 -> 22 | AJ18: 65
B19: =Apoio!BM141 -> 1 | C19: =Apoio!BN141 -> 2 | D19: =Apoio!BO141 -> 4 | E19: =Apoio!BP141 -> 5 | F19: =Apoio!BQ141 -> 6 | G19: =Apoio!BR141 -> 8 | H19: =Apoio!BS141 -> 9 | I19: =Apoio!BT141 -> 10 | ... P19: =Apoio!CA141 -> 22 | R19: 2 | T19: =Apoio!BM205 -> 1 | U19: =Apoio!BN205 -> 2 | V19: =Apoio!BO205 -> 3 | W19: =Apoio!BP205 -> 4 | X19: =Apoio!BQ205 -> 5 | Y19: =Apoio!BR205 -> 6 | Z19: =Apoio!BS205 -> 7 | AA19: =Apoio!BT205 -> 8 | ... AH19: =Apoio!CA205 -> 22 | AJ19: 66
B20: =Apoio!BM142 -> 1 | C20: =Apoio!BN142 -> 2 | D20: =Apoio!BO142 -> 4 | E20: =Apoio!BP142 -> 5 | F20: =Apoio!BQ142 -> 6 | G20: =Apoio!BR142 -> 7 | H20: =Apoio!BS142 -> 8 | I20: =Apoio!BT142 -> 9 | ... P20: =Apoio!CA142 -> 21 | R20: 3 | T20: =Apoio!BM206 -> 1 | U20: =Apoio!BN206 -> 2 | V20: =Apoio!BO206 -> 3 | W20: =Apoio!BP206 -> 4 | X20: =Apoio!BQ206 -> 5 | Y20: =Apoio!BR206 -> 7 | Z20: =Apoio!BS206 -> 10 | AA20: =Apoio!BT206 -> 11 | ... AH20: =Apoio!CA206 -> 22 | AJ20: 67
B21: =Apoio!BM143 -> 1 | C21: =Apoio!BN143 -> 2 | D21: =Apoio!BO143 -> 3 | E21: =Apoio!BP143 -> 5 | F21: =Apoio!BQ143 -> 7 | G21: =Apoio!BR143 -> 8 | H21: =Apoio!BS143 -> 10 | I21: =Apoio!BT143 -> 11 | ... P21: =Apoio!CA143 -> 22 | R21: 4 | T21: =Apoio!BM207 -> 1 | U21: =Apoio!BN207 -> 3 | V21: =Apoio!BO207 -> 4 | W21: =Apoio!BP207 -> 5 | X21: =Apoio!BQ207 -> 6 | Y21: =Apoio!BR207 -> 8 | Z21: =Apoio!BS207 -> 9 | AA21: =Apoio!BT207 -> 10 | ... AH21: =Apoio!CA207 -> 22 | AJ21: 68
B22: =Apoio!BM144 -> 1 | C22: =Apoio!BN144 -> 2 | D22: =Apoio!BO144 -> 3 | E22: =Apoio!BP144 -> 4 | F22: =Apoio!BQ144 -> 5 | G22: =Apoio!BR144 -> 6 | H22: =Apoio!BS144 -> 8 | I22: =Apoio!BT144 -> 10 | ... P22: =Apoio!CA144 -> 22 | R22: 5 | T22: =Apoio!BM208 -> 1 | U22: =Apoio!BN208 -> 4 | V22: =Apoio!BO208 -> 5 | W22: =Apoio!BP208 -> 6 | X22: =Apoio!BQ208 -> 7 | Y22: =Apoio!BR208 -> 8 | Z22: =Apoio!BS208 -> 11 | AA22: =Apoio!BT208 -> 12 | ... AH22: =Apoio!CA208 -> 22 | AJ22: 69
B23: =Apoio!BM145 -> 1 | C23: =Apoio!BN145 -> 2 | D23: =Apoio!BO145 -> 4 | E23: =Apoio!BP145 -> 6 | F23: =Apoio!BQ145 -> 7 | G23: =Apoio!BR145 -> 8 | H23: =Apoio!BS145 -> 9 | I23: =Apoio!BT145 -> 10 | ... P23: =Apoio!CA145 -> 22 | R23: 6 | T23: =Apoio!BM209 -> 1 | U23: =Apoio!BN209 -> 2 | V23: =Apoio!BO209 -> 3 | W23: =Apoio!BP209 -> 5 | X23: =Apoio!BQ209 -> 6 | Y23: =Apoio!BR209 -> 8 | Z23: =Apoio!BS209 -> 9 | AA23: =Apoio!BT209 -> 10 | ... AH23: =Apoio!CA209 -> 22 | AJ23: 70
B24: =Apoio!BM146 -> 1 | C24: =Apoio!BN146 -> 2 | D24: =Apoio!BO146 -> 3 | E24: =Apoio!BP146 -> 4 | F24: =Apoio!BQ146 -> 6 | G24: =Apoio!BR146 -> 7 | H24: =Apoio!BS146 -> 8 | I24: =Apoio!BT146 -> 9 | ... P24: =Apoio!CA146 -> 20 | R24: 7 | T24: =Apoio!BM210 -> 1 | U24: =Apoio!BN210 -> 2 | V24: =Apoio!BO210 -> 3 | W24: =Apoio!BP210 -> 4 | X24: =Apoio!BQ210 -> 5 | Y24: =Apoio!BR210 -> 6 | Z24: =Apoio!BS210 -> 8 | AA24: =Apoio!BT210 -> 11 | ... AH24: =Apoio!CA210 -> 22 | AJ24: 71
B25: =Apoio!BM147 -> 1 | C25: =Apoio!BN147 -> 2 | D25: =Apoio!BO147 -> 4 | E25: =Apoio!BP147 -> 5 | F25: =Apoio!BQ147 -> 6 | G25: =Apoio!BR147 -> 9 | H25: =Apoio!BS147 -> 10 | I25: =Apoio!BT147 -> 12 | ... P25: =Apoio!CA147 -> 22 | R25: 8 | T25: =Apoio!BM211 -> 1 | U25: =Apoio!BN211 -> 2 | V25: =Apoio!BO211 -> 3 | W25: =Apoio!BP211 -> 4 | X25: =Apoio!BQ211 -> 7 | Y25: =Apoio!BR211 -> 8 | Z25: =Apoio!BS211 -> 9 | AA25: =Apoio!BT211 -> 10 | ... AH25: =Apoio!CA211 -> 22 | AJ25: 72
B26: =Apoio!BM148 -> 1 | C26: =Apoio!BN148 -> 2 | D26: =Apoio!BO148 -> 4 | E26: =Apoio!BP148 -> 5 | F26: =Apoio!BQ148 -> 6 | G26: =Apoio!BR148 -> 8 | H26: =Apoio!BS148 -> 9 | I26: =Apoio!BT148 -> 10 | ... P26: =Apoio!CA148 -> 22 | R26: 9 | T26: =Apoio!BM212 -> 1 | U26: =Apoio!BN212 -> 2 | V26: =Apoio!BO212 -> 3 | W26: =Apoio!BP212 -> 4 | X26: =Apoio!BQ212 -> 5 | Y26: =Apoio!BR212 -> 8 | Z26: =Apoio!BS212 -> 9 | AA26: =Apoio!BT212 -> 10 | ... AH26: =Apoio!CA212 -> 22 | AJ26: 73
B27: =Apoio!BM149 -> 1 | C27: =Apoio!BN149 -> 2 | D27: =Apoio!BO149 -> 3 | E27: =Apoio!BP149 -> 5 | F27: =Apoio!BQ149 -> 6 | G27: =Apoio!BR149 -> 7 | H27: =Apoio!BS149 -> 8 | I27: =Apoio!BT149 -> 9 | ... P27: =Apoio!CA149 -> 22 | R27: 10 | T27: =Apoio!BM213 -> 1 | U27: =Apoio!BN213 -> 2 | V27: =Apoio!BO213 -> 3 | W27: =Apoio!BP213 -> 4 | X27: =Apoio!BQ213 -> 6 | Y27: =Apoio!BR213 -> 7 | Z27: =Apoio!BS213 -> 8 | AA27: =Apoio!BT213 -> 11 | ... AH27: =Apoio!CA213 -> 22 | AJ27: 74
B28: =Apoio!BM150 -> 1 | C28: =Apoio!BN150 -> 2 | D28: =Apoio!BO150 -> 3 | E28: =Apoio!BP150 -> 6 | F28: =Apoio!BQ150 -> 7 | G28: =Apoio!BR150 -> 8 | H28: =Apoio!BS150 -> 9 | I28: =Apoio!BT150 -> 10 | ... P28: =Apoio!CA150 -> 22 | R28: 11 | T28: =Apoio!BM214 -> 1 | U28: =Apoio!BN214 -> 2 | V28: =Apoio!BO214 -> 4 | W28: =Apoio!BP214 -> 8 | X28: =Apoio!BQ214 -> 9 | Y28: =Apoio!BR214 -> 10 | Z28: =Apoio!BS214 -> 11 | AA28: =Apoio!BT214 -> 12 | ... AH28: =Apoio!CA214 -> 22 | AJ28: 75
B29: =Apoio!BM151 -> 1 | C29: =Apoio!BN151 -> 2 | D29: =Apoio!BO151 -> 3 | E29: =Apoio!BP151 -> 6 | F29: =Apoio!BQ151 -> 7 | G29: =Apoio!BR151 -> 8 | H29: =Apoio!BS151 -> 9 | I29: =Apoio!BT151 -> 11 | ... P29: =Apoio!CA151 -> 22 | R29: 12 | T29: =Apoio!BM215 -> 1 | U29: =Apoio!BN215 -> 2 | V29: =Apoio!BO215 -> 5 | W29: =Apoio!BP215 -> 6 | X29: =Apoio!BQ215 -> 7 | Y29: =Apoio!BR215 -> 8 | Z29: =Apoio!BS215 -> 9 | AA29: =Apoio!BT215 -> 10 | ... AH29: =Apoio!CA215 -> 21 | AJ29: 76
... B80: =Apoio!BM202 -> 1 | C80: =Apoio!BN202 -> 2 | D80: =Apoio!BO202 -> 3 | E80: =Apoio!BP202 -> 5 | F80: =Apoio!BQ202 -> 6 | G80: =Apoio!BR202 -> 9 | H80: =Apoio!BS202 -> 10 | I80: =Apoio!BT202 -> 11 | ... P80: =Apoio!CA202 -> 22 | R80: 63 | T80: =Apoio!BM266 -> 3 | U80: =Apoio!BN266 -> 5 | V80: =Apoio!BO266 -> 6 | W80: =Apoio!BP266 -> 7 | X80: =Apoio!BQ266 -> 8 | Y80: =Apoio!BR266 -> 9 | Z80: =Apoio!BS266 -> 10 | AA80: =Apoio!BT266 -> 11 | ... AH80: =Apoio!CA266 -> 22 | AJ80: 127
B81: =Apoio!BM203 -> 1 | C81: =Apoio!BN203 -> 2 | D81: =Apoio!BO203 -> 3 | E81: =Apoio!BP203 -> 4 | F81: =Apoio!BQ203 -> 5 | G81: =Apoio!BR203 -> 6 | H81: =Apoio!BS203 -> 7 | I81: =Apoio!BT203 -> 9 | ... P81: =Apoio!CA203 -> 22 | R81: 64

Sheet Apoio
A3: 1 | B3: 2 | C3: 3 | D3: 4 | E3: 5 | F3: 6 | G3: 7 | H3: 8 | I3: 9 | J3: 10 | K3: 11 | L3: 12 | M3: 13 | N3: 14 | O3: 15 | P3: 16 | Q3: 17 | R3: 18 | S3: 19
A4: =Início!B17 -> 1 | B4: =Início!C17 -> 2 | C4: =Início!D17 -> 3 | D4: =Início!E17 -> 4 | E4: =Início!F17 -> 5 | F4: =Início!G17 -> 6 | G4: =Início!H17 -> 7 | H4: =Início!I17 -> 8 | ... J4: =Início!K17 -> 10 | K4: =Início!B18 -> 11 | L4: =Início!C18 -> 12 | M4: =Início!D18 -> 13 | N4: =Início!E18 -> 14 | O4: =Início!F18 -> 15 | P4: =Início!G18 -> 16 | Q4: =Início!H18 -> 22 | R4: =Início!I18 -> 21 | S4: =Início!J18 -> 20
A9: =LOOKUP(Q9,$A$3:$Y$3,$A$4:$Y$4) -> 2 | B9: =LOOKUP(R9,$A$3:$Y$3,$A$4:$Y$4) -> 5 | C9: =LOOKUP(S9,$A$3:$Y$3,$A$4:$Y$4) -> 6 | D9: =LOOKUP(T9,$A$3:$Y$3,$A$4:$Y$4) -> 7 | E9: =LOOKUP(U9,$A$3:$Y$3,$A$4:$Y$4) -> 8 | F9: =LOOKUP(V9,$A$3:$Y$3,$A$4:$Y$4) -> 10 | G9: =LOOKUP(W9,$A$3:$Y$3,$A$4:$Y$4) -> 11 | H9: =LOOKUP(X9,$A$3:$Y$3,$A$4:$Y$4) -> 12 | ... O9: =LOOKUP(AE9,$A$3:$Y$3,$A$4:$Y$4) -> 20 | Q9: 2 | R9: 5 | S9: 6 | T9: 7 | U9: 8 | V9: 10 | W9: 11 | X9: 12 | Y9: 13 | Z9: 14 | AA9: 15 | AB9: 16 | AC9: 17 | AD9: 18 | AE9: 19 | AG9: =LOOKUP(AW9,$A$3:$Y$3,$A$4:$Y$4) -> 1 | AH9: =LOOKUP(AX9,$A$3:$Y$3,$A$4:$Y$4) -> 2 | AI9: =LOOKUP(AY9,$A$3:$Y$3,$A$4:$Y$4) -> 3 | AJ9: =LOOKUP(AZ9,$A$3:$Y$3,$A$4:$Y$4) -> 4 | AK9: =LOOKUP(BA9,$A$3:$Y$3,$A$4:$Y$4) -> 5 | AL9: =LOOKUP(BB9,$A$3:$Y$3,$A$4:$Y$4) -> 6 | AM9: =LOOKUP(BC9,$A$3:$Y$3,$A$4:$Y$4) -> 7 | AN9: =LOOKUP(BD9,$A$3:$Y$3,$A$4:$Y$4) -> 8 | ... AU9: =LOOKUP(BK9,$A$3:$Y$3,$A$4:$Y$4) -> 20 | AW9: 1 | AX9: 2 | AY9: 3 | AZ9: 4 | BA9: 5 | BB9: 6 | BC9: 7 | BD9: 8 | BE9: 9 | BF9: 10 | BG9: 13 | BH9: 14 | BI9: 16 | BJ9: 17 | BK9: 19 | BM9: =LOOKUP(CC9,$A$3:$Y$3,$A$4:$AE$4) -> 1 | BN9: =LOOKUP(CD9,$A$3:$Y$3,$A$4:$AE$4) -> 2 | BO9: =LOOKUP(CE9,$A$3:$Y$3,$A$4:$AE$4) -> 5 | BP9: =LOOKUP(CF9,$A$3:$Y$3,$A$4:$AE$4) -> 6 | BQ9: =LOOKUP(CG9,$A$3:$Y$3,$A$4:$AE$4) -> 7 | BR9: =LOOKUP(CH9,$A$3:$Y$3,$A$4:$AE$4) -> 9 | BS9: =LOOKUP(CI9,$A$3:$Y$3,$A$4:$AE$4) -> 11 | BT9: =LOOKUP(CJ9,$A$3:$Y$3,$A$4:$AE$4) -> 12 | ... CA9: =LOOKUP(CQ9,$A$3:$Y$3,$A$4:$AE$4) -> 20 | CC9: 1 | CD9: 2 | CE9: 5 | CF9: 6 | CG9: 7 | CH9: 9 | CI9: 11 | CJ9: 12 | CK9: 13 | CL9: 14 | CM9: 15 | CN9: 16 | CO9: 17 | CP9: 18 | CQ9: 19
A10: =LOOKUP(Q10,$A$3:$Y$3,$A$4:$Y$4) -> 3 | B10: =LOOKUP(R10,$A$3:$Y$3,$A$4:$Y$4) -> 4 | C10: =LOOKUP(S10,$A$3:$Y$3,$A$4:$Y$4) -> 5 | D10: =LOOKUP(T10,$A$3:$Y$3,$A$4:$Y$4) -> 7 | E10: =LOOKUP(U10,$A$3:$Y$3,$A$4:$Y$4) -> 8 | F10: =LOOKUP(V10,$A$3:$Y$3,$A$4:$Y$4) -> 10 | G10: =LOOKUP(W10,$A$3:$Y$3,$A$4:$Y$4) -> 11 | H10: =LOOKUP(X10,$A$3:$Y$3,$A$4:$Y$4) -> 12 | ... O10: =LOOKUP(AE10,$A$3:$Y$3,$A$4:$Y$4) -> 20 | Q10: 3 | R10: 4 | S10: 5 | T10: 7 | U10: 8 | V10: 10 | W10: 11 | X10: 12 | Y10: 13 | Z10: 14 | AA10: 15 | AB10: 16 | AC10: 17 | AD10: 18 | AE10: 19 | AG10: =LOOKUP(AW10,$A$3:$Y$3,$A$4:$Y$4) -> 1 | AH10: =LOOKUP(AX10,$A$3:$Y$3,$A$4:$Y$4) -> 2 | AI10: =LOOKUP(AY10,$A$3:$Y$3,$A$4:$Y$4) -> 3 | AJ10: =LOOKUP(AZ10,$A$3:$Y$3,$A$4:$Y$4) -> 4 | AK10: =LOOKUP(BA10,$A$3:$Y$3,$A$4:$Y$4) -> 5 | AL10: =LOOKUP(BB10,$A$3:$Y$3,$A$4:$Y$4) -> 6 | AM10: =LOOKUP(BC10,$A$3:$Y$3,$A$4:$Y$4) -> 7 | AN10: =LOOKUP(BD10,$A$3:$Y$3,$A$4:$Y$4) -> 8 | ... AU10: =LOOKUP(BK10,$A$3:$Y$3,$A$4:$Y$4) -> 20 | AW10: 1 | AX10: 2 | AY10: 3 | AZ10: 4 | BA10: 5 | BB10: 6 | BC10: 7 | BD10: 8 | BE10: 9 | BF10: 10 | BG10: 13 | BH10: 15 | BI10: 16 | BJ10: 18 | BK10: 19 | BM10: =LOOKUP(CC10,$A$3:$Y$3,$A$4:$AE$4) -> 1 | BN10: =LOOKUP(CD10,$A$3:$Y$3,$A$4:$AE$4) -> 2 | BO10: =LOOKUP(CE10,$A$3:$Y$3,$A$4:$AE$4) -> 4 | BP10: =LOOKUP(CF10,$A$3:$Y$3,$A$4:$AE$4) -> 5 | BQ10: =LOOKUP(CG10,$A$3:$Y$3,$A$4:$AE$4) -> 6 | BR10: =LOOKUP(CH10,$A$3:$Y$3,$A$4:$AE$4) -> 8 | BS10: =LOOKUP(CI10,$A$3:$Y$3,$A$4:$AE$4) -> 9 | BT10: =LOOKUP(CJ10,$A$3:$Y$3,$A$4:$AE$4) -> 10 | ... CA10: =LOOKUP(CQ10,$A$3:$Y$3,$A$4:$AE$4) -> 20 | CC10: 1 | CD10: 2 | CE10: 4 | CF10: 5 | CG10: 6 | CH10: 8 | CI10: 9 | CJ10: 10 | CK10: 11 | CL10: 14 | CM10: 15 | CN10: 16 | CO10: 17 | CP10: 18 | CQ10: 19
A11: =LOOKUP(Q11,$A$3:$Y$3,$A$4:$Y$4) -> 1 | B11: =LOOKUP(R11,$A$3:$Y$3,$A$4:$Y$4) -> 2 | C11: =LOOKUP(S11,$A$3:$Y$3,$A$4:$Y$4) -> 3 | D11: =LOOKUP(T11,$A$3:$Y$3,$A$4:$Y$4) -> 5 | E11: =LOOKUP(U11,$A$3:$Y$3,$A$4:$Y$4) -> 6 | F11: =LOOKUP(V11,$A$3:$Y$3,$A$4:$Y$4) -> 10 | G11: =LOOKUP(W11,$A$3:$Y$3,$A$4:$Y$4) -> 11 | H11: =LOOKUP(X11,$A$3:$Y$3,$A$4:$Y$4) -> 12 | ... O11: =LOOKUP(AE11,$A$3:$Y$3,$A$4:$Y$4) -> 20 | Q11: 1 | R11: 2 | S11: 3 | T11: 5 | U11: 6 | V11: 10 | W11: 11 | X11: 12 | Y11: 13 | Z11: 14 | AA11: 15 | AB11: 16 | AC11: 17 | AD11: 18 | AE11: 19 | AG11: =LOOKUP(AW11,$A$3:$Y$3,$A$4:$Y$4) -> 1 | AH11: =LOOKUP(AX11,$A$3:$Y$3,$A$4:$Y$4) -> 2 | AI11: =LOOKUP(AY11,$A$3:$Y$3,$A$4:$Y$4) -> 3 | AJ11: =LOOKUP(AZ11,$A$3:$Y$3,$A$4:$Y$4) -> 4 | AK11: =LOOKUP(BA11,$A$3:$Y$3,$A$4:$Y$4) -> 5 | AL11: =LOOKUP(BB11,$A$3:$Y$3,$A$4:$Y$4) -> 6 | AM11: =LOOKUP(BC11,$A$3:$Y$3,$A$4:$Y$4) -> 7 | AN11: =LOOKUP(BD11,$A$3:$Y$3,$A$4:$Y$4) -> 9 | ... AU11: =LOOKUP(BK11,$A$3:$Y$3,$A$4:$Y$4) -> 20 | AW11: 1 | AX11: 2 | AY11: 3 | AZ11: 4 | BA11: 5 | BB11: 6 | BC11: 7 | BD11: 9 | BE11: 10 | BF11: 11 | BG11: 12 | BH11: 16 | BI11: 17 | BJ11: 18 | BK11: 19 | BM11: =LOOKUP(CC11,$A$3:$Y$3,$A$4:$AE$4) -> 1 | BN11: =LOOKUP(CD11,$A$3:$Y$3,$A$4:$AE$4) -> 2 | BO11: =LOOKUP(CE11,$A$3:$Y$3,$A$4:$AE$4) -> 4 | BP11: =LOOKUP(CF11,$A$3:$Y$3,$A$4:$AE$4) -> 5 | BQ11: =LOOKUP(CG11,$A$3:$Y$3,$A$4:$AE$4) -> 6 | BR11: =LOOKUP(CH11,$A$3:$Y$3,$A$4:$AE$4) -> 7 | BS11: =LOOKUP(CI11,$A$3:$Y$3,$A$4:$AE$4) -> 8 | BT11: =LOOKUP(CJ11,$A$3:$Y$3,$A$4:$AE$4) -> 9 | ... CA11: =LOOKUP(CQ11,$A$3:$Y$3,$A$4:$AE$4) -> 21 | CC11: 1 | CD11: 2 | CE11: 4 | CF11: 5 | CG11: 6 | CH11: 7 | CI11: 8 | CJ11: 9 | CK11: 10 | CL11: 11 | CM11: 12 | CN11: 14 | CO11: 15 | CP11: 16 | CQ11: 18
A12: =LOOKUP(Q12,$A$3:$Y$3,$A$4:$Y$4) -> 3 | B12: =LOOKUP(R12,$A$3:$Y$3,$A$4:$Y$4) -> 4 | C12: =LOOKUP(S12,$A$3:$Y$3,$A$4:$Y$4) -> 5 | D12: =LOOKUP(T12,$A$3:$Y$3,$A$4:$Y$4) -> 7 | E12: =LOOKUP(U12,$A$3:$Y$3,$A$4:$Y$4) -> 8 | F12: =LOOKUP(V12,$A$3:$Y$3,$A$4:$Y$4) -> 9 | G12: =LOOKUP(W12,$A$3:$Y$3,$A$4:$Y$4) -> 11 | H12: =LOOKUP(X12,$A$3:$Y$3,$A$4:$Y$4) -> 12 | ... O12: =LOOKUP(AE12,$A$3:$Y$3,$A$4:$Y$4) -> 20 | Q12: 3 | R12: 4 | S12: 5 | T12: 7 | U12: 8 | V12: 9 | W12: 11 | X12: 12 | Y12: 13 | Z12: 14 | AA12: 15 | AB12: 16 | AC12: 17 | AD12: 18 | AE12: 19 | AG12: =LOOKUP(AW12,$A$3:$Y$3,$A$4:$Y$4) -> 1 | AH12: =LOOKUP(AX12,$A$3:$Y$3,$A$4:$Y$4) -> 2 | AI12: =LOOKUP(AY12,$A$3:$Y$3,$A$4:$Y$4) -> 3 | AJ12: =LOOKUP(AZ12,$A$3:$Y$3,$A$4:$Y$4) -> 4 | AK12: =LOOKUP(BA12,$A$3:$Y$3,$A$4:$Y$4) -> 5 | AL12: =LOOKUP(BB12,$A$3:$Y$3,$A$4:$Y$4) -> 6 | AM12: =LOOKUP(BC12,$A$3:$Y$3,$A$4:$Y$4) -> 7 | AN12: =LOOKUP(BD12,$A$3:$Y$3,$A$4:$Y$4) -> 11 | ... AU12: =LOOKUP(BK12,$A$3:$Y$3,$A$4:$Y$4) -> 20 | AW12: 1 | AX12: 2 | AY12: 3 | AZ12: 4 | BA12: 5 | BB12: 6 | BC12: 7 | BD12: 11 | BE12: 13 | BF12: 14 | BG12: 15 | BH12: 16 | BI12: 17 | BJ12: 18 | BK12: 19 | BM12: =LOOKUP(CC12,$A$3:$Y$3,$A$4:$AE$4) -> 1 | BN12: =LOOKUP(CD12,$A$3:$Y$3,$A$4:$AE$4) -> 2 | BO12: =LOOKUP(CE12,$A$3:$Y$3,$A$4:$AE$4) -> 3 | BP12: =LOOKUP(CF12,$A$3:$Y$3,$A$4:$AE$4) -> 5 | BQ12: =LOOKUP(CG12,$A$3:$Y$3,$A$4:$AE$4) -> 7 | BR12: =LOOKUP(CH12,$A$3:$Y$3,$A$4:$AE$4) -> 8 | BS12: =LOOKUP(CI12,$A$3:$Y$3,$A$4:$AE$4) -> 10 | BT12: =LOOKUP(CJ12,$A$3:$Y$3,$A$4:$AE$4) -> 11 | ... CA12: =LOOKUP(CQ12,$A$3:$Y$3,$A$4:$AE$4) -> 20 | CC12: 1 | CD12: 2 | CE12: 3 | CF12: 5 | CG12: 7 | CH12: 8 | CI12: 10 | CJ12: 11 | CK12: 12 | CL12: 13 | CM12: 14 | CN12: 16 | CO12: 17 | CP12: 18 | CQ12: 19
A13: =LOOKUP(Q13,$A$3:$Y$3,$A$4:$Y$4) -> 1 | B13: =LOOKUP(R13,$A$3:$Y$3,$A$4:$Y$4) -> 2 | C13: =LOOKUP(S13,$A$3:$Y$3,$A$4:$Y$4) -> 3 | D13: =LOOKUP(T13,$A$3:$Y$3,$A$4:$Y$4) -> 4 | E13: =LOOKUP(U13,$A$3:$Y$3,$A$4:$Y$4) -> 8 | F13: =LOOKUP(V13,$A$3:$Y$3,$A$4:$Y$4) -> 9 | G13: =LOOKUP(W13,$A$3:$Y$3,$A$4:$Y$4) -> 10 | H13: =LOOKUP(X13,$A$3:$Y$3,$A$4:$Y$4) -> 12 | ... O13: =LOOKUP(AE13,$A$3:$Y$3,$A$4:$Y$4) -> 20 | Q13: 1 | R13: 2 | S13: 3 | T13: 4 | U13: 8 | V13: 9 | W13: 10 | X13: 12 | Y13: 13 | Z13: 14 | AA13: 15 | AB13: 16 | AC13: 17 | AD13: 18 | AE13: 19 | AG13: =LOOKUP(AW13,$A$3:$Y$3,$A$4:$Y$4) -> 1 | AH13: =LOOKUP(AX13,$A$3:$Y$3,$A$4:$Y$4) -> 2 | AI13: =LOOKUP(AY13,$A$3:$Y$3,$A$4:$Y$4) -> 3 | AJ13: =LOOKUP(AZ13,$A$3:$Y$3,$A$4:$Y$4) -> 4 | AK13: =LOOKUP(BA13,$A$3:$Y$3,$A$4:$Y$4) -> 5 | AL13: =LOOKUP(BB13,$A$3:$Y$3,$A$4:$Y$4) -> 6 | AM13: =LOOKUP(BC13,$A$3:$Y$3,$A$4:$Y$4) -> 8 | AN13: =LOOKUP(BD13,$A$3:$Y$3,$A$4:$Y$4) -> 9 | ... AU13: =LOOKUP(BK13,$A$3:$Y$3,$A$4:$Y$4) -> 21 | AW13: 1 | AX13: 2 | AY13: 3 | AZ13: 4 | BA13: 5 | BB13: 6 | BC13: 8 | BD13: 9 | BE13: 10 | BF13: 11 | BG13: 13 | BH13: 14 | BI13: 15 | BJ13: 17 | BK13: 18 | BM13: =LOOKUP(CC13,$A$3:$Y$3,$A$4:$AE$4) -> 1 | BN13: =LOOKUP(CD13,$A$3:$Y$3,$A$4:$AE$4) -> 2 | BO13: =LOOKUP(CE13,$A$3:$Y$3,$A$4:$AE$4) -> 3 | BP13: =LOOKUP(CF13,$A$3:$Y$3,$A$4:$AE$4) -> 4 | BQ13: =LOOKUP(CG13,$A$3:$Y$3,$A$4:$AE$4) -> 5 | BR13: =LOOKUP(CH13,$A$3:$Y$3,$A$4:$AE$4) -> 6 | BS13: =LOOKUP(CI13,$A$3:$Y$3,$A$4:$AE$4) -> 8 | BT13: =LOOKUP(CJ13,$A$3:$Y$3,$A$4:$AE$4) -> 10 | ... CA13: =LOOKUP(CQ13,$A$3:$Y$3,$A$4:$AE$4) -> 20 | CC13: 1 | CD13: 2 | CE13: 3 | CF13: 4 | CG13: 5 | CH13: 6 | CI13: 8 | CJ13: 10 | CK13: 12 | CL13: 14 | CM13: 15 | CN13: 16 | CO13: 17 | CP13: 18 | CQ13: 19
A14: =LOOKUP(Q14,$A$3:$Y$3,$A$4:$Y$4) -> 1 | B14: =LOOKUP(R14,$A$3:$Y$3,$A$4:$Y$4) -> 2 | C14: =LOOKUP(S14,$A$3:$Y$3,$A$4:$Y$4) -> 5 | D14: =LOOKUP(T14,$A$3:$Y$3,$A$4:$Y$4) -> 6 | E14: =LOOKUP(U14,$A$3:$Y$3,$A$4:$Y$4) -> 7 | F14: =LOOKUP(V14,$A$3:$Y$3,$A$4:$Y$4) -> 9 | G14: =LOOKUP(W14,$A$3:$Y$3,$A$4:$Y$4) -> 10 | H14: =LOOKUP(X14,$A$3:$Y$3,$A$4:$Y$4) -> 12 | ... O14: =LOOKUP(AE14,$A$3:$Y$3,$A$4:$Y$4) -> 20 | Q14: 1 | R14: 2 | S14: 5 | T14: 6 | U14: 7 | V14: 9 | W14: 10 | X14: 12 | Y14: 13 | Z14: 14 | AA14: 15 | AB14: 16 | AC14: 17 | AD14: 18 | AE14: 19 | AG14: =LOOKUP(AW14,$A$3:$Y$3,$A$4:$Y$4) -> 1 | AH14: =LOOKUP(AX14,$A$3:$Y$3,$A$4:$Y$4) -> 2 | AI14: =LOOKUP(AY14,$A$3:$Y$3,$A$4:$Y$4) -> 3 | AJ14: =LOOKUP(AZ14,$A$3:$Y$3,$A$4:$Y$4) -> 4 | AK14: =LOOKUP(BA14,$A$3:$Y$3,$A$4:$Y$4) -> 5 | AL14: =LOOKUP(BB14,$A$3:$Y$3,$A$4:$Y$4) -> 6 | AM14: =LOOKUP(BC14,$A$3:$Y$3,$A$4:$Y$4) -> 8 | AN14: =LOOKUP(BD14,$A$3:$Y$3,$A$4:$Y$4) -> 9 | ... AU14: =LOOKUP(BK14,$A$3:$Y$3,$A$4:$Y$4) -> 20 | AW14: 1 | AX14: 2 | AY14: 3 | AZ14: 4 | BA14: 5 | BB14: 6 | BC14: 8 | BD14: 9 | BE14: 11 | BF14: 12 | BG14: 13 | BH14: 15 | BI14: 16 | BJ14: 17 | BK14: 19 | BM14: =LOOKUP(CC14,$A$3:$Y$3,$A$4:$AE$4) -> 1 | BN14: =LOOKUP(CD14,$A$3:$Y$3,$A$4:$AE$4) -> 2 | BO14: =LOOKUP(CE14,$A$3:$Y$3,$A$4:$AE$4) -> 4 | BP14: =LOOKUP(CF14,$A$3:$Y$3,$A$4:$AE$4) -> 6 | BQ14: =LOOKUP(CG14,$A$3:$Y$3,$A$4:$AE$4) -> 7 | BR14: =LOOKUP(CH14,$A$3:$Y$3,$A$4:$AE$4) -> 8 | BS14: =LOOKUP(CI14,$A$3:$Y$3,$A$4:$AE$4) -> 9 | BT14: =LOOKUP(CJ14,$A$3:$Y$3,$A$4:$AE$4) -> 10 | ... CA14: =LOOKUP(CQ14,$A$3:$Y$3,$A$4:$AE$4) -> 20 | CC14: 1 | CD14: 2 | CE14: 4 | CF14: 6 | CG14: 7 | CH14: 8 | CI14: 9 | CJ14: 10 | CK14: 11 | CL14: 12 | CM14: 13 | CN14: 15 | CO14: 17 | CP14: 18 | CQ14: 19
A15: =LOOKUP(Q15,$A$3:$Y$3,$A$4:$Y$4) -> 1 | B15: =LOOKUP(R15,$A$3:$Y$3,$A$4:$Y$4) -> 2 | C15: =LOOKUP(S15,$A$3:$Y$3,$A$4:$Y$4) -> 3 | D15: =LOOKUP(T15,$A$3:$Y$3,$A$4:$Y$4) -> 4 | E15: =LOOKUP(U15,$A$3:$Y$3,$A$4:$Y$4) -> 5 | F15: =LOOKUP(V15,$A$3:$Y$3,$A$4:$Y$4) -> 6 | G15: =LOOKUP(W15,$A$3:$Y$3,$A$4:$Y$4) -> 8 | H15: =LOOKUP(X15,$A$3:$Y$3,$A$4:$Y$4) -> 11 | ... O15: =LOOKUP(AE15,$A$3:$Y$3,$A$4:$Y$4) -> 20 | Q15: 1 | R15: 2 | S15: 3 | T15: 4 | U15: 5 | V15: 6 | W15: 8 | X15: 11 | Y15: 13 | Z15: 14 | AA15: 15 | AB15: 16 | AC15: 17 | AD15: 18 | AE15: 19 | AG15: =LOOKUP(AW15,$A$3:$Y$3,$A$4:$Y$4) -> 1 | AH15: =LOOKUP(AX15,$A$3:$Y$3,$A$4:$Y$4) -> 2 | AI15: =LOOKUP(AY15,$A$3:$Y$3,$A$4:$Y$4) -> 3 | AJ15: =LOOKUP(AZ15,$A$3:$Y$3,$A$4:$Y$4) -> 4 | AK15: =LOOKUP(BA15,$A$3:$Y$3,$A$4:$Y$4) -> 5 | AL15: =LOOKUP(BB15,$A$3:$Y$3,$A$4:$Y$4) -> 7 | AM15: =LOOKUP(BC15,$A$3:$Y$3,$A$4:$Y$4) -> 8 | AN15: =LOOKUP(BD15,$A$3:$Y$3,$A$4:$Y$4) -> 9 | ... AU15: =LOOKUP(BK15,$A$3:$Y$3,$A$4:$Y$4) -> 21 | AW15: 1 | AX15: 2 | AY15: 3 | AZ15: 4 | BA15: 5 | BB15: 7 | BC15: 8 | BD15: 9 | BE15: 10 | BF15: 11 | BG15: 12 | BH15: 13 | BI15: 14 | BJ15: 16 | BK15: 18 | BM15: =LOOKUP(CC15,$A$3:$Y$3,$A$4:$AE$4) -> 1 | BN15: =LOOKUP(CD15,$A$3:$Y$3,$A$4:$AE$4) -> 2 | BO15: =LOOKUP(CE15,$A$3:$Y$3,$A$4:$AE$4) -> 3 | BP15: =LOOKUP(CF15,$A$3:$Y$3,$A$4:$AE$4) -> 4 | BQ15: =LOOKUP(CG15,$A$3:$Y$3,$A$4:$AE$4) -> 6 | BR15: =LOOKUP(CH15,$A$3:$Y$3,$A$4:$AE$4) -> 7 | BS15: =LOOKUP(CI15,$A$3:$Y$3,$A$4:$AE$4) -> 8 | BT15: =LOOKUP(CJ15,$A$3:$Y$3,$A$4:$AE$4) -> 9 | ... CA15: =LOOKUP(CQ15,$A$3:$Y$3,$A$4:$AE$4) -> 20 | CC15: 1 | CD15: 2 | CE15: 3 | CF15: 4 | CG15: 6 | CH15: 7 | CI15: 8 | CJ15: 9 | CK15: 10 | CL15: 11 | CM15: 12 | CN15: 13 | CO15: 14 | CP15: 15 | CQ15: 19
A16: =LOOKUP(Q16,$A$3:$Y$3,$A$4:$Y$4) -> 2 | B16: =LOOKUP(R16,$A$3:$Y$3,$A$4:$Y$4) -> 4 | C16: =LOOKUP(S16,$A$3:$Y$3,$A$4:$Y$4) -> 5 | D16: =LOOKUP(T16,$A$3:$Y$3,$A$4:$Y$4) -> 6 | E16: =LOOKUP(U16,$A$3:$Y$3,$A$4:$Y$4) -> 7 | F16: =LOOKUP(V16,$A$3:$Y$3,$A$4:$Y$4) -> 8 | G16: =LOOKUP(W16,$A$3:$Y$3,$A$4:$Y$4) -> 9 | H16: =LOOKUP(X16,$A$3:$Y$3,$A$4:$Y$4) -> 10 | ... O16: =LOOKUP(AE16,$A$3:$Y$3,$A$4:$Y$4) -> 20 | Q16: 2 | R16: 4 | S16: 5 | T16: 6 | U16: 7 | V16: 8 | W16: 9 | X16: 10 | Y16: 13 | Z16: 14 | AA16: 15 | AB16: 16 | AC16: 17 | AD16: 18 | AE16: 19 | AG16: =LOOKUP(AW16,$A$3:$Y$3,$A$4:$Y$4) -> 1 | AH16: =LOOKUP(AX16,$A$3:$Y$3,$A$4:$Y$4) -> 2 | AI16: =LOOKUP(AY16,$A$3:$Y$3,$A$4:$Y$4) -> 3 | AJ16: =LOOKUP(AZ16,$A$3:$Y$3,$A$4:$Y$4) -> 4 | AK16: =LOOKUP(BA16,$A$3:$Y$3,$A$4:$Y$4) -> 5 | AL16: =LOOKUP(BB16,$A$3:$Y$3,$A$4:$Y$4) -> 7 | AM16: =LOOKUP(BC16,$A$3:$Y$3,$A$4:$Y$4) -> 8 | AN16: =LOOKUP(BD16,$A$3:$Y$3,$A$4:$Y$4) -> 9 | ... AU16: =LOOKUP(BK16,$A$3:$Y$3,$A$4:$Y$4) -> 20 | AW16: 1 | AX16: 2 | AY16: 3 | AZ16: 4 | BA16: 5 | BB16: 7 | BC16: 8 | BD16: 9 | BE16: 10 | BF16: 11 | BG16: 12 | BH16: 14 | BI16: 15 | BJ16: 17 | BK16: 19 | BM16: =LOOKUP(CC16,$A$3:$Y$3,$A$4:$AE$4) -> 1 | BN16: =LOOKUP(CD16,$A$3:$Y$3,$A$4:$AE$4) -> 2 | BO16: =LOOKUP(CE16,$A$3:$Y$3,$A$4:$AE$4) -> 4 | BP16: =LOOKUP(CF16,$A$3:$Y$3,$A$4:$AE$4) -> 5 | BQ16: =LOOKUP(CG16,$A$3:$Y$3,$A$4:$AE$4) -> 6 | BR16: =LOOKUP(CH16,$A$3:$Y$3,$A$4:$AE$4) -> 9 | BS16: =LOOKUP(CI16,$A$3:$Y$3,$A$4:$AE$4) -> 10 | BT16: =LOOKUP(CJ16,$A$3:$Y$3,$A$4:$AE$4) -> 12 | ... CA16: =LOOKUP(CQ16,$A$3:$Y$3,$A$4:$AE$4) -> 20 | CC16: 1 | CD16: 2 | CE16: 4 | CF16: 5 | CG16: 6 | CH16: 9 | CI16: 10 | CJ16: 12 | CK16: 13 | CL16: 14 | CM16: 15 | CN16: 16 | CO16: 17 | CP16: 18 | CQ16: 19
A17: =LOOKUP(Q17,$A$3:$Y$3,$A$4:$Y$4) -> 1 | B17: =LOOKUP(R17,$A$3:$Y$3,$A$4:$Y$4) -> 3 | C17: =LOOKUP(S17,$A$3:$Y$3,$A$4:$Y$4) -> 4 | D17: =LOOKUP(T17,$A$3:$Y$3,$A$4:$Y$4) -> 6 | E17: =LOOKUP(U17,$A$3:$Y$3,$A$4:$Y$4) -> 7 | F17: =LOOKUP(V17,$A$3:$Y$3,$A$4:$Y$4) -> 8 | G17: =LOOKUP(W17,$A$3:$Y$3,$A$4:$Y$4) -> 9 | H17: =LOOKUP(X17,$A$3:$Y$3,$A$4:$Y$4) -> 10 | ... O17: =LOOKUP(AE17,$A$3:$Y$3,$A$4:$Y$4) -> 20 | Q17: 1 | R17: 3 | S17: 4 | T17: 6 | U17: 7 | V17: 8 | W17: 9 | X17: 10 | Y17: 13 | Z17: 14 | AA17: 15 | AB17: 16 | AC17: 17 | AD17: 18 | AE17: 19 | AG17: =LOOKUP(AW17,$A$3:$Y$3,$A$4:$Y$4) -> 1 | AH17: =LOOKUP(AX17,$A$3:$Y$3,$A$4:$Y$4) -> 2 | AI17: =LOOKUP(AY17,$A$3:$Y$3,$A$4:$Y$4) -> 3 | AJ17: =LOOKUP(AZ17,$A$3:$Y$3,$A$4:$Y$4) -> 4 | AK17: =LOOKUP(BA17,$A$3:$Y$3,$A$4:$Y$4) -> 5 | AL17: =LOOKUP(BB17,$A$3:$Y$3,$A$4:$Y$4) -> 7 | AM17: =LOOKUP(BC17,$A$3:$Y$3,$A$4:$Y$4) -> 8 | AN17: =LOOKUP(BD17,$A$3:$Y$3,$A$4:$Y$4) -> 10 | ... AU17: =LOOKUP(BK17,$A$3:$Y$3,$A$4:$Y$4) -> 20 | AW17: 1 | AX17: 2 | AY17: 3 | AZ17: 4 | BA17: 5 | BB17: 7 | BC17: 8 | BD17: 10 | BE17: 12 | BF17: 13 | BG17: 14 | BH17: 16 | BI17: 17 | BJ17: 18 | BK17: 19 | BM17: =LOOKUP(CC17,$A$3:$Y$3,$A$4:$AE$4) -> 1 | BN17: =LOOKUP(CD17,$A$3:$Y$3,$A$4:$AE$4) -> 2 | BO17: =LOOKUP(CE17,$A$3:$Y$3,$A$4:$AE$4) -> 4 | BP17: =LOOKUP(CF17,$A$3:$Y$3,$A$4:$AE$4) -> 5 | BQ17: =LOOKUP(CG17,$A$3:$Y$3,$A$4:$AE$4) -> 6 | BR17: =LOOKUP(CH17,$A$3:$Y$3,$A$4:$AE$4) -> 8 | BS17: =LOOKUP(CI17,$A$3:$Y$3,$A$4:$AE$4) -> 9 | BT17: =LOOKUP(CJ17,$A$3:$Y$3,$A$4:$AE$4) -> 10 | ... CA17: =LOOKUP(CQ17,$A$3:$Y$3,$A$4:$AE$4) -> 20 | CC17: 1 | CD17: 2 | CE17: 4 | CF17: 5 | CG17: 6 | CH17: 8 | CI17: 9 | CJ17: 10 | CK17: 11 | CL17: 12 | CM17: 13 | CN17: 14 | CO17: 16 | CP17: 17 | CQ17: 19
A18: =LOOKUP(Q18,$A$3:$Y$3,$A$4:$Y$4) -> 1 | B18: =LOOKUP(R18,$A$3:$Y$3,$A$4:$Y$4) -> 4 | C18: =LOOKUP(S18,$A$3:$Y$3,$A$4:$Y$4) -> 6 | D18: =LOOKUP(T18,$A$3:$Y$3,$A$4:$Y$4) -> 7 | E18: =LOOKUP(U18,$A$3:$Y$3,$A$4:$Y$4) -> 8 | F18: =LOOKUP(V18,$A$3:$Y$3,$A$4:$Y$4) -> 9 | G18: =LOOKUP(W18,$A$3:$Y$3,$A$4:$Y$4) -> 10 | H18: =LOOKUP(X18,$A$3:$Y$3,$A$4:$Y$4) -> 11 | ... O18: =LOOKUP(AE18,$A$3:$Y$3,$A$4:$Y$4) -> 20 | Q18: 1 | R18: 4 | S18: 6 | T18: 7 | U18: 8 | V18: 9 | W18: 10 | X18: 11 | Y18: 12 | Z18: 14 | AA18: 15 | AB18: 16 | AC18: 17 | AD18: 18 | AE18: 19 | AG18: =LOOKUP(AW18,$A$3:$Y$3,$A$4:$Y$4) -> 1 | AH18: =LOOKUP(AX18,$A$3:$Y$3,$A$4:$Y$4) -> 2 | AI18: =LOOKUP(AY18,$A$3:$Y$3,$A$4:$Y$4) -> 3 | AJ18: =LOOKUP(AZ18,$A$3:$Y$3,$A$4:$Y$4) -> 4 | AK18: =LOOKUP(BA18,$A$3:$Y$3,$A$4:$Y$4) -> 6 | AL18: =LOOKUP(BB18,$A$3:$Y$3,$A$4:$Y$4) -> 7 | AM18: =LOOKUP(BC18,$A$3:$Y$3,$A$4:$Y$4) -> 9 | AN18: =LOOKUP(BD18,$A$3:$Y$3,$A$4:$Y$4) -> 10 | ... AU18: =LOOKUP(BK18,$A$3:$Y$3,$A$4:$Y$4) -> 20 | AW18: 1 | AX18: 2 | AY18: 3 | AZ18: 4 | BA18: 6 | BB18: 7 | BC18: 9 | BD18: 10 | BE18: 11 | BF18: 12 | BG18: 13 | BH18: 14 | BI18: 15 | BJ18: 18 | BK18: 19 | BM18: =LOOKUP(CC18,$A$3:$Y$3,$A$4:$AE$4) -> 1 | BN18: =LOOKUP(CD18,$A$3:$Y$3,$A$4:$AE$4) -> 2 | BO18: =LOOKUP(CE18,$A$3:$Y$3,$A$4:$AE$4) -> 3 | BP18: =LOOKUP(CF18,$A$3:$Y$3,$A$4:$AE$4) -> 5 | BQ18: =LOOKUP(CG18,$A$3:$Y$3,$A$4:$AE$4) -> 6 | BR18: =LOOKUP(CH18,$A$3:$Y$3,$A$4:$AE$4) -> 7 | BS18: =LOOKUP(CI18,$A$3:$Y$3,$A$4:$AE$4) -> 8 | BT18: =LOOKUP(CJ18,$A$3:$Y$3,$A$4:$AE$4) -> 9 | ... CA18: =LOOKUP(CQ18,$A$3:$Y$3,$A$4:$AE$4) -> 20 | CC18: 1 | CD18: 2 | CE18: 3 | CF18: 5 | CG18: 6 | CH18: 7 | CI18: 8 | CJ18: 9 | CK18: 12 | CL18: 13 | CM18: 14 | CN18: 15 | CO18: 17 | CP18: 18 | CQ18: 19
A19: =LOOKUP(Q19,$A$3:$Y$3,$A$4:$Y$4) -> 1 | B19: =LOOKUP(R19,$A$3:$Y$3,$A$4:$Y$4) -> 2 | C19: =LOOKUP(S19,$A$3:$Y$3,$A$4:$Y$4) -> 3 | D19: =LOOKUP(T19,$A$3:$Y$3,$A$4:$Y$4) -> 6 | E19: =LOOKUP(U19,$A$3:$Y$3,$A$4:$Y$4) -> 8 | F19: =LOOKUP(V19,$A$3:$Y$3,$A$4:$Y$4) -> 9 | G19: =LOOKUP(W19,$A$3:$Y$3,$A$4:$Y$4) -> 10 | H19: =LOOKUP(X19,$A$3:$Y$3,$A$4:$Y$4) -> 11 | ... O19: =LOOKUP(AE19,$A$3:$Y$3,$A$4:$Y$4) -> 20 | Q19: 1 | R19: 2 | S19: 3 | T19: 6 | U19: 8 | V19: 9 | W19: 10 | X19: 11 | Y19: 12 | Z19: 14 | AA19: 15 | AB19: 16 | AC19: 17 | AD19: 18 | AE19: 19 | AG19: =LOOKUP(AW19,$A$3:$Y$3,$A$4:$Y$4) -> 1 | AH19: =LOOKUP(AX19,$A$3:$Y$3,$A$4:$Y$4) -> 2 | AI19: =LOOKUP(AY19,$A$3:$Y$3,$A$4:$Y$4) -> 3 | AJ19: =LOOKUP(AZ19,$A$3:$Y$3,$A$4:$Y$4) -> 4 | AK19: =LOOKUP(BA19,$A$3:$Y$3,$A$4:$Y$4) -> 6 | AL19: =LOOKUP(BB19,$A$3:$Y$3,$A$4:$Y$4) -> 8 | AM19: =LOOKUP(BC19,$A$3:$Y$3,$A$4:$Y$4) -> 9 | AN19: =LOOKUP(BD19,$A$3:$Y$3,$A$4:$Y$4) -> 10 | ... AU19: =LOOKUP(BK19,$A$3:$Y$3,$A$4:$Y$4) -> 20 | AW19: 1 | AX19: 2 | AY19: 3 | AZ19: 4 | BA19: 6 | BB19: 8 | BC19: 9 | BD19: 10 | BE19: 12 | BF19: 14 | BG19: 15 | BH19: 16 | BI19: 17 | BJ19: 18 | BK19: 19 | BM19: =LOOKUP(CC19,$A$3:$Y$3,$A$4:$AE$4) -> 1 | BN19: =LOOKUP(CD19,$A$3:$Y$3,$A$4:$AE$4) -> 2 | BO19: =LOOKUP(CE19,$A$3:$Y$3,$A$4:$AE$4) -> 3 | BP19: =LOOKUP(CF19,$A$3:$Y$3,$A$4:$AE$4) -> 6 | BQ19: =LOOKUP(CG19,$A$3:$Y$3,$A$4:$AE$4) -> 7 | BR19: =LOOKUP(CH19,$A$3:$Y$3,$A$4:$AE$4) -> 8 | BS19: =LOOKUP(CI19,$A$3:$Y$3,$A$4:$AE$4) -> 9 | BT19: =LOOKUP(CJ19,$A$3:$Y$3,$A$4:$AE$4) -> 10 | ... CA19: =LOOKUP(CQ19,$A$3:$Y$3,$A$4:$AE$4) -> 21 | CC19: 1 | CD19: 2 | CE19: 3 | CF19: 6 | CG19: 7 | CH19: 8 | CI19: 9 | CJ19: 10 | CK19: 12 | CL19: 13 | CM19: 14 | CN19: 15 | CO19: 16 | CP19: 17 | CQ19: 18
A20: =LOOKUP(Q20,$A$3:$Y$3,$A$4:$Y$4) -> 1 | B20: =LOOKUP(R20,$A$3:$Y$3,$A$4:$Y$4) -> 3 | C20: =LOOKUP(S20,$A$3:$Y$3,$A$4:$Y$4) -> 5 | D20: =LOOKUP(T20,$A$3:$Y$3,$A$4:$Y$4) -> 6 | E20: =LOOKUP(U20,$A$3:$Y$3,$A$4:$Y$4) -> 7 | F20: =LOOKUP(V20,$A$3:$Y$3,$A$4:$Y$4) -> 8 | G20: =LOOKUP(W20,$A$3:$Y$3,$A$4:$Y$4) -> 10 | H20: =LOOKUP(X20,$A$3:$Y$3,$A$4:$Y$4) -> 11 | ... O20: =LOOKUP(AE20,$A$3:$Y$3,$A$4:$Y$4) -> 20 | Q20: 1 | R20: 3 | S20: 5 | T20: 6 | U20: 7 | V20: 8 | W20: 10 | X20: 11 | Y20: 12 | Z20: 14 | AA20: 15 | AB20: 16 | AC20: 17 | AD20: 18 | AE20: 19 | AG20: =LOOKUP(AW20,$A$3:$Y$3,$A$4:$Y$4) -> 1 | AH20: =LOOKUP(AX20,$A$3:$Y$3,$A$4:$Y$4) -> 2 | AI20: =LOOKUP(AY20,$A$3:$Y$3,$A$4:$Y$4) -> 3 | AJ20: =LOOKUP(AZ20,$A$3:$Y$3,$A$4:$Y$4) -> 5 | AK20: =LOOKUP(BA20,$A$3:$Y$3,$A$4:$Y$4) -> 6 | AL20: =LOOKUP(BB20,$A$3:$Y$3,$A$4:$Y$4) -> 7 | AM20: =LOOKUP(BC20,$A$3:$Y$3,$A$4:$Y$4) -> 8 | AN20: =LOOKUP(BD20,$A$3:$Y$3,$A$4:$Y$4) -> 9 | ... AU20: =LOOKUP(BK20,$A$3:$Y$3,$A$4:$Y$4) -> 20 | AW20: 1 | AX20: 2 | AY20: 3 | AZ20: 5 | BA20: 6 | BB20: 7 | BC20: 8 | BD20: 9 | BE20: 11 | BF20: 12 | BG20: 14 | BH20: 15 | BI20: 16 | BJ20: 18 | BK20: 19 | BM20: =LOOKUP(CC20,$A$3:$Y$3,$A$4:$AE$4) -> 1 | BN20: =LOOKUP(CD20,$A$3:$Y$3,$A$4:$AE$4) -> 2 | BO20: =LOOKUP(CE20,$A$3:$Y$3,$A$4:$AE$4) -> 3 | BP20: =LOOKUP(CF20,$A$3:$Y$3,$A$4:$AE$4) -> 6 | BQ20: =LOOKUP(CG20,$A$3:$Y$3,$A$4:$AE$4) -> 7 | BR20: =LOOKUP(CH20,$A$3:$Y$3,$A$4:$AE$4) -> 8 | BS20: =LOOKUP(CI20,$A$3:$Y$3,$A$4:$AE$4) -> 9 | BT20: =LOOKUP(CJ20,$A$3:$Y$3,$A$4:$AE$4) -> 11 | ... CA20: =LOOKUP(CQ20,$A$3:$Y$3,$A$4:$AE$4) -> 20 | CC20: 1 | CD20: 2 | CE20: 3 | CF20: 6 | CG20: 7 | CH20: 8 | CI20: 9 | CJ20: 11 | CK20: 12 | CL20: 13 | CM20: 15 | CN20: 16 | CO20: 17 | CP20: 18 | CQ20: 19
... A42: =LOOKUP(Q42,$A$3:$Y$3,$A$4:$Y$4) -> 1 | B42: =LOOKUP(R42,$A$3:$Y$3,$A$4:$Y$4) -> 2 | C42: =LOOKUP(S42,$A$3:$Y$3,$A$4:$Y$4) -> 3 | D42: =LOOKUP(T42,$A$3:$Y$3,$A$4:$Y$4) -> 4 | E42: =LOOKUP(U42,$A$3:$Y$3,$A$4:$Y$4) -> 5 | F42: =LOOKUP(V42,$A$3:$Y$3,$A$4:$Y$4) -> 7 | G42: =LOOKUP(W42,$A$3:$Y$3,$A$4:$Y$4) -> 8 | H42: =LOOKUP(X42,$A$3:$Y$3,$A$4:$Y$4) -> 10 | ... O42: =LOOKUP(AE42,$A$3:$Y$3,$A$4:$Y$4) -> 20 | Q42: 1 | R42: 2 | S42: 3 | T42: 4 | U42: 5 | V42: 7 | W42: 8 | X42: 10 | Y42: 11 | Z42: 12 | AA42: 13 | AB42: 14 | AC42: 17 | AD42: 18 | AE42: 19 | AG42: =LOOKUP(AW42,$A$3:$Y$3,$A$4:$Y$4) -> 3 | AH42: =LOOKUP(AX42,$A$3:$Y$3,$A$4:$Y$4) -> 4 | AI42: =LOOKUP(AY42,$A$3:$Y$3,$A$4:$Y$4) -> 5 | AJ42: =LOOKUP(AZ42,$A$3:$Y$3,$A$4:$Y$4) -> 6 | AK42: =LOOKUP(BA42,$A$3:$Y$3,$A$4:$Y$4) -> 7 | AL42: =LOOKUP(BB42,$A$3:$Y$3,$A$4:$Y$4) -> 8 | AM42: =LOOKUP(BC42,$A$3:$Y$3,$A$4:$Y$4) -> 9 | AN42: =LOOKUP(BD42,$A$3:$Y$3,$A$4:$Y$4) -> 10 | ... AU42: =LOOKUP(BK42,$A$3:$Y$3,$A$4:$Y$4) -> 20 | AW42: 3 | AX42: 4 | AY42: 5 | AZ42: 6 | BA42: 7 | BB42: 8 | BC42: 9 | BD42: 10 | BE42: 11 | BF42: 14 | BG42: 15 | BH42: 16 | BI42: 17 | BJ42: 18 | BK42: 19 | BM42: =LOOKUP(CC42,$A$3:$Y$3,$A$4:$AE$4) -> 1 | BN42: =LOOKUP(CD42,$A$3:$Y$3,$A$4:$AE$4) -> 2 | BO42: =LOOKUP(CE42,$A$3:$Y$3,$A$4:$AE$4) -> 3 | BP42: =LOOKUP(CF42,$A$3:$Y$3,$A$4:$AE$4) -> 4 | BQ42: =LOOKUP(CG42,$A$3:$Y$3,$A$4:$AE$4) -> 5 | BR42: =LOOKUP(CH42,$A$3:$Y$3,$A$4:$AE$4) -> 6 | BS42: =LOOKUP(CI42,$A$3:$Y$3,$A$4:$AE$4) -> 8 | BT42: =LOOKUP(CJ42,$A$3:$Y$3,$A$4:$AE$4) -> 9 | ... CA42: =LOOKUP(CQ42,$A$3:$Y$3,$A$4:$AE$4) -> 22 | CC42: 1 | CD42: 2 | CE42: 3 | CF42: 4 | CG42: 5 | CH42: 6 | CI42: 8 | CJ42: 9 | CK42: 10 | CL42: 12 | CM42: 13 | CN42: 14 | CO42: 15 | CP42: 16 | CQ42: 17
A43: =LOOKUP(Q43,$A$3:$Y$3,$A$4:$Y$4) -> 1 | B43: =LOOKUP(R43,$A$3:$Y$3,$A$4:$Y$4) -> 2 | C43: =LOOKUP(S43,$A$3:$Y$3,$A$4:$Y$4) -> 3 | D43: =LOOKUP(T43,$A$3:$Y$3,$A$4:$Y$4) -> 4 | E43: =LOOKUP(U43,$A$3:$Y$3,$A$4:$Y$4) -> 5 | F43: =LOOKUP(V43,$A$3:$Y$3,$A$4:$Y$4) -> 6 | G43: =LOOKUP(W43,$A$3:$Y$3,$A$4:$Y$4) -> 7 | H43: =LOOKUP(X43,$A$3:$Y$3,$A$4:$Y$4) -> 8 | ... O43: =LOOKUP(AE43,$A$3:$Y$3,$A$4:$Y$4) -> 20 | Q43: 1 | R43: 2 | S43: 3 | T43: 4 | U43: 5 | V43: 6 | W43: 7 | X43: 8 | Y43: 9 | Z43: 10 | AA43: 12 | AB43: 14 | AC43: 17 | AD43: 18 | AE43: 19 | BM43: =LOOKUP(CC43,$A$3:$Y$3,$A$4:$AE$4) -> 1 | BN43: =LOOKUP(CD43,$A$3:$Y$3,$A$4:$AE$4) -> 2 | BO43: =LOOKUP(CE43,$A$3:$Y$3,$A$4:$AE$4) -> 3 | BP43: =LOOKUP(CF43,$A$3:$Y$3,$A$4:$AE$4) -> 4 | BQ43: =LOOKUP(CG43,$A$3:$Y$3,$A$4:$AE$4) -> 5 | BR43: =LOOKUP(CH43,$A$3:$Y$3,$A$4:$AE$4) -> 6 | BS43: =LOOKUP(CI43,$A$3:$Y$3,$A$4:$AE$4) -> 7 | BT43: =LOOKUP(CJ43,$A$3:$Y$3,$A$4:$AE$4) -> 8 | ... CA43: =LOOKUP(CQ43,$A$3:$Y$3,$A$4:$AE$4) -> 21 | CC43: 1 | CD43: 2 | CE43: 3 | CF43: 4 | CG43: 5 | CH43: 6 | CI43: 7 | CJ43: 8 | CK43: 9 | CL43: 10 | CM43: 11 | CN43: 12 | CO43: 13 | CP43: 15 | CQ43: 18
A44: =LOOKUP(Q44,$A$3:$Y$3,$A$4:$Y$4) -> 1 | B44: =LOOKUP(R44,$A$3:$Y$3,$A$4:$Y$4) -> 2 | C44: =LOOKUP(S44,$A$3:$Y$3,$A$4:$Y$4) -> 3 | D44: =LOOKUP(T44,$A$3:$Y$3,$A$4:$Y$4) -> 4 | E44: =LOOKUP(U44,$A$3:$Y$3,$A$4:$Y$4) -> 7 | F44: =LOOKUP(V44,$A$3:$Y$3,$A$4:$Y$4) -> 8 | G44: =LOOKUP(W44,$A$3:$Y$3,$A$4:$Y$4) -> 10 | H44: =LOOKUP(X44,$A$3:$Y$3,$A$4:$Y$4) -> 11 | ... O44: =LOOKUP(AE44,$A$3:$Y$3,$A$4:$Y$4) -> 20 | Q44: 1 | R44: 2 | S44: 3 | T44: 4 | U44: 7 | V44: 8 | W44: 10 | X44: 11 | Y44: 12 | Z44: 13 | AA44: 14 | AB44: 15 | AC44: 16 | AD44: 18 | AE44: 19 | BM44: =LOOKUP(CC44,$A$3:$Y$3,$A$4:$AE$4) -> 1 | BN44: =LOOKUP(CD44,$A$3:$Y$3,$A$4:$AE$4) -> 2 | BO44: =LOOKUP(CE44,$A$3:$Y$3,$A$4:$AE$4) -> 3 | BP44: =LOOKUP(CF44,$A$3:$Y$3,$A$4:$AE$4) -> 4 | BQ44: =LOOKUP(CG44,$A$3:$Y$3,$A$4:$AE$4) -> 5 | BR44: =LOOKUP(CH44,$A$3:$Y$3,$A$4:$AE$4) -> 9 | BS44: =LOOKUP(CI44,$A$3:$Y$3,$A$4:$AE$4) -> 10 | BT44: =LOOKUP(CJ44,$A$3:$Y$3,$A$4:$AE$4) -> 11 | ... CA44: =LOOKUP(CQ44,$A$3:$Y$3,$A$4:$AE$4) -> 21 | CC44: 1 | CD44: 2 | CE44: 3 | CF44: 4 | CG44: 5 | CH44: 9 | CI44: 10 | CJ44: 11 | CK44: 12 | CL44: 13 | CM44: 14 | CN44: 15 | CO44: 16 | CP44: 17 | CQ44: 18
A45: =LOOKUP(Q45,$A$3:$Y$3,$A$4:$Y$4) -> 1 | B45: =LOOKUP(R45,$A$3:$Y$3,$A$4:$Y$4) -> 2 | C45: =LOOKUP(S45,$A$3:$Y$3,$A$4:$Y$4) -> 4 | D45: =LOOKUP(T45,$A$3:$Y$3,$A$4:$Y$4) -> 5 | E45: =LOOKUP(U45,$A$3:$Y$3,$A$4:$Y$4) -> 7 | F45: =LOOKUP(V45,$A$3:$Y$3,$A$4:$Y$4) -> 8 | G45: =LOOKUP(W45,$A$3:$Y$3,$A$4:$Y$4) -> 9 | H45: =LOOKUP(X45,$A$3:$Y$3,$A$4:$Y$4) -> 10 | ... O45: =LOOKUP(AE45,$A$3:$Y$3,$A$4:$Y$4) -> 20 | Q45: 1 | R45: 2 | S45: 4 | T45: 5 | U45: 7 | V45: 8 | W45: 9 | X45: 10 | Y45: 12 | Z45: 13 | AA45: 14 | AB45: 15 | AC45: 16 | AD45: 18 | AE45: 19 | AG45: =SMALL($AG9:$AU9,A$3) -> 1 | AH45: =SMALL($AG9:$AU9,B$3) -> 2 | AI45: =SMALL($AG9:$AU9,C$3) -> 3 | AJ45: =SMALL($AG9:$AU9,D$3) -> 4 | AK45: =SMALL($AG9:$AU9,E$3) -> 5 | AL45: =SMALL($AG9:$AU9,F$3) -> 6 | AM45: =SMALL($AG9:$AU9,G$3) -> 7 | AN45: =SMALL($AG9:$AU9,H$3) -> 8 | ... AU45: =SMALL($AG9:$AU9,O$3) -> 22 | AX45: 1 | BM45: =LOOKUP(CC45,$A$3:$Y$3,$A$4:$AE$4) -> 1 | BN45: =LOOKUP(CD45,$A$3:$Y$3,$A$4:$AE$4) -> 2 | BO45: =LOOKUP(CE45,$A$3:$Y$3,$A$4:$AE$4) -> 3 | BP45: =LOOKUP(CF45,$A$3:$Y$3,$A$4:$AE$4) -> 4 | BQ45: =LOOKUP(CG45,$A$3:$Y$3,$A$4:$AE$4) -> 5 | BR45: =LOOKUP(CH45,$A$3:$Y$3,$A$4:$AE$4) -> 6 | BS45: =LOOKUP(CI45,$A$3:$Y$3,$A$4:$AE$4) -> 7 | BT45: =LOOKUP(CJ45,$A$3:$Y$3,$A$4:$AE$4) -> 9 | ... CA45: =LOOKUP(CQ45,$A$3:$Y$3,$A$4:$AE$4) -> 21 | CC45: 1 | CD45: 2 | CE45: 3 | CF45: 4 | CG45: 5 | CH45: 6 | CI45: 7 | CJ45: 9 | CK45: 12 | CL45: 13 | CM45: 14 | CN45: 15 | CO45: 16 | CP45: 17 | CQ45: 18
A46: =LOOKUP(Q46,$A$3:$Y$3,$A$4:$Y$4) -> 1 | B46: =LOOKUP(R46,$A$3:$Y$3,$A$4:$Y$4) -> 2 | C46: =LOOKUP(S46,$A$3:$Y$3,$A$4:$Y$4) -> 3 | D46: =LOOKUP(T46,$A$3:$Y$3,$A$4:$Y$4) -> 5 | E46: =LOOKUP(U46,$A$3:$Y$3,$A$4:$Y$4) -> 6 | F46: =LOOKUP(V46,$A$3:$Y$3,$A$4:$Y$4) -> 8 | G46: =LOOKUP(W46,$A$3:$Y$3,$A$4:$Y$4) -> 9 | H46: =LOOKUP(X46,$A$3:$Y$3,$A$4:$Y$4) -> 10 | ... O46: =LOOKUP(AE46,$A$3:$Y$3,$A$4:$Y$4) -> 20 | Q46: 1 | R46: 2 | S46: 3 | T46: 5 | U46: 6 | V46: 8 | W46: 9 | X46: 10 | Y46: 11 | Z46: 13 | AA46: 14 | AB46: 15 | AC46: 16 | AD46: 18 | AE46: 19 | AG46: =SMALL($AG10:$AU10,A$3) -> 1 | AH46: =SMALL($AG10:$AU10,B$3) -> 2 | AI46: =SMALL($AG10:$AU10,C$3) -> 3 | AJ46: =SMALL($AG10:$AU10,D$3) -> 4 | AK46: =SMALL($AG10:$AU10,E$3) -> 5 | AL46: =SMALL($AG10:$AU10,F$3) -> 6 | AM46: =SMALL($AG10:$AU10,G$3) -> 7 | AN46: =SMALL($AG10:$AU10,H$3) -> 8 | ... AU46: =SMALL($AG10:$AU10,O$3) -> 21 | AX46: 2 | BM46: =LOOKUP(CC46,$A$3:$Y$3,$A$4:$AE$4) -> 1 | BN46: =LOOKUP(CD46,$A$3:$Y$3,$A$4:$AE$4) -> 2 | BO46: =LOOKUP(CE46,$A$3:$Y$3,$A$4:$AE$4) -> 3 | BP46: =LOOKUP(CF46,$A$3:$Y$3,$A$4:$AE$4) -> 4 | BQ46: =LOOKUP(CG46,$A$3:$Y$3,$A$4:$AE$4) -> 5 | BR46: =LOOKUP(CH46,$A$3:$Y$3,$A$4:$AE$4) -> 6 | BS46: =LOOKUP(CI46,$A$3:$Y$3,$A$4:$AE$4) -> 7 | BT46: =LOOKUP(CJ46,$A$3:$Y$3,$A$4:$AE$4) -> 8 | ... CA46: =LOOKUP(CQ46,$A$3:$Y$3,$A$4:$AE$4) -> 22 | CC46: 1 | CD46: 2 | CE46: 3 | CF46: 4 | CG46: 5 | CH46: 6 | CI46: 7 | CJ46: 8 | CK46: 11 | CL46: 12 | CM46: 13 | CN46: 14 | CO46: 15 | CP46: 16 | CQ46: 17
A47: =LOOKUP(Q47,$A$3:$Y$3,$A$4:$Y$4) -> 1 | B47: =LOOKUP(R47,$A$3:$Y$3,$A$4:$Y$4) -> 2 | C47: =LOOKUP(S47,$A$3:$Y$3,$A$4:$Y$4) -> 3 | D47: =LOOKUP(T47,$A$3:$Y$3,$A$4:$Y$4) -> 4 | E47: =LOOKUP(U47,$A$3:$Y$3,$A$4:$Y$4) -> 6 | F47: =LOOKUP(V47,$A$3:$Y$3,$A$4:$Y$4) -> 7 | G47: =LOOKUP(W47,$A$3:$Y$3,$A$4:$Y$4) -> 9 | H47: =LOOKUP(X47,$A$3:$Y$3,$A$4:$Y$4) -> 10 | ... O47: =LOOKUP(AE47,$A$3:$Y$3,$A$4:$Y$4) -> 20 | Q47: 1 | R47: 2 | S47: 3 | T47: 4 | U47: 6 | V47: 7 | W47: 9 | X47: 10 | Y47: 11 | Z47: 13 | AA47: 14 | AB47: 15 | AC47: 16 | AD47: 18 | AE47: 19 | AG47: =SMALL($AG11:$AU11,A$3) -> 1 | AH47: =SMALL($AG11:$AU11,B$3) -> 2 | AI47: =SMALL($AG11:$AU11,C$3) -> 3 | AJ47: =SMALL($AG11:$AU11,D$3) -> 4 | AK47: =SMALL($AG11:$AU11,E$3) -> 5 | AL47: =SMALL($AG11:$AU11,F$3) -> 6 | AM47: =SMALL($AG11:$AU11,G$3) -> 7 | AN47: =SMALL($AG11:$AU11,H$3) -> 9 | ... AU47: =SMALL($AG11:$AU11,O$3) -> 22 | AX47: 3 | BM47: =LOOKUP(CC47,$A$3:$Y$3,$A$4:$AE$4) -> 1 | BN47: =LOOKUP(CD47,$A$3:$Y$3,$A$4:$AE$4) -> 2 | BO47: =LOOKUP(CE47,$A$3:$Y$3,$A$4:$AE$4) -> 3 | BP47: =LOOKUP(CF47,$A$3:$Y$3,$A$4:$AE$4) -> 5 | BQ47: =LOOKUP(CG47,$A$3:$Y$3,$A$4:$AE$4) -> 6 | BR47: =LOOKUP(CH47,$A$3:$Y$3,$A$4:$AE$4) -> 8 | BS47: =LOOKUP(CI47,$A$3:$Y$3,$A$4:$AE$4) -> 9 | BT47: =LOOKUP(CJ47,$A$3:$Y$3,$A$4:$AE$4) -> 11 | ... CA47: =LOOKUP(CQ47,$A$3:$Y$3,$A$4:$AE$4) -> 21 | CC47: 1 | CD47: 2 | CE47: 3 | CF47: 5 | CG47: 6 | CH47: 8 | CI47: 9 | CJ47: 11 | CK47: 12 | CL47: 13 | CM47: 14 | CN47: 15 | CO47: 16 | CP47: 17 | CQ47: 18
A48: =LOOKUP(Q48,$A$3:$Y$3,$A$4:$Y$4) -> 1 | B48: =LOOKUP(R48,$A$3:$Y$3,$A$4:$Y$4) -> 2 | C48: =LOOKUP(S48,$A$3:$Y$3,$A$4:$Y$4) -> 3 | D48: =LOOKUP(T48,$A$3:$Y$3,$A$4:$Y$4) -> 4 | E48: =LOOKUP(U48,$A$3:$Y$3,$A$4:$Y$4) -> 5 | F48: =LOOKUP(V48,$A$3:$Y$3,$A$4:$Y$4) -> 7 | G48: =LOOKUP(W48,$A$3:$Y$3,$A$4:$Y$4) -> 9 | H48: =LOOKUP(X48,$A$3:$Y$3,$A$4:$Y$4) -> 10 | ... O48: =LOOKUP(AE48,$A$3:$Y$3,$A$4:$Y$4) -> 20 | Q48: 1 | R48: 2 | S48: 3 | T48: 4 | U48: 5 | V48: 7 | W48: 9 | X48: 10 | Y48: 11 | Z48: 12 | AA48: 14 | AB48: 15 | AC48: 16 | AD48: 18 | AE48: 19 | AG48: =SMALL($AG12:$AU12,A$3) -> 1 | AH48: =SMALL($AG12:$AU12,B$3) -> 2 | AI48: =SMALL($AG12:$AU12,C$3) -> 3 | AJ48: =SMALL($AG12:$AU12,D$3) -> 4 | AK48: =SMALL($AG12:$AU12,E$3) -> 5 | AL48: =SMALL($AG12:$AU12,F$3) -> 6 | AM48: =SMALL($AG12:$AU12,G$3) -> 7 | AN48: =SMALL($AG12:$AU12,H$3) -> 11 | ... AU48: =SMALL($AG12:$AU12,O$3) -> 22 | AX48: 4 | BM48: =LOOKUP(CC48,$A$3:$Y$3,$A$4:$AE$4) -> 1 | BN48: =LOOKUP(CD48,$A$3:$Y$3,$A$4:$AE$4) -> 2 | BO48: =LOOKUP(CE48,$A$3:$Y$3,$A$4:$AE$4) -> 3 | BP48: =LOOKUP(CF48,$A$3:$Y$3,$A$4:$AE$4) -> 4 | BQ48: =LOOKUP(CG48,$A$3:$Y$3,$A$4:$AE$4) -> 5 | BR48: =LOOKUP(CH48,$A$3:$Y$3,$A$4:$AE$4) -> 6 | BS48: =LOOKUP(CI48,$A$3:$Y$3,$A$4:$AE$4) -> 7 | BT48: =LOOKUP(CJ48,$A$3:$Y$3,$A$4:$AE$4) -> 8 | ... CA48: =LOOKUP(CQ48,$A$3:$Y$3,$A$4:$AE$4) -> 21 | CC48: 1 | CD48: 2 | CE48: 3 | CF48: 4 | CG48: 5 | CH48: 6 | CI48: 7 | CJ48: 8 | CK48: 9 | CL48: 10 | CM48: 11 | CN48: 14 | CO48: 15 | CP48: 17 | CQ48: 18
A49: =LOOKUP(Q49,$A$3:$Y$3,$A$4:$Y$4) -> 1 | B49: =LOOKUP(R49,$A$3:$Y$3,$A$4:$Y$4) -> 2 | C49: =LOOKUP(S49,$A$3:$Y$3,$A$4:$Y$4) -> 4 | D49: =LOOKUP(T49,$A$3:$Y$3,$A$4:$Y$4) -> 5 | E49: =LOOKUP(U49,$A$3:$Y$3,$A$4:$Y$4) -> 6 | F49: =LOOKUP(V49,$A$3:$Y$3,$A$4:$Y$4) -> 7 | G49: =LOOKUP(W49,$A$3:$Y$3,$A$4:$Y$4) -> 8 | H49: =LOOKUP(X49,$A$3:$Y$3,$A$4:$Y$4) -> 10 | ... O49: =LOOKUP(AE49,$A$3:$Y$3,$A$4:$Y$4) -> 20 | Q49: 1 | R49: 2 | S49: 4 | T49: 5 | U49: 6 | V49: 7 | W49: 8 | X49: 10 | Y49: 11 | Z49: 12 | AA49: 14 | AB49: 15 | AC49: 16 | AD49: 18 | AE49: 19 | AG49: =SMALL($AG13:$AU13,A$3) -> 1 | AH49: =SMALL($AG13:$AU13,B$3) -> 2 | AI49: =SMALL($AG13:$AU13,C$3) -> 3 | AJ49: =SMALL($AG13:$AU13,D$3) -> 4 | AK49: =SMALL($AG13:$AU13,E$3) -> 5 | AL49: =SMALL($AG13:$AU13,F$3) -> 6 | AM49: =SMALL($AG13:$AU13,G$3) -> 8 | AN49: =SMALL($AG13:$AU13,H$3) -> 9 | ... AU49: =SMALL($AG13:$AU13,O$3) -> 22 | AX49: 5 | BM49: =LOOKUP(CC49,$A$3:$Y$3,$A$4:$AE$4) -> 1 | BN49: =LOOKUP(CD49,$A$3:$Y$3,$A$4:$AE$4) -> 2 | BO49: =LOOKUP(CE49,$A$3:$Y$3,$A$4:$AE$4) -> 4 | BP49: =LOOKUP(CF49,$A$3:$Y$3,$A$4:$AE$4) -> 6 | BQ49: =LOOKUP(CG49,$A$3:$Y$3,$A$4:$AE$4) -> 7 | BR49: =LOOKUP(CH49,$A$3:$Y$3,$A$4:$AE$4) -> 8 | BS49: =LOOKUP(CI49,$A$3:$Y$3,$A$4:$AE$4) -> 9 | BT49: =LOOKUP(CJ49,$A$3:$Y$3,$A$4:$AE$4) -> 10 | ... CA49: =LOOKUP(CQ49,$A$3:$Y$3,$A$4:$AE$4) -> 20 | CC49: 1 | CD49: 2 | CE49: 4 | CF49: 6 | CG49: 7 | CH49: 8 | CI49: 9 | CJ49: 10 | CK49: 11 | CL49: 13 | CM49: 14 | CN49: 15 | CO49: 16 | CP49: 17 | CQ49: 19
A50: =LOOKUP(Q50,$A$3:$Y$3,$A$4:$Y$4) -> 2 | B50: =LOOKUP(R50,$A$3:$Y$3,$A$4:$Y$4) -> 3 | C50: =LOOKUP(S50,$A$3:$Y$3,$A$4:$Y$4) -> 4 | D50: =LOOKUP(T50,$A$3:$Y$3,$A$4:$Y$4) -> 5 | E50: =LOOKUP(U50,$A$3:$Y$3,$A$4:$Y$4) -> 6 | F50: =LOOKUP(V50,$A$3:$Y$3,$A$4:$Y$4) -> 7 | G50: =LOOKUP(W50,$A$3:$Y$3,$A$4:$Y$4) -> 8 | H50: =LOOKUP(X50,$A$3:$Y$3,$A$4:$Y$4) -> 9 | ... O50: =LOOKUP(AE50,$A$3:$Y$3,$A$4:$Y$4) -> 20 | Q50: 2 | R50: 3 | S50: 4 | T50: 5 | U50: 6 | V50: 7 | W50: 8 | X50: 9 | Y50: 11 | Z50: 12 | AA50: 13 | AB50: 15 | AC50: 16 | AD50: 18 | AE50: 19 | AG50: =SMALL($AG14:$AU14,A$3) -> 1 | AH50: =SMALL($AG14:$AU14,B$3) -> 2 | AI50: =SMALL($AG14:$AU14,C$3) -> 3 | AJ50: =SMALL($AG14:$AU14,D$3) -> 4 | AK50: =SMALL($AG14:$AU14,E$3) -> 5 | AL50: =SMALL($AG14:$AU14,F$3) -> 6 | AM50: =SMALL($AG14:$AU14,G$3) -> 8 | AN50: =SMALL($AG14:$AU14,H$3) -> 9 | ... AU50: =SMALL($AG14:$AU14,O$3) -> 22 | AX50: 6 | BM50: =LOOKUP(CC50,$A$3:$Y$3,$A$4:$AE$4) -> 1 | BN50: =LOOKUP(CD50,$A$3:$Y$3,$A$4:$AE$4) -> 3 | BO50: =LOOKUP(CE50,$A$3:$Y$3,$A$4:$AE$4) -> 4 | BP50: =LOOKUP(CF50,$A$3:$Y$3,$A$4:$AE$4) -> 5 | BQ50: =LOOKUP(CG50,$A$3:$Y$3,$A$4:$AE$4) -> 6 | BR50: =LOOKUP(CH50,$A$3:$Y$3,$A$4:$AE$4) -> 8 | BS50: =LOOKUP(CI50,$A$3:$Y$3,$A$4:$AE$4) -> 10 | BT50: =LOOKUP(CJ50,$A$3:$Y$3,$A$4:$AE$4) -> 11 | ... CA50: =LOOKUP(CQ50,$A$3:$Y$3,$A$4:$AE$4) -> 20 | CC50: 1 | CD50: 3 | CE50: 4 | CF50: 5 | CG50: 6 | CH50: 8 | CI50: 10 | CJ50: 11 | CK50: 12 | CL50: 13 | CM50: 14 | CN50: 15 | CO50: 17 | CP50: 18 | CQ50: 19
A51: =LOOKUP(Q51,$A$3:$Y$3,$A$4:$Y$4) -> 1 | B51: =LOOKUP(R51,$A$3:$Y$3,$A$4:$Y$4) -> 3 | C51: =LOOKUP(S51,$A$3:$Y$3,$A$4:$Y$4) -> 4 | D51: =LOOKUP(T51,$A$3:$Y$3,$A$4:$Y$4) -> 5 | E51: =LOOKUP(U51,$A$3:$Y$3,$A$4:$Y$4) -> 6 | F51: =LOOKUP(V51,$A$3:$Y$3,$A$4:$Y$4) -> 7 | G51: =LOOKUP(W51,$A$3:$Y$3,$A$4:$Y$4) -> 9 | H51: =LOOKUP(X51,$A$3:$Y$3,$A$4:$Y$4) -> 10 | ... O51: =LOOKUP(AE51,$A$3:$Y$3,$A$4:$Y$4) -> 20 | Q51: 1 | R51: 3 | S51: 4 | T51: 5 | U51: 6 | V51: 7 | W51: 9 | X51: 10 | Y51: 11 | Z51: 12 | AA51: 13 | AB51: 14 | AC51: 16 | AD51: 18 | AE51: 19 | AG51: =SMALL($AG15:$AU15,A$3) -> 1 | AH51: =SMALL($AG15:$AU15,B$3) -> 2 | AI51: =SMALL($AG15:$AU15,C$3) -> 3 | AJ51: =SMALL($AG15:$AU15,D$3) -> 4 | AK51: =SMALL($AG15:$AU15,E$3) -> 5 | AL51: =SMALL($AG15:$AU15,F$3) -> 7 | AM51: =SMALL($AG15:$AU15,G$3) -> 8 | AN51: =SMALL($AG15:$AU15,H$3) -> 9 | ... AU51: =SMALL($AG15:$AU15,O$3) -> 21 | AX51: 7 | BM51: =LOOKUP(CC51,$A$3:$Y$3,$A$4:$AE$4) -> 1 | BN51: =LOOKUP(CD51,$A$3:$Y$3,$A$4:$AE$4) -> 3 | BO51: =LOOKUP(CE51,$A$3:$Y$3,$A$4:$AE$4) -> 4 | BP51: =LOOKUP(CF51,$A$3:$Y$3,$A$4:$AE$4) -> 5 | BQ51: =LOOKUP(CG51,$A$3:$Y$3,$A$4:$AE$4) -> 6 | BR51: =LOOKUP(CH51,$A$3:$Y$3,$A$4:$AE$4) -> 7 | BS51: =LOOKUP(CI51,$A$3:$Y$3,$A$4:$AE$4) -> 8 | BT51: =LOOKUP(CJ51,$A$3:$Y$3,$A$4:$AE$4) -> 9 | ... CA51: =LOOKUP(CQ51,$A$3:$Y$3,$A$4:$AE$4) -> 21 | CC51: 1 | CD51: 3 | CE51: 4 | CF51: 5 | CG51: 6 | CH51: 7 | CI51: 8 | CJ51: 9 | CK51: 10 | CL51: 11 | CM51: 13 | CN51: 14 | CO51: 15 | CP51: 16 | CQ51: 18
A52: =LOOKUP(Q52,$A$3:$Y$3,$A$4:$Y$4) -> 2 | B52: =LOOKUP(R52,$A$3:$Y$3,$A$4:$Y$4) -> 3 | C52: =LOOKUP(S52,$A$3:$Y$3,$A$4:$Y$4) -> 5 | D52: =LOOKUP(T52,$A$3:$Y$3,$A$4:$Y$4) -> 6 | E52: =LOOKUP(U52,$A$3:$Y$3,$A$4:$Y$4) -> 7 | F52: =LOOKUP(V52,$A$3:$Y$3,$A$4:$Y$4) -> 8 | G52: =LOOKUP(W52,$A$3:$Y$3,$A$4:$Y$4) -> 9 | H52: =LOOKUP(X52,$A$3:$Y$3,$A$4:$Y$4) -> 10 | ... O52: =LOOKUP(AE52,$A$3:$Y$3,$A$4:$Y$4) -> 20 | Q52: 2 | R52: 3 | S52: 5 | T52: 6 | U52: 7 | V52: 8 | W52: 9 | X52: 10 | Y52: 11 | Z52: 12 | AA52: 13 | AB52: 14 | AC52: 15 | AD52: 18 | AE52: 19 | AG52: =SMALL($AG16:$AU16,A$3) -> 1 | AH52: =SMALL($AG16:$AU16,B$3) -> 2 | AI52: =SMALL($AG16:$AU16,C$3) -> 3 | AJ52: =SMALL($AG16:$AU16,D$3) -> 4 | AK52: =SMALL($AG16:$AU16,E$3) -> 5 | AL52: =SMALL($AG16:$AU16,F$3) -> 7 | AM52: =SMALL($AG16:$AU16,G$3) -> 8 | AN52: =SMALL($AG16:$AU16,H$3) -> 9 | ... AU52: =SMALL($AG16:$AU16,O$3) -> 22 | AX52: 8 | BM52: =LOOKUP(CC52,$A$3:$Y$3,$A$4:$AE$4) -> 1 | BN52: =LOOKUP(CD52,$A$3:$Y$3,$A$4:$AE$4) -> 2 | BO52: =LOOKUP(CE52,$A$3:$Y$3,$A$4:$AE$4) -> 3 | BP52: =LOOKUP(CF52,$A$3:$Y$3,$A$4:$AE$4) -> 4 | BQ52: =LOOKUP(CG52,$A$3:$Y$3,$A$4:$AE$4) -> 5 | BR52: =LOOKUP(CH52,$A$3:$Y$3,$A$4:$AE$4) -> 6 | BS52: =LOOKUP(CI52,$A$3:$Y$3,$A$4:$AE$4) -> 7 | BT52: =LOOKUP(CJ52,$A$3:$Y$3,$A$4:$AE$4) -> 8 | ... CA52: =LOOKUP(CQ52,$A$3:$Y$3,$A$4:$AE$4) -> 20 | CC52: 1 | CD52: 2 | CE52: 3 | CF52: 4 | CG52: 5 | CH52: 6 | CI52: 7 | CJ52: 8 | CK52: 9 | CL52: 11 | CM52: 12 | CN52: 14 | CO52: 15 | CP52: 18 | CQ52: 19
A53: =LOOKUP(Q53,$A$3:$Y$3,$A$4:$Y$4) -> 1 | B53: =LOOKUP(R53,$A$3:$Y$3,$A$4:$Y$4) -> 2 | C53: =LOOKUP(S53,$A$3:$Y$3,$A$4:$Y$4) -> 3 | D53: =LOOKUP(T53,$A$3:$Y$3,$A$4:$Y$4) -> 4 | E53: =LOOKUP(U53,$A$3:$Y$3,$A$4:$Y$4) -> 5 | F53: =LOOKUP(V53,$A$3:$Y$3,$A$4:$Y$4) -> 6 | G53: =LOOKUP(W53,$A$3:$Y$3,$A$4:$Y$4) -> 8 | H53: =LOOKUP(X53,$A$3:$Y$3,$A$4:$Y$4) -> 9 | ... O53: =LOOKUP(AE53,$A$3:$Y$3,$A$4:$Y$4) -> 20 | Q53: 1 | R53: 2 | S53: 3 | T53: 4 | U53: 5 | V53: 6 | W53: 8 | X53: 9 | Y53: 11 | Z53: 12 | AA53: 13 | AB53: 14 | AC53: 15 | AD53: 18 | AE53: 19 | AG53: =SMALL($AG17:$AU17,A$3) -> 1 | AH53: =SMALL($AG17:$AU17,B$3) -> 2 | AI53: =SMALL($AG17:$AU17,C$3) -> 3 | AJ53: =SMALL($AG17:$AU17,D$3) -> 4 | AK53: =SMALL($AG17:$AU17,E$3) -> 5 | AL53: =SMALL($AG17:$AU17,F$3) -> 7 | AM53: =SMALL($AG17:$AU17,G$3) -> 8 | AN53: =SMALL($AG17:$AU17,H$3) -> 10 | ... AU53: =SMALL($AG17:$AU17,O$3) -> 22 | AX53: 9 | BM53: =LOOKUP(CC53,$A$3:$Y$3,$A$4:$AE$4) -> 1 | BN53: =LOOKUP(CD53,$A$3:$Y$3,$A$4:$AE$4) -> 2 | BO53: =LOOKUP(CE53,$A$3:$Y$3,$A$4:$AE$4) -> 3 | BP53: =LOOKUP(CF53,$A$3:$Y$3,$A$4:$AE$4) -> 5 | BQ53: =LOOKUP(CG53,$A$3:$Y$3,$A$4:$AE$4) -> 6 | BR53: =LOOKUP(CH53,$A$3:$Y$3,$A$4:$AE$4) -> 7 | BS53: =LOOKUP(CI53,$A$3:$Y$3,$A$4:$AE$4) -> 10 | BT53: =LOOKUP(CJ53,$A$3:$Y$3,$A$4:$AE$4) -> 11 | ... CA53: =LOOKUP(CQ53,$A$3:$Y$3,$A$4:$AE$4) -> 21 | CC53: 1 | CD53: 2 | CE53: 3 | CF53: 5 | CG53: 6 | CH53: 7 | CI53: 10 | CJ53: 11 | CK53: 12 | CL53: 13 | CM53: 14 | CN53: 15 | CO53: 16 | CP53: 17 | CQ53: 18
A54: =LOOKUP(Q54,$A$3:$Y$3,$A$4:$Y$4) -> 1 | B54: =LOOKUP(R54,$A$3:$Y$3,$A$4:$Y$4) -> 2 | C54: =LOOKUP(S54,$A$3:$Y$3,$A$4:$Y$4) -> 4 | D54: =LOOKUP(T54,$A$3:$Y$3,$A$4:$Y$4) -> 5 | E54: =LOOKUP(U54,$A$3:$Y$3,$A$4:$Y$4) -> 7 | F54: =LOOKUP(V54,$A$3:$Y$3,$A$4:$Y$4) -> 9 | G54: =LOOKUP(W54,$A$3:$Y$3,$A$4:$Y$4) -> 10 | H54: =LOOKUP(X54,$A$3:$Y$3,$A$4:$Y$4) -> 11 | ... O54: =LOOKUP(AE54,$A$3:$Y$3,$A$4:$Y$4) -> 20 | Q54: 1 | R54: 2 | S54: 4 | T54: 5 | U54: 7 | V54: 9 | W54: 10 | X54: 11 | Y54: 12 | Z54: 13 | AA54: 14 | AB54: 15 | AC54: 16 | AD54: 17 | AE54: 19 | AG54: =SMALL($AG18:$AU18,A$3) -> 1 | AH54: =SMALL($AG18:$AU18,B$3) -> 2 | AI54: =SMALL($AG18:$AU18,C$3) -> 3 | AJ54: =SMALL($AG18:$AU18,D$3) -> 4 | AK54: =SMALL($AG18:$AU18,E$3) -> 6 | AL54: =SMALL($AG18:$AU18,F$3) -> 7 | AM54: =SMALL($AG18:$AU18,G$3) -> 9 | AN54: =SMALL($AG18:$AU18,H$3) -> 10 | ... AU54: =SMALL($AG18:$AU18,O$3) -> 21 | AX54: 10 | BM54: =LOOKUP(CC54,$A$3:$Y$3,$A$4:$AE$4) -> 1 | BN54: =LOOKUP(CD54,$A$3:$Y$3,$A$4:$AE$4) -> 2 | BO54: =LOOKUP(CE54,$A$3:$Y$3,$A$4:$AE$4) -> 3 | BP54: =LOOKUP(CF54,$A$3:$Y$3,$A$4:$AE$4) -> 4 | BQ54: =LOOKUP(CG54,$A$3:$Y$3,$A$4:$AE$4) -> 6 | BR54: =LOOKUP(CH54,$A$3:$Y$3,$A$4:$AE$4) -> 8 | BS54: =LOOKUP(CI54,$A$3:$Y$3,$A$4:$AE$4) -> 10 | BT54: =LOOKUP(CJ54,$A$3:$Y$3,$A$4:$AE$4) -> 11 | ... CA54: =LOOKUP(CQ54,$A$3:$Y$3,$A$4:$AE$4) -> 21 | CC54: 1 | CD54: 2 | CE54: 3 | CF54: 4 | CG54: 6 | CH54: 8 | CI54: 10 | CJ54: 11 | CK54: 12 | CL54: 13 | CM54: 14 | CN54: 15 | CO54: 16 | CP54: 17 | CQ54: 18
A55: =LOOKUP(Q55,$A$3:$Y$3,$A$4:$Y$4) -> 2 | B55: =LOOKUP(R55,$A$3:$Y$3,$A$4:$Y$4) -> 3 | C55: =LOOKUP(S55,$A$3:$Y$3,$A$4:$Y$4) -> 4 | D55: =LOOKUP(T55,$A$3:$Y$3,$A$4:$Y$4) -> 5 | E55: =LOOKUP(U55,$A$3:$Y$3,$A$4:$Y$4) -> 6 | F55: =LOOKUP(V55,$A$3:$Y$3,$A$4:$Y$4) -> 7 | G55: =LOOKUP(W55,$A$3:$Y$3,$A$4:$Y$4) -> 9 | H55: =LOOKUP(X55,$A$3:$Y$3,$A$4:$Y$4) -> 11 | ... O55: =LOOKUP(AE55,$A$3:$Y$3,$A$4:$Y$4) -> 20 | Q55: 2 | R55: 3 | S55: 4 | T55: 5 | U55: 6 | V55: 7 | W55: 9 | X55: 11 | Y55: 12 | Z55: 13 | AA55: 14 | AB55: 15 | AC55: 16 | AD55: 17 | AE55: 19 | AG55: =SMALL($AG19:$AU19,A$3) -> 1 | AH55: =SMALL($AG19:$AU19,B$3) -> 2 | AI55: =SMALL($AG19:$AU19,C$3) -> 3 | AJ55: =SMALL($AG19:$AU19,D$3) -> 4 | AK55: =SMALL($AG19:$AU19,E$3) -> 6 | AL55: =SMALL($AG19:$AU19,F$3) -> 8 | AM55: =SMALL($AG19:$AU19,G$3) -> 9 | AN55: =SMALL($AG19:$AU19,H$3) -> 10 | ... AU55: =SMALL($AG19:$AU19,O$3) -> 22 | AX55: 11 | BM55: =LOOKUP(CC55,$A$3:$Y$3,$A$4:$AE$4) -> 1 | BN55: =LOOKUP(CD55,$A$3:$Y$3,$A$4:$AE$4) -> 2 | BO55: =LOOKUP(CE55,$A$3:$Y$3,$A$4:$AE$4) -> 3 | BP55: =LOOKUP(CF55,$A$3:$Y$3,$A$4:$AE$4) -> 5 | BQ55: =LOOKUP(CG55,$A$3:$Y$3,$A$4:$AE$4) -> 7 | BR55: =LOOKUP(CH55,$A$3:$Y$3,$A$4:$AE$4) -> 8 | BS55: =LOOKUP(CI55,$A$3:$Y$3,$A$4:$AE$4) -> 9 | BT55: =LOOKUP(CJ55,$A$3:$Y$3,$A$4:$AE$4) -> 10 | ... CA55: =LOOKUP(CQ55,$A$3:$Y$3,$A$4:$AE$4) -> 22 | CC55: 1 | CD55: 2 | CE55: 3 | CF55: 5 | CG55: 7 | CH55: 8 | CI55: 9 | CJ55: 10 | CK55: 11 | CL55: 12 | CM55: 13 | CN55: 14 | CO55: 15 | CP55: 16 | CQ55: 17
A56: =LOOKUP(Q56,$A$3:$Y$3,$A$4:$Y$4) -> 1 | B56: =LOOKUP(R56,$A$3:$Y$3,$A$4:$Y$4) -> 3 | C56: =LOOKUP(S56,$A$3:$Y$3,$A$4:$Y$4) -> 4 | D56: =LOOKUP(T56,$A$3:$Y$3,$A$4:$Y$4) -> 5 | E56: =LOOKUP(U56,$A$3:$Y$3,$A$4:$Y$4) -> 6 | F56: =LOOKUP(V56,$A$3:$Y$3,$A$4:$Y$4) -> 8 | G56: =LOOKUP(W56,$A$3:$Y$3,$A$4:$Y$4) -> 9 | H56: =LOOKUP(X56,$A$3:$Y$3,$A$4:$Y$4) -> 10 | ... O56: =LOOKUP(AE56,$A$3:$Y$3,$A$4:$Y$4) -> 20 | Q56: 1 | R56: 3 | S56: 4 | T56: 5 | U56: 6 | V56: 8 | W56: 9 | X56: 10 | Y56: 12 | Z56: 13 | AA56: 14 | AB56: 15 | AC56: 16 | AD56: 17 | AE56: 19 | AG56: =SMALL($AG20:$AU20,A$3) -> 1 | AH56: =SMALL($AG20:$AU20,B$3) -> 2 | AI56: =SMALL($AG20:$AU20,C$3) -> 3 | AJ56: =SMALL($AG20:$AU20,D$3) -> 5 | AK56: =SMALL($AG20:$AU20,E$3) -> 6 | AL56: =SMALL($AG20:$AU20,F$3) -> 7 | AM56: =SMALL($AG20:$AU20,G$3) -> 8 | AN56: =SMALL($AG20:$AU20,H$3) -> 9 | ... AU56: =SMALL($AG20:$AU20,O$3) -> 21 | AX56: 12 | BM56: =LOOKUP(CC56,$A$3:$Y$3,$A$4:$AE$4) -> 1 | BN56: =LOOKUP(CD56,$A$3:$Y$3,$A$4:$AE$4) -> 2 | BO56: =LOOKUP(CE56,$A$3:$Y$3,$A$4:$AE$4) -> 4 | BP56: =LOOKUP(CF56,$A$3:$Y$3,$A$4:$AE$4) -> 5 | BQ56: =LOOKUP(CG56,$A$3:$Y$3,$A$4:$AE$4) -> 6 | BR56: =LOOKUP(CH56,$A$3:$Y$3,$A$4:$AE$4) -> 7 | BS56: =LOOKUP(CI56,$A$3:$Y$3,$A$4:$AE$4) -> 8 | BT56: =LOOKUP(CJ56,$A$3:$Y$3,$A$4:$AE$4) -> 9 | ... CA56: =LOOKUP(CQ56,$A$3:$Y$3,$A$4:$AE$4) -> 21 | CC56: 1 | CD56: 2 | CE56: 4 | CF56: 5 | CG56: 6 | CH56: 7 | CI56: 8 | CJ56: 9 | CK56: 10 | CL56: 11 | CM56: 12 | CN56: 13 | CO56: 14 | CP56: 17 | CQ56: 18
... A78: =LOOKUP(Q78,$A$3:$Y$3,$A$4:$Y$4) -> 1 | B78: =LOOKUP(R78,$A$3:$Y$3,$A$4:$Y$4) -> 3 | C78: =LOOKUP(S78,$A$3:$Y$3,$A$4:$Y$4) -> 4 | D78: =LOOKUP(T78,$A$3:$Y$3,$A$4:$Y$4) -> 5 | E78: =LOOKUP(U78,$A$3:$Y$3,$A$4:$Y$4) -> 6 | F78: =LOOKUP(V78,$A$3:$Y$3,$A$4:$Y$4) -> 7 | G78: =LOOKUP(W78,$A$3:$Y$3,$A$4:$Y$4) -> 8 | H78: =LOOKUP(X78,$A$3:$Y$3,$A$4:$Y$4) -> 9 | ... O78: =LOOKUP(AE78,$A$3:$Y$3,$A$4:$Y$4) -> 21 | Q78: 1 | R78: 3 | S78: 4 | T78: 5 | U78: 6 | V78: 7 | W78: 8 | X78: 9 | Y78: 10 | Z78: 11 | AA78: 12 | AB78: 13 | AC78: 14 | AD78: 17 | AE78: 18 | AG78: =SMALL($AG42:$AU42,A$3) -> 3 | AH78: =SMALL($AG42:$AU42,B$3) -> 4 | AI78: =SMALL($AG42:$AU42,C$3) -> 5 | AJ78: =SMALL($AG42:$AU42,D$3) -> 6 | AK78: =SMALL($AG42:$AU42,E$3) -> 7 | AL78: =SMALL($AG42:$AU42,F$3) -> 8 | AM78: =SMALL($AG42:$AU42,G$3) -> 9 | AN78: =SMALL($AG42:$AU42,H$3) -> 10 | ... AU78: =SMALL($AG42:$AU42,O$3) -> 22 | AX78: 34 | BM78: =LOOKUP(CC78,$A$3:$Y$3,$A$4:$AE$4) -> 1 | BN78: =LOOKUP(CD78,$A$3:$Y$3,$A$4:$AE$4) -> 2 | BO78: =LOOKUP(CE78,$A$3:$Y$3,$A$4:$AE$4) -> 3 | BP78: =LOOKUP(CF78,$A$3:$Y$3,$A$4:$AE$4) -> 5 | BQ78: =LOOKUP(CG78,$A$3:$Y$3,$A$4:$AE$4) -> 6 | BR78: =LOOKUP(CH78,$A$3:$Y$3,$A$4:$AE$4) -> 8 | BS78: =LOOKUP(CI78,$A$3:$Y$3,$A$4:$AE$4) -> 9 | BT78: =LOOKUP(CJ78,$A$3:$Y$3,$A$4:$AE$4) -> 10 | ... CA78: =LOOKUP(CQ78,$A$3:$Y$3,$A$4:$AE$4) -> 20 | CC78: 1 | CD78: 2 | CE78: 3 | CF78: 5 | CG78: 6 | CH78: 8 | CI78: 9 | CJ78: 10 | CK78: 11 | CL78: 12 | CM78: 14 | CN78: 15 | CO78: 16 | CP78: 17 | CQ78: 19
A79: =LOOKUP(Q79,$A$3:$Y$3,$A$4:$Y$4) -> 1 | B79: =LOOKUP(R79,$A$3:$Y$3,$A$4:$Y$4) -> 2 | C79: =LOOKUP(S79,$A$3:$Y$3,$A$4:$Y$4) -> 3 | D79: =LOOKUP(T79,$A$3:$Y$3,$A$4:$Y$4) -> 4 | E79: =LOOKUP(U79,$A$3:$Y$3,$A$4:$Y$4) -> 5 | F79: =LOOKUP(V79,$A$3:$Y$3,$A$4:$Y$4) -> 6 | G79: =LOOKUP(W79,$A$3:$Y$3,$A$4:$Y$4) -> 7 | H79: =LOOKUP(X79,$A$3:$Y$3,$A$4:$Y$4) -> 8 | ... O79: =LOOKUP(AE79,$A$3:$Y$3,$A$4:$Y$4) -> 21 | Q79: 1 | R79: 2 | S79: 3 | T79: 4 | U79: 5 | V79: 6 | W79: 7 | X79: 8 | Y79: 9 | Z79: 12 | AA79: 13 | AB79: 14 | AC79: 15 | AD79: 16 | AE79: 18 | BM79: =LOOKUP(CC79,$A$3:$Y$3,$A$4:$AE$4) -> 1 | BN79: =LOOKUP(CD79,$A$3:$Y$3,$A$4:$AE$4) -> 2 | BO79: =LOOKUP(CE79,$A$3:$Y$3,$A$4:$AE$4) -> 3 | BP79: =LOOKUP(CF79,$A$3:$Y$3,$A$4:$AE$4) -> 4 | BQ79: =LOOKUP(CG79,$A$3:$Y$3,$A$4:$AE$4) -> 5 | BR79: =LOOKUP(CH79,$A$3:$Y$3,$A$4:$AE$4) -> 6 | BS79: =LOOKUP(CI79,$A$3:$Y$3,$A$4:$AE$4) -> 8 | BT79: =LOOKUP(CJ79,$A$3:$Y$3,$A$4:$AE$4) -> 11 | ... CA79: =LOOKUP(CQ79,$A$3:$Y$3,$A$4:$AE$4) -> 20 | CC79: 1 | CD79: 2 | CE79: 3 | CF79: 4 | CG79: 5 | CH79: 6 | CI79: 8 | CJ79: 11 | CK79: 12 | CL79: 13 | CM79: 15 | CN79: 16 | CO79: 17 | CP79: 18 | CQ79: 19
A80: =LOOKUP(Q80,$A$3:$Y$3,$A$4:$Y$4) -> 1 | B80: =LOOKUP(R80,$A$3:$Y$3,$A$4:$Y$4) -> 2 | C80: =LOOKUP(S80,$A$3:$Y$3,$A$4:$Y$4) -> 3 | D80: =LOOKUP(T80,$A$3:$Y$3,$A$4:$Y$4) -> 4 | E80: =LOOKUP(U80,$A$3:$Y$3,$A$4:$Y$4) -> 5 | F80: =LOOKUP(V80,$A$3:$Y$3,$A$4:$Y$4) -> 6 | G80: =LOOKUP(W80,$A$3:$Y$3,$A$4:$Y$4) -> 7 | H80: =LOOKUP(X80,$A$3:$Y$3,$A$4:$Y$4) -> 8 | ... O80: =LOOKUP(AE80,$A$3:$Y$3,$A$4:$Y$4) -> 21 | Q80: 1 | R80: 2 | S80: 3 | T80: 4 | U80: 5 | V80: 6 | W80: 7 | X80: 8 | Y80: 9 | Z80: 10 | AA80: 11 | AB80: 13 | AC80: 14 | AD80: 16 | AE80: 18 | BM80: =LOOKUP(CC80,$A$3:$Y$3,$A$4:$AE$4) -> 1 | BN80: =LOOKUP(CD80,$A$3:$Y$3,$A$4:$AE$4) -> 2 | BO80: =LOOKUP(CE80,$A$3:$Y$3,$A$4:$AE$4) -> 3 | BP80: =LOOKUP(CF80,$A$3:$Y$3,$A$4:$AE$4) -> 4 | BQ80: =LOOKUP(CG80,$A$3:$Y$3,$A$4:$AE$4) -> 7 | BR80: =LOOKUP(CH80,$A$3:$Y$3,$A$4:$AE$4) -> 8 | BS80: =LOOKUP(CI80,$A$3:$Y$3,$A$4:$AE$4) -> 9 | BT80: =LOOKUP(CJ80,$A$3:$Y$3,$A$4:$AE$4) -> 10 | ... CA80: =LOOKUP(CQ80,$A$3:$Y$3,$A$4:$AE$4) -> 20 | CC80: 1 | CD80: 2 | CE80: 3 | CF80: 4 | CG80: 7 | CH80: 8 | CI80: 9 | CJ80: 10 | CK80: 11 | CL80: 13 | CM80: 15 | CN80: 16 | CO80: 17 | CP80: 18 | CQ80: 19
A81: =LOOKUP(Q81,$A$3:$Y$3,$A$4:$Y$4) -> 1 | B81: =LOOKUP(R81,$A$3:$Y$3,$A$4:$Y$4) -> 2 | C81: =LOOKUP(S81,$A$3:$Y$3,$A$4:$Y$4) -> 3 | D81: =LOOKUP(T81,$A$3:$Y$3,$A$4:$Y$4) -> 4 | E81: =LOOKUP(U81,$A$3:$Y$3,$A$4:$Y$4) -> 5 | F81: =LOOKUP(V81,$A$3:$Y$3,$A$4:$Y$4) -> 6 | G81: =LOOKUP(W81,$A$3:$Y$3,$A$4:$Y$4) -> 7 | H81: =LOOKUP(X81,$A$3:$Y$3,$A$4:$Y$4) -> 8 | ... O81: =LOOKUP(AE81,$A$3:$Y$3,$A$4:$Y$4) -> 21 | Q81: 1 | R81: 2 | S81: 3 | T81: 4 | U81: 5 | V81: 6 | W81: 7 | X81: 8 | Y81: 9 | Z81: 10 | AA81: 11 | AB81: 12 | AC81: 13 | AD81: 15 | AE81: 18 | BM81: =LOOKUP(CC81,$A$3:$Y$3,$A$4:$AE$4) -> 1 | BN81: =LOOKUP(CD81,$A$3:$Y$3,$A$4:$AE$4) -> 2 | BO81: =LOOKUP(CE81,$A$3:$Y$3,$A$4:$AE$4) -> 3 | BP81: =LOOKUP(CF81,$A$3:$Y$3,$A$4:$AE$4) -> 4 | BQ81: =LOOKUP(CG81,$A$3:$Y$3,$A$4:$AE$4) -> 5 | BR81: =LOOKUP(CH81,$A$3:$Y$3,$A$4:$AE$4) -> 8 | BS81: =LOOKUP(CI81,$A$3:$Y$3,$A$4:$AE$4) -> 9 | BT81: =LOOKUP(CJ81,$A$3:$Y$3,$A$4:$AE$4) -> 10 | ... CA81: =LOOKUP(CQ81,$A$3:$Y$3,$A$4:$AE$4) -> 20 | CC81: 1 | CD81: 2 | CE81: 3 | CF81: 4 | CG81: 5 | CH81: 8 | CI81: 9 | CJ81: 10 | CK81: 12 | CL81: 13 | CM81: 15 | CN81: 16 | CO81: 17 | CP81: 18 | CQ81: 19
A82: =LOOKUP(Q82,$A$3:$Y$3,$A$4:$Y$4) -> 1 | B82: =LOOKUP(R82,$A$3:$Y$3,$A$4:$Y$4) -> 2 | C82: =LOOKUP(S82,$A$3:$Y$3,$A$4:$Y$4) -> 3 | D82: =LOOKUP(T82,$A$3:$Y$3,$A$4:$Y$4) -> 4 | E82: =LOOKUP(U82,$A$3:$Y$3,$A$4:$Y$4) -> 6 | F82: =LOOKUP(V82,$A$3:$Y$3,$A$4:$Y$4) -> 8 | G82: =LOOKUP(W82,$A$3:$Y$3,$A$4:$Y$4) -> 9 | H82: =LOOKUP(X82,$A$3:$Y$3,$A$4:$Y$4) -> 10 | ... O82: =LOOKUP(AE82,$A$3:$Y$3,$A$4:$Y$4) -> 22 | Q82: 1 | R82: 2 | S82: 3 | T82: 4 | U82: 6 | V82: 8 | W82: 9 | X82: 10 | Y82: 11 | Z82: 12 | AA82: 13 | AB82: 14 | AC82: 15 | AD82: 16 | AE82: 17 | BM82: =LOOKUP(CC82,$A$3:$Y$3,$A$4:$AE$4) -> 1 | BN82: =LOOKUP(CD82,$A$3:$Y$3,$A$4:$AE$4) -> 2 | BO82: =LOOKUP(CE82,$A$3:$Y$3,$A$4:$AE$4) -> 3 | BP82: =LOOKUP(CF82,$A$3:$Y$3,$A$4:$AE$4) -> 4 | BQ82: =LOOKUP(CG82,$A$3:$Y$3,$A$4:$AE$4) -> 6 | BR82: =LOOKUP(CH82,$A$3:$Y$3,$A$4:$AE$4) -> 7 | BS82: =LOOKUP(CI82,$A$3:$Y$3,$A$4:$AE$4) -> 8 | BT82: =LOOKUP(CJ82,$A$3:$Y$3,$A$4:$AE$4) -> 11 | ... CA82: =LOOKUP(CQ82,$A$3:$Y$3,$A$4:$AE$4) -> 20 | CC82: 1 | CD82: 2 | CE82: 3 | CF82: 4 | CG82: 6 | CH82: 7 | CI82: 8 | CJ82: 11 | CK82: 12 | CL82: 14 | CM82: 15 | CN82: 16 | CO82: 17 | CP82: 18 | CQ82: 19
A83: =LOOKUP(Q83,$A$3:$Y$3,$A$4:$Y$4) -> 1 | B83: =LOOKUP(R83,$A$3:$Y$3,$A$4:$Y$4) -> 2 | C83: =LOOKUP(S83,$A$3:$Y$3,$A$4:$Y$4) -> 3 | D83: =LOOKUP(T83,$A$3:$Y$3,$A$4:$Y$4) -> 4 | E83: =LOOKUP(U83,$A$3:$Y$3,$A$4:$Y$4) -> 5 | F83: =LOOKUP(V83,$A$3:$Y$3,$A$4:$Y$4) -> 6 | G83: =LOOKUP(W83,$A$3:$Y$3,$A$4:$Y$4) -> 7 | H83: =LOOKUP(X83,$A$3:$Y$3,$A$4:$Y$4) -> 8 | ... O83: =LOOKUP(AE83,$A$3:$Y$3,$A$4:$Y$4) -> 22 | Q83: 1 | R83: 2 | S83: 3 | T83: 4 | U83: 5 | V83: 6 | W83: 7 | X83: 8 | Y83: 10 | Z83: 12 | AA83: 13 | AB83: 14 | AC83: 15 | AD83: 16 | AE83: 17 | BM83: =LOOKUP(CC83,$A$3:$Y$3,$A$4:$AE$4) -> 1 | BN83: =LOOKUP(CD83,$A$3:$Y$3,$A$4:$AE$4) -> 2 | BO83: =LOOKUP(CE83,$A$3:$Y$3,$A$4:$AE$4) -> 4 | BP83: =LOOKUP(CF83,$A$3:$Y$3,$A$4:$AE$4) -> 8 | BQ83: =LOOKUP(CG83,$A$3:$Y$3,$A$4:$AE$4) -> 9 | BR83: =LOOKUP(CH83,$A$3:$Y$3,$A$4:$AE$4) -> 10 | BS83: =LOOKUP(CI83,$A$3:$Y$3,$A$4:$AE$4) -> 11 | BT83: =LOOKUP(CJ83,$A$3:$Y$3,$A$4:$AE$4) -> 12 | ... CA83: =LOOKUP(CQ83,$A$3:$Y$3,$A$4:$AE$4) -> 20 | CC83: 1 | CD83: 2 | CE83: 4 | CF83: 8 | CG83: 9 | CH83: 10 | CI83: 11 | CJ83: 12 | CK83: 13 | CL83: 14 | CM83: 15 | CN83: 16 | CO83: 17 | CP83: 18 | CQ83: 19
BM84: =LOOKUP(CC84,$A$3:$Y$3,$A$4:$AE$4) -> 1 | BN84: =LOOKUP(CD84,$A$3:$Y$3,$A$4:$AE$4) -> 2 | BO84: =LOOKUP(CE84,$A$3:$Y$3,$A$4:$AE$4) -> 5 | BP84: =LOOKUP(CF84,$A$3:$Y$3,$A$4:$AE$4) -> 6 | BQ84: =LOOKUP(CG84,$A$3:$Y$3,$A$4:$AE$4) -> 7 | BR84: =LOOKUP(CH84,$A$3:$Y$3,$A$4:$AE$4) -> 8 | BS84: =LOOKUP(CI84,$A$3:$Y$3,$A$4:$AE$4) -> 9 | BT84: =LOOKUP(CJ84,$A$3:$Y$3,$A$4:$AE$4) -> 10 | ... CA84: =LOOKUP(CQ84,$A$3:$Y$3,$A$4:$AE$4) -> 20 | CC84: 1 | CD84: 2 | CE84: 5 | CF84: 6 | CG84: 7 | CH84: 8 | CI84: 9 | CJ84: 10 | CK84: 11 | CL84: 13 | CM84: 14 | CN84: 15 | CO84: 16 | CP84: 18 | CQ84: 19
BM85: =LOOKUP(CC85,$A$3:$Y$3,$A$4:$AE$4) -> 1 | BN85: =LOOKUP(CD85,$A$3:$Y$3,$A$4:$AE$4) -> 3 | BO85: =LOOKUP(CE85,$A$3:$Y$3,$A$4:$AE$4) -> 4 | BP85: =LOOKUP(CF85,$A$3:$Y$3,$A$4:$AE$4) -> 5 | BQ85: =LOOKUP(CG85,$A$3:$Y$3,$A$4:$AE$4) -> 7 | BR85: =LOOKUP(CH85,$A$3:$Y$3,$A$4:$AE$4) -> 8 | BS85: =LOOKUP(CI85,$A$3:$Y$3,$A$4:$AE$4) -> 9 | BT85: =LOOKUP(CJ85,$A$3:$Y$3,$A$4:$AE$4) -> 10 | ... CA85: =LOOKUP(CQ85,$A$3:$Y$3,$A$4:$AE$4) -> 20 | CC85: 1 | CD85: 3 | CE85: 4 | CF85: 5 | CG85: 7 | CH85: 8 | CI85: 9 | CJ85: 10 | CK85: 11 | CL85: 12 | CM85: 13 | CN85: 14 | CO85: 17 | CP85: 18 | CQ85: 19
A86: =SMALL($A9:$O9,A$3) -> 2 | B86: =SMALL($A9:$O9,B$3) -> 5 | C86: =SMALL($A9:$O9,C$3) -> 6 | D86: =SMALL($A9:$O9,D$3) -> 7 | E86: =SMALL($A9:$O9,E$3) -> 8 | F86: =SMALL($A9:$O9,F$3) -> 10 | G86: =SMALL($A9:$O9,G$3) -> 11 | H86: =SMALL($A9:$O9,H$3) -> 12 | ... O86: =SMALL($A9:$O9,O$3) -> 22 | R86: 1 | AG86: =LOOKUP(AW86,$A$3:$S$3,$A$4:$S$4) -> 1 | AH86: =LOOKUP(AX86,$A$3:$S$3,$A$4:$S$4) -> 4 | AI86: =LOOKUP(AY86,$A$3:$S$3,$A$4:$S$4) -> 5 | AJ86: =LOOKUP(AZ86,$A$3:$S$3,$A$4:$S$4) -> 6 | AK86: =LOOKUP(BA86,$A$3:$S$3,$A$4:$S$4) -> 7 | AL86: =LOOKUP(BB86,$A$3:$S$3,$A$4:$S$4) -> 8 | AM86: =LOOKUP(BC86,$A$3:$S$3,$A$4:$S$4) -> 10 | AN86: =LOOKUP(BD86,$A$3:$S$3,$A$4:$S$4) -> 11 | ... AU86: =LOOKUP(BK86,$A$3:$S$3,$A$4:$S$4) -> 20 | AW86: 1 | AX86: 4 | AY86: 5 | AZ86: 6 | BA86: 7 | BB86: 8 | BC86: 10 | BD86: 11 | BE86: 12 | BF86: 13 | BG86: 14 | BH86: 16 | BI86: 17 | BJ86: 18 | BK86: 19 | BM86: =LOOKUP(CC86,$A$3:$Y$3,$A$4:$AE$4) -> 1 | BN86: =LOOKUP(CD86,$A$3:$Y$3,$A$4:$AE$4) -> 3 | BO86: =LOOKUP(CE86,$A$3:$Y$3,$A$4:$AE$4) -> 4 | BP86: =LOOKUP(CF86,$A$3:$Y$3,$A$4:$AE$4) -> 7 | BQ86: =LOOKUP(CG86,$A$3:$Y$3,$A$4:$AE$4) -> 8 | BR86: =LOOKUP(CH86,$A$3:$Y$3,$A$4:$AE$4) -> 9 | BS86: =LOOKUP(CI86,$A$3:$Y$3,$A$4:$AE$4) -> 10 | BT86: =LOOKUP(CJ86,$A$3:$Y$3,$A$4:$AE$4) -> 11 | ... CA86: =LOOKUP(CQ86,$A$3:$Y$3,$A$4:$AE$4) -> 20 | CC86: 1 | CD86: 3 | CE86: 4 | CF86: 7 | CG86: 8 | CH86: 9 | CI86: 10 | CJ86: 11 | CK86: 12 | CL86: 14 | CM86: 15 | CN86: 16 | CO86: 17 | CP86: 18 | CQ86: 19
A87: =SMALL($A10:$O10,A$3) -> 3 | B87: =SMALL($A10:$O10,B$3) -> 4 | C87: =SMALL($A10:$O10,C$3) -> 5 | D87: =SMALL($A10:$O10,D$3) -> 7 | E87: =SMALL($A10:$O10,E$3) -> 8 | F87: =SMALL($A10:$O10,F$3) -> 10 | G87: =SMALL($A10:$O10,G$3) -> 11 | H87: =SMALL($A10:$O10,H$3) -> 12 | ... O87: =SMALL($A10:$O10,O$3) -> 22 | R87: 2 | AG87: =LOOKUP(AW87,$A$3:$S$3,$A$4:$S$4) -> 1 | AH87: =LOOKUP(AX87,$A$3:$S$3,$A$4:$S$4) -> 3 | AI87: =LOOKUP(AY87,$A$3:$S$3,$A$4:$S$4) -> 4 | AJ87: =LOOKUP(AZ87,$A$3:$S$3,$A$4:$S$4) -> 5 | AK87: =LOOKUP(BA87,$A$3:$S$3,$A$4:$S$4) -> 9 | AL87: =LOOKUP(BB87,$A$3:$S$3,$A$4:$S$4) -> 10 | AM87: =LOOKUP(BC87,$A$3:$S$3,$A$4:$S$4) -> 11 | AN87: =LOOKUP(BD87,$A$3:$S$3,$A$4:$S$4) -> 12 | ... AU87: =LOOKUP(BK87,$A$3:$S$3,$A$4:$S$4) -> 20 | AW87: 1 | AX87: 3 | AY87: 4 | AZ87: 5 | BA87: 9 | BB87: 10 | BC87: 11 | BD87: 12 | BE87: 13 | BF87: 14 | BG87: 15 | BH87: 16 | BI87: 17 | BJ87: 18 | BK87: 19 | BM87: =LOOKUP(CC87,$A$3:$Y$3,$A$4:$AE$4) -> 1 | BN87: =LOOKUP(CD87,$A$3:$Y$3,$A$4:$AE$4) -> 2 | BO87: =LOOKUP(CE87,$A$3:$Y$3,$A$4:$AE$4) -> 4 | BP87: =LOOKUP(CF87,$A$3:$Y$3,$A$4:$AE$4) -> 5 | BQ87: =LOOKUP(CG87,$A$3:$Y$3,$A$4:$AE$4) -> 7 | BR87: =LOOKUP(CH87,$A$3:$Y$3,$A$4:$AE$4) -> 8 | BS87: =LOOKUP(CI87,$A$3:$Y$3,$A$4:$AE$4) -> 9 | BT87: =LOOKUP(CJ87,$A$3:$Y$3,$A$4:$AE$4) -> 10 | ... CA87: =LOOKUP(CQ87,$A$3:$Y$3,$A$4:$AE$4) -> 20 | CC87: 1 | CD87: 2 | CE87: 4 | CF87: 5 | CG87: 7 | CH87: 8 | CI87: 9 | CJ87: 10 | CK87: 11 | CL87: 12 | CM87: 15 | CN87: 16 | CO87: 17 | CP87: 18 | CQ87: 19
A88: =SMALL($A11:$O11,A$3) -> 1 | B88: =SMALL($A11:$O11,B$3) -> 2 | C88: =SMALL($A11:$O11,C$3) -> 3 | D88: =SMALL($A11:$O11,D$3) -> 5 | E88: =SMALL($A11:$O11,E$3) -> 6 | F88: =SMALL($A11:$O11,F$3) -> 10 | G88: =SMALL($A11:$O11,G$3) -> 11 | H88: =SMALL($A11:$O11,H$3) -> 12 | ... O88: =SMALL($A11:$O11,O$3) -> 22 | R88: 3 | AG88: =LOOKUP(AW88,$A$3:$S$3,$A$4:$S$4) -> 1 | AH88: =LOOKUP(AX88,$A$3:$S$3,$A$4:$S$4) -> 2 | AI88: =LOOKUP(AY88,$A$3:$S$3,$A$4:$S$4) -> 3 | AJ88: =LOOKUP(AZ88,$A$3:$S$3,$A$4:$S$4) -> 5 | AK88: =LOOKUP(BA88,$A$3:$S$3,$A$4:$S$4) -> 7 | AL88: =LOOKUP(BB88,$A$3:$S$3,$A$4:$S$4) -> 8 | AM88: =LOOKUP(BC88,$A$3:$S$3,$A$4:$S$4) -> 9 | AN88: =LOOKUP(BD88,$A$3:$S$3,$A$4:$S$4) -> 11 | ... AU88: =LOOKUP(BK88,$A$3:$S$3,$A$4:$S$4) -> 20 | AW88: 1 | AX88: 2 | AY88: 3 | AZ88: 5 | BA88: 7 | BB88: 8 | BC88: 9 | BD88: 11 | BE88: 12 | BF88: 13 | BG88: 14 | BH88: 15 | BI88: 16 | BJ88: 17 | BK88: 19 | BM88: =LOOKUP(CC88,$A$3:$Y$3,$A$4:$AE$4) -> 1 | BN88: =LOOKUP(CD88,$A$3:$Y$3,$A$4:$AE$4) -> 2 | BO88: =LOOKUP(CE88,$A$3:$Y$3,$A$4:$AE$4) -> 3 | BP88: =LOOKUP(CF88,$A$3:$Y$3,$A$4:$AE$4) -> 5 | BQ88: =LOOKUP(CG88,$A$3:$Y$3,$A$4:$AE$4) -> 7 | BR88: =LOOKUP(CH88,$A$3:$Y$3,$A$4:$AE$4) -> 8 | BS88: =LOOKUP(CI88,$A$3:$Y$3,$A$4:$AE$4) -> 9 | BT88: =LOOKUP(CJ88,$A$3:$Y$3,$A$4:$AE$4) -> 10 | ... CA88: =LOOKUP(CQ88,$A$3:$Y$3,$A$4:$AE$4) -> 20 | CC88: 1 | CD88: 2 | CE88: 3 | CF88: 5 | CG88: 7 | CH88: 8 | CI88: 9 | CJ88: 10 | CK88: 11 | CL88: 12 | CM88: 13 | CN88: 14 | CO88: 15 | CP88: 18 | CQ88: 19
A89: =SMALL($A12:$O12,A$3) -> 3 | B89: =SMALL($A12:$O12,B$3) -> 4 | C89: =SMALL($A12:$O12,C$3) -> 5 | D89: =SMALL($A12:$O12,D$3) -> 7 | E89: =SMALL($A12:$O12,E$3) -> 8 | F89: =SMALL($A12:$O12,F$3) -> 9 | G89: =SMALL($A12:$O12,G$3) -> 11 | H89: =SMALL($A12:$O12,H$3) -> 12 | ... O89: =SMALL($A12:$O12,O$3) -> 22 | R89: 4 | AG89: =LOOKUP(AW89,$A$3:$S$3,$A$4:$S$4) -> 1 | AH89: =LOOKUP(AX89,$A$3:$S$3,$A$4:$S$4) -> 2 | AI89: =LOOKUP(AY89,$A$3:$S$3,$A$4:$S$4) -> 3 | AJ89: =LOOKUP(AZ89,$A$3:$S$3,$A$4:$S$4) -> 5 | AK89: =LOOKUP(BA89,$A$3:$S$3,$A$4:$S$4) -> 6 | AL89: =LOOKUP(BB89,$A$3:$S$3,$A$4:$S$4) -> 9 | AM89: =LOOKUP(BC89,$A$3:$S$3,$A$4:$S$4) -> 10 | AN89: =LOOKUP(BD89,$A$3:$S$3,$A$4:$S$4) -> 11 | ... AU89: =LOOKUP(BK89,$A$3:$S$3,$A$4:$S$4) -> 20 | AW89: 1 | AX89: 2 | AY89: 3 | AZ89: 5 | BA89: 6 | BB89: 9 | BC89: 10 | BD89: 11 | BE89: 13 | BF89: 14 | BG89: 15 | BH89: 16 | BI89: 17 | BJ89: 18 | BK89: 19 | BM89: =LOOKUP(CC89,$A$3:$Y$3,$A$4:$AE$4) -> 1 | BN89: =LOOKUP(CD89,$A$3:$Y$3,$A$4:$AE$4) -> 2 | BO89: =LOOKUP(CE89,$A$3:$Y$3,$A$4:$AE$4) -> 3 | BP89: =LOOKUP(CF89,$A$3:$Y$3,$A$4:$AE$4) -> 4 | BQ89: =LOOKUP(CG89,$A$3:$Y$3,$A$4:$AE$4) -> 5 | BR89: =LOOKUP(CH89,$A$3:$Y$3,$A$4:$AE$4) -> 7 | BS89: =LOOKUP(CI89,$A$3:$Y$3,$A$4:$AE$4) -> 8 | BT89: =LOOKUP(CJ89,$A$3:$Y$3,$A$4:$AE$4) -> 9 | ... CA89: =LOOKUP(CQ89,$A$3:$Y$3,$A$4:$AE$4) -> 20 | CC89: 1 | CD89: 2 | CE89: 3 | CF89: 4 | CG89: 5 | CH89: 7 | CI89: 8 | CJ89: 9 | CK89: 10 | CL89: 11 | CM89: 12 | CN89: 14 | CO89: 16 | CP89: 17 | CQ89: 19
A90: =SMALL($A13:$O13,A$3) -> 1 | B90: =SMALL($A13:$O13,B$3) -> 2 | C90: =SMALL($A13:$O13,C$3) -> 3 | D90: =SMALL($A13:$O13,D$3) -> 4 | E90: =SMALL($A13:$O13,E$3) -> 8 | F90: =SMALL($A13:$O13,F$3) -> 9 | G90: =SMALL($A13:$O13,G$3) -> 10 | H90: =SMALL($A13:$O13,H$3) -> 12 | ... O90: =SMALL($A13:$O13,O$3) -> 22 | R90: 5 | AG90: =LOOKUP(AW90,$A$3:$S$3,$A$4:$S$4) -> 1 | AH90: =LOOKUP(AX90,$A$3:$S$3,$A$4:$S$4) -> 2 | AI90: =LOOKUP(AY90,$A$3:$S$3,$A$4:$S$4) -> 3 | AJ90: =LOOKUP(AZ90,$A$3:$S$3,$A$4:$S$4) -> 4 | AK90: =LOOKUP(BA90,$A$3:$S$3,$A$4:$S$4) -> 6 | AL90: =LOOKUP(BB90,$A$3:$S$3,$A$4:$S$4) -> 7 | AM90: =LOOKUP(BC90,$A$3:$S$3,$A$4:$S$4) -> 8 | AN90: =LOOKUP(BD90,$A$3:$S$3,$A$4:$S$4) -> 9 | ... AU90: =LOOKUP(BK90,$A$3:$S$3,$A$4:$S$4) -> 20 | AW90: 1 | AX90: 2 | AY90: 3 | AZ90: 4 | BA90: 6 | BB90: 7 | BC90: 8 | BD90: 9 | BE90: 10 | BF90: 12 | BG90: 14 | BH90: 15 | BI90: 17 | BJ90: 18 | BK90: 19 | BM90: =LOOKUP(CC90,$A$3:$Y$3,$A$4:$AE$4) -> 1 | BN90: =LOOKUP(CD90,$A$3:$Y$3,$A$4:$AE$4) -> 2 | BO90: =LOOKUP(CE90,$A$3:$Y$3,$A$4:$AE$4) -> 3 | BP90: =LOOKUP(CF90,$A$3:$Y$3,$A$4:$AE$4) -> 4 | BQ90: =LOOKUP(CG90,$A$3:$Y$3,$A$4:$AE$4) -> 6 | BR90: =LOOKUP(CH90,$A$3:$Y$3,$A$4:$AE$4) -> 8 | BS90: =LOOKUP(CI90,$A$3:$Y$3,$A$4:$AE$4) -> 9 | BT90: =LOOKUP(CJ90,$A$3:$Y$3,$A$4:$AE$4) -> 11 | ... CA90: =LOOKUP(CQ90,$A$3:$Y$3,$A$4:$AE$4) -> 20 | CC90: 1 | CD90: 2 | CE90: 3 | CF90: 4 | CG90: 6 | CH90: 8 | CI90: 9 | CJ90: 11 | CK90: 12 | CL90: 14 | CM90: 15 | CN90: 16 | CO90: 17 | CP90: 18 | CQ90: 19
A91: =SMALL($A14:$O14,A$3) -> 1 | B91: =SMALL($A14:$O14,B$3) -> 2 | C91: =SMALL($A14:$O14,C$3) -> 5 | D91: =SMALL($A14:$O14,D$3) -> 6 | E91: =SMALL($A14:$O14,E$3) -> 7 | F91: =SMALL($A14:$O14,F$3) -> 9 | G91: =SMALL($A14:$O14,G$3) -> 10 | H91: =SMALL($A14:$O14,H$3) -> 12 | ... O91: =SMALL($A14:$O14,O$3) -> 22 | R91: 6 | AG91: =LOOKUP(AW91,$A$3:$S$3,$A$4:$S$4) -> 1 | AH91: =LOOKUP(AX91,$A$3:$S$3,$A$4:$S$4) -> 2 | AI91: =LOOKUP(AY91,$A$3:$S$3,$A$4:$S$4) -> 3 | AJ91: =LOOKUP(AZ91,$A$3:$S$3,$A$4:$S$4) -> 4 | AK91: =LOOKUP(BA91,$A$3:$S$3,$A$4:$S$4) -> 6 | AL91: =LOOKUP(BB91,$A$3:$S$3,$A$4:$S$4) -> 7 | AM91: =LOOKUP(BC91,$A$3:$S$3,$A$4:$S$4) -> 8 | AN91: =LOOKUP(BD91,$A$3:$S$3,$A$4:$S$4) -> 9 | ... AU91: =LOOKUP(BK91,$A$3:$S$3,$A$4:$S$4) -> 21 | AW91: 1 | AX91: 2 | AY91: 3 | AZ91: 4 | BA91: 6 | BB91: 7 | BC91: 8 | BD91: 9 | BE91: 10 | BF91: 11 | BG91: 12 | BH91: 13 | BI91: 15 | BJ91: 17 | BK91: 18 | BM91: =LOOKUP(CC91,$A$3:$Y$3,$A$4:$AE$4) -> 1 | BN91: =LOOKUP(CD91,$A$3:$Y$3,$A$4:$AE$4) -> 3 | BO91: =LOOKUP(CE91,$A$3:$Y$3,$A$4:$AE$4) -> 5 | BP91: =LOOKUP(CF91,$A$3:$Y$3,$A$4:$AE$4) -> 6 | BQ91: =LOOKUP(CG91,$A$3:$Y$3,$A$4:$AE$4) -> 7 | BR91: =LOOKUP(CH91,$A$3:$Y$3,$A$4:$AE$4) -> 8 | BS91: =LOOKUP(CI91,$A$3:$Y$3,$A$4:$AE$4) -> 10 | BT91: =LOOKUP(CJ91,$A$3:$Y$3,$A$4:$AE$4) -> 11 | ... CA91: =LOOKUP(CQ91,$A$3:$Y$3,$A$4:$AE$4) -> 20 | CC91: 1 | CD91: 3 | CE91: 5 | CF91: 6 | CG91: 7 | CH91: 8 | CI91: 10 | CJ91: 11 | CK91: 12 | CL91: 13 | CM91: 15 | CN91: 16 | CO91: 17 | CP91: 18 | CQ91: 19
A92: =SMALL($A15:$O15,A$3) -> 1 | B92: =SMALL($A15:$O15,B$3) -> 2 | C92: =SMALL($A15:$O15,C$3) -> 3 | D92: =SMALL($A15:$O15,D$3) -> 4 | E92: =SMALL($A15:$O15,E$3) -> 5 | F92: =SMALL($A15:$O15,F$3) -> 6 | G92: =SMALL($A15:$O15,G$3) -> 8 | H92: =SMALL($A15:$O15,H$3) -> 11 | ... O92: =SMALL($A15:$O15,O$3) -> 22 | R92: 7 | AG92: =LOOKUP(AW92,$A$3:$S$3,$A$4:$S$4) -> 1 | AH92: =LOOKUP(AX92,$A$3:$S$3,$A$4:$S$4) -> 2 | AI92: =LOOKUP(AY92,$A$3:$S$3,$A$4:$S$4) -> 3 | AJ92: =LOOKUP(AZ92,$A$3:$S$3,$A$4:$S$4) -> 4 | AK92: =LOOKUP(BA92,$A$3:$S$3,$A$4:$S$4) -> 5 | AL92: =LOOKUP(BB92,$A$3:$S$3,$A$4:$S$4) -> 7 | AM92: =LOOKUP(BC92,$A$3:$S$3,$A$4:$S$4) -> 8 | AN92: =LOOKUP(BD92,$A$3:$S$3,$A$4:$S$4) -> 9 | ... AU92: =LOOKUP(BK92,$A$3:$S$3,$A$4:$S$4) -> 20 | AW92: 1 | AX92: 2 | AY92: 3 | AZ92: 4 | BA92: 5 | BB92: 7 | BC92: 8 | BD92: 9 | BE92: 11 | BF92: 13 | BG92: 14 | BH92: 15 | BI92: 16 | BJ92: 17 | BK92: 19 | BM92: =LOOKUP(CC92,$A$3:$Y$3,$A$4:$AE$4) -> 1 | BN92: =LOOKUP(CD92,$A$3:$Y$3,$A$4:$AE$4) -> 2 | BO92: =LOOKUP(CE92,$A$3:$Y$3,$A$4:$AE$4) -> 3 | BP92: =LOOKUP(CF92,$A$3:$Y$3,$A$4:$AE$4) -> 4 | BQ92: =LOOKUP(CG92,$A$3:$Y$3,$A$4:$AE$4) -> 6 | BR92: =LOOKUP(CH92,$A$3:$Y$3,$A$4:$AE$4) -> 7 | BS92: =LOOKUP(CI92,$A$3:$Y$3,$A$4:$AE$4) -> 8 | BT92: =LOOKUP(CJ92,$A$3:$Y$3,$A$4:$AE$4) -> 9 | ... CA92: =LOOKUP(CQ92,$A$3:$Y$3,$A$4:$AE$4) -> 20 | CC92: 1 | CD92: 2 | CE92: 3 | CF92: 4 | CG92: 6 | CH92: 7 | CI92: 8 | CJ92: 9 | CK92: 10 | CL92: 12 | CM92: 13 | CN92: 14 | CO92: 15 | CP92: 18 | CQ92: 19
A93: =SMALL($A16:$O16,A$3) -> 2 | B93: =SMALL($A16:$O16,B$3) -> 4 | C93: =SMALL($A16:$O16,C$3) -> 5 | D93: =SMALL($A16:$O16,D$3) -> 6 | E93: =SMALL($A16:$O16,E$3) -> 7 | F93: =SMALL($A16:$O16,F$3) -> 8 | G93: =SMALL($A16:$O16,G$3) -> 9 | H93: =SMALL($A16:$O16,H$3) -> 10 | ... O93: =SMALL($A16:$O16,O$3) -> 22 | R93: 8 | AG93: =LOOKUP(AW93,$A$3:$S$3,$A$4:$S$4) -> 1 | AH93: =LOOKUP(AX93,$A$3:$S$3,$A$4:$S$4) -> 2 | AI93: =LOOKUP(AY93,$A$3:$S$3,$A$4:$S$4) -> 3 | AJ93: =LOOKUP(AZ93,$A$3:$S$3,$A$4:$S$4) -> 4 | AK93: =LOOKUP(BA93,$A$3:$S$3,$A$4:$S$4) -> 5 | AL93: =LOOKUP(BB93,$A$3:$S$3,$A$4:$S$4) -> 6 | AM93: =LOOKUP(BC93,$A$3:$S$3,$A$4:$S$4) -> 9 | AN93: =LOOKUP(BD93,$A$3:$S$3,$A$4:$S$4) -> 11 | ... AU93: =LOOKUP(BK93,$A$3:$S$3,$A$4:$S$4) -> 20 | AW93: 1 | AX93: 2 | AY93: 3 | AZ93: 4 | BA93: 5 | BB93: 6 | BC93: 9 | BD93: 11 | BE93: 12 | BF93: 13 | BG93: 14 | BH93: 15 | BI93: 16 | BJ93: 17 | BK93: 19 | BM93: =LOOKUP(CC93,$A$3:$Y$3,$A$4:$AE$4) -> 1 | BN93: =LOOKUP(CD93,$A$3:$Y$3,$A$4:$AE$4) -> 2 | BO93: =LOOKUP(CE93,$A$3:$Y$3,$A$4:$AE$4) -> 3 | BP93: =LOOKUP(CF93,$A$3:$Y$3,$A$4:$AE$4) -> 6 | BQ93: =LOOKUP(CG93,$A$3:$Y$3,$A$4:$AE$4) -> 8 | BR93: =LOOKUP(CH93,$A$3:$Y$3,$A$4:$AE$4) -> 9 | BS93: =LOOKUP(CI93,$A$3:$Y$3,$A$4:$AE$4) -> 10 | BT93: =LOOKUP(CJ93,$A$3:$Y$3,$A$4:$AE$4) -> 11 | ... CA93: =LOOKUP(CQ93,$A$3:$Y$3,$A$4:$AE$4) -> 20 | CC93: 1 | CD93: 2 | CE93: 3 | CF93: 6 | CG93: 8 | CH93: 9 | CI93: 10 | CJ93: 11 | CK93: 13 | CL93: 14 | CM93: 15 | CN93: 16 | CO93: 17 | CP93: 18 | CQ93: 19
A94: =SMALL($A17:$O17,A$3) -> 1 | B94: =SMALL($A17:$O17,B$3) -> 3 | C94: =SMALL($A17:$O17,C$3) -> 4 | D94: =SMALL($A17:$O17,D$3) -> 6 | E94: =SMALL($A17:$O17,E$3) -> 7 | F94: =SMALL($A17:$O17,F$3) -> 8 | G94: =SMALL($A17:$O17,G$3) -> 9 | H94: =SMALL($A17:$O17,H$3) -> 10 | ... O94: =SMALL($A17:$O17,O$3) -> 22 | R94: 9 | AG94: =LOOKUP(AW94,$A$3:$S$3,$A$4:$S$4) -> 1 | AH94: =LOOKUP(AX94,$A$3:$S$3,$A$4:$S$4) -> 2 | AI94: =LOOKUP(AY94,$A$3:$S$3,$A$4:$S$4) -> 3 | AJ94: =LOOKUP(AZ94,$A$3:$S$3,$A$4:$S$4) -> 4 | AK94: =LOOKUP(BA94,$A$3:$S$3,$A$4:$S$4) -> 5 | AL94: =LOOKUP(BB94,$A$3:$S$3,$A$4:$S$4) -> 6 | AM94: =LOOKUP(BC94,$A$3:$S$3,$A$4:$S$4) -> 7 | AN94: =LOOKUP(BD94,$A$3:$S$3,$A$4:$S$4) -> 8 | ... AU94: =LOOKUP(BK94,$A$3:$S$3,$A$4:$S$4) -> 21 | AW94: 1 | AX94: 2 | AY94: 3 | AZ94: 4 | BA94: 5 | BB94: 6 | BC94: 7 | BD94: 8 | BE94: 9 | BF94: 10 | BG94: 12 | BH94: 15 | BI94: 16 | BJ94: 17 | BK94: 18 | BM94: =LOOKUP(CC94,$A$3:$Y$3,$A$4:$AE$4) -> 1 | BN94: =LOOKUP(CD94,$A$3:$Y$3,$A$4:$AE$4) -> 2 | BO94: =LOOKUP(CE94,$A$3:$Y$3,$A$4:$AE$4) -> 4 | BP94: =LOOKUP(CF94,$A$3:$Y$3,$A$4:$AE$4) -> 5 | BQ94: =LOOKUP(CG94,$A$3:$Y$3,$A$4:$AE$4) -> 6 | BR94: =LOOKUP(CH94,$A$3:$Y$3,$A$4:$AE$4) -> 7 | BS94: =LOOKUP(CI94,$A$3:$Y$3,$A$4:$AE$4) -> 9 | BT94: =LOOKUP(CJ94,$A$3:$Y$3,$A$4:$AE$4) -> 10 | ... CA94: =LOOKUP(CQ94,$A$3:$Y$3,$A$4:$AE$4) -> 20 | CC94: 1 | CD94: 2 | CE94: 4 | CF94: 5 | CG94: 6 | CH94: 7 | CI94: 9 | CJ94: 10 | CK94: 11 | CL94: 12 | CM94: 14 | CN94: 16 | CO94: 17 | CP94: 18 | CQ94: 19
A95: =SMALL($A18:$O18,A$3) -> 1 | B95: =SMALL($A18:$O18,B$3) -> 4 | C95: =SMALL($A18:$O18,C$3) -> 6 | D95: =SMALL($A18:$O18,D$3) -> 7 | E95: =SMALL($A18:$O18,E$3) -> 8 | F95: =SMALL($A18:$O18,F$3) -> 9 | G95: =SMALL($A18:$O18,G$3) -> 10 | H95: =SMALL($A18:$O18,H$3) -> 11 | ... O95: =SMALL($A18:$O18,O$3) -> 22 | R95: 10 | AG95: =LOOKUP(AW95,$A$3:$S$3,$A$4:$S$4) -> 2 | AH95: =LOOKUP(AX95,$A$3:$S$3,$A$4:$S$4) -> 4 | AI95: =LOOKUP(AY95,$A$3:$S$3,$A$4:$S$4) -> 5 | AJ95: =LOOKUP(AZ95,$A$3:$S$3,$A$4:$S$4) -> 6 | AK95: =LOOKUP(BA95,$A$3:$S$3,$A$4:$S$4) -> 7 | AL95: =LOOKUP(BB95,$A$3:$S$3,$A$4:$S$4) -> 8 | AM95: =LOOKUP(BC95,$A$3:$S$3,$A$4:$S$4) -> 10 | AN95: =LOOKUP(BD95,$A$3:$S$3,$A$4:$S$4) -> 11 | ... AU95: =LOOKUP(BK95,$A$3:$S$3,$A$4:$S$4) -> 20 | AW95: 2 | AX95: 4 | AY95: 5 | AZ95: 6 | BA95: 7 | BB95: 8 | BC95: 10 | BD95: 11 | BE95: 12 | BF95: 13 | BG95: 14 | BH95: 15 | BI95: 16 | BJ95: 18 | BK95: 19 | BM95: =LOOKUP(CC95,$A$3:$Y$3,$A$4:$AE$4) -> 1 | BN95: =LOOKUP(CD95,$A$3:$Y$3,$A$4:$AE$4) -> 3 | BO95: =LOOKUP(CE95,$A$3:$Y$3,$A$4:$AE$4) -> 4 | BP95: =LOOKUP(CF95,$A$3:$Y$3,$A$4:$AE$4) -> 5 | BQ95: =LOOKUP(CG95,$A$3:$Y$3,$A$4:$AE$4) -> 7 | BR95: =LOOKUP(CH95,$A$3:$Y$3,$A$4:$AE$4) -> 8 | BS95: =LOOKUP(CI95,$A$3:$Y$3,$A$4:$AE$4) -> 9 | BT95: =LOOKUP(CJ95,$A$3:$Y$3,$A$4:$AE$4) -> 11 | ... CA95: =LOOKUP(CQ95,$A$3:$Y$3,$A$4:$AE$4) -> 20 | CC95: 1 | CD95: 3 | CE95: 4 | CF95: 5 | CG95: 7 | CH95: 8 | CI95: 9 | CJ95: 11 | CK95: 12 | CL95: 13 | CM95: 15 | CN95: 16 | CO95: 17 | CP95: 18 | CQ95: 19
A96: =SMALL($A19:$O19,A$3) -> 1 | B96: =SMALL($A19:$O19,B$3) -> 2 | C96: =SMALL($A19:$O19,C$3) -> 3 | D96: =SMALL($A19:$O19,D$3) -> 6 | E96: =SMALL($A19:$O19,E$3) -> 8 | F96: =SMALL($A19:$O19,F$3) -> 9 | G96: =SMALL($A19:$O19,G$3) -> 10 | H96: =SMALL($A19:$O19,H$3) -> 11 | ... O96: =SMALL($A19:$O19,O$3) -> 22 | R96: 11 | AG96: =LOOKUP(AW96,$A$3:$S$3,$A$4:$S$4) -> 3 | AH96: =LOOKUP(AX96,$A$3:$S$3,$A$4:$S$4) -> 4 | AI96: =LOOKUP(AY96,$A$3:$S$3,$A$4:$S$4) -> 5 | AJ96: =LOOKUP(AZ96,$A$3:$S$3,$A$4:$S$4) -> 6 | AK96: =LOOKUP(BA96,$A$3:$S$3,$A$4:$S$4) -> 7 | AL96: =LOOKUP(BB96,$A$3:$S$3,$A$4:$S$4) -> 8 | AM96: =LOOKUP(BC96,$A$3:$S$3,$A$4:$S$4) -> 9 | AN96: =LOOKUP(BD96,$A$3:$S$3,$A$4:$S$4) -> 10 | ... AU96: =LOOKUP(BK96,$A$3:$S$3,$A$4:$S$4) -> 20 | AW96: 3 | AX96: 4 | AY96: 5 | AZ96: 6 | BA96: 7 | BB96: 8 | BC96: 9 | BD96: 10 | BE96: 11 | BF96: 12 | BG96: 13 | BH96: 14 | BI96: 16 | BJ96: 18 | BK96: 19 | BM96: =LOOKUP(CC96,$A$3:$Y$3,$A$4:$AE$4) -> 1 | BN96: =LOOKUP(CD96,$A$3:$Y$3,$A$4:$AE$4) -> 2 | BO96: =LOOKUP(CE96,$A$3:$Y$3,$A$4:$AE$4) -> 4 | BP96: =LOOKUP(CF96,$A$3:$Y$3,$A$4:$AE$4) -> 5 | BQ96: =LOOKUP(CG96,$A$3:$Y$3,$A$4:$AE$4) -> 7 | BR96: =LOOKUP(CH96,$A$3:$Y$3,$A$4:$AE$4) -> 8 | BS96: =LOOKUP(CI96,$A$3:$Y$3,$A$4:$AE$4) -> 9 | BT96: =LOOKUP(CJ96,$A$3:$Y$3,$A$4:$AE$4) -> 10 | ... CA96: =LOOKUP(CQ96,$A$3:$Y$3,$A$4:$AE$4) -> 20 | CC96: 1 | CD96: 2 | CE96: 4 | CF96: 5 | CG96: 7 | CH96: 8 | CI96: 9 | CJ96: 10 | CK96: 11 | CL96: 12 | CM96: 13 | CN96: 14 | CO96: 15 | CP96: 18 | CQ96: 19
A97: =SMALL($A20:$O20,A$3) -> 1 | B97: =SMALL($A20:$O20,B$3) -> 3 | C97: =SMALL($A20:$O20,C$3) -> 5 | D97: =SMALL($A20:$O20,D$3) -> 6 | E97: =SMALL($A20:$O20,E$3) -> 7 | F97: =SMALL($A20:$O20,F$3) -> 8 | G97: =SMALL($A20:$O20,G$3) -> 10 | H97: =SMALL($A20:$O20,H$3) -> 11 | ... O97: =SMALL($A20:$O20,O$3) -> 22 | R97: 12 | BM97: =LOOKUP(CC97,$A$3:$Y$3,$A$4:$AE$4) -> 1 | BN97: =LOOKUP(CD97,$A$3:$Y$3,$A$4:$AE$4) -> 2 | BO97: =LOOKUP(CE97,$A$3:$Y$3,$A$4:$AE$4) -> 3 | BP97: =LOOKUP(CF97,$A$3:$Y$3,$A$4:$AE$4) -> 4 | BQ97: =LOOKUP(CG97,$A$3:$Y$3,$A$4:$AE$4) -> 5 | BR97: =LOOKUP(CH97,$A$3:$Y$3,$A$4:$AE$4) -> 6 | BS97: =LOOKUP(CI97,$A$3:$Y$3,$A$4:$AE$4) -> 7 | BT97: =LOOKUP(CJ97,$A$3:$Y$3,$A$4:$AE$4) -> 9 | ... CA97: =LOOKUP(CQ97,$A$3:$Y$3,$A$4:$AE$4) -> 20 | CC97: 1 | CD97: 2 | CE97: 3 | CF97: 4 | CG97: 5 | CH97: 6 | CI97: 7 | CJ97: 9 | CK97: 10 | CL97: 12 | CM97: 13 | CN97: 14 | CO97: 15 | CP97: 17 | CQ97: 19
A98: =SMALL($A21:$O21,A$3) -> 2 | B98: =SMALL($A21:$O21,B$3) -> 3 | C98: =SMALL($A21:$O21,C$3) -> 4 | D98: =SMALL($A21:$O21,D$3) -> 5 | E98: =SMALL($A21:$O21,E$3) -> 6 | F98: =SMALL($A21:$O21,F$3) -> 8 | G98: =SMALL($A21:$O21,G$3) -> 9 | H98: =SMALL($A21:$O21,H$3) -> 10 | ... O98: =SMALL($A21:$O21,O$3) -> 22 | R98: 13 | BM98: =LOOKUP(CC98,$A$3:$Y$3,$A$4:$AE$4) -> 1 | BN98: =LOOKUP(CD98,$A$3:$Y$3,$A$4:$AE$4) -> 2 | BO98: =LOOKUP(CE98,$A$3:$Y$3,$A$4:$AE$4) -> 4 | BP98: =LOOKUP(CF98,$A$3:$Y$3,$A$4:$AE$4) -> 5 | BQ98: =LOOKUP(CG98,$A$3:$Y$3,$A$4:$AE$4) -> 6 | BR98: =LOOKUP(CH98,$A$3:$Y$3,$A$4:$AE$4) -> 7 | BS98: =LOOKUP(CI98,$A$3:$Y$3,$A$4:$AE$4) -> 10 | BT98: =LOOKUP(CJ98,$A$3:$Y$3,$A$4:$AE$4) -> 11 | ... CA98: =LOOKUP(CQ98,$A$3:$Y$3,$A$4:$AE$4) -> 20 | CC98: 1 | CD98: 2 | CE98: 4 | CF98: 5 | CG98: 6 | CH98: 7 | CI98: 10 | CJ98: 11 | CK98: 12 | CL98: 13 | CM98: 14 | CN98: 15 | CO98: 16 | CP98: 17 | CQ98: 19
A99: =SMALL($A22:$O22,A$3) -> 2 | B99: =SMALL($A22:$O22,B$3) -> 3 | C99: =SMALL($A22:$O22,C$3) -> 4 | D99: =SMALL($A22:$O22,D$3) -> 5 | E99: =SMALL($A22:$O22,E$3) -> 6 | F99: =SMALL($A22:$O22,F$3) -> 7 | G99: =SMALL($A22:$O22,G$3) -> 8 | H99: =SMALL($A22:$O22,H$3) -> 10 | ... O99: =SMALL($A22:$O22,O$3) -> 22 | R99: 14 | BM99: =LOOKUP(CC99,$A$3:$Y$3,$A$4:$AE$4) -> 1 | BN99: =LOOKUP(CD99,$A$3:$Y$3,$A$4:$AE$4) -> 2 | BO99: =LOOKUP(CE99,$A$3:$Y$3,$A$4:$AE$4) -> 3 | BP99: =LOOKUP(CF99,$A$3:$Y$3,$A$4:$AE$4) -> 4 | BQ99: =LOOKUP(CG99,$A$3:$Y$3,$A$4:$AE$4) -> 5 | BR99: =LOOKUP(CH99,$A$3:$Y$3,$A$4:$AE$4) -> 6 | BS99: =LOOKUP(CI99,$A$3:$Y$3,$A$4:$AE$4) -> 7 | BT99: =LOOKUP(CJ99,$A$3:$Y$3,$A$4:$AE$4) -> 8 | ... CA99: =LOOKUP(CQ99,$A$3:$Y$3,$A$4:$AE$4) -> 20 | CC99: 1 | CD99: 2 | CE99: 3 | CF99: 4 | CG99: 5 | CH99: 6 | CI99: 7 | CJ99: 8 | CK99: 10 | CL99: 11 | CM99: 13 | CN99: 14 | CO99: 17 | CP99: 18 | CQ99: 19
A100: =SMALL($A23:$O23,A$3) -> 1 | B100: =SMALL($A23:$O23,B$3) -> 2 | C100: =SMALL($A23:$O23,C$3) -> 3 | D100: =SMALL($A23:$O23,D$3) -> 5 | E100: =SMALL($A23:$O23,E$3) -> 6 | F100: =SMALL($A23:$O23,F$3) -> 7 | G100: =SMALL($A23:$O23,G$3) -> 8 | H100: =SMALL($A23:$O23,H$3) -> 9 | ... O100: =SMALL($A23:$O23,O$3) -> 22 | R100: 15 | AG100: =SMALL($AG86:$AU86,A$3) -> 1 | AH100: =SMALL($AG86:$AU86,B$3) -> 4 | AI100: =SMALL($AG86:$AU86,C$3) -> 5 | AJ100: =SMALL($AG86:$AU86,D$3) -> 6 | AK100: =SMALL($AG86:$AU86,E$3) -> 7 | AL100: =SMALL($AG86:$AU86,F$3) -> 8 | AM100: =SMALL($AG86:$AU86,G$3) -> 10 | AN100: =SMALL($AG86:$AU86,H$3) -> 11 | ... AU100: =SMALL($AG86:$AU86,O$3) -> 22 | AW100: 1 | BM100: =LOOKUP(CC100,$A$3:$Y$3,$A$4:$AE$4) -> 1 | BN100: =LOOKUP(CD100,$A$3:$Y$3,$A$4:$AE$4) -> 2 | BO100: =LOOKUP(CE100,$A$3:$Y$3,$A$4:$AE$4) -> 3 | BP100: =LOOKUP(CF100,$A$3:$Y$3,$A$4:$AE$4) -> 4 | BQ100: =LOOKUP(CG100,$A$3:$Y$3,$A$4:$AE$4) -> 5 | BR100: =LOOKUP(CH100,$A$3:$Y$3,$A$4:$AE$4) -> 7 | BS100: =LOOKUP(CI100,$A$3:$Y$3,$A$4:$AE$4) -> 9 | BT100: =LOOKUP(CJ100,$A$3:$Y$3,$A$4:$AE$4) -> 11 | ... CA100: =LOOKUP(CQ100,$A$3:$Y$3,$A$4:$AE$4) -> 20 | CC100: 1 | CD100: 2 | CE100: 3 | CF100: 4 | CG100: 5 | CH100: 7 | CI100: 9 | CJ100: 11 | CK100: 12 | CL100: 13 | CM100: 14 | CN100: 15 | CO100: 17 | CP100: 18 | CQ100: 19
A101: =SMALL($A24:$O24,A$3) -> 1 | B101: =SMALL($A24:$O24,B$3) -> 3 | C101: =SMALL($A24:$O24,C$3) -> 4 | D101: =SMALL($A24:$O24,D$3) -> 5 | E101: =SMALL($A24:$O24,E$3) -> 7 | F101: =SMALL($A24:$O24,F$3) -> 9 | G101: =SMALL($A24:$O24,G$3) -> 10 | H101: =SMALL($A24:$O24,H$3) -> 11 | ... O101: =SMALL($A24:$O24,O$3) -> 22 | R101: 16 | AG101: =SMALL($AG87:$AU87,A$3) -> 1 | AH101: =SMALL($AG87:$AU87,B$3) -> 3 | AI101: =SMALL($AG87:$AU87,C$3) -> 4 | AJ101: =SMALL($AG87:$AU87,D$3) -> 5 | AK101: =SMALL($AG87:$AU87,E$3) -> 9 | AL101: =SMALL($AG87:$AU87,F$3) -> 10 | AM101: =SMALL($AG87:$AU87,G$3) -> 11 | AN101: =SMALL($AG87:$AU87,H$3) -> 12 | ... AU101: =SMALL($AG87:$AU87,O$3) -> 22 | AW101: 2 | BM101: =LOOKUP(CC101,$A$3:$Y$3,$A$4:$AE$4) -> 1 | BN101: =LOOKUP(CD101,$A$3:$Y$3,$A$4:$AE$4) -> 6 | BO101: =LOOKUP(CE101,$A$3:$Y$3,$A$4:$AE$4) -> 7 | BP101: =LOOKUP(CF101,$A$3:$Y$3,$A$4:$AE$4) -> 8 | BQ101: =LOOKUP(CG101,$A$3:$Y$3,$A$4:$AE$4) -> 9 | BR101: =LOOKUP(CH101,$A$3:$Y$3,$A$4:$AE$4) -> 10 | BS101: =LOOKUP(CI101,$A$3:$Y$3,$A$4:$AE$4) -> 11 | BT101: =LOOKUP(CJ101,$A$3:$Y$3,$A$4:$AE$4) -> 12 | ... CA101: =LOOKUP(CQ101,$A$3:$Y$3,$A$4:$AE$4) -> 20 | CC101: 1 | CD101: 6 | CE101: 7 | CF101: 8 | CG101: 9 | CH101: 10 | CI101: 11 | CJ101: 12 | CK101: 13 | CL101: 14 | CM101: 15 | CN101: 16 | CO101: 17 | CP101: 18 | CQ101: 19
A102: =SMALL($A25:$O25,A$3) -> 1 | B102: =SMALL($A25:$O25,B$3) -> 4 | C102: =SMALL($A25:$O25,C$3) -> 5 | D102: =SMALL($A25:$O25,D$3) -> 6 | E102: =SMALL($A25:$O25,E$3) -> 7 | F102: =SMALL($A25:$O25,F$3) -> 8 | G102: =SMALL($A25:$O25,G$3) -> 9 | H102: =SMALL($A25:$O25,H$3) -> 11 | ... O102: =SMALL($A25:$O25,O$3) -> 22 | R102: 17 | AG102: =SMALL($AG88:$AU88,A$3) -> 1 | AH102: =SMALL($AG88:$AU88,B$3) -> 2 | AI102: =SMALL($AG88:$AU88,C$3) -> 3 | AJ102: =SMALL($AG88:$AU88,D$3) -> 5 | AK102: =SMALL($AG88:$AU88,E$3) -> 7 | AL102: =SMALL($AG88:$AU88,F$3) -> 8 | AM102: =SMALL($AG88:$AU88,G$3) -> 9 | AN102: =SMALL($AG88:$AU88,H$3) -> 11 | ... AU102: =SMALL($AG88:$AU88,O$3) -> 22 | AW102: 3 | BM102: =LOOKUP(CC102,$A$3:$Y$3,$A$4:$AE$4) -> 1 | BN102: =LOOKUP(CD102,$A$3:$Y$3,$A$4:$AE$4) -> 3 | BO102: =LOOKUP(CE102,$A$3:$Y$3,$A$4:$AE$4) -> 4 | BP102: =LOOKUP(CF102,$A$3:$Y$3,$A$4:$AE$4) -> 6 | BQ102: =LOOKUP(CG102,$A$3:$Y$3,$A$4:$AE$4) -> 8 | BR102: =LOOKUP(CH102,$A$3:$Y$3,$A$4:$AE$4) -> 9 | BS102: =LOOKUP(CI102,$A$3:$Y$3,$A$4:$AE$4) -> 10 | BT102: =LOOKUP(CJ102,$A$3:$Y$3,$A$4:$AE$4) -> 11 | ... CA102: =LOOKUP(CQ102,$A$3:$Y$3,$A$4:$AE$4) -> 20 | CC102: 1 | CD102: 3 | CE102: 4 | CF102: 6 | CG102: 8 | CH102: 9 | CI102: 10 | CJ102: 11 | CK102: 12 | CL102: 13 | CM102: 15 | CN102: 16 | CO102: 17 | CP102: 18 | CQ102: 19
A103: =SMALL($A26:$O26,A$3) -> 1 | B103: =SMALL($A26:$O26,B$3) -> 2 | C103: =SMALL($A26:$O26,C$3) -> 3 | D103: =SMALL($A26:$O26,D$3) -> 5 | E103: =SMALL($A26:$O26,E$3) -> 7 | F103: =SMALL($A26:$O26,F$3) -> 8 | G103: =SMALL($A26:$O26,G$3) -> 9 | H103: =SMALL($A26:$O26,H$3) -> 10 | ... O103: =SMALL($A26:$O26,O$3) -> 22 | R103: 18 | AG103: =SMALL($AG89:$AU89,A$3) -> 1 | AH103: =SMALL($AG89:$AU89,B$3) -> 2 | AI103: =SMALL($AG89:$AU89,C$3) -> 3 | AJ103: =SMALL($AG89:$AU89,D$3) -> 5 | AK103: =SMALL($AG89:$AU89,E$3) -> 6 | AL103: =SMALL($AG89:$AU89,F$3) -> 9 | AM103: =SMALL($AG89:$AU89,G$3) -> 10 | AN103: =SMALL($AG89:$AU89,H$3) -> 11 | ... AU103: =SMALL($AG89:$AU89,O$3) -> 22 | AW103: 4 | BM103: =LOOKUP(CC103,$A$3:$Y$3,$A$4:$AE$4) -> 1 | BN103: =LOOKUP(CD103,$A$3:$Y$3,$A$4:$AE$4) -> 2 | BO103: =LOOKUP(CE103,$A$3:$Y$3,$A$4:$AE$4) -> 3 | BP103: =LOOKUP(CF103,$A$3:$Y$3,$A$4:$AE$4) -> 4 | BQ103: =LOOKUP(CG103,$A$3:$Y$3,$A$4:$AE$4) -> 6 | BR103: =LOOKUP(CH103,$A$3:$Y$3,$A$4:$AE$4) -> 7 | BS103: =LOOKUP(CI103,$A$3:$Y$3,$A$4:$AE$4) -> 8 | BT103: =LOOKUP(CJ103,$A$3:$Y$3,$A$4:$AE$4) -> 9 | ... CA103: =LOOKUP(CQ103,$A$3:$Y$3,$A$4:$AE$4) -> 20 | CC103: 1 | CD103: 2 | CE103: 3 | CF103: 4 | CG103: 6 | CH103: 7 | CI103: 8 | CJ103: 9 | CK103: 12 | CL103: 13 | CM103: 14 | CN103: 16 | CO103: 17 | CP103: 18 | CQ103: 19
A104: =SMALL($A27:$O27,A$3) -> 1 | B104: =SMALL($A27:$O27,B$3) -> 4 | C104: =SMALL($A27:$O27,C$3) -> 5 | D104: =SMALL($A27:$O27,D$3) -> 6 | E104: =SMALL($A27:$O27,E$3) -> 7 | F104: =SMALL($A27:$O27,F$3) -> 8 | G104: =SMALL($A27:$O27,G$3) -> 9 | H104: =SMALL($A27:$O27,H$3) -> 10 | ... O104: =SMALL($A27:$O27,O$3) -> 22 | R104: 19 | AG104: =SMALL($AG90:$AU90,A$3) -> 1 | AH104: =SMALL($AG90:$AU90,B$3) -> 2 | AI104: =SMALL($AG90:$AU90,C$3) -> 3 | AJ104: =SMALL($AG90:$AU90,D$3) -> 4 | AK104: =SMALL($AG90:$AU90,E$3) -> 6 | AL104: =SMALL($AG90:$AU90,F$3) -> 7 | AM104: =SMALL($AG90:$AU90,G$3) -> 8 | AN104: =SMALL($AG90:$AU90,H$3) -> 9 | ... AU104: =SMALL($AG90:$AU90,O$3) -> 22 | AW104: 5 | BM104: =LOOKUP(CC104,$A$3:$Y$3,$A$4:$AE$4) -> 1 | BN104: =LOOKUP(CD104,$A$3:$Y$3,$A$4:$AE$4) -> 3 | BO104: =LOOKUP(CE104,$A$3:$Y$3,$A$4:$AE$4) -> 4 | BP104: =LOOKUP(CF104,$A$3:$Y$3,$A$4:$AE$4) -> 5 | BQ104: =LOOKUP(CG104,$A$3:$Y$3,$A$4:$AE$4) -> 6 | BR104: =LOOKUP(CH104,$A$3:$Y$3,$A$4:$AE$4) -> 7 | BS104: =LOOKUP(CI104,$A$3:$Y$3,$A$4:$AE$4) -> 9 | BT104: =LOOKUP(CJ104,$A$3:$Y$3,$A$4:$AE$4) -> 11 | ... CA104: =LOOKUP(CQ104,$A$3:$Y$3,$A$4:$AE$4) -> 20 | CC104: 1 | CD104: 3 | CE104: 4 | CF104: 5 | CG104: 6 | CH104: 7 | CI104: 9 | CJ104: 11 | CK104: 12 | CL104: 13 | CM104: 14 | CN104: 15 | CO104: 16 | CP104: 18 | CQ104: 19
A105: =SMALL($A28:$O28,A$3) -> 1 | B105: =SMALL($A28:$O28,B$3) -> 2 | C105: =SMALL($A28:$O28,C$3) -> 3 | D105: =SMALL($A28:$O28,D$3) -> 4 | E105: =SMALL($A28:$O28,E$3) -> 5 | F105: =SMALL($A28:$O28,F$3) -> 8 | G105: =SMALL($A28:$O28,G$3) -> 9 | H105: =SMALL($A28:$O28,H$3) -> 10 | ... O105: =SMALL($A28:$O28,O$3) -> 22 | R105: 20 | AG105: =SMALL($AG91:$AU91,A$3) -> 1 | AH105: =SMALL($AG91:$AU91,B$3) -> 2 | AI105: =SMALL($AG91:$AU91,C$3) -> 3 | AJ105: =SMALL($AG91:$AU91,D$3) -> 4 | AK105: =SMALL($AG91:$AU91,E$3) -> 6 | AL105: =SMALL($AG91:$AU91,F$3) -> 7 | AM105: =SMALL($AG91:$AU91,G$3) -> 8 | AN105: =SMALL($AG91:$AU91,H$3) -> 9 | ... AU105: =SMALL($AG91:$AU91,O$3) -> 22 | AW105: 6 | BM105: =LOOKUP(CC105,$A$3:$Y$3,$A$4:$AE$4) -> 1 | BN105: =LOOKUP(CD105,$A$3:$Y$3,$A$4:$AE$4) -> 2 | BO105: =LOOKUP(CE105,$A$3:$Y$3,$A$4:$AE$4) -> 3 | BP105: =LOOKUP(CF105,$A$3:$Y$3,$A$4:$AE$4) -> 4 | BQ105: =LOOKUP(CG105,$A$3:$Y$3,$A$4:$AE$4) -> 5 | BR105: =LOOKUP(CH105,$A$3:$Y$3,$A$4:$AE$4) -> 7 | BS105: =LOOKUP(CI105,$A$3:$Y$3,$A$4:$AE$4) -> 8 | BT105: =LOOKUP(CJ105,$A$3:$Y$3,$A$4:$AE$4) -> 9 | ... CA105: =LOOKUP(CQ105,$A$3:$Y$3,$A$4:$AE$4) -> 20 | CC105: 1 | CD105: 2 | CE105: 3 | CF105: 4 | CG105: 5 | CH105: 7 | CI105: 8 | CJ105: 9 | CK105: 11 | CL105: 13 | CM105: 14 | CN105: 16 | CO105: 17 | CP105: 18 | CQ105: 19
A106: =SMALL($A29:$O29,A$3) -> 1 | B106: =SMALL($A29:$O29,B$3) -> 2 | C106: =SMALL($A29:$O29,C$3) -> 3 | D106: =SMALL($A29:$O29,D$3) -> 4 | E106: =SMALL($A29:$O29,E$3) -> 5 | F106: =SMALL($A29:$O29,F$3) -> 6 | G106: =SMALL($A29:$O29,G$3) -> 7 | H106: =SMALL($A29:$O29,H$3) -> 9 | ... O106: =SMALL($A29:$O29,O$3) -> 22 | R106: 21 | AG106: =SMALL($AG92:$AU92,A$3) -> 1 | AH106: =SMALL($AG92:$AU92,B$3) -> 2 | AI106: =SMALL($AG92:$AU92,C$3) -> 3 | AJ106: =SMALL($AG92:$AU92,D$3) -> 4 | AK106: =SMALL($AG92:$AU92,E$3) -> 5 | AL106: =SMALL($AG92:$AU92,F$3) -> 7 | AM106: =SMALL($AG92:$AU92,G$3) -> 8 | AN106: =SMALL($AG92:$AU92,H$3) -> 9 | ... AU106: =SMALL($AG92:$AU92,O$3) -> 22 | AW106: 7 | BM106: =LOOKUP(CC106,$A$3:$Y$3,$A$4:$AE$4) -> 1 | BN106: =LOOKUP(CD106,$A$3:$Y$3,$A$4:$AE$4) -> 3 | BO106: =LOOKUP(CE106,$A$3:$Y$3,$A$4:$AE$4) -> 4 | BP106: =LOOKUP(CF106,$A$3:$Y$3,$A$4:$AE$4) -> 5 | BQ106: =LOOKUP(CG106,$A$3:$Y$3,$A$4:$AE$4) -> 6 | BR106: =LOOKUP(CH106,$A$3:$Y$3,$A$4:$AE$4) -> 7 | BS106: =LOOKUP(CI106,$A$3:$Y$3,$A$4:$AE$4) -> 8 | BT106: =LOOKUP(CJ106,$A$3:$Y$3,$A$4:$AE$4) -> 9 | ... CA106: =LOOKUP(CQ106,$A$3:$Y$3,$A$4:$AE$4) -> 20 | CC106: 1 | CD106: 3 | CE106: 4 | CF106: 5 | CG106: 6 | CH106: 7 | CI106: 8 | CJ106: 9 | CK106: 11 | CL106: 12 | CM106: 13 | CN106: 14 | CO106: 16 | CP106: 17 | CQ106: 19
A107: =SMALL($A30:$O30,A$3) -> 2 | B107: =SMALL($A30:$O30,B$3) -> 3 | C107: =SMALL($A30:$O30,C$3) -> 6 | D107: =SMALL($A30:$O30,D$3) -> 7 | E107: =SMALL($A30:$O30,E$3) -> 8 | F107: =SMALL($A30:$O30,F$3) -> 9 | G107: =SMALL($A30:$O30,G$3) -> 10 | H107: =SMALL($A30:$O30,H$3) -> 11 | ... O107: =SMALL($A30:$O30,O$3) -> 22 | R107: 22 | AG107: =SMALL($AG93:$AU93,A$3) -> 1 | AH107: =SMALL($AG93:$AU93,B$3) -> 2 | AI107: =SMALL($AG93:$AU93,C$3) -> 3 | AJ107: =SMALL($AG93:$AU93,D$3) -> 4 | AK107: =SMALL($AG93:$AU93,E$3) -> 5 | AL107: =SMALL($AG93:$AU93,F$3) -> 6 | AM107: =SMALL($AG93:$AU93,G$3) -> 9 | AN107: =SMALL($AG93:$AU93,H$3) -> 11 | ... AU107: =SMALL($AG93:$AU93,O$3) -> 22 | AW107: 8 | BM107: =LOOKUP(CC107,$A$3:$Y$3,$A$4:$AE$4) -> 1 | BN107: =LOOKUP(CD107,$A$3:$Y$3,$A$4:$AE$4) -> 2 | BO107: =LOOKUP(CE107,$A$3:$Y$3,$A$4:$AE$4) -> 3 | BP107: =LOOKUP(CF107,$A$3:$Y$3,$A$4:$AE$4) -> 4 | BQ107: =LOOKUP(CG107,$A$3:$Y$3,$A$4:$AE$4) -> 5 | BR107: =LOOKUP(CH107,$A$3:$Y$3,$A$4:$AE$4) -> 8 | BS107: =LOOKUP(CI107,$A$3:$Y$3,$A$4:$AE$4) -> 9 | BT107: =LOOKUP(CJ107,$A$3:$Y$3,$A$4:$AE$4) -> 10 | ... CA107: =LOOKUP(CQ107,$A$3:$Y$3,$A$4:$AE$4) -> 20 | CC107: 1 | CD107: 2 | CE107: 3 | CF107: 4 | CG107: 5 | CH107: 8 | CI107: 9 | CJ107: 10 | CK107: 11 | CL107: 12 | CM107: 14 | CN107: 15 | CO107: 16 | CP107: 17 | CQ107: 19
A108: =SMALL($A31:$O31,A$3) -> 2 | B108: =SMALL($A31:$O31,B$3) -> 4 | C108: =SMALL($A31:$O31,C$3) -> 5 | D108: =SMALL($A31:$O31,D$3) -> 6 | E108: =SMALL($A31:$O31,E$3) -> 8 | F108: =SMALL($A31:$O31,F$3) -> 9 | G108: =SMALL($A31:$O31,G$3) -> 10 | H108: =SMALL($A31:$O31,H$3) -> 11 | ... O108: =SMALL($A31:$O31,O$3) -> 22 | R108: 23 | AG108: =SMALL($AG94:$AU94,A$3) -> 1 | AH108: =SMALL($AG94:$AU94,B$3) -> 2 | AI108: =SMALL($AG94:$AU94,C$3) -> 3 | AJ108: =SMALL($AG94:$AU94,D$3) -> 4 | AK108: =SMALL($AG94:$AU94,E$3) -> 5 | AL108: =SMALL($AG94:$AU94,F$3) -> 6 | AM108: =SMALL($AG94:$AU94,G$3) -> 7 | AN108: =SMALL($AG94:$AU94,H$3) -> 8 | ... AU108: =SMALL($AG94:$AU94,O$3) -> 22 | AW108: 9 | BM108: =LOOKUP(CC108,$A$3:$Y$3,$A$4:$AE$4) -> 1 | BN108: =LOOKUP(CD108,$A$3:$Y$3,$A$4:$AE$4) -> 2 | BO108: =LOOKUP(CE108,$A$3:$Y$3,$A$4:$AE$4) -> 3 | BP108: =LOOKUP(CF108,$A$3:$Y$3,$A$4:$AE$4) -> 5 | BQ108: =LOOKUP(CG108,$A$3:$Y$3,$A$4:$AE$4) -> 6 | BR108: =LOOKUP(CH108,$A$3:$Y$3,$A$4:$AE$4) -> 7 | BS108: =LOOKUP(CI108,$A$3:$Y$3,$A$4:$AE$4) -> 8 | BT108: =LOOKUP(CJ108,$A$3:$Y$3,$A$4:$AE$4) -> 9 | ... CA108: =LOOKUP(CQ108,$A$3:$Y$3,$A$4:$AE$4) -> 20 | CC108: 1 | CD108: 2 | CE108: 3 | CF108: 5 | CG108: 6 | CH108: 7 | CI108: 8 | CJ108: 9 | CK108: 11 | CL108: 14 | CM108: 15 | CN108: 16 | CO108: 17 | CP108: 18 | CQ108: 19
A109: =SMALL($A32:$O32,A$3) -> 1 | B109: =SMALL($A32:$O32,B$3) -> 2 | C109: =SMALL($A32:$O32,C$3) -> 3 | D109: =SMALL($A32:$O32,D$3) -> 4 | E109: =SMALL($A32:$O32,E$3) -> 6 | F109: =SMALL($A32:$O32,F$3) -> 7 | G109: =SMALL($A32:$O32,G$3) -> 9 | H109: =SMALL($A32:$O32,H$3) -> 11 | ... O109: =SMALL($A32:$O32,O$3) -> 22 | R109: 24 | AG109: =SMALL($AG95:$AU95,A$3) -> 2 | AH109: =SMALL($AG95:$AU95,B$3) -> 4 | AI109: =SMALL($AG95:$AU95,C$3) -> 5 | AJ109: =SMALL($AG95:$AU95,D$3) -> 6 | AK109: =SMALL($AG95:$AU95,E$3) -> 7 | AL109: =SMALL($AG95:$AU95,F$3) -> 8 | AM109: =SMALL($AG95:$AU95,G$3) -> 10 | AN109: =SMALL($AG95:$AU95,H$3) -> 11 | ... AU109: =SMALL($AG95:$AU95,O$3) -> 21 | AW109: 10 | BM109: =LOOKUP(CC109,$A$3:$Y$3,$A$4:$AE$4) -> 2 | BN109: =LOOKUP(CD109,$A$3:$Y$3,$A$4:$AE$4) -> 3 | BO109: =LOOKUP(CE109,$A$3:$Y$3,$A$4:$AE$4) -> 4 | BP109: =LOOKUP(CF109,$A$3:$Y$3,$A$4:$AE$4) -> 5 | BQ109: =LOOKUP(CG109,$A$3:$Y$3,$A$4:$AE$4) -> 6 | BR109: =LOOKUP(CH109,$A$3:$Y$3,$A$4:$AE$4) -> 7 | BS109: =LOOKUP(CI109,$A$3:$Y$3,$A$4:$AE$4) -> 8 | BT109: =LOOKUP(CJ109,$A$3:$Y$3,$A$4:$AE$4) -> 9 | ... CA109: =LOOKUP(CQ109,$A$3:$Y$3,$A$4:$AE$4) -> 21 | CC109: 2 | CD109: 3 | CE109: 4 | CF109: 5 | CG109: 6 | CH109: 7 | CI109: 8 | CJ109: 9 | CK109: 10 | CL109: 11 | CM109: 12 | CN109: 15 | CO109: 16 | CP109: 17 | CQ109: 18
A110: =SMALL($A33:$O33,A$3) -> 1 | B110: =SMALL($A33:$O33,B$3) -> 2 | C110: =SMALL($A33:$O33,C$3) -> 3 | D110: =SMALL($A33:$O33,D$3) -> 4 | E110: =SMALL($A33:$O33,E$3) -> 5 | F110: =SMALL($A33:$O33,F$3) -> 7 | G110: =SMALL($A33:$O33,G$3) -> 8 | H110: =SMALL($A33:$O33,H$3) -> 9 | ... O110: =SMALL($A33:$O33,O$3) -> 22 | R110: 25 | AG110: =SMALL($AG96:$AU96,A$3) -> 3 | AH110: =SMALL($AG96:$AU96,B$3) -> 4 | AI110: =SMALL($AG96:$AU96,C$3) -> 5 | AJ110: =SMALL($AG96:$AU96,D$3) -> 6 | AK110: =SMALL($AG96:$AU96,E$3) -> 7 | AL110: =SMALL($AG96:$AU96,F$3) -> 8 | AM110: =SMALL($AG96:$AU96,G$3) -> 9 | AN110: =SMALL($AG96:$AU96,H$3) -> 10 | ... AU110: =SMALL($AG96:$AU96,O$3) -> 21 | AW110: 11 | BM110: =LOOKUP(CC110,$A$3:$Y$3,$A$4:$AE$4) -> 2 | BN110: =LOOKUP(CD110,$A$3:$Y$3,$A$4:$AE$4) -> 4 | BO110: =LOOKUP(CE110,$A$3:$Y$3,$A$4:$AE$4) -> 5 | BP110: =LOOKUP(CF110,$A$3:$Y$3,$A$4:$AE$4) -> 6 | BQ110: =LOOKUP(CG110,$A$3:$Y$3,$A$4:$AE$4) -> 7 | BR110: =LOOKUP(CH110,$A$3:$Y$3,$A$4:$AE$4) -> 8 | BS110: =LOOKUP(CI110,$A$3:$Y$3,$A$4:$AE$4) -> 9 | BT110: =LOOKUP(CJ110,$A$3:$Y$3,$A$4:$AE$4) -> 10 | ... CA110: =LOOKUP(CQ110,$A$3:$Y$3,$A$4:$AE$4) -> 20 | CC110: 2 | CD110: 4 | CE110: 5 | CF110: 6 | CG110: 7 | CH110: 8 | CI110: 9 | CJ110: 10 | CK110: 12 | CL110: 14 | CM110: 15 | CN110: 16 | CO110: 17 | CP110: 18 | CQ110: 19
A111: =SMALL($A34:$O34,A$3) -> 1 | B111: =SMALL($A34:$O34,B$3) -> 2 | C111: =SMALL($A34:$O34,C$3) -> 4 | D111: =SMALL($A34:$O34,D$3) -> 6 | E111: =SMALL($A34:$O34,E$3) -> 7 | F111: =SMALL($A34:$O34,F$3) -> 8 | G111: =SMALL($A34:$O34,G$3) -> 9 | H111: =SMALL($A34:$O34,H$3) -> 10 | ... O111: =SMALL($A34:$O34,O$3) -> 22 | R111: 26 | BM111: =LOOKUP(CC111,$A$3:$Y$3,$A$4:$AE$4) -> 2 | BN111: =LOOKUP(CD111,$A$3:$Y$3,$A$4:$AE$4) -> 3 | BO111: =LOOKUP(CE111,$A$3:$Y$3,$A$4:$AE$4) -> 4 | BP111: =LOOKUP(CF111,$A$3:$Y$3,$A$4:$AE$4) -> 5 | BQ111: =LOOKUP(CG111,$A$3:$Y$3,$A$4:$AE$4) -> 6 | BR111: =LOOKUP(CH111,$A$3:$Y$3,$A$4:$AE$4) -> 7 | BS111: =LOOKUP(CI111,$A$3:$Y$3,$A$4:$AE$4) -> 8 | BT111: =LOOKUP(CJ111,$A$3:$Y$3,$A$4:$AE$4) -> 9 | ... CA111: =LOOKUP(CQ111,$A$3:$Y$3,$A$4:$AE$4) -> 20 | CC111: 2 | CD111: 3 | CE111: 4 | CF111: 5 | CG111: 6 | CH111: 7 | CI111: 8 | CJ111: 9 | CK111: 11 | CL111: 12 | CM111: 14 | CN111: 15 | CO111: 16 | CP111: 17 | CQ111: 19
A112: =SMALL($A35:$O35,A$3) -> 1 | B112: =SMALL($A35:$O35,B$3) -> 2 | C112: =SMALL($A35:$O35,C$3) -> 3 | D112: =SMALL($A35:$O35,D$3) -> 4 | E112: =SMALL($A35:$O35,E$3) -> 5 | F112: =SMALL($A35:$O35,F$3) -> 6 | G112: =SMALL($A35:$O35,G$3) -> 7 | H112: =SMALL($A35:$O35,H$3) -> 8 | ... O112: =SMALL($A35:$O35,O$3) -> 22 | R112: 27 | BM112: =LOOKUP(CC112,$A$3:$Y$3,$A$4:$AE$4) -> 2 | BN112: =LOOKUP(CD112,$A$3:$Y$3,$A$4:$AE$4) -> 3 | BO112: =LOOKUP(CE112,$A$3:$Y$3,$A$4:$AE$4) -> 4 | BP112: =LOOKUP(CF112,$A$3:$Y$3,$A$4:$AE$4) -> 5 | BQ112: =LOOKUP(CG112,$A$3:$Y$3,$A$4:$AE$4) -> 6 | BR112: =LOOKUP(CH112,$A$3:$Y$3,$A$4:$AE$4) -> 7 | BS112: =LOOKUP(CI112,$A$3:$Y$3,$A$4:$AE$4) -> 8 | BT112: =LOOKUP(CJ112,$A$3:$Y$3,$A$4:$AE$4) -> 9 | ... CA112: =LOOKUP(CQ112,$A$3:$Y$3,$A$4:$AE$4) -> 21 | CC112: 2 | CD112: 3 | CE112: 4 | CF112: 5 | CG112: 6 | CH112: 7 | CI112: 8 | CJ112: 9 | CK112: 10 | CL112: 11 | CM112: 12 | CN112: 13 | CO112: 14 | CP112: 16 | CQ112: 18
A113: =SMALL($A36:$O36,A$3) -> 1 | B113: =SMALL($A36:$O36,B$3) -> 2 | C113: =SMALL($A36:$O36,C$3) -> 5 | D113: =SMALL($A36:$O36,D$3) -> 7 | E113: =SMALL($A36:$O36,E$3) -> 8 | F113: =SMALL($A36:$O36,F$3) -> 9 | G113: =SMALL($A36:$O36,G$3) -> 10 | H113: =SMALL($A36:$O36,H$3) -> 11 | ... O113: =SMALL($A36:$O36,O$3) -> 22 | R113: 28 | BM113: =LOOKUP(CC113,$A$3:$Y$3,$A$4:$AE$4) -> 2 | BN113: =LOOKUP(CD113,$A$3:$Y$3,$A$4:$AE$4) -> 3 | BO113: =LOOKUP(CE113,$A$3:$Y$3,$A$4:$AE$4) -> 4 | BP113: =LOOKUP(CF113,$A$3:$Y$3,$A$4:$AE$4) -> 5 | BQ113: =LOOKUP(CG113,$A$3:$Y$3,$A$4:$AE$4) -> 7 | BR113: =LOOKUP(CH113,$A$3:$Y$3,$A$4:$AE$4) -> 8 | BS113: =LOOKUP(CI113,$A$3:$Y$3,$A$4:$AE$4) -> 10 | BT113: =LOOKUP(CJ113,$A$3:$Y$3,$A$4:$AE$4) -> 11 | ... CA113: =LOOKUP(CQ113,$A$3:$Y$3,$A$4:$AE$4) -> 20 | CC113: 2 | CD113: 3 | CE113: 4 | CF113: 5 | CG113: 7 | CH113: 8 | CI113: 10 | CJ113: 11 | CK113: 12 | CL113: 13 | CM113: 14 | CN113: 15 | CO113: 17 | CP113: 18 | CQ113: 19
A114: =SMALL($A37:$O37,A$3) -> 1 | B114: =SMALL($A37:$O37,B$3) -> 2 | C114: =SMALL($A37:$O37,C$3) -> 4 | D114: =SMALL($A37:$O37,D$3) -> 5 | E114: =SMALL($A37:$O37,E$3) -> 6 | F114: =SMALL($A37:$O37,F$3) -> 9 | G114: =SMALL($A37:$O37,G$3) -> 10 | H114: =SMALL($A37:$O37,H$3) -> 11 | ... O114: =SMALL($A37:$O37,O$3) -> 22 | R114: 29 | BM114: =LOOKUP(CC114,$A$3:$Y$3,$A$4:$AE$4) -> 2 | BN114: =LOOKUP(CD114,$A$3:$Y$3,$A$4:$AE$4) -> 3 | BO114: =LOOKUP(CE114,$A$3:$Y$3,$A$4:$AE$4) -> 4 | BP114: =LOOKUP(CF114,$A$3:$Y$3,$A$4:$AE$4) -> 5 | BQ114: =LOOKUP(CG114,$A$3:$Y$3,$A$4:$AE$4) -> 6 | BR114: =LOOKUP(CH114,$A$3:$Y$3,$A$4:$AE$4) -> 8 | BS114: =LOOKUP(CI114,$A$3:$Y$3,$A$4:$AE$4) -> 9 | BT114: =LOOKUP(CJ114,$A$3:$Y$3,$A$4:$AE$4) -> 11 | ... CA114: =LOOKUP(CQ114,$A$3:$Y$3,$A$4:$AE$4) -> 20 | CC114: 2 | CD114: 3 | CE114: 4 | CF114: 5 | CG114: 6 | CH114: 8 | CI114: 9 | CJ114: 11 | CK114: 12 | CL114: 13 | CM114: 14 | CN114: 16 | CO114: 17 | CP114: 18 | CQ114: 19
A115: =SMALL($A38:$O38,A$3) -> 1 | B115: =SMALL($A38:$O38,B$3) -> 2 | C115: =SMALL($A38:$O38,C$3) -> 3 | D115: =SMALL($A38:$O38,D$3) -> 4 | E115: =SMALL($A38:$O38,E$3) -> 5 | F115: =SMALL($A38:$O38,F$3) -> 6 | G115: =SMALL($A38:$O38,G$3) -> 7 | H115: =SMALL($A38:$O38,H$3) -> 10 | ... O115: =SMALL($A38:$O38,O$3) -> 22 | R115: 30 | BM115: =LOOKUP(CC115,$A$3:$Y$3,$A$4:$AE$4) -> 2 | BN115: =LOOKUP(CD115,$A$3:$Y$3,$A$4:$AE$4) -> 3 | BO115: =LOOKUP(CE115,$A$3:$Y$3,$A$4:$AE$4) -> 4 | BP115: =LOOKUP(CF115,$A$3:$Y$3,$A$4:$AE$4) -> 6 | BQ115: =LOOKUP(CG115,$A$3:$Y$3,$A$4:$AE$4) -> 7 | BR115: =LOOKUP(CH115,$A$3:$Y$3,$A$4:$AE$4) -> 9 | BS115: =LOOKUP(CI115,$A$3:$Y$3,$A$4:$AE$4) -> 10 | BT115: =LOOKUP(CJ115,$A$3:$Y$3,$A$4:$AE$4) -> 12 | ... CA115: =LOOKUP(CQ115,$A$3:$Y$3,$A$4:$AE$4) -> 20 | CC115: 2 | CD115: 3 | CE115: 4 | CF115: 6 | CG115: 7 | CH115: 9 | CI115: 10 | CJ115: 12 | CK115: 13 | CL115: 14 | CM115: 15 | CN115: 16 | CO115: 17 | CP115: 18 | CQ115: 19
A116: =SMALL($A39:$O39,A$3) -> 1 | B116: =SMALL($A39:$O39,B$3) -> 3 | C116: =SMALL($A39:$O39,C$3) -> 4 | D116: =SMALL($A39:$O39,D$3) -> 5 | E116: =SMALL($A39:$O39,E$3) -> 6 | F116: =SMALL($A39:$O39,F$3) -> 8 | G116: =SMALL($A39:$O39,G$3) -> 9 | H116: =SMALL($A39:$O39,H$3) -> 10 | ... O116: =SMALL($A39:$O39,O$3) -> 22 | R116: 31 | BM116: =LOOKUP(CC116,$A$3:$Y$3,$A$4:$AE$4) -> 2 | BN116: =LOOKUP(CD116,$A$3:$Y$3,$A$4:$AE$4) -> 3 | BO116: =LOOKUP(CE116,$A$3:$Y$3,$A$4:$AE$4) -> 4 | BP116: =LOOKUP(CF116,$A$3:$Y$3,$A$4:$AE$4) -> 5 | BQ116: =LOOKUP(CG116,$A$3:$Y$3,$A$4:$AE$4) -> 6 | BR116: =LOOKUP(CH116,$A$3:$Y$3,$A$4:$AE$4) -> 7 | BS116: =LOOKUP(CI116,$A$3:$Y$3,$A$4:$AE$4) -> 10 | BT116: =LOOKUP(CJ116,$A$3:$Y$3,$A$4:$AE$4) -> 11 | ... CA116: =LOOKUP(CQ116,$A$3:$Y$3,$A$4:$AE$4) -> 20 | CC116: 2 | CD116: 3 | CE116: 4 | CF116: 5 | CG116: 6 | CH116: 7 | CI116: 10 | CJ116: 11 | CK116: 12 | CL116: 13 | CM116: 14 | CN116: 15 | CO116: 17 | CP116: 18 | CQ116: 19
A117: =SMALL($A40:$O40,A$3) -> 2 | B117: =SMALL($A40:$O40,B$3) -> 3 | C117: =SMALL($A40:$O40,C$3) -> 4 | D117: =SMALL($A40:$O40,D$3) -> 6 | E117: =SMALL($A40:$O40,E$3) -> 7 | F117: =SMALL($A40:$O40,F$3) -> 8 | G117: =SMALL($A40:$O40,G$3) -> 9 | H117: =SMALL($A40:$O40,H$3) -> 10 | ... O117: =SMALL($A40:$O40,O$3) -> 22 | R117: 32 | BM117: =LOOKUP(CC117,$A$3:$Y$3,$A$4:$AE$4) -> 2 | BN117: =LOOKUP(CD117,$A$3:$Y$3,$A$4:$AE$4) -> 4 | BO117: =LOOKUP(CE117,$A$3:$Y$3,$A$4:$AE$4) -> 5 | BP117: =LOOKUP(CF117,$A$3:$Y$3,$A$4:$AE$4) -> 7 | BQ117: =LOOKUP(CG117,$A$3:$Y$3,$A$4:$AE$4) -> 9 | BR117: =LOOKUP(CH117,$A$3:$Y$3,$A$4:$AE$4) -> 10 | BS117: =LOOKUP(CI117,$A$3:$Y$3,$A$4:$AE$4) -> 11 | BT117: =LOOKUP(CJ117,$A$3:$Y$3,$A$4:$AE$4) -> 12 | ... CA117: =LOOKUP(CQ117,$A$3:$Y$3,$A$4:$AE$4) -> 20 | CC117: 2 | CD117: 4 | CE117: 5 | CF117: 7 | CG117: 9 | CH117: 10 | CI117: 11 | CJ117: 12 | CK117: 13 | CL117: 14 | CM117: 15 | CN117: 16 | CO117: 17 | CP117: 18 | CQ117: 19
A118: =SMALL($A41:$O41,A$3) -> 1 | B118: =SMALL($A41:$O41,B$3) -> 2 | C118: =SMALL($A41:$O41,C$3) -> 3 | D118: =SMALL($A41:$O41,D$3) -> 5 | E118: =SMALL($A41:$O41,E$3) -> 6 | F118: =SMALL($A41:$O41,F$3) -> 7 | G118: =SMALL($A41:$O41,G$3) -> 8 | H118: =SMALL($A41:$O41,H$3) -> 9 | ... O118: =SMALL($A41:$O41,O$3) -> 22 | R118: 33 | BM118: =LOOKUP(CC118,$A$3:$Y$3,$A$4:$AE$4) -> 2 | BN118: =LOOKUP(CD118,$A$3:$Y$3,$A$4:$AE$4) -> 3 | BO118: =LOOKUP(CE118,$A$3:$Y$3,$A$4:$AE$4) -> 4 | BP118: =LOOKUP(CF118,$A$3:$Y$3,$A$4:$AE$4) -> 5 | BQ118: =LOOKUP(CG118,$A$3:$Y$3,$A$4:$AE$4) -> 6 | BR118: =LOOKUP(CH118,$A$3:$Y$3,$A$4:$AE$4) -> 7 | BS118: =LOOKUP(CI118,$A$3:$Y$3,$A$4:$AE$4) -> 8 | BT118: =LOOKUP(CJ118,$A$3:$Y$3,$A$4:$AE$4) -> 9 | ... CA118: =LOOKUP(CQ118,$A$3:$Y$3,$A$4:$AE$4) -> 20 | CC118: 2 | CD118: 3 | CE118: 4 | CF118: 5 | CG118: 6 | CH118: 7 | CI118: 8 | CJ118: 9 | CK118: 10 | CL118: 11 | CM118: 14 | CN118: 15 | CO118: 16 | CP118: 18 | CQ118: 19
A119: =SMALL($A42:$O42,A$3) -> 1 | B119: =SMALL($A42:$O42,B$3) -> 2 | C119: =SMALL($A42:$O42,C$3) -> 3 | D119: =SMALL($A42:$O42,D$3) -> 4 | E119: =SMALL($A42:$O42,E$3) -> 5 | F119: =SMALL($A42:$O42,F$3) -> 7 | G119: =SMALL($A42:$O42,G$3) -> 8 | H119: =SMALL($A42:$O42,H$3) -> 10 | ... O119: =SMALL($A42:$O42,O$3) -> 22 | R119: 34 | BM119: =LOOKUP(CC119,$A$3:$Y$3,$A$4:$AE$4) -> 2 | BN119: =LOOKUP(CD119,$A$3:$Y$3,$A$4:$AE$4) -> 3 | BO119: =LOOKUP(CE119,$A$3:$Y$3,$A$4:$AE$4) -> 4 | BP119: =LOOKUP(CF119,$A$3:$Y$3,$A$4:$AE$4) -> 5 | BQ119: =LOOKUP(CG119,$A$3:$Y$3,$A$4:$AE$4) -> 6 | BR119: =LOOKUP(CH119,$A$3:$Y$3,$A$4:$AE$4) -> 7 | BS119: =LOOKUP(CI119,$A$3:$Y$3,$A$4:$AE$4) -> 9 | BT119: =LOOKUP(CJ119,$A$3:$Y$3,$A$4:$AE$4) -> 10 | ... CA119: =LOOKUP(CQ119,$A$3:$Y$3,$A$4:$AE$4) -> 20 | CC119: 2 | CD119: 3 | CE119: 4 | CF119: 5 | CG119: 6 | CH119: 7 | CI119: 9 | CJ119: 10 | CK119: 11 | CL119: 12 | CM119: 13 | CN119: 16 | CO119: 17 | CP119: 18 | CQ119: 19
A120: =SMALL($A43:$O43,A$3) -> 1 | B120: =SMALL($A43:$O43,B$3) -> 2 | C120: =SMALL($A43:$O43,C$3) -> 3 | D120: =SMALL($A43:$O43,D$3) -> 4 | E120: =SMALL($A43:$O43,E$3) -> 5 | F120: =SMALL($A43:$O43,F$3) -> 6 | G120: =SMALL($A43:$O43,G$3) -> 7 | H120: =SMALL($A43:$O43,H$3) -> 8 | ... O120: =SMALL($A43:$O43,O$3) -> 22 | R120: 35 | BM120: =LOOKUP(CC120,$A$3:$Y$3,$A$4:$AE$4) -> 2 | BN120: =LOOKUP(CD120,$A$3:$Y$3,$A$4:$AE$4) -> 3 | BO120: =LOOKUP(CE120,$A$3:$Y$3,$A$4:$AE$4) -> 4 | BP120: =LOOKUP(CF120,$A$3:$Y$3,$A$4:$AE$4) -> 5 | BQ120: =LOOKUP(CG120,$A$3:$Y$3,$A$4:$AE$4) -> 6 | BR120: =LOOKUP(CH120,$A$3:$Y$3,$A$4:$AE$4) -> 9 | BS120: =LOOKUP(CI120,$A$3:$Y$3,$A$4:$AE$4) -> 10 | BT120: =LOOKUP(CJ120,$A$3:$Y$3,$A$4:$AE$4) -> 11 | ... CA120: =LOOKUP(CQ120,$A$3:$Y$3,$A$4:$AE$4) -> 20 | CC120: 2 | CD120: 3 | CE120: 4 | CF120: 5 | CG120: 6 | CH120: 9 | CI120: 10 | CJ120: 11 | CK120: 12 | CL120: 13 | CM120: 14 | CN120: 15 | CO120: 16 | CP120: 17 | CQ120: 19
A121: =SMALL($A44:$O44,A$3) -> 1 | B121: =SMALL($A44:$O44,B$3) -> 2 | C121: =SMALL($A44:$O44,C$3) -> 3 | D121: =SMALL($A44:$O44,D$3) -> 4 | E121: =SMALL($A44:$O44,E$3) -> 7 | F121: =SMALL($A44:$O44,F$3) -> 8 | G121: =SMALL($A44:$O44,G$3) -> 10 | H121: =SMALL($A44:$O44,H$3) -> 11 | ... O121: =SMALL($A44:$O44,O$3) -> 21 | R121: 36 | BM121: =LOOKUP(CC121,$A$3:$Y$3,$A$4:$AE$4) -> 2 | BN121: =LOOKUP(CD121,$A$3:$Y$3,$A$4:$AE$4) -> 3 | BO121: =LOOKUP(CE121,$A$3:$Y$3,$A$4:$AE$4) -> 4 | BP121: =LOOKUP(CF121,$A$3:$Y$3,$A$4:$AE$4) -> 5 | BQ121: =LOOKUP(CG121,$A$3:$Y$3,$A$4:$AE$4) -> 6 | BR121: =LOOKUP(CH121,$A$3:$Y$3,$A$4:$AE$4) -> 8 | BS121: =LOOKUP(CI121,$A$3:$Y$3,$A$4:$AE$4) -> 9 | BT121: =LOOKUP(CJ121,$A$3:$Y$3,$A$4:$AE$4) -> 10 | ... CA121: =LOOKUP(CQ121,$A$3:$Y$3,$A$4:$AE$4) -> 20 | CC121: 2 | CD121: 3 | CE121: 4 | CF121: 5 | CG121: 6 | CH121: 8 | CI121: 9 | CJ121: 10 | CK121: 11 | CL121: 12 | CM121: 13 | CN121: 15 | CO121: 17 | CP121: 18 | CQ121: 19
A122: =SMALL($A45:$O45,A$3) -> 1 | B122: =SMALL($A45:$O45,B$3) -> 2 | C122: =SMALL($A45:$O45,C$3) -> 4 | D122: =SMALL($A45:$O45,D$3) -> 5 | E122: =SMALL($A45:$O45,E$3) -> 7 | F122: =SMALL($A45:$O45,F$3) -> 8 | G122: =SMALL($A45:$O45,G$3) -> 9 | H122: =SMALL($A45:$O45,H$3) -> 10 | ... O122: =SMALL($A45:$O45,O$3) -> 21 | R122: 37 | BM122: =LOOKUP(CC122,$A$3:$Y$3,$A$4:$AE$4) -> 2 | BN122: =LOOKUP(CD122,$A$3:$Y$3,$A$4:$AE$4) -> 3 | BO122: =LOOKUP(CE122,$A$3:$Y$3,$A$4:$AE$4) -> 4 | BP122: =LOOKUP(CF122,$A$3:$Y$3,$A$4:$AE$4) -> 5 | BQ122: =LOOKUP(CG122,$A$3:$Y$3,$A$4:$AE$4) -> 6 | BR122: =LOOKUP(CH122,$A$3:$Y$3,$A$4:$AE$4) -> 7 | BS122: =LOOKUP(CI122,$A$3:$Y$3,$A$4:$AE$4) -> 8 | BT122: =LOOKUP(CJ122,$A$3:$Y$3,$A$4:$AE$4) -> 10 | ... CA122: =LOOKUP(CQ122,$A$3:$Y$3,$A$4:$AE$4) -> 20 | CC122: 2 | CD122: 3 | CE122: 4 | CF122: 5 | CG122: 6 | CH122: 7 | CI122: 8 | CJ122: 10 | CK122: 11 | CL122: 13 | CM122: 14 | CN122: 15 | CO122: 16 | CP122: 17 | CQ122: 19
... A135: =SMALL($A58:$O58,A$3) -> 1 | B135: =SMALL($A58:$O58,B$3) -> 2 | C135: =SMALL($A58:$O58,C$3) -> 3 | D135: =SMALL($A58:$O58,D$3) -> 4 | E135: =SMALL($A58:$O58,E$3) -> 6 | F135: =SMALL($A58:$O58,F$3) -> 7 | G135: =SMALL($A58:$O58,G$3) -> 8 | H135: =SMALL($A58:$O58,H$3) -> 10 | ... O135: =SMALL($A58:$O58,O$3) -> 22 | R135: 50 | BM135: =LOOKUP(CC135,$A$3:$Y$3,$A$4:$AE$4) -> 3 | BN135: =LOOKUP(CD135,$A$3:$Y$3,$A$4:$AE$4) -> 5 | BO135: =LOOKUP(CE135,$A$3:$Y$3,$A$4:$AE$4) -> 6 | BP135: =LOOKUP(CF135,$A$3:$Y$3,$A$4:$AE$4) -> 7 | BQ135: =LOOKUP(CG135,$A$3:$Y$3,$A$4:$AE$4) -> 8 | BR135: =LOOKUP(CH135,$A$3:$Y$3,$A$4:$AE$4) -> 9 | BS135: =LOOKUP(CI135,$A$3:$Y$3,$A$4:$AE$4) -> 10 | BT135: =LOOKUP(CJ135,$A$3:$Y$3,$A$4:$AE$4) -> 11 | ... CA135: =LOOKUP(CQ135,$A$3:$Y$3,$A$4:$AE$4) -> 20 | CC135: 3 | CD135: 5 | CE135: 6 | CF135: 7 | CG135: 8 | CH135: 9 | CI135: 10 | CJ135: 11 | CK135: 13 | CL135: 14 | CM135: 15 | CN135: 16 | CO135: 17 | CP135: 18 | CQ135: 19
A136: =SMALL($A59:$O59,A$3) -> 1 | B136: =SMALL($A59:$O59,B$3) -> 2 | C136: =SMALL($A59:$O59,C$3) -> 3 | D136: =SMALL($A59:$O59,D$3) -> 5 | E136: =SMALL($A59:$O59,E$3) -> 6 | F136: =SMALL($A59:$O59,F$3) -> 7 | G136: =SMALL($A59:$O59,G$3) -> 8 | H136: =SMALL($A59:$O59,H$3) -> 9 | ... O136: =SMALL($A59:$O59,O$3) -> 22 | R136: 51
A137: =SMALL($A60:$O60,A$3) -> 2 | B137: =SMALL($A60:$O60,B$3) -> 3 | C137: =SMALL($A60:$O60,C$3) -> 4 | D137: =SMALL($A60:$O60,D$3) -> 5 | E137: =SMALL($A60:$O60,E$3) -> 7 | F137: =SMALL($A60:$O60,F$3) -> 8 | G137: =SMALL($A60:$O60,G$3) -> 9 | H137: =SMALL($A60:$O60,H$3) -> 10 | ... O137: =SMALL($A60:$O60,O$3) -> 22 | R137: 52
A138: =SMALL($A61:$O61,A$3) -> 1 | B138: =SMALL($A61:$O61,B$3) -> 2 | C138: =SMALL($A61:$O61,C$3) -> 3 | D138: =SMALL($A61:$O61,D$3) -> 4 | E138: =SMALL($A61:$O61,E$3) -> 5 | F138: =SMALL($A61:$O61,F$3) -> 6 | G138: =SMALL($A61:$O61,G$3) -> 8 | H138: =SMALL($A61:$O61,H$3) -> 10 | ... O138: =SMALL($A61:$O61,O$3) -> 22 | R138: 53
A139: =SMALL($A62:$O62,A$3) -> 1 | B139: =SMALL($A62:$O62,B$3) -> 2 | C139: =SMALL($A62:$O62,C$3) -> 3 | D139: =SMALL($A62:$O62,D$3) -> 5 | E139: =SMALL($A62:$O62,E$3) -> 6 | F139: =SMALL($A62:$O62,F$3) -> 7 | G139: =SMALL($A62:$O62,G$3) -> 8 | H139: =SMALL($A62:$O62,H$3) -> 9 | ... O139: =SMALL($A62:$O62,O$3) -> 22 | R139: 54
A140: =SMALL($A63:$O63,A$3) -> 1 | B140: =SMALL($A63:$O63,B$3) -> 2 | C140: =SMALL($A63:$O63,C$3) -> 3 | D140: =SMALL($A63:$O63,D$3) -> 4 | E140: =SMALL($A63:$O63,E$3) -> 5 | F140: =SMALL($A63:$O63,F$3) -> 6 | G140: =SMALL($A63:$O63,G$3) -> 7 | H140: =SMALL($A63:$O63,H$3) -> 8 | ... O140: =SMALL($A63:$O63,O$3) -> 22 | R140: 55 | BM140: =SMALL($BM9:$CA9,A$3) -> 1 | BN140: =SMALL($BM9:$CA9,B$3) -> 2 | BO140: =SMALL($BM9:$CA9,C$3) -> 5 | BP140: =SMALL($BM9:$CA9,D$3) -> 6 | BQ140: =SMALL($BM9:$CA9,E$3) -> 7 | BR140: =SMALL($BM9:$CA9,F$3) -> 9 | BS140: =SMALL($BM9:$CA9,G$3) -> 11 | BT140: =SMALL($BM9:$CA9,H$3) -> 12 | ... CA140: =SMALL($BM9:$CA9,O$3) -> 22 | CD140: 1
A141: =SMALL($A64:$O64,A$3) -> 1 | B141: =SMALL($A64:$O64,B$3) -> 2 | C141: =SMALL($A64:$O64,C$3) -> 4 | D141: =SMALL($A64:$O64,D$3) -> 5 | E141: =SMALL($A64:$O64,E$3) -> 6 | F141: =SMALL($A64:$O64,F$3) -> 7 | G141: =SMALL($A64:$O64,G$3) -> 8 | H141: =SMALL($A64:$O64,H$3) -> 9 | ... O141: =SMALL($A64:$O64,O$3) -> 22 | R141: 56 | BM141: =SMALL($BM10:$CA10,A$3) -> 1 | BN141: =SMALL($BM10:$CA10,B$3) -> 2 | BO141: =SMALL($BM10:$CA10,C$3) -> 4 | BP141: =SMALL($BM10:$CA10,D$3) -> 5 | BQ141: =SMALL($BM10:$CA10,E$3) -> 6 | BR141: =SMALL($BM10:$CA10,F$3) -> 8 | BS141: =SMALL($BM10:$CA10,G$3) -> 9 | BT141: =SMALL($BM10:$CA10,H$3) -> 10 | ... CA141: =SMALL($BM10:$CA10,O$3) -> 22 | CD141: 2
A142: =SMALL($A65:$O65,A$3) -> 1 | B142: =SMALL($A65:$O65,B$3) -> 3 | C142: =SMALL($A65:$O65,C$3) -> 4 | D142: =SMALL($A65:$O65,D$3) -> 5 | E142: =SMALL($A65:$O65,E$3) -> 6 | F142: =SMALL($A65:$O65,F$3) -> 7 | G142: =SMALL($A65:$O65,G$3) -> 8 | H142: =SMALL($A65:$O65,H$3) -> 9 | ... O142: =SMALL($A65:$O65,O$3) -> 22 | R142: 57 | BM142: =SMALL($BM11:$CA11,A$3) -> 1 | BN142: =SMALL($BM11:$CA11,B$3) -> 2 | BO142: =SMALL($BM11:$CA11,C$3) -> 4 | BP142: =SMALL($BM11:$CA11,D$3) -> 5 | BQ142: =SMALL($BM11:$CA11,E$3) -> 6 | BR142: =SMALL($BM11:$CA11,F$3) -> 7 | BS142: =SMALL($BM11:$CA11,G$3) -> 8 | BT142: =SMALL($BM11:$CA11,H$3) -> 9 | ... CA142: =SMALL($BM11:$CA11,O$3) -> 21 | CD142: 3
A143: =SMALL($A66:$O66,A$3) -> 1 | B143: =SMALL($A66:$O66,B$3) -> 2 | C143: =SMALL($A66:$O66,C$3) -> 3 | D143: =SMALL($A66:$O66,D$3) -> 6 | E143: =SMALL($A66:$O66,E$3) -> 7 | F143: =SMALL($A66:$O66,F$3) -> 8 | G143: =SMALL($A66:$O66,G$3) -> 9 | H143: =SMALL($A66:$O66,H$3) -> 10 | ... O143: =SMALL($A66:$O66,O$3) -> 20 | R143: 58 | BM143: =SMALL($BM12:$CA12,A$3) -> 1 | BN143: =SMALL($BM12:$CA12,B$3) -> 2 | BO143: =SMALL($BM12:$CA12,C$3) -> 3 | BP143: =SMALL($BM12:$CA12,D$3) -> 5 | BQ143: =SMALL($BM12:$CA12,E$3) -> 7 | BR143: =SMALL($BM12:$CA12,F$3) -> 8 | BS143: =SMALL($BM12:$CA12,G$3) -> 10 | BT143: =SMALL($BM12:$CA12,H$3) -> 11 | ... CA143: =SMALL($BM12:$CA12,O$3) -> 22 | CD143: 4
A144: =SMALL($A67:$O67,A$3) -> 1 | B144: =SMALL($A67:$O67,B$3) -> 3 | C144: =SMALL($A67:$O67,C$3) -> 4 | D144: =SMALL($A67:$O67,D$3) -> 5 | E144: =SMALL($A67:$O67,E$3) -> 6 | F144: =SMALL($A67:$O67,F$3) -> 8 | G144: =SMALL($A67:$O67,G$3) -> 9 | H144: =SMALL($A67:$O67,H$3) -> 10 | ... O144: =SMALL($A67:$O67,O$3) -> 20 | R144: 59 | BM144: =SMALL($BM13:$CA13,A$3) -> 1 | BN144: =SMALL($BM13:$CA13,B$3) -> 2 | BO144: =SMALL($BM13:$CA13,C$3) -> 3 | BP144: =SMALL($BM13:$CA13,D$3) -> 4 | BQ144: =SMALL($BM13:$CA13,E$3) -> 5 | BR144: =SMALL($BM13:$CA13,F$3) -> 6 | BS144: =SMALL($BM13:$CA13,G$3) -> 8 | BT144: =SMALL($BM13:$CA13,H$3) -> 10 | ... CA144: =SMALL($BM13:$CA13,O$3) -> 22 | CD144: 5
A145: =SMALL($A68:$O68,A$3) -> 1 | B145: =SMALL($A68:$O68,B$3) -> 3 | C145: =SMALL($A68:$O68,C$3) -> 5 | D145: =SMALL($A68:$O68,D$3) -> 6 | E145: =SMALL($A68:$O68,E$3) -> 8 | F145: =SMALL($A68:$O68,F$3) -> 9 | G145: =SMALL($A68:$O68,G$3) -> 10 | H145: =SMALL($A68:$O68,H$3) -> 11 | ... O145: =SMALL($A68:$O68,O$3) -> 22 | R145: 60 | BM145: =SMALL($BM14:$CA14,A$3) -> 1 | BN145: =SMALL($BM14:$CA14,B$3) -> 2 | BO145: =SMALL($BM14:$CA14,C$3) -> 4 | BP145: =SMALL($BM14:$CA14,D$3) -> 6 | BQ145: =SMALL($BM14:$CA14,E$3) -> 7 | BR145: =SMALL($BM14:$CA14,F$3) -> 8 | BS145: =SMALL($BM14:$CA14,G$3) -> 9 | BT145: =SMALL($BM14:$CA14,H$3) -> 10 | ... CA145: =SMALL($BM14:$CA14,O$3) -> 22 | CD145: 6
A146: =SMALL($A69:$O69,A$3) -> 3 | B146: =SMALL($A69:$O69,B$3) -> 4 | C146: =SMALL($A69:$O69,C$3) -> 5 | D146: =SMALL($A69:$O69,D$3) -> 6 | E146: =SMALL($A69:$O69,E$3) -> 7 | F146: =SMALL($A69:$O69,F$3) -> 9 | G146: =SMALL($A69:$O69,G$3) -> 10 | H146: =SMALL($A69:$O69,H$3) -> 11 | ... O146: =SMALL($A69:$O69,O$3) -> 22 | R146: 61 | BM146: =SMALL($BM15:$CA15,A$3) -> 1 | BN146: =SMALL($BM15:$CA15,B$3) -> 2 | BO146: =SMALL($BM15:$CA15,C$3) -> 3 | BP146: =SMALL($BM15:$CA15,D$3) -> 4 | BQ146: =SMALL($BM15:$CA15,E$3) -> 6 | BR146: =SMALL($BM15:$CA15,F$3) -> 7 | BS146: =SMALL($BM15:$CA15,G$3) -> 8 | BT146: =SMALL($BM15:$CA15,H$3) -> 9 | ... CA146: =SMALL($BM15:$CA15,O$3) -> 20 | CD146: 7
A147: =SMALL($A70:$O70,A$3) -> 1 | B147: =SMALL($A70:$O70,B$3) -> 2 | C147: =SMALL($A70:$O70,C$3) -> 3 | D147: =SMALL($A70:$O70,D$3) -> 4 | E147: =SMALL($A70:$O70,E$3) -> 6 | F147: =SMALL($A70:$O70,F$3) -> 7 | G147: =SMALL($A70:$O70,G$3) -> 8 | H147: =SMALL($A70:$O70,H$3) -> 11 | ... O147: =SMALL($A70:$O70,O$3) -> 22 | R147: 62 | BM147: =SMALL($BM16:$CA16,A$3) -> 1 | BN147: =SMALL($BM16:$CA16,B$3) -> 2 | BO147: =SMALL($BM16:$CA16,C$3) -> 4 | BP147: =SMALL($BM16:$CA16,D$3) -> 5 | BQ147: =SMALL($BM16:$CA16,E$3) -> 6 | BR147: =SMALL($BM16:$CA16,F$3) -> 9 | BS147: =SMALL($BM16:$CA16,G$3) -> 10 | BT147: =SMALL($BM16:$CA16,H$3) -> 12 | ... CA147: =SMALL($BM16:$CA16,O$3) -> 22 | CD147: 8
A148: =SMALL($A71:$O71,A$3) -> 2 | B148: =SMALL($A71:$O71,B$3) -> 3 | C148: =SMALL($A71:$O71,C$3) -> 4 | D148: =SMALL($A71:$O71,D$3) -> 5 | E148: =SMALL($A71:$O71,E$3) -> 7 | F148: =SMALL($A71:$O71,F$3) -> 8 | G148: =SMALL($A71:$O71,G$3) -> 9 | H148: =SMALL($A71:$O71,H$3) -> 10 | ... O148: =SMALL($A71:$O71,O$3) -> 22 | R148: 63 | BM148: =SMALL($BM17:$CA17,A$3) -> 1 | BN148: =SMALL($BM17:$CA17,B$3) -> 2 | BO148: =SMALL($BM17:$CA17,C$3) -> 4 | BP148: =SMALL($BM17:$CA17,D$3) -> 5 | BQ148: =SMALL($BM17:$CA17,E$3) -> 6 | BR148: =SMALL($BM17:$CA17,F$3) -> 8 | BS148: =SMALL($BM17:$CA17,G$3) -> 9 | BT148: =SMALL($BM17:$CA17,H$3) -> 10 | ... CA148: =SMALL($BM17:$CA17,O$3) -> 22 | CD148: 9
A149: =SMALL($A72:$O72,A$3) -> 2 | B149: =SMALL($A72:$O72,B$3) -> 4 | C149: =SMALL($A72:$O72,C$3) -> 5 | D149: =SMALL($A72:$O72,D$3) -> 6 | E149: =SMALL($A72:$O72,E$3) -> 7 | F149: =SMALL($A72:$O72,F$3) -> 8 | G149: =SMALL($A72:$O72,G$3) -> 9 | H149: =SMALL($A72:$O72,H$3) -> 10 | ... O149: =SMALL($A72:$O72,O$3) -> 22 | R149: 64 | BM149: =SMALL($BM18:$CA18,A$3) -> 1 | BN149: =SMALL($BM18:$CA18,B$3) -> 2 | BO149: =SMALL($BM18:$CA18,C$3) -> 3 | BP149: =SMALL($BM18:$CA18,D$3) -> 5 | BQ149: =SMALL($BM18:$CA18,E$3) -> 6 | BR149: =SMALL($BM18:$CA18,F$3) -> 7 | BS149: =SMALL($BM18:$CA18,G$3) -> 8 | BT149: =SMALL($BM18:$CA18,H$3) -> 9 | ... CA149: =SMALL($BM18:$CA18,O$3) -> 22 | CD149: 10
A150: =SMALL($A73:$O73,A$3) -> 1 | B150: =SMALL($A73:$O73,B$3) -> 2 | C150: =SMALL($A73:$O73,C$3) -> 3 | D150: =SMALL($A73:$O73,D$3) -> 4 | E150: =SMALL($A73:$O73,E$3) -> 5 | F150: =SMALL($A73:$O73,F$3) -> 7 | G150: =SMALL($A73:$O73,G$3) -> 8 | H150: =SMALL($A73:$O73,H$3) -> 9 | ... O150: =SMALL($A73:$O73,O$3) -> 22 | R150: 65 | BM150: =SMALL($BM19:$CA19,A$3) -> 1 | BN150: =SMALL($BM19:$CA19,B$3) -> 2 | BO150: =SMALL($BM19:$CA19,C$3) -> 3 | BP150: =SMALL($BM19:$CA19,D$3) -> 6 | BQ150: =SMALL($BM19:$CA19,E$3) -> 7 | BR150: =SMALL($BM19:$CA19,F$3) -> 8 | BS150: =SMALL($BM19:$CA19,G$3) -> 9 | BT150: =SMALL($BM19:$CA19,H$3) -> 10 | ... CA150: =SMALL($BM19:$CA19,O$3) -> 22 | CD150: 11
A151: =SMALL($A74:$O74,A$3) -> 1 | B151: =SMALL($A74:$O74,B$3) -> 2 | C151: =SMALL($A74:$O74,C$3) -> 3 | D151: =SMALL($A74:$O74,D$3) -> 4 | E151: =SMALL($A74:$O74,E$3) -> 5 | F151: =SMALL($A74:$O74,F$3) -> 6 | G151: =SMALL($A74:$O74,G$3) -> 8 | H151: =SMALL($A74:$O74,H$3) -> 10 | ... O151: =SMALL($A74:$O74,O$3) -> 22 | R151: 66 | BM151: =SMALL($BM20:$CA20,A$3) -> 1 | BN151: =SMALL($BM20:$CA20,B$3) -> 2 | BO151: =SMALL($BM20:$CA20,C$3) -> 3 | BP151: =SMALL($BM20:$CA20,D$3) -> 6 | BQ151: =SMALL($BM20:$CA20,E$3) -> 7 | BR151: =SMALL($BM20:$CA20,F$3) -> 8 | BS151: =SMALL($BM20:$CA20,G$3) -> 9 | BT151: =SMALL($BM20:$CA20,H$3) -> 11 | ... CA151: =SMALL($BM20:$CA20,O$3) -> 22 | CD151: 12
... A160: =SMALL($A83:$O83,A$3) -> 1 | B160: =SMALL($A83:$O83,B$3) -> 2 | C160: =SMALL($A83:$O83,C$3) -> 3 | D160: =SMALL($A83:$O83,D$3) -> 4 | E160: =SMALL($A83:$O83,E$3) -> 5 | F160: =SMALL($A83:$O83,F$3) -> 6 | G160: =SMALL($A83:$O83,G$3) -> 7 | H160: =SMALL($A83:$O83,H$3) -> 8 | ... O160: =SMALL($A83:$O83,O$3) -> 22 | R160: 75 | BM160: =SMALL($BM29:$CA29,A$3) -> 1 | BN160: =SMALL($BM29:$CA29,B$3) -> 2 | BO160: =SMALL($BM29:$CA29,C$3) -> 3 | BP160: =SMALL($BM29:$CA29,D$3) -> 4 | BQ160: =SMALL($BM29:$CA29,E$3) -> 5 | BR160: =SMALL($BM29:$CA29,F$3) -> 6 | BS160: =SMALL($BM29:$CA29,G$3) -> 7 | BT160: =SMALL($BM29:$CA29,H$3) -> 10 | ... CA160: =SMALL($BM29:$CA29,O$3) -> 22 | CD160: 21
BM161: =SMALL($BM30:$CA30,A$3) -> 1 | BN161: =SMALL($BM30:$CA30,B$3) -> 4 | BO161: =SMALL($BM30:$CA30,C$3) -> 5 | BP161: =SMALL($BM30:$CA30,D$3) -> 6 | BQ161: =SMALL($BM30:$CA30,E$3) -> 7 | BR161: =SMALL($BM30:$CA30,F$3) -> 8 | BS161: =SMALL($BM30:$CA30,G$3) -> 9 | BT161: =SMALL($BM30:$CA30,H$3) -> 10 | ... CA161: =SMALL($BM30:$CA30,O$3) -> 22 | CD161: 22
BM162: =SMALL($BM31:$CA31,A$3) -> 1 | BN162: =SMALL($BM31:$CA31,B$3) -> 2 | BO162: =SMALL($BM31:$CA31,C$3) -> 4 | BP162: =SMALL($BM31:$CA31,D$3) -> 5 | BQ162: =SMALL($BM31:$CA31,E$3) -> 6 | BR162: =SMALL($BM31:$CA31,F$3) -> 7 | BS162: =SMALL($BM31:$CA31,G$3) -> 8 | BT162: =SMALL($BM31:$CA31,H$3) -> 9 | ... CA162: =SMALL($BM31:$CA31,O$3) -> 21 | CD162: 23
BM163: =SMALL($BM32:$CA32,A$3) -> 1 | BN163: =SMALL($BM32:$CA32,B$3) -> 2 | BO163: =SMALL($BM32:$CA32,C$3) -> 3 | BP163: =SMALL($BM32:$CA32,D$3) -> 4 | BQ163: =SMALL($BM32:$CA32,E$3) -> 5 | BR163: =SMALL($BM32:$CA32,F$3) -> 7 | BS163: =SMALL($BM32:$CA32,G$3) -> 8 | BT163: =SMALL($BM32:$CA32,H$3) -> 9 | ... CA163: =SMALL($BM32:$CA32,O$3) -> 20 | CD163: 24
BM164: =SMALL($BM33:$CA33,A$3) -> 1 | BN164: =SMALL($BM33:$CA33,B$3) -> 2 | BO164: =SMALL($BM33:$CA33,C$3) -> 4 | BP164: =SMALL($BM33:$CA33,D$3) -> 5 | BQ164: =SMALL($BM33:$CA33,E$3) -> 6 | BR164: =SMALL($BM33:$CA33,F$3) -> 7 | BS164: =SMALL($BM33:$CA33,G$3) -> 8 | BT164: =SMALL($BM33:$CA33,H$3) -> 9 | ... CA164: =SMALL($BM33:$CA33,O$3) -> 22 | CD164: 25
BM165: =SMALL($BM34:$CA34,A$3) -> 1 | BN165: =SMALL($BM34:$CA34,B$3) -> 2 | BO165: =SMALL($BM34:$CA34,C$3) -> 5 | BP165: =SMALL($BM34:$CA34,D$3) -> 6 | BQ165: =SMALL($BM34:$CA34,E$3) -> 7 | BR165: =SMALL($BM34:$CA34,F$3) -> 8 | BS165: =SMALL($BM34:$CA34,G$3) -> 10 | BT165: =SMALL($BM34:$CA34,H$3) -> 11 | ... CA165: =SMALL($BM34:$CA34,O$3) -> 22 | CD165: 26
BM166: =SMALL($BM35:$CA35,A$3) -> 1 | BN166: =SMALL($BM35:$CA35,B$3) -> 2 | BO166: =SMALL($BM35:$CA35,C$3) -> 3 | BP166: =SMALL($BM35:$CA35,D$3) -> 4 | BQ166: =SMALL($BM35:$CA35,E$3) -> 7 | BR166: =SMALL($BM35:$CA35,F$3) -> 8 | BS166: =SMALL($BM35:$CA35,G$3) -> 10 | BT166: =SMALL($BM35:$CA35,H$3) -> 11 | ... CA166: =SMALL($BM35:$CA35,O$3) -> 21 | CD166: 27
BM167: =SMALL($BM36:$CA36,A$3) -> 1 | BN167: =SMALL($BM36:$CA36,B$3) -> 2 | BO167: =SMALL($BM36:$CA36,C$3) -> 3 | BP167: =SMALL($BM36:$CA36,D$3) -> 5 | BQ167: =SMALL($BM36:$CA36,E$3) -> 6 | BR167: =SMALL($BM36:$CA36,F$3) -> 7 | BS167: =SMALL($BM36:$CA36,G$3) -> 8 | BT167: =SMALL($BM36:$CA36,H$3) -> 9 | ... CA167: =SMALL($BM36:$CA36,O$3) -> 21 | CD167: 28
BM168: =SMALL($BM37:$CA37,A$3) -> 1 | BN168: =SMALL($BM37:$CA37,B$3) -> 2 | BO168: =SMALL($BM37:$CA37,C$3) -> 3 | BP168: =SMALL($BM37:$CA37,D$3) -> 4 | BQ168: =SMALL($BM37:$CA37,E$3) -> 5 | BR168: =SMALL($BM37:$CA37,F$3) -> 7 | BS168: =SMALL($BM37:$CA37,G$3) -> 8 | BT168: =SMALL($BM37:$CA37,H$3) -> 10 | ... CA168: =SMALL($BM37:$CA37,O$3) -> 22 | CD168: 29
...
