Workbook

Sheet Início
A1: Sua Logo Aqui | AA1: ="V"&X5 -> V1
E2: Desdobramento Lotofácil com 19 Números
X5: 1 | Y5: 10
U9: Opção 1: Se você acertar os 14 números fixos dos 19 escolhidos garante ao menos 1 cartela com 13 pontos. ( 75 volantes ) Opção 2: Se você acertar os 15 números fixos dos 19 escolhidos garante ao menos 1 cartela com 13 pontos + 97% de 1 cartela com 14 pontos . ( 34 volantes ). Opção 3: Se você acertar os 15 números fixos dos 19 escolhidos garante ao menos 1 cartela com 13 pontos. ( 11 volantes ). Opção 4: Se você acertar os 15 números fixos dos 19 escolhidos garante ao menos 1 cartela com 14 pontos. ( 127 volantes )
B16: Digite 19 Números Fixo | J16: ( Qualquer Ordem)
B17: 1 | C17: 2 | D17: 3 | E17: 4 | F17: 5 | G17: 6 | H17: 7 | I17: 8 | J17: 9 | K17: 10
B18: 11 | C18: 12 | D18: 13 | E18: 14 | F18: 15 | G18: 16 | H18: 22 | I18: 21 | J18: 20

Sheet Opcao1
AA1: ="V"&X5 -> V1
A2: Opção 1 ( 19 fixos )
X5: 1 | Y5: 10
B16: Total de 75 volantes
B18: =Apoio!A86 -> 2 | C18: =Apoio!B86 -> 5 | D18: =Apoio!C86 -> 6 | E18: =Apoio!D86 -> 7 | F18: =Apoio!E86 -> 8 | G18: =Apoio!F86 -> 10 | H18: =Apoio!G86 -> 11 | I18: =Apoio!H86 -> 12 | ... P18: =Apoio!O86 -> 22 | R18: 1
B19: =Apoio!A87 -> 3 | C19: =Apoio!B87 -> 4 | D19: =Apoio!C87 -> 5 | E19: =Apoio!D87 -> 7 | F19: =Apoio!E87 -> 8 | G19: =Apoio!F87 -> 10 | H19: =Apoio!G87 -> 11 | I19: =Apoio!H87 -> 12 | ... P19: =Apoio!O87 -> 22 | R19: 2
B20: =Apoio!A88 -> 1 | C20: =Apoio!B88 -> 2 | D20: =Apoio!C88 -> 3 | E20: =Apoio!D88 -> 5 | F20: =Apoio!E88 -> 6 | G20: =Apoio!F88 -> 10 | H20: =Apoio!G88 -> 11 | I20: =Apoio!H88 -> 12 | ... P20: =Apoio!O88 -> 22 | R20: 3
B21: =Apoio!A89 -> 3 | C21: =Apoio!B89 -> 4 | D21: =Apoio!C89 -> 5 | E21: =Apoio!D89 -> 7 | F21: =Apoio!E89 -> 8 | G21: =Apoio!F89 -> 9 | H21: =Apoio!G89 -> 11 | I21: =Apoio!H89 -> 12 | ... P21: =Apoio!O89 -> 22 | R21: 4
B22: =Apoio!A90 -> 1 | C22: =Apoio!B90 -> 2 | D22: =Apoio!C90 -> 3 | E22: =Apoio!D90 -> 4 | F22: =Apoio!E90 -> 8 | G22: =Apoio!F90 -> 9 | H22: =Apoio!G90 -> 10 | I22: =Apoio!H90 -> 12 | ... P22: =Apoio!O90 -> 22 | R22: 5
B23: =Apoio!A91 -> 1 | C23: =Apoio!B91 -> 2 | D23: =Apoio!C91 -> 5 | E23: =Apoio!D91 -> 6 | F23: =Apoio!E91 -> 7 | G23: =Apoio!F91 -> 9 | H23: =Apoio!G91 -> 10 | I23: =Apoio!H91 -> 12 | ... P23: =Apoio!O91 -> 22 | R23: 6
B24: =Apoio!A92 -> 1 | C24: =Apoio!B92 -> 2 | D24: =Apoio!C92 -> 3 | E24: =Apoio!D92 -> 4 | F24: =Apoio!E92 -> 5 | G24: =Apoio!F92 -> 6 | H24: =Apoio!G92 -> 8 | I24: =Apoio!H92 -> 11 | ... P24: =Apoio!O92 -> 22 | R24: 7
B25: =Apoio!A93 -> 2 | C25: =Apoio!B93 -> 4 | D25: =Apoio!C93 -> 5 | E25: =Apoio!D93 -> 6 | F25: =Apoio!E93 -> 7 | G25: =Apoio!F93 -> 8 | H25: =Apoio!G93 -> 9 | I25: =Apoio!H93 -> 10 | ... P25: =Apoio!O93 -> 22 | R25: 8
B26: =Apoio!A94 -> 1 | C26: =Apoio!B94 -> 3 | D26: =Apoio!C94 -> 4 | E26: =Apoio!D94 -> 6 | F26: =Apoio!E94 -> 7 | G26: =Apoio!F94 -> 8 | H26: =Apoio!G94 -> 9 | I26: =Apoio!H94 -> 10 | ... P26: =Apoio!O94 -> 22 | R26: 9
B27: =Apoio!A95 -> 1 | C27: =Apoio!B95 -> 4 | D27: =Apoio!C95 -> 6 | E27: =Apoio!D95 -> 7 | F27: =Apoio!E95 -> 8 | G27: =Apoio!F95 -> 9 | H27: =Apoio!G95 -> 10 | I27: =Apoio!H95 -> 11 | ... P27: =Apoio!O95 -> 22 | R27: 10
B28: =Apoio!A96 -> 1 | C28: =Apoio!B96 -> 2 | D28: =Apoio!C96 -> 3 | E28: =Apoio!D96 -> 6 | F28: =Apoio!E96 -> 8 | G28: =Apoio!F96 -> 9 | H28: =Apoio!G96 -> 10 | I28: =Apoio!H96 -> 11 | ... P28: =Apoio!O96 -> 22 | R28: 11
B29: =Apoio!A97 -> 1 | C29: =Apoio!B97 -> 3 | D29: =Apoio!C97 -> 5 | E29: =Apoio!D97 -> 6 | F29: =Apoio!E97 -> 7 | G29: =Apoio!F97 -> 8 | H29: =Apoio!G97 -> 10 | I29: =Apoio!H97 -> 11 | ... P29: =Apoio!O97 -> 22 | R29: 12
... B92: =Apoio!A160 -> 1 | C92: =Apoio!B160 -> 2 | D92: =Apoio!C160 -> 3 | E92: =Apoio!D160 -> 4 | F92: =Apoio!E160 -> 5 | G92: =Apoio!F160 -> 6 | H92: =Apoio!G160 -> 7 | I92: =Apoio!H160 -> 8 | ... P92: =Apoio!O160 -> 22 | R92: 75

Sheet Opcao2
AA1: ="V"&X5 -> V1
A2: Opção 2 ( 19 fixos )
X5: 1 | Y5: 10
B16: Total de 34 volantes
B18: =Apoio!AG45 -> 1 | C18: =Apoio!AH45 -> 2 | D18: =Apoio!AI45 -> 3 | E18: =Apoio!AJ45 -> 4 | F18: =Apoio!AK45 -> 5 | G18: =Apoio!AL45 -> 6 | H18: =Apoio!AM45 -> 7 | I18: =Apoio!AN45 -> 8 | ... P18: =Apoio!AU45 -> 22 | R18: 1
B19: =Apoio!AG46 -> 1 | C19: =Apoio!AH46 -> 2 | D19: =Apoio!AI46 -> 3 | E19: =Apoio!AJ46 -> 4 | F19: =Apoio!AK46 -> 5 | G19: =Apoio!AL46 -> 6 | H19: =Apoio!AM46 -> 7 | I19: =Apoio!AN46 -> 8 | ... P19: =Apoio!AU46 -> 21 | R19: 2
B20: =Apoio!AG47 -> 1 | C20: =Apoio!AH47 -> 2 | D20: =Apoio!AI47 -> 3 | E20: =Apoio!AJ47 -> 4 | F20: =Apoio!AK47 -> 5 | G20: =Apoio!AL47 -> 6 | H20: =Apoio!AM47 -> 7 | I20: =Apoio!AN47 -> 9 | ... P20: =Apoio!AU47 -> 22 | R20: 3
B21: =Apoio!AG48 -> 1 | C21: =Apoio!AH48 -> 2 | D21: =Apoio!AI48 -> 3 | E21: =Apoio!AJ48 -> 4 | F21: =Apoio!AK48 -> 5 | G21: =Apoio!AL48 -> 6 | H21: =Apoio!AM48 -> 7 | I21: =Apoio!AN48 -> 11 | ... P21: =Apoio!AU48 -> 22 | R21: 4
B22: =Apoio!AG49 -> 1 | C22: =Apoio!AH49 -> 2 | D22: =Apoio!AI49 -> 3 | E22: =Apoio!AJ49 -> 4 | F22: =Apoio!AK49 -> 5 | G22: =Apoio!AL49 -> 6 | H22: =Apoio!AM49 -> 8 | I22: =Apoio!AN49 -> 9 | ... P22: =Apoio!AU49 -> 22 | R22: 5
B23: =Apoio!AG50 -> 1 | C23: =Apoio!AH50 -> 2 | D23: =Apoio!AI50 -> 3 | E23: =Apoio!AJ50 -> 4 | F23: =Apoio!AK50 -> 5 | G23: =Apoio!AL50 -> 6 | H23: =Apoio!AM50 -> 8 | I23: =Apoio!AN50 -> 9 | ... P23: =Apoio!AU50 -> 22 | R23: 6
B24: =Apoio!AG51 -> 1 | C24: =Apoio!AH51 -> 2 | D24: =Apoio!AI51 -> 3 | E24: =Apoio!AJ51 -> 4 | F24: =Apoio!AK51 -> 5 | G24: =Apoio!AL51 -> 7 | H24: =Apoio!AM51 -> 8 | I24: =Apoio!AN51 -> 9 | ... P24: =Apoio!AU51 -> 21 | R24: 7
B25: =Apoio!AG52 -> 1 | C25: =Apoio!AH52 -> 2 | D25: =Apoio!AI52 -> 3 | E25: =Apoio!AJ52 -> 4 | F25: =Apoio!AK52 -> 5 | G25: =Apoio!AL52 -> 7 | H25: =Apoio!AM52 -> 8 | I25: =Apoio!AN52 -> 9 | ... P25: =Apoio!AU52 -> 22 | R25: 8
B26: =Apoio!AG53 -> 1 | C26: =Apoio!AH53 -> 2 | D26: =Apoio!AI53 -> 3 | E26: =Apoio!AJ53 -> 4 | F26: =Apoio!AK53 -> 5 | G26: =Apoio!AL53 -> 7 | H26: =Apoio!AM53 -> 8 | I26: =Apoio!AN53 -> 10 | ... P26: =Apoio!AU53 -> 22 | R26: 9
B27: =Apoio!AG54 -> 1 | C27: =Apoio!AH54 -> 2 | D27: =Apoio!AI54 -> 3 | E27: =Apoio!AJ54 -> 4 | F27: =Apoio!AK54 -> 6 | G27: =Apoio!AL54 -> 7 | H27: =Apoio!AM54 -> 9 | I27: =Apoio!AN54 -> 10 | ... P27: =Apoio!AU54 -> 21 | R27: 10
B28: =Apoio!AG55 -> 1 | C28: =Apoio!AH55 -> 2 | D28: =Apoio!AI55 -> 3 | E28: =Apoio!AJ55 -> 4 | F28: =Apoio!AK55 -> 6 | G28: =Apoio!AL55 -> 8 | H28: =Apoio!AM55 -> 9 | I28: =Apoio!AN55 -> 10 | ... P28: =Apoio!AU55 -> 22 | R28: 11
B29: =Apoio!AG56 -> 1 | C29: =Apoio!AH56 -> 2 | D29: =Apoio!AI56 -> 3 | E29: =Apoio!AJ56 -> 5 | F29: =Apoio!AK56 -> 6 | G29: =Apoio!AL56 -> 7 | H29: =Apoio!AM56 -> 8 | I29: =Apoio!AN56 -> 9 | ... P29: =Apoio!AU56 -> 21 | R29: 12
... B51: =Apoio!AG78 -> 3 | C51: =Apoio!AH78 -> 4 | D51: =Apoio!AI78 -> 5 | E51: =Apoio!AJ78 -> 6 | F51: =Apoio!AK78 -> 7 | G51: =Apoio!AL78 -> 8 | H51: =Apoio!AM78 -> 9 | I51: =Apoio!AN78 -> 10 | ... P51: =Apoio!AU78 -> 22 | R51: 34

Sheet Opcao3
AA1: ="V"&X5 -> V1
A2: Opção 3 ( 19 fixos )
X5: 1 | Y5: 10
B16: Total de 11 volantes
B18: =Apoio!AG100 -> 1 | C18: =Apoio!AH100 -> 4 | D18: =Apoio!AI100 -> 5 | E18: =Apoio!AJ100 -> 6 | F18: =Apoio!AK100 -> 7 | G18: =Apoio!AL100 -> 8 | H18: =Apoio!AM100 -> 10 | I18: =Apoio!AN100 -> 11 | ... P18: =Apoio!AU100 -> 22 | R18: 1
B19: =Apoio!AG101 -> 1 | C19: =Apoio!AH101 -> 3 | D19: =Apoio!AI101 -> 4 | E19: =Apoio!AJ101 -> 5 | F19: =Apoio!AK101 -> 9 | G19: =Apoio!AL101 -> 10 | H19: =Apoio!AM101 -> 11 | I19: =Apoio!AN101 -> 12 | ... P19: =Apoio!AU101 -> 22 | R19: 2
B20: =Apoio!AG102 -> 1 | C20: =Apoio!AH102 -> 2 | D20: =Apoio!AI102 -> 3 | E20: =Apoio!AJ102 -> 5 | F20: =Apoio!AK102 -> 7 | G20: =Apoio!AL102 -> 8 | H20: =Apoio!AM102 -> 9 | I20: =Apoio!AN102 -> 11 | ... P20: =Apoio!AU102 -> 22 | R20: 3
B21: =Apoio!AG103 -> 1 | C21: =Apoio!AH103 -> 2 | D21: =Apoio!AI103 -> 3 | E21: =Apoio!AJ103 -> 5 | F21: =Apoio!AK103 -> 6 | G21: =Apoio!AL103 -> 9 | H21: =Apoio!AM103 -> 10 | I21: =Apoio!AN103 -> 11 | ... P21: =Apoio!AU103 -> 22 | R21: 4
B22: =Apoio!AG104 -> 1 | C22: =Apoio!AH104 -> 2 | D22: =Apoio!AI104 -> 3 | E22: =Apoio!AJ104 -> 4 | F22: =Apoio!AK104 -> 6 | G22: =Apoio!AL104 -> 7 | H22: =Apoio!AM104 -> 8 | I22: =Apoio!AN104 -> 9 | ... P22: =Apoio!AU104 -> 22 | R22: 5
B23: =Apoio!AG105 -> 1 | C23: =Apoio!AH105 -> 2 | D23: =Apoio!AI105 -> 3 | E23: =Apoio!AJ105 -> 4 | F23: =Apoio!AK105 -> 6 | G23: =Apoio!AL105 -> 7 | H23: =Apoio!AM105 -> 8 | I23: =Apoio!AN105 -> 9 | ... P23: =Apoio!AU105 -> 22 | R23: 6
B24: =Apoio!AG106 -> 1 | C24: =Apoio!AH106 -> 2 | D24: =Apoio!AI106 -> 3 | E24: =Apoio!AJ106 -> 4 | F24: =Apoio!AK106 -> 5 | G24: =Apoio!AL106 -> 7 | H24: =Apoio!AM106 -> 8 | I24: =Apoio!AN106 -> 9 | ... P24: =Apoio!AU106 -> 22 | R24: 7
B25: =Apoio!AG107 -> 1 | C25: =Apoio!AH107 -> 2 | D25: =Apoio!AI107 -> 3 | E25: =Apoio!AJ107 -> 4 | F25: =Apoio!AK107 -> 5 | G25: =Apoio!AL107 -> 6 | H25: =Apoio!AM107 -> 9 | I25: =Apoio!AN107 -> 11 | ... P25: =Apoio!AU107 -> 22 | R25: 8
B26: =Apoio!AG108 -> 1 | C26: =Apoio!AH108 -> 2 | D26: =Apoio!AI108 -> 3 | E26: =Apoio!AJ108 -> 4 | F26: =Apoio!AK108 -> 5 | G26: =Apoio!AL108 -> 6 | H26: =Apoio!AM108 -> 7 | I26: =Apoio!AN108 -> 8 | ... P26: =Apoio!AU108 -> 22 | R26: 9
B27: =Apoio!AG109 -> 2 | C27: =Apoio!AH109 -> 4 | D27: =Apoio!AI109 -> 5 | E27: =Apoio!AJ109 -> 6 | F27: =Apoio!AK109 -> 7 | G27: =Apoio!AL109 -> 8 | H27: =Apoio!AM109 -> 10 | I27: =Apoio!AN109 -> 11 | ... P27: =Apoio!AU109 -> 21 | R27: 10
B28: =Apoio!AG110 -> 3 | C28: =Apoio!AH110 -> 4 | D28: =Apoio!AI110 -> 5 | E28: =Apoio!AJ110 -> 6 | F28: =Apoio!AK110 -> 7 | G28: =Apoio!AL110 -> 8 | H28: =Apoio!AM110 -> 9 | I28: =Apoio!AN110 -> 10 | ... P28: =Apoio!AU110 -> 21 | R28: 11

Sheet Opcao4
AA1: ="V"&X5 -> V1
A2: Opção 4 ( 19 fixos )
X5: 1 | Y5: 10
B16: Total de 127 volantes
B18: =Apoio!BM140 -> 1 | C18: =Apoio!BN140 -> 2 | D18: =Apoio!BO140 -> 5 | E18: =Apoio!BP140 -> 6 | F18: =Apoio!BQ140 -> 7 | G18: =Apoio!BR140 -> 9 | H18: =Apoio!BS140 -> 11 | I18: =Apoio!BT140 -> 12 | ... P18: =Apoio!CA140 -> 22 | R18: 1 | T18: =Apoio!BM204 -> 1 | U18: =Apoio!BN204 -> 2 | V18: =Apoio!BO204 -> 3 | W18: =Apoio!BP204 -> 5 | X18: =Apoio!BQ204 -> 6 | Y18: =Apoio!BR204 -> 7 | Z18: =Apoio!BS204 -> 8 | AA18: =Apoio!BT204 -> 9 | ... AH18: =Apoio!CA204 -> 22 | AJ18: 65
B19: =Apoio!BM141 -> 1 | C19: =Apoio!BN141 -> 2 | D19: =Apoio!BO141 -> 4 | E19: =Apoio!BP141 -> 5 | F19: =Apoio!BQ141 -> 6 | G19: =Apoio!BR141 -> 8 | H19: =Apoio!BS141 -> 9 | I19: =Apoio!BT141 -> 10 | ... P19: =Apoio!CA141 -> 22 | R19: 2 | T19: =Apoio!BM205 -> 1 | U19: =Apoio!BN205 -> 2 | V19: =Apoio!BO205 -> 3 | W19: =Apoio!BP205 -> 4 | X19: =Apoio!BQ205 -> 5 | Y19: =Apoio!BR205 -> 6 | Z19: =Apoio!BS205 -> 7 | AA19: =Apoio!BT205 -> 8 | ... AH19: =Apoio!CA205 -> 22 | AJ19: 66
B20: =Apoio!BM142 -> 1 | C20: =Apoio!BN142 -> 2 | D20: =Apoio!BO142 -> 4 | E20: =Apoio!BP142 -> 5 | F20: =Apoio!BQ142 -> 6 | G20: =Apoio!BR142 -> 7 | H20: =Apoio!BS142 -> 8 | I20: =Apoio!BT142 -> 9 | ... P20: =Apoio!CA142 -> 21 | R20: 3 | T20: =Apoio!BM206 -> 1 | U20: =Apoio!BN206 -> 2 | V20: =Apoio!BO206 -> 3 | W20: =Apoio!BP206 -> 4 | X20: =Apoio!BQ206 -> 5 | Y20: =Apoio!BR206 -> 7 | Z20: =Apoio!BS206 -> 10 | AA20: =Apoio!BT206 -> 11 | ... AH20: =Apoio!CA206 -> 22 | AJ20: 67
B21: =Apoio!BM143 -> 1 | C21: =Apoio!BN143 -> 2 | D21: =Apoio!BO143 -> 3 | E21: =Apoio!BP143 -> 5 | F21: =Apoio!BQ143 -> 7 | G21: =Apoio!BR143 -> 8 | H21: =Apoio!BS143 -> 10 | I21: =Apoio!BT143 -> 11 | ... P21: =Apoio!CA143 -> 22 | R21: 4 | T21: =Apoio!BM207 -> 1 | U21: =Apoio!BN207 -> 3 | V21: =Apoio!BO207 -> 4 | W21: =Apoio!BP207 -> 5 | X21: =Apoio!BQ207 -> 6 | Y21: =Apoio!BR207 -> 8 | Z21: =Apoio!BS207 -> 9 | AA21: =Apoio!BT207 -> 10 | ... AH21: =Apoio!CA207 -> 22 | AJ21: 68
B22: =Apoio!BM144 -> 1 | C22: =Apoio!BN144 -> 2 | D22: =Apoio!BO144 -> 3 | E22: =Apoio!BP144 -> 4 | F22: =Apoio!BQ144 -> 5 | G22: =Apoio!BR144 -> 6 | H22: =Apoio!BS144 -> 8 | I22: =Apoio!BT144 -> 10 | ... P22: =Apoio!CA144 -> 22 | R22: 5 | T22: =Apoio!BM208 -> 1 | U22: =Apoio!BN208 -> 4 | V22: =Apoio!BO208 -> 5 | W22: =Apoio!BP208 -> 6 | X22: =Apoio!BQ208 -> 7 | Y22: =Apoio!BR208 -> 8 | Z22: =Apoio!BS208 -> 11 | AA22: =Apoio!BT208 -> 12 | ... AH22: =Apoio!CA208 -> 22 | AJ22: 69
B23: =Apoio!BM145 -> 1 | C23: =Apoio!BN145 -> 2 | D23: =Apoio!BO145 -> 4 | E23: =Apoio!BP145 -> 6 | F23: =Apoio!BQ145 -> 7 | G23: =Apoio!BR145 -> 8 | H23: =Apoio!BS145 -> 9 | I23: =Apoio!BT145 -> 10 | ... P23: =Apoio!CA145 -> 22 | R23: 6 | T23: =Apoio!BM209 -> 1 | U23: =Apoio!BN209 -> 2 | V23: =Apoio!BO209 -> 3 | W23: =Apoio!BP209 -> 5 | X23: =Apoio!BQ209 -> 6 | Y23: =Apoio!BR209 -> 8 | Z23: =Apoio!BS209 -> 9 | AA23: =Apoio!BT209 -> 10 | ... AH23: =Apoio!CA209 -> 22 | AJ23: 70
B24: =Apoio!BM146 -> 1 | C24: =Apoio!BN146 -> 2 | D24: =Apoio!BO146 -> 3 | E24: =Apoio!BP146 -> 4 | F24: =Apoio!BQ146 -> 6 | G24: =Apoio!BR146 -> 7 | H24: =Apoio!BS146 -> 8 | I24: =Apoio!BT146 -> 9 | ... P24: =Apoio!CA146 -> 20 | R24: 7 | T24: =Apoio!BM210 -> 1 | U24: =Apoio!BN210 -> 2 | V24: =Apoio!BO210 -> 3 | W24: =Apoio!BP210 -> 4 | X24: =Apoio!BQ210 -> 5 | Y24: =Apoio!BR210 -> 6 | Z24: =Apoio!BS210 -> 8 | AA24: =Apoio!BT210 -> 11 | ... AH24: =Apoio!CA210 -> 22 | AJ24: 71
B25: =Apoio!BM147 -> 1 | C25: =Apoio!BN147 -> 2 | D25: =Apoio!BO147 -> 4 | E25: =Apoio!BP147 -> 5 | F25: =Apoio!BQ147 -> 6 | G25: =Apoio!BR147 -> 9 | H25: =Apoio!BS147 -> 10 | I25: =Apoio!BT147 -> 12 | ... P25: =Apoio!CA147 -> 22 | R25: 8 | T25: =Apoio!BM211 -> 1 | U25: =Apoio!BN211 -> 2 | V25: =Apoio!BO211 -> 3 | W25: =Apoio!BP211 -> 4 | X25: =Apoio!BQ211 -> 7 | Y25: =Apoio!BR211 -> 8 | Z25: =Apoio!BS211 -> 9 | AA25: =Apoio!BT211 -> 10 | ... AH25: =Apoio!CA211 -> 22 | AJ25: 72
B26: =Apoio!BM148 -> 1 | C26: =Apoio!BN148 -> 2 | D26: =Apoio!BO148 -> 4 | E26: =Apoio!BP148 -> 5 | F26: =Apoio!BQ148 -> 6 | G26: =Apoio!BR148 -> 8 | H26: =Apoio!BS148 -> 9 | I26: =Apoio!BT148 -> 10 | ... P26: =Apoio!CA148 -> 22 | R26: 9 | T26: =Apoio!BM212 -> 1 | U26: =Apoio!BN212 -> 2 | V26: =Apoio!BO212 -> 3 | W26: =Apoio!BP212 -> 4 | X26: =Apoio!BQ212 -> 5 | Y26: =Apoio!BR212 -> 8 | Z26: =Apoio!BS212 -> 9 | AA26: =Apoio!BT212 -> 10 | ... AH26: =Apoio!CA212 -> 22 | AJ26: 73
B27: =Apoio!BM149 -> 1 | C27: =Apoio!BN149 -> 2 | D27: =Apoio!BO149 -> 3 | E27: =Apoio!BP149 -> 5 | F27: =Apoio!BQ149 -> 6 | G27: =Apoio!BR149 -> 7 | H27: =Apoio!BS149 -> 8 | I27: =Apoio!BT149 -> 9 | ... P27: =Apoio!CA149 -> 22 | R27: 10 | T27: =Apoio!BM213 -> 1 | U27: =Apoio!BN213 -> 2 | V27: =Apoio!BO213 -> 3 | W27: =Apoio!BP213 -> 4 | X27: =Apoio!BQ213 -> 6 | Y27: =Apoio!BR213 -> 7 | Z27: =Apoio!BS213 -> 8 | AA27: =Apoio!BT213 -> 11 | ... AH27: =Apoio!CA213 -> 22 | AJ27: 74
B28: =Apoio!BM150 -> 1 | C28: =Apoio!BN150 -> 2 | D28: =Apoio!BO150 -> 3 | E28: =Apoio!BP150 -> 6 | F28: =Apoio!BQ150 -> 7 | G28: =Apoio!BR150 -> 8 | H28: =Apoio!BS150 -> 9 | I28: =Apoio!BT150 -> 10 | ... P28: =Apoio!CA150 -> 22 | R28: 11 | T28: =Apoio!BM214 -> 1 | U28: =Apoio!BN214 -> 2 | V28: =Apoio!BO214 -> 4 | W28: =Apoio!BP214 -> 8 | X28: =Apoio!BQ214 -> 9 | Y28: =Apoio!BR214 -> 10 | Z28: =Apoio!BS214 -> 11 | AA28: =Apoio!BT214 -> 12 | ... AH28: =Apoio!CA214 -> 22 | AJ28: 75
B29: =Apoio!BM151 -> 1 | C29: =Apoio!BN151 -> 2 | D29: =Apoio!BO151 -> 3 | E29: =Apoio!BP151 -> 6 | F29: =Apoio!BQ151 -> 7 | G29: =Apoio!BR151 -> 8 | H29: =Apoio!BS151 -> 9 | I29: =Apoio!BT151 -> 11 | ... P29: =Apoio!CA151 -> 22 | R29: 12 | T29: =Apoio!BM215 -> 1 | U29: =Apoio!BN215 -> 2 | V29: =Apoio!BO215 -> 5 | W29: =Apoio!BP215 -> 6 | X29: =Apoio!BQ215 -> 7 | Y29: =Apoio!BR215 -> 8 | Z29: =Apoio!BS215 -> 9 | AA29: =Apoio!BT215 -> 10 | ... AH29: =Apoio!CA215 -> 21 | AJ29: 76
... B80: =Apoio!BM202 -> 1 | C80: =Apoio!BN202 -> 2 | D80: =Apoio!BO202 -> 3 | E80: =Apoio!BP202 -> 5 | F80: =Apoio!BQ202 -> 6 | G80: =Apoio!BR202 -> 9 | H80: =Apoio!BS202 -> 10 | I80: =Apoio!BT202 -> 11 | ... P80: =Apoio!CA202 -> 22 | R80: 63 | T80: =Apoio!BM266 -> 3 | U80: =Apoio!BN266 -> 5 | V80: =Apoio!BO266 -> 6 | W80: =Apoio!BP266 -> 7 | X80: =Apoio!BQ266 -> 8 | Y80: =Apoio!BR266 -> 9 | Z80: =Apoio!BS266 -> 10 | AA80: =Apoio!BT266 -> 11 | ... AH80: =Apoio!CA266 -> 22 | AJ80: 127
B81: =Apoio!BM203 -> 1 | C81: =Apoio!BN203 -> 2 | D81: =Apoio!BO203 -> 3 | E81: =Apoio!BP203 -> 4 | F81: =Apoio!BQ203 -> 5 | G81: =Apoio!BR203 -> 6 | H81: =Apoio!BS203 -> 7 | I81: =Apoio!BT203 -> 9 | ... P81: =Apoio!CA203 -> 22 | R81: 64

Sheet Apoio
A3: 1 | B3: 2 | C3: 3 | D3: 4 | E3: 5 | F3: 6 | G3: 7 | H3: 8 | I3: 9 | J3: 10 | K3: 11 | L3: 12 | M3: 13 | N3: 14 | O3: 15 | P3: 16 | Q3: 17 | R3: 18 | S3: 19
A4: =Início!B17 -> 1 | B4: =Início!C17 -> 2 | C4: =Início!D17 -> 3 | D4: =Início!E17 -> 4 | E4: =Início!F17 -> 5 | F4: =Início!G17 -> 6 | G4: =Início!H17 -> 7 | H4: =Início!I17 -> 8 | ... J4: =Início!K17 -> 10 | K4: =Início!B18 -> 11 | L4: =Início!C18 -> 12 | M4: =Início!D18 -> 13 | N4: =Início!E18 -> 14 | O4: =Início!F18 -> 15 | P4: =Início!G18 -> 16 | Q4: =Início!H18 -> 22 | R4: =Início!I18 -> 21 | S4: =Início!J18 -> 20
A9: =LOOKUP(Q9,$A$3:$Y$3,$A$4:$Y$4) -> 2 | B9: =LOOKUP(R9,$A$3:$Y$3,$A$4:$Y$4) -> 5 | C9: =LOOKUP(S9,$A$3:$Y$3,$A$4:$Y$4) -> 6 | D9: =LOOKUP(T9,$A$3:$Y$3,$A$4:$Y$4) -> 7 | E9: =LOOKUP(U9,$A$3:$Y$3,$A$4:$Y$4) -> 8 | F9: =LOOKUP(V9,$A$3:$Y$3,$A$4:$Y$4) -> 10 | G9: =LOOKUP(W9,$A$3:$Y$3,$A$4:$Y$4) -> 11 | H9: =LOOKUP(X9,$A$3:$Y$3,$A$4:$Y$4) -> 12 | ... O9: =LOOKUP(AE9,$A$3:$Y$3,$A$4:$Y$4) -> 20 | Q9: 2 | R9: 5 | S9: 6 | T9: 7 | U9: 8 | V9: 10 | W9: 11 | X9: 12 | Y9: 13 | Z9: 14 | AA9: 15 | AB9: 16 | AC9: 17 | AD9: 18 | AE9: 19 | AG9: =LOOKUP(AW9,$A$3:$Y$3,$A$4:$Y$4) -> 1 | AH9: =LOOKUP(AX9,$A$3:$Y$3,$A$4:$Y$4) -> 2 | AI9: =LOOKUP(AY9,$A$3:$Y$3,$A$4:$Y$4) -> 3 | AJ9: =LOOKUP(AZ9,$A$3:$Y$3,$A$4:$Y$4) -> 4 | AK9: =LOOKUP(BA9,$A$3:$Y$3,$A$4:$Y$4) -> 5 | AL9: =LOOKUP(BB9,$A$3:$Y$3,$A$4:$Y$4) -> 6 | AM9: =LOOKUP(BC9,$A$3:$Y$3,$A$4:$Y$4) -> 7 | AN9: =LOOKUP(BD9,$A$3:$Y$3,$A$4:$Y$4) -> 8 | ... AU9: =LOOKUP(BK9,$A$3:$Y$3,$A$4:$Y$4) -> 20 | AW9: 1 | AX9: 2 | AY9: 3 | AZ9: 4 | BA9: 5 | BB9: 6 | BC9: 7 | BD9: 8 | BE9: 9 | BF9: 10 | BG9: 13 | BH9: 14 | BI9: 16 | BJ9: 17 | BK9: 19 | BM9: =LOOKUP(CC9,$A$3:$Y$3,$A$4:$AE$4) -> 1 | BN9: =LOOKUP(CD9,$A$3:$Y$3,$A$4:$AE$4) -> 2 | BO9: =LOOKUP(CE9,$A$3:$Y$3,$A$4:$AE$4) -> 5 | BP9: =LOOKUP(CF9,$A$3:$Y$3,$A$4:$AE$4) -> 6 | BQ9: =LOOKUP(CG9,$A$3:$Y$3,$A$4:$AE$4) -> 7 | BR9: =LOOKUP(CH9,$A$3:$Y$3,$A$4:$AE$4) -> 9 | BS9: =LOOKUP(CI9,$A$3:$Y$3,$A$4:$AE$4) -> 11 | BT9: =LOOKUP(CJ9,$A$3:$Y$3,$A$4:$AE$4) -> 12 | ... CA9: =LOOKUP(CQ9,$A$3:$Y$3,$A$4:$AE$4) -> 20 | CC9: 1 | CD9: 2 | CE9: 5 | CF9: 6 | CG9: 7 | CH9: 9 | CI9: 11 | CJ9: 12 | CK9: 13 | CL9: 14 | CM9: 15 | CN9: 16 | CO9: 17 | CP9: 18 | CQ9: 19
A10: =LOOKUP(Q10,$A$3:$Y$3,$A$4:$Y$4) -> 3 | B10: =LOOKUP(R10,$A$3:$Y$3,$A$4:$Y$4) -> 4 | C10: =LOOKUP(S10,$A$3:$Y$3,$A$4:$Y$4) -> 5 | D10: =LOOKUP(T10,$A$3:$Y$3,$A$4:$Y$4) -> 7 | E10: =LOOKUP(U10,$A$3:$Y$3,$A$4:$Y$4) -> 8 | F10: =LOOKUP(V10,$A$3:$Y$3,$A$4:$Y$4) -> 10 | G10: =LOOKUP(W10,$A$3:$Y$3,$A$4:$Y$4) -> 11 | H10: =LOOKUP(X10,$A$3:$Y$3,$A$4:$Y$4) -> 12 | ... O10: =LOOKUP(AE10,$A$3:$Y$3,$A$4:$Y$4) -> 20 | Q10: 3 | R10: 4 | S10: 5 | T10: 7 | U10: 8 | V10: 10 | W10: 11 | X10: 12 | Y10: 13 | Z10: 14 | AA10: 15 | AB10: 16 | AC10: 17 | AD10: 18 | AE10: 19 | AG10: =LOOKUP(AW10,$A$3:$Y$3,$A$4:$Y$4) -> 1 | AH10: =LOOKUP(AX10,$A$3:$Y$3,$A$4:$Y$4) -> 2 | AI10: =LOOKUP(AY10,$A$3:$Y$3,$A$4:$Y$4) -> 3 | AJ10: =LOOKUP(AZ10,$A$3:$Y$3,$A$4:$Y$4) -> 4 | AK10: =LOOKUP(BA10,$A$3:$Y$3,$A$4:$Y$4) -> 5 | AL10: =LOOKUP(BB10,$A$3:$Y$3,$A$4:$Y$4) -> 6 | AM10: =LOOKUP(BC10,$A$3:$Y$3,$A$4:$Y$4) -> 7 | AN10: =LOOKUP(BD10,$A$3:$Y$3,$A$4:$Y$4) -> 8 | ... AU10: =LOOKUP(BK10,$A$3:$Y$3,$A$4:$Y$4) -> 20 | AW10: 1 | AX10: 2 | AY10: 3 | AZ10: 4 | BA10: 5 | BB10: 6 | BC10: 7 | BD10: 8 | BE10: 9 | BF10: 10 | BG10: 13 | BH10: 15 | BI10: 16 | BJ10: 18 | BK10: 19 | BM10: =LOOKUP(CC10,$A$3:$Y$3,$A$4:$AE$4) -> 1 | BN10: =LOOKUP(CD10,$A$3:$Y$3,$A$4:$AE$4) -> 2 | BO10: =LOOKUP(CE10,$A$3:$Y$3,$A$4:$AE$4) -> 4 | BP10: =LOOKUP(CF10,$A$3:$Y$3,$A$4:$AE$4) -> 5 | BQ10: =LOOKUP(CG10,$A$3:$Y$3,$A$4:$AE$4) -> 6 | BR10: =LOOKUP(CH10,$A$3:$Y$3,$A$4:$AE$4) -> 8 | BS10: =LOOKUP(CI10,$A$3:$Y$3,$A$4:$AE$4) -> 9 | BT10: =LOOKUP(CJ10,$A$3:$Y$3,$A$4:$AE$4) -> 10 | ... CA10: =LOOKUP(CQ10,$A$3:$Y$3,$A$4:$AE$4) -> 20 | CC10: 1 | CD10: 2 | CE10: 4 | CF10: 5 | CG10: 6 | CH10: 8 | CI10: 9 | CJ10: 10 | CK10: 11 | CL10: 14 | CM10: 15 | CN10: 16 | CO10: 17 | CP10: 18 | CQ10: 19
A11: =LOOKUP(Q11,$A$3:$Y$3,$A$4:$Y$4) -> 1 | B11: =LOOKUP(R11,$A$3:$Y$3,$A$4:$Y$4) -> 2 | C11: =LOOKUP(S11,$A$3:$Y$3,$A$4:$Y$4) -> 3 | D11: =LOOKUP(T11,$A$3:$Y$3,$A$4:$Y$4) -> 5 | E11: =LOOKUP(U11,$A$3:$Y$3,$A$4:$Y$4) -> 6 | F11: =LOOKUP(V11,$A$3:$Y$3,$A$4:$Y$4) -> 10 | G11: =LOOKUP(W11,$A$3:$Y$3,$A$4:$Y$4) -> 11 | H11: =LOOKUP(X11,$A$3:$Y$3,$A$4:$Y$4) -> 12 | ... O11: =LOOKUP(AE11,$A$3:$Y$3,$A$4:$Y$4) -> 20 | Q11: 1 | R11: 2 | S11: 3 | T11: 5 | U11: 6 | V11: 10 | W11: 11 | X11: 12 | Y11: 13 | Z11: 14 | AA11: 15 | AB11: 16 | AC11: 17 | AD11: 18 | AE11: 19 | AG11: =LOOKUP(AW11,$A$3:$Y$3,$A$4:$Y$4) -> 1 | AH11: =LOOKUP(AX11,$A$3:$Y$3,$A$4:$Y$4) -> 2 | AI11: =LOOKUP(AY11,$A$3:$Y$3,$A$4:$Y$4) -> 3 | AJ11: =LOOKUP(AZ11,$A$3:$Y$3,$A$4:$Y$4) -> 4 | AK11: =LOOKUP(BA11,$A$3:$Y$3,$A$4:$Y$4) -> 5 | AL11: =LOOKUP(BB11,$A$3:$Y$3,$A$4:$Y$4) -> 6 | AM11: =LOOKUP(BC11,$A$3:$Y$3,$A$4:$Y$4) -> 7 | AN11: =LOOKUP(BD11,$A$3:$Y$3,$A$4:$Y$4) -> 9 | ... AU11: =LOOKUP(BK11,$A$3:$Y$3,$A$4:$Y$4) -> 20 | AW11: 1 | AX11: 2 | AY11: 3 | AZ11: 4 | BA11: 5 | BB11: 6 | BC11: 7 | BD11: 9 | BE11: 10 | BF11: 11 | BG11: 12 | BH11: 16 | BI11: 17 | BJ11: 18 | BK11: 19 | BM11: =LOOKUP(CC11,$A$3:$Y$3,$A$4:$AE$4) -> 1 | BN11: =LOOKUP(CD11,$A$3:$Y$3,$A$4:$AE$4) -> 2 | BO11: =LOOKUP(CE11,$A$3:$Y$3,$A$4:$AE$4) -> 4 | BP11: =LOOKUP(CF11,$A$3:$Y$3,$A$4:$AE$4) -> 5 | BQ11: =LOOKUP(CG11,$A$3:$Y$3,$A$4:$AE$4) -> 6 | BR11: =LOOKUP(CH11,$A$3:$Y$3,$A$4:$AE$4) -> 7 | BS11: =LOOKUP(CI11,$A$3:$Y$3,$A$4:$AE$4) -> 8 | BT11: =LOOKUP(CJ11,$A$3:$Y$3,$A$4:$AE$4) -> 9 | ... CA11: =LOOKUP(CQ11,$A$3:$Y$3,$A$4:$AE$4) -> 21 | CC11: 1 | CD11: 2 | CE11: 4 | CF11: 5 | CG11: 6 | CH11: 7 | CI11: 8 | CJ11: 9 | CK11: 10 | CL11: 11 | CM11: 12 | CN11: 14 | CO11: 15 | CP11: 16 | CQ11: 18
A12: =LOOKUP(Q12,$A$3:$Y$3,$A$4:$Y$4) -> 3 | B12: =LOOKUP(R12,$A$3:$Y$3,$A$4:$Y$4) -> 4 | C12: =LOOKUP(S12,$A$3:$Y$3,$A$4:$Y$4) -> 5 | D12: =LOOKUP(T12,$A$3:$Y$3,$A$4:$Y$4) -> 7 | E12: =LOOKUP(U12,$A$3:$Y$3,$A$4:$Y$4) -> 8 | F12: =LOOKUP(V12,$A$3:$Y$3,$A$4:$Y$4) -> 9 | G12: =LOOKUP(W12,$A$3:$Y$3,$A$4:$Y$4) -> 11 | H12: =LOOKUP(X12,$A$3:$Y$3,$A$4:$Y$4) -> 12 | ... O12: =LOOKUP(AE12,$A$3:$Y$3,$A$4:$Y$4) -> 20 | Q12: 3 | R12: 4 | S12: 5 | T12: 7 | U12: 8 | V12: 9 | W12: 11 | X12: 12 | Y12: 13 | Z12: 14 | AA12: 15 | AB12: 16 | AC12: 17 | AD12: 18 | AE12: 19 | AG12: =LOOKUP(AW12,$A$3:$Y$3,$A$4:$Y$4) -> 1 | AH12: =LOOKUP(AX12,$A$3:$Y$3,$A$4:$Y$4) -> 2 | AI12: =LOOKUP(AY12,$A$3:$Y$3,$A$4:$Y$4) -> 3 | AJ12: =LOOKUP(AZ12,$A$3:$Y$3,$A$4:$Y$4) -> 4 | AK12: =LOOKUP(BA12,$A$3:$Y$3,$A$4:$Y$4) -> 5 | AL12: =LOOKUP(BB12,$A$3:$Y$3,$A$4:$Y$4) -> 6 | AM12: =LOOKUP(BC12,$A$3:$Y$3,$A$4:$Y$4) -> 7 | AN12: =LOOKUP(BD12,$A$3:$Y$3,$A$4:$Y$4) -> 11 | ... AU12: =LOOKUP(BK12,$A$3:$Y$3,$A$4:$Y$4) -> 20 | AW12: 1 | AX12: 2 | AY12: 3 | AZ12: 4 | BA12: 5 | BB12: 6 | BC12: 7 | BD12: 11 | BE12: 13 | BF12: 14 | BG12: 15 | BH12: 16 | BI12: 17 | BJ12: 18 | BK12: 19 | BM12: =LOOKUP(CC12,$A$3:$Y$3,$A$4:$AE$4) -> 1 | BN12: =LOOKUP(CD12,$A$3:$Y$3,$A$4:$AE$4) -> 2 | BO12: =LOOKUP(CE12,$A$3:$Y$3,$A$4:$AE$4) -> 3 | BP12: =LOOKUP(CF12,$A$3:$Y$3,$A$4:$AE$4) -> 5 | BQ12: =LOOKUP(CG12,$A$3:$Y$3,$A$4:$AE$4) -> 7 | BR12: =LOOKUP(CH12,$A$3:$Y$3,$A$4:$AE$4) -> 8 | BS12: =LOOKUP(CI12,$A$3:$Y$3,$A$4:$AE$4) -> 10 | BT12: =LOOKUP(CJ12,$A$3:$Y$3,$A$4:$AE$4) -> 11 | ... CA12: =LOOKUP(CQ12,$A$3:$Y$3,$A$4:$AE$4) -> 20 | CC12: 1 | CD12: 2 | CE12: 3 | CF12: 5 | CG12: 7 | CH12: 8 | CI12: 10 | CJ12: 11 | CK12: 12 | CL12: 13 | CM12: 14 | CN12: 16 | CO12: 17 | CP12: 18 | CQ12: 19
A13: =LOOKUP(Q13,$A$3:$Y$3,$A$4:$Y$4) -> 1 | B13: =LOOKUP(R13,$A$3:$Y$3,$A$4:$Y$4) -> 2 | C13: =LOOKUP(S13,$A$3:$Y$3,$A$4:$Y$4) -> 3 | D13: =LOOKUP(T13,$A$3:$Y$3,$A$4:$Y$4) -> 4 | E13: =LOOKUP(U13,$A$3:$Y$3,$A$4:$Y$4) -> 8 | F13: =LOOKUP(V13,$A$3:$Y$3,$A$4:$Y$4) -> 9 | G13: =LOOKUP(W13,$A$3:$Y$3,$A$4:$Y$4) -> 10 | H13: =LOOKUP(X13,$A$3:$Y$3,$A$4:$Y$4) -> 12 | ... O13: =LOOKUP(AE13,$A$3:$Y$3,$A$4:$Y$4) -> 20 | Q13: 1 | R13: 2 | S13: 3 | T13: 4 | U13: 8 | V13: 9 | W13: 10 | X13: 12 | Y13: 13 | Z13: 14 | AA13: 15 | AB13: 16 | AC13: 17 | AD13: 18 | AE13: 19 | AG13: =LOOKUP(AW13,$A$3:$Y$3,$A$4:$Y$4) -> 1 | AH13: =LOOKUP(AX13,$A$3:$Y$3,$A$4:$Y$4) -> 2 | AI13: =LOOKUP(AY13,$A$3:$Y$3,$A$4:$Y$4) -> 3 | AJ13: =LOOKUP(AZ13,$A$3:$Y$3,$A$4:$Y$4) -> 4 | AK13: =LOOKUP(BA13,$A$3:$Y$3,$A$4:$Y$4) -> 5 | AL13: =LOOKUP(BB13,$A$3:$Y$3,$A$4:$Y$4) -> 6 | AM13: =LOOKUP(BC13,$A$3:$Y$3,$A$4:$Y$4) -> 8 | AN13: =LOOKUP(BD13,$A$3:$Y$3,$A$4:$Y$4) -> 9 | ... AU13: =LOOKUP(BK13,$A$3:$Y$3,$A$4:$Y$4) -> 21 | AW13: 1 | AX13: 2 | AY13: 3 | AZ13: 4 | BA13: 5 | BB13: 6 | BC13: 8 | BD13: 9 | BE13: 10 | BF13: 11 | BG13: 13 | BH13: 14 | BI13: 15 | BJ13: 17 | BK13: 18 | BM13: =LOOKUP(CC13,$A$3:$Y$3,$A$4:$AE$4) -> 1 | BN13: =LOOKUP(CD13,$A$3:$Y$3,$A$4:$AE$4) -> 2 | BO13: =LOOKUP(CE13,$A$3:$Y$3,$A$4:$AE$4) -> 3 | BP13: =LOOKUP(CF13,$A$3:$Y$3,$A$4:$AE$4) -> 4 | BQ13: =LOOKUP(CG13,$A$3:$Y$3,$A$4:$AE$4) -> 5 | BR13: =LOOKUP(CH13,$A$3:$Y$3,$A$4:$AE$4) -> 6 | BS13: =LOOKUP(CI13,$A$3:$Y$3,$A$4:$AE$4) -> 8 | BT13: =LOOKUP(CJ13,$A$3:$Y$3,$A$4:$AE$4) -> 10 | ... CA13: =LOOKUP(CQ13,$A$3:$Y$3,$A$4:$AE$4) -> 20 | CC13: 1 | CD13: 2 | CE13: 3 | CF13: 4 | CG13: 5 | CH13: 6 | CI13: 8 | CJ13: 10 | CK13: 12 | CL13: 14 | CM13: 15 | CN13: 16 | CO13: 17 | CP13: 18 | CQ13: 19
A14: =LOOKUP(Q14,$A$3:$Y$3,$A$4:$Y$4) -> 1 | B14: =LOOKUP(R14,$A$3:$Y$3,$A$4:$Y$4) -> 2 | C14: =LOOKUP(S14,$A$3:$Y$3,$A$4:$Y$4) -> 5 | D14: =LOOKUP(T14,$A$3:$Y$3,$A$4:$Y$4) -> 6 | E14: =LOOKUP(U14,$A$3:$Y$3,$A$4:$Y$4) -> 7 | F14: =LOOKUP(V14,$A$3:$Y$3,$A$4:$Y$4) -> 9 | G14: =LOOKUP(W14,$A$3:$Y$3,$A$4:$Y$4) -> 10 | H14: =LOOKUP(X14,$A$3:$Y$3,$A$4:$Y$4) -> 12 | ... O14: =LOOKUP(AE14,$A$3:$Y$3,$A$4:$Y$4) -> 20 | Q14: 1 | R14: 2 | S14: 5 | T14: 6 | U14: 7 | V14: 9 | W14: 10 | X14: 12 | Y14: 13 | Z14: 14 | AA14: 15 | AB14: 16 | AC14: 17 | AD14: 18 | AE14: 19 | AG14: =LOOKUP(AW14,$A$3:$Y$3,$A$4:$Y$4) -> 1 | AH14: =LOOKUP(AX14,$A$3:$Y$3,$A$4:$Y$4) -> 2 | AI14: =LOOKUP(AY14,$A$3:$Y$3,$A$4:$Y$4) -> 3 | AJ14: =LOOKUP(AZ14,$A$3:$Y$3,$A$4:$Y$4) -> 4 | AK14: =LOOKUP(BA14,$A$3:$Y$3,$A$4:$Y$4) -> 5 | AL14: =LOOKUP(BB14,$A$3:$Y$3,$A$4:$Y$4) -> 6 | AM14: =LOOKUP(BC14,$A$3:$Y$3,$A$4:$Y$4) -> 8 | AN14: =LOOKUP(BD14,$A$3:$Y$3,$A$4:$Y$4) -> 9 | ... AU14: =LOOKUP(BK14,$A$3:$Y$3,$A$4:$Y$4) -> 20 | AW14: 1 | AX14: 2 | AY14: 3 | AZ14: 4 | BA14: 5 | BB14: 6 | BC14: 8 | BD14: 9 | BE14: 11 | BF14: 12 | BG14: 13 | BH14: 15 | BI14: 16 | BJ14: 17 | BK14: 19 | BM14: =LOOKUP(CC14,$A$3:$Y$3,$A$4:$AE$4) -> 1 | BN14: =LOOKUP(CD14,$A$3:$Y$3,$A$4:$AE$4) -> 2 | BO14: =LOOKUP(CE14,$A$3:$Y$3,$A$4:$AE$4) -> 4 | BP14: =LOOKUP(CF14,$A$3:$Y$3,$A$4:$AE$4) -> 6 | BQ14: =LOOKUP(CG14,$A$3:$Y$3,$A$4:$AE$4) -> 7 | BR14: =LOOKUP(CH14,$A$3:$Y$3,$A$4:$AE$4) -> 8 | BS14: =LOOKUP(CI14,$A$3:$Y$3,$A$4:$AE$4) -> 9 | BT14: =LOOKUP(CJ14,$A$3:$Y$3,$A$4:$AE$4) -> 10 | ... CA14: =LOOKUP(CQ14,$A$3:$Y$3,$A$4:$AE$4) -> 20 | CC14: 1 | CD14: 2 | CE14: 4 | CF14: 6 | CG14: 7 | CH14: 8 | CI14: 9 | CJ14: 10 | CK14: 11 | CL14: 12 | CM14: 13 | CN14: 15 | CO14: 17 | CP14: 18 | CQ14: 19
A15: =LOOKUP(Q15,$A$3:$Y$3,$A$4:$Y$4) -> 1 | B15: =LOOKUP(R15,$A$3:$Y$3,$A$4:$Y$4) -> 2 | C15: =LOOKUP(S15,$A$3:$Y$3,$A$4:$Y$4) -> 3 | D15: =LOOKUP(T15,$A$3:$Y$3,$A$4:$Y$4) -> 4 | E15: =LOOKUP(U15,$A$3:$Y$3,$A$4:$Y$4) -> 5 | F15: =LOOKUP(V15,$A$3:$Y$3,$A$4:$Y$4) -> 6 | G15: =LOOKUP(W15,$A$3:$Y$3,$A$4:$Y$4) -> 8 | H15: =LOOKUP(X15,$A$3:$Y$3,$A$4:$Y$4) -> 11 | ... O15: =LOOKUP(AE15,$A$3:$Y$3,$A$4:$Y$4) -> 20 | Q15: 1 | R15: 2 | S15: 3 | T15: 4 | U15: 5 | V15: 6 | W15: 8 | X15: 11 | Y15: 13 | Z15: 14 | AA15: 15 | AB15: 16 | AC15: 17 | AD15: 18 | AE15: 19 | AG15: =LOOKUP(AW15,$A$3:$Y$3,$A$4:$Y$4) -> 1 | AH15: =LOOKUP(AX15,$A$3:$Y$3,$A$4:$Y$4) -> 2 | AI15: =LOOKUP(AY15,$A$3:$Y$3,$A$4:$Y$4) -> 3 | AJ15: =LOOKUP(AZ15,$A$3:$Y$3,$A$4:$Y$4) -> 4 | AK15: =LOOKUP(BA15,$A$3:$Y$3,$A$4:$Y$4) -> 5 | AL15: =LOOKUP(BB15,$A$3:$Y$3,$A$4:$Y$4) -> 7 | AM15: =LOOKUP(BC15,$A$3:$Y$3,$A$4:$Y$4) -> 8 | AN15: =LOOKUP(BD15,$A$3:$Y$3,$A$4:$Y$4) -> 9 | ... AU15: =LOOKUP(BK15,$A$3:$Y$3,$A$4:$Y$4) -> 21 | AW15: 1 | AX15: 2 | AY15: 3 | AZ15: 4 | BA15: 5 | BB15: 7 | BC15: 8 | BD15: 9 | BE15: 10 | BF15: 11 | BG15: 12 | BH15: 13 | BI15: 14 | BJ15: 16 | BK15: 18 | BM15: =LOOKUP(CC15,$A$3:$Y$3,$A$4:$AE$4) -> 1 | BN15: =LOOKUP(CD15,$A$3:$Y$3,$A$4:$AE$4) -> 2 | BO15: =LOOKUP(CE15,$A$3:$Y$3,$A$4:$AE$4) -> 3 | BP15: =LOOKUP(CF15,$A$3:$Y$3,$A$4:$AE$4) -> 4 | BQ15: =LOOKUP(CG15,$A$3:$Y$3,$A$4:$AE$4) -> 6 | BR15: =LOOKUP(CH15,$A$3:$Y$3,$A$4:$AE$4) -> 7 | BS15: =LOOKUP(CI15,$A$3:$Y$3,$A$4:$AE$4) -> 8 | BT15: =LOOKUP(CJ15,$A$3:$Y$3,$A$4:$AE$4) -> 9 | ... CA15: =LOOKUP(CQ15,$A$3:$Y$3,$A$4:$AE$4) -> 20 | CC15: 1 | CD15: 2 | CE15: 3 | CF15: 4 | CG15: 6 | CH15: 7 | CI15: 8 | CJ15: 9 | CK15: 10 | CL15: 11 | CM15: 12 | CN15: 13 | CO15: 14 | CP15: 15 | CQ15: 19
A16: =LOOKUP(Q16,$A$3:$Y$3,$A$4:$Y$4) -> 2 | B16: =LOOKUP(R16,$A$3:$Y$3,$A$4:$Y$4) -> 4 | C16: =LOOKUP(S16,$A$3:$Y$3,$A$4:$Y$4) -> 5 | D16: =LOOKUP(T16,$A$3:$Y$3,$A$4:$Y$4) -> 6 | E16: =LOOKUP(U16,$A$3:$Y$3,$A$4:$Y$4) -> 7 | F16: =LOOKUP(V16,$A$3:$Y$3,$A$4:$Y$4) -> 8 | G16: =LOOKUP(W16,$A$3:$Y$3,$A$4:$Y$4) -> 9 | H16: =LOOKUP(X16,$A$3:$Y$3,$A$4:$Y$4) -> 10 | ... O16: =LOOKUP(AE16,$A$3:$Y$3,$A$4:$Y$4) -> 20 | Q16: 2 | R16: 4 | S16: 5 | T16: 6 | U16: 7 | V16: 8 | W16: 9 | X16: 10 | Y16: 13 | Z16: 14 | AA16: 15 | AB16: 16 | AC16: 17 | AD16: 18 | AE16: 19 | AG16: =LOOKUP(AW16,$A$3:$Y$3,$A$4:$Y$4) -> 1 | AH16: =LOOKUP(AX16,$A$3:$Y$3,$A$4:$Y$4) -> 2 | AI16: =LOOKUP(AY16,$A$3:$Y$3,$A$4:$Y$4) -> 3 | AJ16: =LOOKUP(AZ16,$A$3:$Y$3,$A$4:$Y$4) -> 4 | AK16: =LOOKUP(BA16,$A$3:$Y$3,$A$4:$Y$4) -> 5 | AL16: =LOOKUP(BB16,$A$3:$Y$3,$A$4:$Y$4) -> 7 | AM16: =LOOKUP(BC16,$A$3:$Y$3,$A$4:$Y$4) -> 8 | AN16: =LOOKUP(BD16,$A$3:$Y$3,$A$4:$Y$4) -> 9 | ... AU16: =LOOKUP(BK16,$A$3:$Y$3,$A$4:$Y$4) -> 20 | AW16: 1 | AX16: 2 | AY16: 3 | AZ16: 4 | BA16: 5 | BB16: 7 | BC16: 8 | BD16: 9 | BE16: 10 | BF16: 11 | BG16: 12 | BH16: 14 | BI16: 15 | BJ16: 17 | BK16: 19 | BM16: =LOOKUP(CC16,$A$3:$Y$3,$A$4:$AE$4) -> 1 | BN16: =LOOKUP(CD16,$A$3:$Y$3,$A$4:$AE$4) -> 2 | BO16: =LOOKUP(CE16,$A$3:$Y$3,$A$4:$AE$4) -> 4 | BP16: =LOOKUP(CF16,$A$3:$Y$3,$A$4:$AE$4) -> 5 | BQ16: =LOOKUP(CG16,$A$3:$Y$3,$A$4:$AE$4) -> 6 | BR16: =LOOKUP(CH16,$A$3:$Y$3,$A$4:$AE$4) -> 9 | BS16: =LOOKUP(CI16,$A$3:$Y$3,$A$4:$AE$4) -> 10 | BT16: =LOOKUP(CJ16,$A$3:$Y$3,$A$4:$AE$4) -> 12 | ... CA16: =LOOKUP(CQ16,$A$3:$Y$3,$A$4:$AE$4) -> 20 | CC16: 1 | CD16: 2 | CE16: 4 | CF16: 5 | CG16: 6 | CH16: 9 | CI16: 10 | CJ16: 12 | CK16: 13 | CL16: 14 | CM16: 15 | CN16: 16 | CO16: 17 | CP16: 18 | CQ16: 19
A17: =LOOKUP(Q17,$A$3:$Y$3,$A$4:$Y$4) -> 1 | B17: =LOOKUP(R17,$A$3:$Y$3,$A$4:$Y$4) -> 3 | C17: =LOOKUP(S17,$A$3:$Y$3,$A$4:$Y$4) -> 4 | D17: =LOOKUP(T17,$A$3:$Y$3,$A$4:$Y$4) -> 6 | E17: =LOOKUP(U17,$A$3:$Y$3,$A$4:$Y$4) -> 7 | F17: =LOOKUP(V17,$A$3:$Y$3,$A$4:$Y$4) -> 8 | G17: =LOOKUP(W17,$A$3:$Y$3,$A$4:$Y$4) -> 9 | H17: =LOOKUP(X17,$A$3:$Y$3,$A$4:$Y$4) -> 10 | ... O17: =LOOKUP(AE17,$A$3:$Y$3,$A$4:$Y$4) -> 20 | Q17: 1 | R17: 3 | S17: 4 | T17: 6 | U17: 7 | V17: 8 | W17: 9 | X17: 10 | Y17: 13 | Z17: 14 | AA17: 15 | AB17: 16 | AC17: 17 | AD17: 18 | AE17: 19 | AG17: =LOOKUP(AW17,$A$3:$Y$3,$A$4:$Y$4) -> 1 | AH17: =LOOKUP(AX17,$A$3:$Y$3,$A$4:$Y$4) -> 2 | AI17: =LOOKUP(AY17,$A$3:$Y$3,$A$4:$Y$4) -> 3 | AJ17: =LOOKUP(AZ17,$A$3:$Y$3,$A$4:$Y$4) -> 4 | AK17: =LOOKUP(BA17,$A$3:$Y$3,$A$4:$Y$4) -> 5 | AL17: =LOOKUP(BB17,$A$3:$Y$3,$A$4:$Y$4) -> 7 | AM17: =LOOKUP(BC17,$A$3:$Y$3,$A$4:$Y$4) -> 8 | AN17: =LOOKUP(BD17,$A$3:$Y$3,$A$4:$Y$4) -> 10 | ... AU17: =LOOKUP(BK17,$A$3:$Y$3,$A$4:$Y$4) -> 20 | AW17: 1 | AX17: 2 | AY17: 3 | AZ17: 4 | BA17: 5 | BB17: 7 | BC17: 8 | BD17: 10 | BE17: 12 | BF17: 13 | BG17: 14 | BH17: 16 | BI17: 17 | BJ17: 18 | BK17: 19 | BM17: =LOOKUP(CC17,$A$3:$Y$3,$A$4:$AE$4) -> 1 | BN17: =LOOKUP(CD17,$A$3:$Y$3,$A$4:$AE$4) -> 2 | BO17: =LOOKUP(CE17,$A$3:$Y$3,$A$4:$AE$4) -> 4 | BP17: =LOOKUP(CF17,$A$3:$Y$3,$A$4:$AE$4) -> 5 | BQ17: =LOOKUP(CG17,$A$3:$Y$3,$A$4:$AE$4) -> 6 | BR17: =LOOKUP(CH17,$A$3:$Y$3,$A$4:$AE$4) -> 8 | BS17: =LOOKUP(CI17,$A$3:$Y$3,$A$4:$AE$4) -> 9 | BT17: =LOOKUP(CJ17,$A$3:$Y$3,$A$4:$AE$4) -> 10 | ... CA17: =LOOKUP(CQ17,$A$3:$Y$3,$A$4:$AE$4) -> 20 | CC17: 1 | CD17: 2 | CE17: 4 | CF17: 5 | CG17: 6 | CH17: 8 | CI17: 9 | CJ17: 10 | CK17: 11 | CL17: 12 | CM17: 13 | CN17: 14 | CO17: 16 | CP17: 17 | CQ17: 19
A18: =LOOKUP(Q18,$A$3:$Y$3,$A$4:$Y$4) -> 1 | B18: =LOOKUP(R18,$A$3:$Y$3,$A$4:$Y$4) -> 4 | C18: =LOOKUP(S18,$A$3:$Y$3,$A$4:$Y$4) -> 6 | D18: =LOOKUP(T18,$A$3:$Y$3,$A$4:$Y$4) -> 7 | E18: =LOOKUP(U18,$A$3:$Y$3,$A$4:$Y$4) -> 8 | F18: =LOOKUP(V18,$A$3:$Y$3,$A$4:$Y$4) -> 9 | G18: =LOOKUP(W18,$A$3:$Y$3,$A$4:$Y$4) -> 10 | H18: =LOOKUP(X18,$A$3:$Y$3,$A$4:$Y$4) -> 11 | ... O18: =LOOKUP(AE18,$A$3:$Y$3,$A$4:$Y$4) -> 20 | Q18: 1 | R18: 4 | S18: 6 | T18: 7 | U18: 8 | V18: 9 | W18: 10 | X18: 11 | Y18: 12 | Z18: 14 | AA18: 15 | AB18: 16 | AC18: 17 | AD18: 18 | AE18: 19 | AG18: =LOOKUP(AW18,$A$3:$Y$3,$A$4:$Y$4) -> 1 | AH18: =LOOKUP(AX18,$A$3:$Y$3,$A$4:$Y$4) -> 2 | AI18: =LOOKUP(AY18,$A$3:$Y$3,$A$4:$Y$4) -> 3 | AJ18: =LOOKUP(AZ18,$A$3:$Y$3,$A$4:$Y$4) -> 4 | AK18: =LOOKUP(BA18,$A$3:$Y$3,$A$4:$Y$4) -> 6 | AL18: =LOOKUP(BB18,$A$3:$Y$3,$A$4:$Y$4) -> 7 | AM18: =LOOKUP(BC18,$A$3:$Y$3,$A$4:$Y$4) -> 9 | AN18: =LOOKUP(BD18,$A$3:$Y$3,$A$4:$Y$4) -> 10 | ... AU18: =LOOKUP(BK18,$A$3:$Y$3,$A$4:$Y$4) -> 20 | AW18: 1 | AX18: 2 | AY18: 3 | AZ18: 4 | BA18: 6 | BB18: 7 | BC18: 9 | BD18: 10 | BE18: 11 | BF18: 12 | BG18: 13 | BH18: 14 | BI18: 15 | BJ18: 18 | BK18: 19 | BM18: =LOOKUP(CC18,$A$3:$Y$3,$A$4:$AE$4) -> 1 | BN18: =LOOKUP(CD18,$A$3:$Y$3,$A$4:$AE$4) -> 2 | BO18: =LOOKUP(CE18,$A$3:$Y$3,$A$4:$AE$4) -> 3 | BP18: =LOOKUP(CF18,$A$3:$Y$3,$A$4:$AE$4) -> 5 | BQ18: =LOOKUP(CG18,$A$3:$Y$3,$A$4:$AE$4) -> 6 | BR18: =LOOKUP(CH18,$A$3:$Y$3,$A$4:$AE$4) -> 7 | BS18: =LOOKUP(CI18,$A$3:$Y$3,$A$4:$AE$4) -> 8 | BT18: =LOOKUP(CJ18,$A$3:$Y$3,$A$4:$AE$4) -> 9 | ... CA18: =LOOKUP(CQ18,$A$3:$Y$3,$A$4:$AE$4) -> 20 | CC18: 1 | CD18: 2 | CE18: 3 | CF18: 5 | CG18: 6 | CH18: 7 | CI18: 8 | CJ18: 9 | CK18: 12 | CL18: 13 | CM18: 14 | CN18: 15 | CO18: 17 | CP18: 18 | CQ18: 19
A19: =LOOKUP(Q19,$A$3:$Y$3,$A$4:$Y$4) -> 1 | B19: =LOOKUP(R19,$A$3:$Y$3,$A$4:$Y$4) -> 2 | C19: =LOOKUP(S19,$A$3:$Y$3,$A$4:$Y$4) -> 3 | D19: =LOOKUP(T19,$A$3:$Y$3,$A$4:$Y$4) -> 6 | E19: =LOOKUP(U19,$A$3:$Y$3,$A$4:$Y$4) -> 8 | F19: =LOOKUP(V19,$A$3:$Y$3,$A$4:$Y$4) -> 9 | G19: =LOOKUP(W19,$A$3:$Y$3,$A$4:$Y$4) -> 10 | H19: =LOOKUP(X19,$A$3:$Y$3,$A$4:$Y$4) -> 11 | ... O19: =LOOKUP(AE19,$A$3:$Y$3,$A$4:$Y$4) -> 20 | Q19: 1 | R19: 2 | S19: 3 | T19: 6 | U19: 8 | V19: 9 | W19: 10 | X19: 11 | Y19: 12 | Z19: 14 | AA19: 15 | AB19: 16 | AC19: 17 | AD19: 18 | AE19: 19 | AG19: =LOOKUP(AW19,$A$3:$Y$3,$A$4:$Y$4) -> 1 | AH19: =LOOKUP(AX19,$A$3:$Y$3,$A$4:$Y$4) -> 2 | AI19: =LOOKUP(AY19,$A$3:$Y$3,$A$4:$Y$4) -> 3 | AJ19: =LOOKUP(AZ19,$A$3:$Y$3,$A$4:$Y$4) -> 4 | AK19: =LOOKUP(BA19,$A$3:$Y$3,$A$4:$Y$4) -> 6 | AL19: =LOOKUP(BB19,$A$3:$Y$3,$A$4:$Y$4) -> 8 | AM19: =LOOKUP(BC19,$A$3:$Y$3,$A$4:$Y$4) -> 9 | AN19: =LOOKUP(BD19,$A$3:$Y$3,$A$4:$Y$4) -> 10 | ... AU19: =LOOKUP(BK19,$A$3:$Y$3,$A$4:$Y$4) -> 20 | AW19: 1 | AX19: 2 | AY19: 3 | AZ19: 4 | BA19: 6 | BB19: 8 | BC19: 9 | BD19: 10 | BE19: 12 | BF19: 14 | BG19: 15 | BH19: 16 | BI19: 17 | BJ19: 18 | BK19: 19 | BM19: =LOOKUP(CC19,$A$3:$Y$3,$A$4:$AE$4) -> 1 | BN19: =LOOKUP(CD19,$A$3:$Y$3,$A$4:$AE$4) -> 2 | BO19: =LOOKUP(CE19,$A$3:$Y$3,$A$4:$AE$4) -> 3 | BP19: =LOOKUP(CF19,$A$3:$Y$3,$A$4:$AE$4) -> 6 | BQ19: =LOOKUP(CG19,$A$3:$Y$3,$A$4:$AE$4) -> 7 | BR19: =LOOKUP(CH19,$A$3:$Y$3,$A$4:$AE$4) -> 8 | BS19: =LOOKUP(CI19,$A$3:$Y$3,$A$4:$AE$4) -> 9 | BT19: =LOOKUP(CJ19,$A$3:$Y$3,$A$4:$AE$4) -> 10 | ... CA19: =LOOKUP(CQ19,$A$3:$Y$3,$A$4:$AE$4) -> 21 | CC19: 1 | CD19: 2 | CE19: 3 | CF19: 6 | CG19: 7 | CH19: 8 | CI19: 9 | CJ19: 10 | CK19: 12 | CL19: 13 | CM19: 14 | CN19: 15 | CO19: 16 | CP19: 17 | CQ19: 18
A20: =LOOKUP(Q20,$A$3:$Y$3,$A$4:$Y$4) -> 1 | B20: =LOOKUP(R20,$A$3:$Y$3,$A$4:$Y$4) -> 3 | C20: =LOOKUP(S20,$A$3:$Y$3,$A$4:$Y$4) -> 5 | D20: =LOOKUP(T20,$A$3:$Y$3,$A$4:$Y$4) -> 6 | E20: =LOOKUP(U20,$A$3:$Y$3,$A$4:$Y$4) -> 7 | F20: =LOOKUP(V20,$A$3:$Y$3,$A$4:$Y$4) -> 8 | G20: =LOOKUP(W20,$A$3:$Y$3,$A$4:$Y$4) -> 10 | H20: =LOOKUP(X20,$A$3:$Y$3,$A$4:$Y$4) -> 11 | ... O20: =LOOKUP(AE20,$A$3:$Y$3,$A$4:$Y$4) -> 20 | Q20: 1 | R20: 3 | S20: 5 | T20: 6 | U20: 7 | V20: 8 | W20: 10 | X20: 11 | Y20: 12 | Z20: 14 | AA20: 15 | AB20: 16 | AC20: 17 | AD20: 18 | AE20: 19 | AG20: =LOOKUP(AW20,$A$3:$Y$3,$A$4:$Y$4) -> 1 | AH20: =LOOKUP(AX20,$A$3:$Y$3,$A$4:$Y$4) -> 2 | AI20: =LOOKUP(AY20,$A$3:$Y$3,$A$4:$Y$4) -> 3 | AJ20: =LOOKUP(AZ20,$A$3:$Y$3,$A$4:$Y$4) -> 5 | AK20: =LOOKUP(BA20,$A$3:$Y$3,$A$4:$Y$4) -> 6 | AL20: =LOOKUP(BB20,$A$3:$Y$3,$A$4:$Y$4) -> 7 | AM20: =LOOKUP(BC20,$A$3:$Y$3,$A$4:$Y$4) -> 8 | AN20: =LOOKUP(BD20,$A$3:$Y$3,$A$4:$Y$4) -> 9 | ... AU20: =LOOKUP(BK20,$A$3:$Y$3,$A$4:$Y$4) -> 20 | AW20: 1 | AX20: 2 | AY20: 3 | AZ20: 5 | BA20: 6 | BB20: 7 | BC20: 8 | BD20: 9 | BE20: 11 | BF20: 12 | BG20: 14 | BH20: 15 | BI20: 16 | BJ20: 18 | BK20: 19 | BM20: =LOOKUP(CC20,$A$3:$Y$3,$A$4:$AE$4) -> 1 | BN20: =LOOKUP(CD20,$A$3:$Y$3,$A$4:$AE$4) -> 2 | BO20: =LOOKUP(CE20,$A$3:$Y$3,$A$4:$AE$4) -> 3 | BP20: =LOOKUP(CF20,$A$3:$Y$3,$A$4:$AE$4) -> 6 | BQ20: =LOOKUP(CG20,$A$3:$Y$3,$A$4:$AE$4) -> 7 | BR20: =LOOKUP(CH20,$A$3:$Y$3,$A$4:$AE$4) -> 8 | BS20: =LOOKUP(CI20,$A$3:$Y$3,$A$4:$AE$4) -> 9 | BT20: =LOOKUP(CJ20,$A$3:$Y$3,$A$4:$AE$4) -> 11 | ... CA20: =LOOKUP(CQ20,$A$3:$Y$3,$A$4:$AE$4) -> 20 | CC20: 1 | CD20: 2 | CE20: 3 | CF20: 6 | CG20: 7 | CH20: 8 | CI20: 9 | CJ20: 11 | CK20: 12 | CL20: 13 | CM20: 15 | CN20: 16 | CO20: 17 | CP20: 18 | CQ20: 19
... A42: =LOOKUP(Q42,$A$3:$Y$3,$A$4:$Y$4) -> 1 | B42: =LOOKUP(R42,$A$3:$Y$3,$A$4:$Y$4) -> 2 | C42: =LOOKUP(S42,$A$3:$Y$3,$A$4:$Y$4) -> 3 | D42: =LOOKUP(T42,$A$3:$Y$3,$A$4:$Y$4) -> 4 | E42: =LOOKUP(U42,$A$3:$Y$3,$A$4:$Y$4) -> 5 | F42: =LOOKUP(V42,$A$3:$Y$3,$A$4:$Y$4) -> 7 | G42: =LOOKUP(W42,$A$3:$Y$3,$A$4:$Y$4) -> 8 | H42: =LOOKUP(X42,$A$3:$Y$3,$A$4:$Y$4) -> 10 | ... O42: =LOOKUP(AE42,$A$3:$Y$3,$A$4:$Y$4) -> 20 | Q42: 1 | R42: 2 | S42: 3 | T42: 4 | U42: 5 | V42: 7 | W42: 8 | X42: 10 | Y42: 11 | Z42: 12 | AA42: 13 | AB42: 14 | AC42: 17 | AD42: 18 | AE42: 19 | AG42: =LOOKUP(AW42,$A$3:$Y$3,$A$4:$Y$4) -> 3 | AH42: =LOOKUP(AX42,$A$3:$Y$3,$A$4:$Y$4) -> 4 | AI42: =LOOKUP(AY42,$A$3:$Y$3,$A$4:$Y$4) -> 5 | AJ42: =LOOKUP(AZ42,$A$3:$Y$3,$A$4:$Y$4) -> 6 | AK42: =LOOKUP(BA42,$A$3:$Y$3,$A$4:$Y$4) -> 7 | AL42: =LOOKUP(BB42,$A$3:$Y$3,$A$4:$Y$4) -> 8 | AM42: =LOOKUP(BC42,$A$3:$Y$3,$A$4:$Y$4) -> 9 | AN42: =LOOKUP(BD42,$A$3:$Y$3,$A$4:$Y$4) -> 10 | ... AU42: =LOOKUP(BK42,$A$3:$Y$3,$A$4:$Y$4) -> 20 | AW42: 3 | AX42: 4 | AY42: 5 | AZ42: 6 | BA42: 7 | BB42: 8 | BC42: 9 | BD42: 10 | BE42: 11 | BF42: 14 | BG42: 15 | BH42: 16 | BI42: 17 | BJ42: 18 | BK42: 19 | BM42: =LOOKUP(CC42,$A$3:$Y$3,$A$4:$AE$4) -> 1 | BN42: =LOOKUP(CD42,$A$3:$Y$3,$A$4:$AE$4) -> 2 | BO42: =LOOKUP(CE42,$A$3:$Y$3,$A$4:$AE$4) -> 3 | BP42: =LOOKUP(CF42,$A$3:$Y$3,$A$4:$AE$4) -> 4 | BQ42: =LOOKUP(CG42,$A$3:$Y$3,$A$4:$AE$4) -> 5 | BR42: =LOOKUP(CH42,$A$3:$Y$3,$A$4:$AE$4) -> 6 | BS42: =LOOKUP(CI42,$A$3:$Y$3,$A$4:$AE$4) -> 8 | BT42: =LOOKUP(CJ42,$A$3:$Y$3,$A$4:$AE$4) -> 9 | ... CA42: =LOOKUP(CQ42,$A$3:$Y$3,$A$4:$AE$4) -> 22 | CC42: 1 | CD42: 2 | CE42: 3 | CF42: 4 | CG42: 5 | CH42: 6 | CI42: 8 | CJ42: 9 | CK42: 10 | CL42: 12 | CM42: 13 | CN42: 14 | CO42: 15 | CP42: 16 | CQ42: 17
A43: =LOOKUP(Q43,$A$3:$Y$3,$A$4:$Y$4) -> 1 | B43: =LOOKUP(R43,$A$3:$Y$3,$A$4:$Y$4) -> 2 | C43: =LOOKUP(S43,$A$3:$Y$3,$A$4:$Y$4) -> 3 | D43: =LOOKUP(T43,$A$3:$Y$3,$A$4:$Y$4) -> 4 | E43: =LOOKUP(U43,$A$3:$Y$3,$A$4:$Y$4) -> 5 | F43: =LOOKUP(V43,$A$3:$Y$3,$A$4:$Y$4) -> 6 | G43: =LOOKUP(W43,$A$3:$Y$3,$A$4:$Y$4) -> 7 | H43: =LOOKUP(X43,$A$3:$Y$3,$A$4:$Y$4) -> 8 | ... O43: =LOOKUP(AE43,$A$3:$Y$3,$A$4:$Y$4) -> 20 | Q43: 1 | R43: 2 | S43: 3 | T43: 4 | U43: 5 | V43: 6 | W43: 7 | X43: 8 | Y43: 9 | Z43: 10 | AA43: 12 | AB43: 14 | AC43: 17 | AD43: 18 | AE43: 19 | BM43: =LOOKUP(CC43,$A$3:$Y$3,$A$4:$AE$4) -> 1 | BN43: =LOOKUP(CD43,$A$3:$Y$3,$A$4:$AE$4) -> 2 | BO43: =LOOKUP(CE43,$A$3:$Y$3,$A$4:$AE$4) -> 3 | BP43: =LOOKUP(CF43,$A$3:$Y$3,$A$4:$AE$4) -> 4 | BQ43: =LOOKUP(CG43,$A$3:$Y$3,$A$4:$AE$4) -> 5 | BR43: =LOOKUP(CH43,$A$3:$Y$3,$A$4:$AE$4) -> 6 | BS43: =LOOKUP(CI43,$A$3:$Y$3,$A$4:$AE$4) -> 7 | BT43: =LOOKUP(CJ43,$A$3:$Y$3,$A$4:$AE$4) -> 8 | ... CA43: =LOOKUP(CQ43,$A$3:$Y$3,$A$4:$AE$4) -> 21 | CC43: 1 | CD43: 2 | CE43: 3 | CF43: 4 | CG43: 5 | CH43: 6 | CI43: 7 | CJ43: 8 | CK43: 9 | CL43: 10 | CM43: 11 | CN43: 12 | CO43: 13 | CP43: 15 | CQ43: 18
A44: =LOOKUP(Q44,$A$3:$Y$3,$A$4:$Y$4) -> 1 | B44: =LOOKUP(R44,$A$3:$Y$3,$A$4:$Y$4) -> 2 | C44: =LOOKUP(S44,$A$3:$Y$3,$A$4:$Y$4) -> 3 | D44: =LOOKUP(T44,$A$3:$Y$3,$A$4:$Y$4) -> 4 | E44: =LOOKUP(U44,$A$3:$Y$3,$A$4:$Y$4) -> 7 | F44: =LOOKUP(V44,$A$3:$Y$3,$A$4:$Y$4) -> 8 | G44: =LOOKUP(W44,$A$3:$Y$3,$A$4:$Y$4) -> 10 | H44: =LOOKUP(X44,$A$3:$Y$3,$A$4:$Y$4) -> 11 | ... O44: =LOOKUP(AE44,$A$3:$Y$3,$A$4:$Y$4) -> 20 | Q44: 1 | R44: 2 | S44: 3 | T44: 4 | U44: 7 | V44: 8 | W44: 10 | X44: 11 | Y44: 12 | Z44: 13 | AA44: 14 | AB44: 15 | AC44: 16 | AD44: 18 | AE44: 19 | BM44: =LOOKUP(CC44,$A$3:$Y$3,$A$4:$AE$4) -> 1 | BN44: =LOOKUP(CD44,$A$3:$Y$3,$A$4:$AE$4) -> 2 | BO44: =LOOKUP(CE44,$A$3:$Y$3,$A$4:$AE$4) -> 3 | BP44: =LOOKUP(CF44,$A$3:$Y$3,$A$4:$AE$4) -> 4 | BQ44: =LOOKUP(CG44,$A$3:$Y$3,$A$4:$AE$4) -> 5 | BR44: =LOOKUP(CH44,$A$3:$Y$3,$A$4:$AE$4) -> 9 | BS44: =LOOKUP(CI44,$A$3:$Y$3,$A$4:$AE$4) -> 10 | BT44: =LOOKUP(CJ44,$A$3:$Y$3,$A$4:$AE$4) -> 11 | ... CA44: =LOOKUP(CQ44,$A$3:$Y$3,$A$4:$AE$4) -> 21 | CC44: 1 | CD44: 2 | CE44: 3 | CF44: 4 | CG44: 5 | CH44: 9 | CI44: 10 | CJ44: 11 | CK44: 12 | CL44: 13 | CM44: 14 | CN44: 15 | CO44: 16 | CP44: 17 | CQ44: 18
A45: =LOOKUP(Q45,$A$3:$Y$3,$A$4:$Y$4) -> 1 | B45: =LOOKUP(R45,$A$3:$Y$3,$A$4:$Y$4) -> 2 | C45: =LOOKUP(S45,$A$3:$Y$3,$A$4:$Y$4) -> 4 | D45: =LOOKUP(T45,$A$3:$Y$3,$A$4:$Y$4) -> 5 | E45: =LOOKUP(U45,$A$3:$Y$3,$A$4:$Y$4) -> 7 | F45: =LOOKUP(V45,$A$3:$Y$3,$A$4:$Y$4) -> 8 | G45: =LOOKUP(W45,$A$3:$Y$3,$A$4:$Y$4) -> 9 | H45: =LOOKUP(X45,$A$3:$Y$3,$A$4:$Y$4) -> 10 | ... O45: =LOOKUP(AE45,$A$3:$Y$3,$A$4:$Y$4) -> 20 | Q45: 1 | R45: 2 | S45: 4 | T45: 5 | U45: 7 | V45: 8 | W45: 9 | X45: 10 | Y45: 12 | Z45: 13 | AA45: 14 | AB45: 15 | AC45: 16 | AD45: 18 | AE45: 19 | AG45: =SMALL($AG9:$AU9,A$3) -> 1 | AH45: =SMALL($AG9:$AU9,B$3) -> 2 | AI45: =SMALL($AG9:$AU9,C$3) -> 3 | AJ45: =SMALL($AG9:$AU9,D$3) -> 4 | AK45: =SMALL($AG9:$AU9,E$3) -> 5 | AL45: =SMALL($AG9:$AU9,F$3) -> 6 | AM45: =SMALL($AG9:$AU9,G$3) -> 7 | AN45: =SMALL($AG9:$AU9,H$3) -> 8 | ... AU45: =SMALL($AG9:$AU9,O$3) -> 22 | AX45: 1 | BM45: =LOOKUP(CC45,$A$3:$Y$3,$A$4:$AE$4) -> 1 | BN45: =LOOKUP(CD45,$A$3:$Y$3,$A$4:$AE$4) -> 2 | BO45: =LOOKUP(CE45,$A$3:$Y$3,$A$4:$AE$4) -> 3 | BP45: =LOOKUP(CF45,$A$3:$Y$3,$A$4:$AE$4) -> 4 | BQ45: =LOOKUP(CG45,$A$3:$Y$3,$A$4:$AE$4) -> 5 | BR45: =LOOKUP(CH45,$A$3:$Y$3,$A$4:$AE$4) -> 6 | BS45: =LOOKUP(CI45,$A$3:$Y$3,$A$4:$AE$4) -> 7 | BT45: =LOOKUP(CJ45,$A$3:$Y$3,$A$4:$AE$4) -> 9 | ... CA45: =LOOKUP(CQ45,$A$3:$Y$3,$A$4:$AE$4) -> 21 | CC45: 1 | CD45: 2 | CE45: 3 | CF45: 4 | CG45: 5 | CH45: 6 | CI45: 7 | CJ45: 9 | CK45: 12 | CL45: 13 | CM45: 14 | CN45: 15 | CO45: 16 | CP45: 17 | CQ45: 18
A46: =LOOKUP(Q46,$A$3:$Y$3,$A$4:$Y$4) -> 1 | B46: =LOOKUP(R46,$A$3:$Y$3,$A$4:$Y$4) -> 2 | C46: =LOOKUP(S46,$A$3:$Y$3,$A$4:$Y$4) -> 3 | D46: =LOOKUP(T46,$A$3:$Y$3,$A$4:$Y$4) -> 5 | E46: =LOOKUP(U46,$A$3:$Y$3,$A$4:$Y$4) -> 6 | F46: =LOOKUP(V46,$A$3:$Y$3,$A$4:$Y$4) -> 8 | G46: =LOOKUP(W46,$A$3:$Y$3,$A$4:$Y$4) -> 9 | H46: =LOOKUP(X46,$A$3:$Y$3,$A$4:$Y$4) -> 10 | ... O46: =LOOKUP(AE46,$A$3:$Y$3,$A$4:$Y$4) -> 20 | Q46: 1 | R46: 2 | S46: 3 | T46: 5 | U46: 6 | V46: 8 | W46: 9 | X46: 10 | Y46: 11 | Z46: 13 | AA46: 14 | AB46: 15 | AC46: 16 | AD46: 18 | AE46: 19 | AG46: =SMALL($AG10:$AU10,A$3) -> 1 | AH46: =SMALL($AG10:$AU10,B$3) -> 2 | AI46: =SMALL($AG10:$AU10,C$3) -> 3 | AJ46: =SMALL($AG10:$AU10,D$3) -> 4 | AK46: =SMALL($AG10:$AU10,E$3) -> 5 | AL46: =SMALL($AG10:$AU10,F$3) -> 6 | AM46: =SMALL($AG10:$AU10,G$3) -> 7 | AN46: =SMALL($AG10:$AU10,H$3) -> 8 | ... AU46: =SMALL($AG10:$AU10,O$3) -> 21 | AX46: 2 | BM46: =LOOKUP(CC46,$A$3:$Y$3,$A$4:$AE$4) -> 1 | BN46: =LOOKUP(CD46,$A$3:$Y$3,$A$4:$AE$4) -> 2 | BO46: =LOOKUP(CE46,$A$3:$Y$3,$A$4:$AE$4) -> 3 | BP46: =LOOKUP(CF46,$A$3:$Y$3,$A$4:$AE$4) -> 4 | BQ46: =LOOKUP(CG46,$A$3:$Y$3,$A$4:$AE$4) -> 5 | BR46: =LOOKUP(CH46,$A$3:$Y$3,$A$4:$AE$4) -> 6 | BS46: =LOOKUP(CI46,$A$3:$Y$3,$A$4:$AE$4) -> 7 | BT46: =LOOKUP(CJ46,$A$3:$Y$3,$A$4:$AE$4) -> 8 | ... CA46: =LOOKUP(CQ46,$A$3:$Y$3,$A$4:$AE$4) -> 22 | CC46: 1 | CD46: 2 | CE46: 3 | CF46: 4 | CG46: 5 | CH46: 6 | CI46: 7 | CJ46: 8 | CK46: 11 | CL46: 12 | CM46: 13 | CN46: 14 | CO46: 15 | CP46: 16 | CQ46: 17
A47: =LOOKUP(Q47,$A$3:$Y$3,$A$4:$Y$4) -> 1 | B47: =LOOKUP(R47,$A$3:$Y$3,$A$4:$Y$4) -> 2 | C47: =LOOKUP(S47,$A$3:$Y$3,$A$4:$Y$4) -> 3 | D47: =LOOKUP(T47,$A$3:$Y$3,$A$4:$Y$4) -> 4 | E47: =LOOKUP(U47,$A$3:$Y$3,$A$4:$Y$4) -> 6 | F47: =LOOKUP(V47,$A$3:$Y$3,$A$4:$Y$4) -> 7 | G47: =LOOKUP(W47,$A$3:$Y$3,$A$4:$Y$4) -> 9 | H47: =LOOKUP(X47,$A$3:$Y$3,$A$4:$Y$4) -> 10 | ... O47: =LOOKUP(AE47,$A$3:$Y$3,$A$4:$Y$4) -> 20 | Q47: 1 | R47: 2 | S47: 3 | T47: 4 | U47: 6 | V47: 7 | W47: 9 | X47: 10 | Y47: 11 | Z47: 13 | AA47: 14 | AB47: 15 | AC47: 16 | AD47: 18 | AE47: 19 | AG47: =SMALL($AG11:$AU11,A$3) -> 1 | AH47: =SMALL($AG11:$AU11,B$3) -> 2 | AI47: =SMALL($AG11:$AU11,C$3) -> 3 | AJ47: =SMALL($AG11:$AU11,D$3) -> 4 | AK47: =SMALL($AG11:$AU11,E$3) -> 5 | AL47: =SMALL($AG11:$AU11,F$3) -> 6 | AM47: =SMALL($AG11:$AU11,G$3) -> 7 | AN47: =SMALL($AG11:$AU11,H$3) -> 9 | ... AU47: =SMALL($AG11:$AU11,O$3) -> 22 | AX47: 3 | BM47: =LOOKUP(CC47,$A$3:$Y$3,$A$4:$AE$4) -> 1 | BN47: =LOOKUP(CD47,$A$3:$Y$3,$A$4:$AE$4) -> 2 | BO47: =LOOKUP(CE47,$A$3:$Y$3,$A$4:$AE$4) -> 3 | BP47: =LOOKUP(CF47,$A$3:$Y$3,$A$4:$AE$4) -> 5 | BQ47: =LOOKUP(CG47,$A$3:$Y$3,$A$4:$AE$4) -> 6 | BR47: =LOOKUP(CH47,$A$3:$Y$3,$A$4:$AE$4) -> 8 | BS47: =LOOKUP(CI47,$A$3:$Y$3,$A$4:$AE$4) -> 9 | BT47: =LOOKUP(CJ47,$A$3:$Y$3,$A$4:$AE$4) -> 11 | ... CA47: =LOOKUP(CQ47,$A$3:$Y$3,$A$4:$AE$4) -> 21 | CC47: 1 | CD47: 2 | CE47: 3 | CF47: 5 | CG47: 6 | CH47: 8 | CI47: 9 | CJ47: 11 | CK47: 12 | CL47: 13 | CM47: 14 | CN47: 15 | CO47: 16 | CP47: 17 | CQ47: 18
A48: =LOOKUP(Q48,$A$3:$Y$3,$A$4:$Y$4) -> 1 | B48: =LOOKUP(R48,$A$3:$Y$3,$A$4:$Y$4) -> 2 | C48: =LOOKUP(S48,$A$3:$Y$3,$A$4:$Y$4) -> 3 | D48: =LOOKUP(T48,$A$3:$Y$3,$A$4:$Y$4) -> 4 | E48: =LOOKUP(U48,$A$3:$Y$3,$A$4:$Y$4) -> 5 | F48: =LOOKUP(V48,$A$3:$Y$3,$A$4:$Y$4) -> 7 | G48: =LOOKUP(W48,$A$3:$Y$3,$A$4:$Y$4) -> 9 | H48: =LOOKUP(X48,$A$3:$Y$3,$A$4:$Y$4) -> 10 | ... O48: =LOOKUP(AE48,$A$3:$Y$3,$A$4:$Y$4) -> 20 | Q48: 1 | R48: 2 | S48: 3 | T48: 4 | U48: 5 | V48: 7 | W48: 9 | X48: 10 | Y48: 11 | Z48: 12 | AA48: 14 | AB48: 15 | AC48: 16 | AD48: 18 | AE48: 19 | AG48: =SMALL($AG12:$AU12,A$3) -> 1 | AH48: =SMALL($AG12:$AU12,B$3) -> 2 | AI48: =SMALL($AG12:$AU12,C$3) -> 3 | AJ48: =SMALL($AG12:$AU12,D$3) -> 4 | AK48: =SMALL($AG12:$AU12,E$3) -> 5 | AL48: =SMALL($AG12:$AU12,F$3) -> 6 | AM48: =SMALL($AG12:$AU12,G$3) -> 7 | AN48: =SMALL($AG12:$AU12,H$3) -> 11 | ... AU48: =SMALL($AG12:$AU12,O$3) -> 22 | AX48: 4 | BM48: =LOOKUP(CC48,$A$3:$Y$3,$A$4:$AE$4) -> 1 | BN48: =LOOKUP(CD48,$A$3:$Y$3,$A$4:$AE$4) -> 2 | BO48: =LOOKUP(CE48,$A$3:$Y$3,$A$4:$AE$4) -> 3 | BP48: =LOOKUP(CF48,$A$3:$Y$3,$A$4:$AE$4) -> 4 | BQ48: =LOOKUP(CG48,$A$3:$Y$3,$A$4:$AE$4) -> 5 | BR48: =LOOKUP(CH48,$A$3:$Y$3,$A$4:$AE$4) -> 6 | BS48: =LOOKUP(CI48,$A$3:$Y$3,$A$4:$AE$4) -> 7 | BT48: =LOOKUP(CJ48,$A$3:$Y$3,$A$4:$AE$4) -> 8 | ... CA48: =LOOKUP(CQ48,$A$3:$Y$3,$A$4:$AE$4) -> 21 | CC48: 1 | CD48: 2 | CE48: 3 | CF48: 4 | CG48: 5 | CH48: 6 | CI48: 7 | CJ48: 8 | CK48: 9 | CL48: 10 | CM48: 11 | CN48: 14 | CO48: 15 | CP48: 17 | CQ48: 18
A49: =LOOKUP(Q49,$A$3:$Y$3,$A$4:$Y$4) -> 1 | B49: =LOOKUP(R49,$A$3:$Y$3,$A$4:$Y$4) -> 2 | C49: =LOOKUP(S49,$A$3:$Y$3,$A$4:$Y$4) -> 4 | D49: =LOOKUP(T49,$A$3:$Y$3,$A$4:$Y$4) -> 5 | E49: =LOOKUP(U49,$A$3:$Y$3,$A$4:$Y$4) -> 6 | F49: =LOOKUP(V49,$A$3:$Y$3,$A$4:$Y$4) -> 7 | G49: =LOOKUP(W49,$A$3:$Y$3,$A$4:$Y$4) -> 8 | H49: =LOOKUP(X49,$A$3:$Y$3,$A$4:$Y$4) -> 10 | ... O49: =LOOKUP(AE49,$A$3:$Y$3,$A$4:$Y$4) -> 20 | Q49: 1 | R49: 2 | S49: 4 | T49: 5 | U49: 6 | V49: 7 | W49: 8 | X49: 10 | Y49: 11 | Z49: 12 | AA49: 14 | AB49: 15 | AC49: 16 | AD49: 18 | AE49: 19 | AG49: =SMALL($AG13:$AU13,A$3) -> 1 | AH49: =SMALL($AG13:$AU13,B$3) -> 2 | AI49: =SMALL($AG13:$AU13,C$3) -> 3 | AJ49: =SMALL($AG13:$AU13,D$3) -> 4 | AK49: =SMALL($AG13:$AU13,E$3) -> 5 | AL49: =SMALL($AG13:$AU13,F$3) -> 6 | AM49: =SMALL($AG13:$AU13,G$3) -> 8 | AN49: =SMALL($AG13:$AU13,H$3) -> 9 | ... AU49: =SMALL($AG13:$AU13,O$3) -> 22 | AX49: 5 | BM49: =LOOKUP(CC49,$A$3:$Y$3,$A$4:$AE$4) -> 1 | BN49: =LOOKUP(CD49,$A$3:$Y$3,$A$4:$AE$4) -> 2 | BO49: =LOOKUP(CE49,$A$3:$Y$3,$A$4:$AE$4) -> 4 | BP49: =LOOKUP(CF49,$A$3:$Y$3,$A$4:$AE$4) -> 6 | BQ49: =LOOKUP(CG49,$A$3:$Y$3,$A$4:$AE$4) -> 7 | BR49: =LOOKUP(CH49,$A$3:$Y$3,$A$4:$AE$4) -> 8 | BS49: =LOOKUP(CI49,$A$3:$Y$3,$A$4:$AE$4) -> 9 | BT49: =LOOKUP(CJ49,$A$3:$Y$3,$A$4:$AE$4) -> 10 | ... CA49: =LOOKUP(CQ49,$A$3:$Y$3,$A$4:$AE$4) -> 20 | CC49: 1 | CD49: 2 | CE49: 4 | CF49: 6 | CG49: 7 | CH49: 8 | CI49: 9 | CJ49: 10 | CK49: 11 | CL49: 13 | CM49: 14 | CN49: 15 | CO49: 16 | CP49: 17 | CQ49: 19
A50: =LOOKUP(Q50,$A$3:$Y$3,$A$4:$Y$4) -> 2 | B50: =LOOKUP(R50,$A$3:$Y$3,$A$4:$Y$4) -> 3 | C50: =LOOKUP(S50,$A$3:$Y$3,$A$4:$Y$4) -> 4 | D50: =LOOKUP(T50,$A$3:$Y$3,$A$4:$Y$4) -> 5 | E50: =LOOKUP(U50,$A$3:$Y$3,$A$4:$Y$4) -> 6 | F50: =LOOKUP(V50,$A$3:$Y$3,$A$4:$Y$4) -> 7 | G50: =LOOKUP(W50,$A$3:$Y$3,$A$4:$Y$4) -> 8 | H50: =LOOKUP(X50,$A$3:$Y$3,$A$4:$Y$4) -> 9 | ... O50: =LOOKUP(AE50,$A$3:$Y$3,$A$4:$Y$4) -> 20 | Q50: 2 | R50: 3 | S50: 4 | T50: 5 | U50: 6 | V50: 7 | W50: 8 | X50: 9 | Y50: 11 | Z50: 12 | AA50: 13 | AB50: 15 | AC50: 16 | AD50: 18 | AE50: 19 | AG50: =SMALL($AG14:$AU14,A$3) -> 1 | AH50: =SMALL($AG14:$AU14,B$3) -> 2 | AI50: =SMALL($AG14:$AU14,C$3) -> 3 | AJ50: =SMALL($AG14:$AU14,D$3) -> 4 | AK50: =SMALL($AG14:$AU14,E$3) -> 5 | AL50: =SMALL($AG14:$AU14,F$3) -> 6 | AM50: =SMALL($AG14:$AU14,G$3) -> 8 | AN50: =SMALL($AG14:$AU14,H$3) -> 9 | ... AU50: =SMALL($AG14:$AU14,O$3) -> 22 | AX50: 6 | BM50: =LOOKUP(CC50,$A$3:$Y$3,$A$4:$AE$4) -> 1 | BN50: =LOOKUP(CD50,$A$3:$Y$3,$A$4:$AE$4) -> 3 | BO50: =LOOKUP(CE50,$A$3:$Y$3,$A$4:$AE$4) -> 4 | BP50: =LOOKUP(CF50,$A$3:$Y$3,$A$4:$AE$4) -> 5 | BQ50: =LOOKUP(CG50,$A$3:$Y$3,$A$4:$AE$4) -> 6 | BR50: =LOOKUP(CH50,$A$3:$Y$3,$A$4:$AE$4) -> 8 | BS50: =LOOKUP(CI50,$A$3:$Y$3,$A$4:$AE$4) -> 10 | BT50: =LOOKUP(CJ50,$A$3:$Y$3,$A$4:$AE$4) -> 11 | ... CA50: =LOOKUP(CQ50,$A$3:$Y$3,$A$4:$AE$4) -> 20 | CC50: 1 | CD50: 3 | CE50: 4 | CF50: 5 | CG50: 6 | CH50: 8 | CI50: 10 | CJ50: 11 | CK50: 12 | CL50: 13 | CM50: 14 | CN50: 15 | CO50: 17 | CP50: 18 | CQ50: 19
A51: =LOOKUP(Q51,$A$3:$Y$3,$A$4:$Y$4) -> 1 | B51: =LOOKUP(R51,$A$3:$Y$3,$A$4:$Y$4) -> 3 | C51: =LOOKUP(S51,$A$3:$Y$3,$A$4:$Y$4) -> 4 | D51: =LOOKUP(T51,$A$3:$Y$3,$A$4:$Y$4) -> 5 | E51: =LOOKUP(U51,$A$3:$Y$3,$A$4:$Y$4) -> 6 | F51: =LOOKUP(V51,$A$3:$Y$3,$A$4:$Y$4) -> 7 | G51: =LOOKUP(W51,$A$3:$Y$3,$A$4:$Y$4) -> 9 | H51: =LOOKUP(X51,$A$3:$Y$3,$A$4:$Y$4) -> 10 | ... O51: =LOOKUP(AE51,$A$3:$Y$3,$A$4:$Y$4) -> 20 | Q51: 1 | R51: 3 | S51: 4 | T51: 5 | U51: 6 | V51: 7 | W51: 9 | X51: 10 | Y51: 11 | Z51: 12 | AA51: 13 | AB51: 14 | AC51: 16 | AD51: 18 | AE51: 19 | AG51: =SMALL($AG15:$AU15,A$3) -> 1 | AH51: =SMALL($AG15:$AU15,B$3) -> 2 | AI51: =SMALL($AG15:$AU15,C$3) -> 3 | AJ51: =SMALL($AG15:$AU15,D$3) -> 4 | AK51: =SMALL($AG15:$AU15,E$3) -> 5 | AL51: =SMALL($AG15:$AU15,F$3) -> 7 | AM51: =SMALL($AG15:$AU15,G$3) -> 8 | AN51: =SMALL($AG15:$AU15,H$3) -> 9 | ... AU51: =SMALL($AG15:$AU15,O$3) -> 21 | AX51: 7 | BM51: =LOOKUP(CC51,$A$3:$Y$3,$A$4:$AE$4) -> 1 | BN51: =LOOKUP(CD51,$A$3:$Y$3,$A$4:$AE$4) -> 3 | BO51: =LOOKUP(CE51,$A$3:$Y$3,$A$4:$AE$4) -> 4 | BP51: =LOOKUP(CF51,$A$3:$Y$3,$A$4:$AE$4) -> 5 | BQ51: =LOOKUP(CG51,$A$3:$Y$3,$A$4:$AE$4) -> 6 | BR51: =LOOKUP(CH51,$A$3:$Y$3,$A$4:$AE$4) -> 7 | BS51: =LOOKUP(CI51,$A$3:$Y$3,$A$4:$AE$4) -> 8 | BT51: =LOOKUP(CJ51,$A$3:$Y$3,$A$4:$AE$4) -> 9 | ... CA51: =LOOKUP(CQ51,$A$3:$Y$3,$A$4:$AE$4) -> 21 | CC51: 1 | CD51: 3 | CE51: 4 | CF51: 5 | CG51: 6 | CH51: 7 | CI51: 8 | CJ51: 9 | CK51: 10 | CL51: 11 | CM51: 13 | CN51: 14 | CO51: 15 | CP51: 16 | CQ51: 18
A52: =LOOKUP(Q52,$A$3:$Y$3,$A$4:$Y$4) -> 2 | B52: =LOOKUP(R52,$A$3:$Y$3,$A$4:$Y$4) -> 3 | C52: =LOOKUP(S52,$A$3:$Y$3,$A$4:$Y$4) -> 5 | D52: =LOOKUP(T52,$A$3:$Y$3,$A$4:$Y$4) -> 6 | E52: =LOOKUP(U52,$A$3:$Y$3,$A$4:$Y$4) -> 7 | F52: =LOOKUP(V52,$A$3:$Y$3,$A$4:$Y$4) -> 8 | G52: =LOOKUP(W52,$A$3:$Y$3,$A$4:$Y$4) -> 9 | H52: =LOOKUP(X52,$A$3:$Y$3,$A$4:$Y$4) -> 10 | ... O52: =LOOKUP(AE52,$A$3:$Y$3,$A$4:$Y$4) -> 20 | Q52: 2 | R52: 3 | S52: 5 | T52: 6 | U52: 7 | V52: 8 | W52: 9 | X52: 10 | Y52: 11 | Z52: 12 | AA52: 13 | AB52: 14 | AC52: 15 | AD52: 18 | AE52: 19 | AG52: =SMALL($AG16:$AU16,A$3) -> 1 | AH52: =SMALL($AG16:$AU16,B$3) -> 2 | AI52: =SMALL($AG16:$AU16,C$3) -> 3 | AJ52: =SMALL($AG16:$AU16,D$3) -> 4 | AK52: =SMALL($AG16:$AU16,E$3) -> 5 | AL52: =SMALL($AG16:$AU16,F$3) -> 7 | AM52: =SMALL($AG16:$AU16,G$3) -> 8 | AN52: =SMALL($AG16:$AU16,H$3) -> 9 | ... AU52: =SMALL($AG16:$AU16,O$3) -> 22 | AX52: 8 | BM52: =LOOKUP(CC52,$A$3:$Y$3,$A$4:$AE$4) -> 1 | BN52: =LOOKUP(CD52,$A$3:$Y$3,$A$4:$AE$4) -> 2 | BO52: =LOOKUP(CE52,$A$3:$Y$3,$A$4:$AE$4) -> 3 | BP52: =LOOKUP(CF52,$A$3:$Y$3,$A$4:$AE$4) -> 4 | BQ52: =LOOKUP(CG52,$A$3:$Y$3,$A$4:$AE$4) -> 5 | BR52: =LOOKUP(CH52,$A$3:$Y$3,$A$4:$AE$4) -> 6 | BS52: =LOOKUP(CI52,$A$3:$Y$3,$A$4:$AE$4) -> 7 | BT52: =LOOKUP(CJ52,$A$3:$Y$3,$A$4:$AE$4) -> 8 | ... CA52: =LOOKUP(CQ52,$A$3:$Y$3,$A$4:$AE$4) -> 20 | CC52: 1 | CD52: 2 | CE52: 3 | CF52: 4 | CG52: 5 | CH52: 6 | CI52: 7 | CJ52: 8 | CK52: 9 | CL52: 11 | CM52: 12 | CN52: 14 | CO52: 15 | CP52: 18 | CQ52: 19
A53: =LOOKUP(Q53,$A$3:$Y$3,$A$4:$Y$4) -> 1 | B53: =LOOKUP(R53,$A$3:$Y$3,$A$4:$Y$4) -> 2 | C53: =LOOKUP(S53,$A$3:$Y$3,$A$4:$Y$4) -> 3 | D53: =LOOKUP(T53,$A$3:$Y$3,$A$4:$Y$4) -> 4 | E53: =LOOKUP(U53,$A$3:$Y$3,$A$4:$Y$4) -> 5 | F53: =LOOKUP(V53,$A$3:$Y$3,$A$4:$Y$4) -> 6 | G53: =LOOKUP(W53,$A$3:$Y$3,$A$4:$Y$4) -> 8 | H53: =LOOKUP(X53,$A$3:$Y$3,$A$4:$Y$4) -> 9 | ... O53: =LOOKUP(AE53,$A$3:$Y$3,$A$4:$Y$4) -> 20 | Q53: 1 | R53: 2 | S53: 3 | T53: 4 | U53: 5 | V53: 6 | W53: 8 | X53: 9 | Y53: 11 | Z53: 12 | AA53: 13 | AB53: 14 | AC53: 15 | AD53: 18 | AE53: 19 | AG53: =SMALL($AG17:$AU17,A$3) -> 1 | AH53: =SMALL($AG17:$AU17,B$3) -> 2 | AI53: =SMALL($AG17:$AU17,C$3) -> 3 | AJ53: =SMALL($AG17:$AU17,D$3) -> 4 | AK53: =SMALL($AG17:$AU17,E$3) -> 5 | AL53: =SMALL($AG17:$AU17,F$3) -> 7 | AM53: =SMALL($AG17:$AU17,G$3) -> 8 | AN53: =SMALL($AG17:$AU17,H$3) -> 10 | ... AU53: =SMALL($AG17:$AU17,O$3) -> 22 | AX53: 9 | BM53: =LOOKUP(CC53,$A$3:$Y$3,$A$4:$AE$4) -> 1 | BN53: =LOOKUP(CD53,$A$3:$Y$3,$A$4:$AE$4) -> 2 | BO53: =LOOKUP(CE53,$A$3:$Y$3,$A$4:$AE$4) -> 3 | BP53: =LOOKUP(CF53,$A$3:$Y$3,$A$4:$AE$4) -> 5 | BQ53: =LOOKUP(CG53,$A$3:$Y$3,$A$4:$AE$4) -> 6 | BR53: =LOOKUP(CH53,$A$3:$Y$3,$A$4:$AE$4) -> 7 | BS53: =LOOKUP(CI53,$A$3:$Y$3,$A$4:$AE$4) -> 10 | BT53: =LOOKUP(CJ53,$A$3:$Y$3,$A$4:$AE$4) -> 11 | ... CA53: =LOOKUP(CQ53,$A$3:$Y$3,$A$4:$AE$4) -> 21 | CC53: 1 | CD53: 2 | CE53: 3 | CF53: 5 | CG53: 6 | CH53: 7 | CI53: 10 | CJ53: 11 | CK53: 12 | CL53: 13 | CM53: 14 | CN53: 15 | CO53: 16 | CP53: 17 | CQ53: 18
A54: =LOOKUP(Q54,$A$3:$Y$3,$A$4:$Y$4) -> 1 | B54: =LOOKUP(R54,$A$3:$Y$3,$A$4:$Y$4) -> 2 | C54: =LOOKUP(S54,$A$3:$Y$3,$A$4:$Y$4) -> 4 | D54: =LOOKUP(T54,$A$3:$Y$3,$A$4:$Y$4) -> 5 | E54: =LOOKUP(U54,$A$3:$Y$3,$A$4:$Y$4) -> 7 | F54: =LOOKUP(V54,$A$3:$Y$3,$A$4:$Y$4) -> 9 | G54: =LOOKUP(W54,$A$3:$Y$3,$A$4:$Y$4) -> 10 | H54: =LOOKUP(X54,$A$3:$Y$3,$A$4:$Y$4) -> 11 | ... O54: =LOOKUP(AE54,$A$3:$Y$3,$A$4:$Y$4) -> 20 | Q54: 1 | R54: 2 | S54: 4 | T54: 5 | U54: 7 | V54: 9 | W54: 10 | X54: 11 | Y54: 12 | Z54: 13 | AA54: 14 | AB54: 15 | AC54: 16 | AD54: 17 | AE54: 19 | AG54: =SMALL($AG18:$AU18,A$3) -> 1 | AH54: =SMALL($AG18:$AU18,B$3) -> 2 | AI54: =SMALL($AG18:$AU18,C$3) -> 3 | AJ54: =SMALL($AG18:$AU18,D$3) -> 4 | AK54: =SMALL($AG18:$AU18,E$3) -> 6 | AL54: =SMALL($AG18:$AU18,F$3) -> 7 | AM54: =SMALL($AG18:$AU18,G$3) -> 9 | AN54: =SMALL($AG18:$AU18,H$3) -> 10 | ... AU54: =SMALL($AG18:$AU18,O$3) -> 21 | AX54: 10 | BM54: =LOOKUP(CC54,$A$3:$Y$3,$A$4:$AE$4) -> 1 | BN54: =LOOKUP(CD54,$A$3:$Y$3,$A$4:$AE$4) -> 2 | BO54: =LOOKUP(CE54,$A$3:$Y$3,$A$4:$AE$4) -> 3 | BP54: =LOOKUP(CF54,$A$3:$Y$3,$A$4:$AE$4) -> 4 | BQ54: =LOOKUP(CG54,$A$3:$Y$3,$A$4:$AE$4) -> 6 | BR54: =LOOKUP(CH54,$A$3:$Y$3,$A$4:$AE$4) -> 8 | BS54: =LOOKUP(CI54,$A$3:$Y$3,$A$4:$AE$4) -> 10 | BT54: =LOOKUP(CJ54,$A$3:$Y$3,$A$4:$AE$4) -> 11 | ... CA54: =LOOKUP(CQ54,$A$3:$Y$3,$A$4:$AE$4) -> 21 | CC54: 1 | CD54: 2 | CE54: 3 | CF54: 4 | CG54: 6 | CH54: 8 | CI54: 10 | CJ54: 11 | CK54: 12 | CL54: 13 | CM54: 14 | CN54: 15 | CO54: 16 | CP54: 17 | CQ54: 18
A55: =LOOKUP(Q55,$A$3:$Y$3,$A$4:$Y$4) -> 2 | B55: =LOOKUP(R55,$A$3:$Y$3,$A$4:$Y$4) -> 3 | C55: =LOOKUP(S55,$A$3:$Y$3,$A$4:$Y$4) -> 4 | D55: =LOOKUP(T55,$A$3:$Y$3,$A$4:$Y$4) -> 5 | E55: =LOOKUP(U55,$A$3:$Y$3,$A$4:$Y$4) -> 6 | F55: =LOOKUP(V55,$A$3:$Y$3,$A$4:$Y$4) -> 7 | G55: =LOOKUP(W55,$A$3:$Y$3,$A$4:$Y$4) -> 9 | H55: =LOOKUP(X55,$A$3:$Y$3,$A$4:$Y$4) -> 11 | ... O55: =LOOKUP(AE55,$A$3:$Y$3,$A$4:$Y$4) -> 20 | Q55: 2 | R55: 3 | S55: 4 | T55: 5 | U55: 6 | V55: 7 | W55: 9 | X55: 11 | Y55: 12 | Z55: 13 | AA55: 14 | AB55: 15 | AC55: 16 | AD55: 17 | AE55: 19 | AG55: =SMALL($AG19:$AU19,A$3) -> 1 | AH55: =SMALL($AG19:$AU19,B$3) -> 2 | AI55: =SMALL($AG19:$AU19,C$3) -> 3 | AJ55: =SMALL($AG19:$AU19,D$3) -> 4 | AK55: =SMALL($AG19:$AU19,E$3) -> 6 | AL55: =SMALL($AG19:$AU19,F$3) -> 8 | AM55: =SMALL($AG19:$AU19,G$3) -> 9 | AN55: =SMALL($AG19:$AU19,H$3) -> 10 | ... AU55: =SMALL($AG19:$AU19,O$3) -> 22 | AX55: 11 | BM55: =LOOKUP(CC55,$A$3:$Y$3,$A$4:$AE$4) -> 1 | BN55: =LOOKUP(CD55,$A$3:$Y$3,$A$4:$AE$4) -> 2 | BO55: =LOOKUP(CE55,$A$3:$Y$3,$A$4:$AE$4) -> 3 | BP55: =LOOKUP(CF55,$A$3:$Y$3,$A$4:$AE$4) -> 5 | BQ55: =LOOKUP(CG55,$A$3:$Y$3,$A$4:$AE$4) -> 7 | BR55: =LOOKUP(CH55,$A$3:$Y$3,$A$4:$AE$4) -> 8 | BS55: =LOOKUP(CI55,$A$3:$Y$3,$A$4:$AE$4) -> 9 | BT55: =LOOKUP(CJ55,$A$3:$Y$3,$A$4:$AE$4) -> 10 | ... CA55: =LOOKUP(CQ55,$A$3:$Y$3,$A$4:$AE$4) -> 22 | CC55: 1 | CD55: 2 | CE55: 3 | CF55: 5 | CG55: 7 | CH55: 8 | CI55: 9 | CJ55: 10 | CK55: 11 | CL55: 12 | CM55: 13 | CN55: 14 | CO55: 15 | CP55: 16 | CQ55: 17
A56: =LOOKUP(Q56,$A$3:$Y$3,$A$4:$Y$4) -> 1 | B56: =LOOKUP(R56,$A$3:$Y$3,$A$4:$Y$4) -> 3 | C56: =LOOKUP(S56,$A$3:$Y$3,$A$4:$Y$4) -> 4 | D56: =LOOKUP(T56,$A$3:$Y$3,$A$4:$Y$4) -> 5 | E56: =LOOKUP(U56,$A$3:$Y$3,$A$4:$Y$4) -> 6 | F56: =LOOKUP(V56,$A$3:$Y$3,$A$4:$Y$4) -> 8 | G56: =LOOKUP(W56,$A$3:$Y$3,$A$4:$Y$4) -> 9 | H56: =LOOKUP(X56,$A$3:$Y$3,$A$4:$Y$4) -> 10 | ... O56: =LOOKUP(AE56,$A$3:$Y$3,$A$4:$Y$4) -> 20 | Q56: 1 | R56: 3 | S56: 4 | T56: 5 | U56: 6 | V56: 8 | W56: 9 | X56: 10 | Y56: 12 | Z56: 13 | AA56: 14 | AB56: 15 | AC56: 16 | AD56: 17 | AE56: 19 | AG56: =SMALL($AG20:$AU20,A$3) -> 1 | AH56: =SMALL($AG20:$AU20,B$3) -> 2 | AI56: =SMALL($AG20:$AU20,C$3) -> 3 | AJ56: =SMALL($AG20:$AU20,D$3) -> 5 | AK56: =SMALL($AG20:$AU20,E$3) -> 6 | AL56: =SMALL($AG20:$AU20,F$3) -> 7 | AM56: =SMALL($AG20:$AU20,G$3) -> 8 | AN56: =SMALL($AG20:$AU20,H$3) -> 9 | ... AU56: =SMALL($AG20:$AU20,O$3) -> 21 | AX56: 12 | BM56: =LOOKUP(CC56,$A$3:$Y$3,$A$4:$AE$4) -> 1 | BN56: =LOOKUP(CD56,$A$3:$Y$3,$A$4:$AE$4) -> 2 | BO56: =LOOKUP(CE56,$A$3:$Y$3,$A$4:$AE$4) -> 4 | BP56: =LOOKUP(CF56,$A$3:$Y$3,$A$4:$AE$4) -> 5 | BQ56: =LOOKUP(CG56,$A$3:$Y$3,$A$4:$AE$4) -> 6 | BR56: =LOOKUP(CH56,$A$3:$Y$3,$A$4:$AE$4) -> 7 | BS56: =LOOKUP(CI56,$A$3:$Y$3,$A$4:$AE$4) -> 8 | BT56: =LOOKUP(CJ56,$A$3:$Y$3,$A$4:$AE$4) -> 9 | ... CA56: =LOOKUP(CQ56,$A$3:$Y$3,$A$4:$AE$4) -> 21 | CC56: 1 | CD56: 2 | CE56: 4 | CF56: 5 | CG56: 6 | CH56: 7 | CI56: 8 | CJ56: 9 | CK56: 10 | CL56: 11 | CM56: 12 | CN56: 13 | CO56: 14 | CP56: 17 | CQ56: 18
