Workbook

Sheet Início
A1: Sua Logo Aqui | AA1: ="V"&X5 -> V1
E2: Desdobramento Lotofácil com 20 Números
X5: 1 | Y5: 10
W7: Opção 1: Se você acertar os 15 números fixos dos 20 escolhidos há chances de 97% de 1 cartela com 14 pontos. ( 119 volantes ) Opção 2: Se você acertar os 3 números fixos escolhidos e não sair nenhum dos 5 excluídos garante no mínimo uma cartela com 13 pontos. ( 211 volantes ) Opção 3: Se você acertar os 5 números fixos escolhidos e não sair nenhum dos 5 excluídos garante no mínimo uma cartela com 12 pontos. ( 95 volantes ) Opção 4: Se você acertar os 10 números fixos escolhidos e não sair nenhum dos 5 excluídos garante no mínimo uma cartela com 14 pontos. ( 24 volantes ) Opção 5: Se você acertar os 12 números fixos escolhidos e não sair nenhum dos 5 excluídos garante no mínimo uma cartela com 15 pontos. ( 56 volantes ) Opção 6: Se você acertar os 15 números fixos dos 20 escolhidos garante ao menos 1 cartela com 12 pontos. ( 4 volantes ) Opção 7: Se você acertar os 15 números fixos dos 20 escolhidos garante ao menos 1 cartela com 13 pontos. ( 38 volantes ) Opção 8: Se você acertar os 15 números fixos dos 20 escolhidos garante ao menos 1 cartela com 13 pontos. ( 21 volantes ) Opção 9: Se você acertar os 15 números fixos dos 20 escolhidos garante ao menos 1 cartela com 14 pontos. ( 356 volantes )
B16: Digite 20 Números Fixo | K16: ( Qualquer Ordem)
B17: 1 | C17: 2 | D17: 3 | E17: 4 | F17: 5 | G17: 6 | H17: 7 | I17: 8 | J17: 9 | K17: 10 | L17: 11 | M17: 12 | N17: 13 | O17: 14 | P17: 15 | Q17: 16 | R17: 17 | S17: 18 | T17: 19 | U17: 20
B24: Opção 2:
B25: Digite 3 Números Fixo | K25: ( Qualquer Ordem)
B26: 1 | C26: 2 | D26: 3
B27: Digite 5 Números Para Excluir
B28: 17 | C28: 18 | D28: 19 | E28: 20 | F28: 21
B30: Opção 3:
B31: Digite 5 Números Fixo | K31: ( Qualquer Ordem)
B32: 1 | C32: 2 | D32: 3 | E32: 4 | F32: 5
B33: Digite 5 Números Para Excluir
B34: 17 | C34: 18 | D34: 19 | E34: 20 | F34: 21
B36: Opção 4:
B37: Digite 10 Números Fixo | K37: ( Qualquer Ordem)
B38: 1 | C38: 2 | D38: 3 | E38: 4 | F38: 5 | G38: 6 | H38: 7 | I38: 8 | J38: 9 | K38: 10
B39: Digite 5 Números Para Excluir
B40: 17 | C40: 18 | D40: 19 | E40: 20 | F40: 21
B42: Opção 5:
B43: Digite 12 Números Fixo | K43: ( Qualquer Ordem)
B44: 1 | C44: 2 | D44: 3 | E44: 4 | F44: 5 | G44: 6 | H44: 7 | I44: 8 | J44: 9 | K44: 10 | L44: 11 | M44: 12
B45: Digite 5 Números Para Excluir
B46: 17 | C46: 18 | D46: 19 | E46: 20 | F46: 21

Sheet Opcao1
AA1: ="V"&X5 -> V1
A2: Opção 1 ( 20 fixos )
X5: 1 | Y5: 10
B16: Total de 119 volantes
B18: =Apoio!A131 -> 1 | C18: =Apoio!B131 -> 2 | D18: =Apoio!C131 -> 3 | E18: =Apoio!D131 -> 4 | F18: =Apoio!E131 -> 5 | G18: =Apoio!F131 -> 6 | H18: =Apoio!G131 -> 7 | I18: =Apoio!H131 -> 8 | ... P18: =Apoio!O131 -> 18 | R18: 1 | T18: =Apoio!A191 -> 1 | U18: =Apoio!B191 -> 2 | V18: =Apoio!C191 -> 4 | W18: =Apoio!D191 -> 6 | X18: =Apoio!E191 -> 7 | Y18: =Apoio!F191 -> 8 | Z18: =Apoio!G191 -> 11 | AA18: =Apoio!H191 -> 12 | ... AH18: =Apoio!O191 -> 20 | AJ18: 61
B19: =Apoio!A132 -> 1 | C19: =Apoio!B132 -> 2 | D19: =Apoio!C132 -> 3 | E19: =Apoio!D132 -> 4 | F19: =Apoio!E132 -> 5 | G19: =Apoio!F132 -> 6 | H19: =Apoio!G132 -> 7 | I19: =Apoio!H132 -> 8 | ... P19: =Apoio!O132 -> 20 | R19: 2 | T19: =Apoio!A192 -> 1 | U19: =Apoio!B192 -> 2 | V19: =Apoio!C192 -> 4 | W19: =Apoio!D192 -> 7 | X19: =Apoio!E192 -> 9 | Y19: =Apoio!F192 -> 10 | Z19: =Apoio!G192 -> 11 | AA19: =Apoio!H192 -> 12 | ... AH19: =Apoio!O192 -> 20 | AJ19: 62
B20: =Apoio!A133 -> 1 | C20: =Apoio!B133 -> 2 | D20: =Apoio!C133 -> 3 | E20: =Apoio!D133 -> 4 | F20: =Apoio!E133 -> 5 | G20: =Apoio!F133 -> 6 | H20: =Apoio!G133 -> 7 | I20: =Apoio!H133 -> 8 | ... P20: =Apoio!O133 -> 20 | R20: 3 | T20: =Apoio!A193 -> 1 | U20: =Apoio!B193 -> 2 | V20: =Apoio!C193 -> 5 | W20: =Apoio!D193 -> 6 | X20: =Apoio!E193 -> 7 | Y20: =Apoio!F193 -> 8 | Z20: =Apoio!G193 -> 11 | AA20: =Apoio!H193 -> 12 | ... AH20: =Apoio!O193 -> 20 | AJ20: 63
B21: =Apoio!A134 -> 1 | C21: =Apoio!B134 -> 2 | D21: =Apoio!C134 -> 3 | E21: =Apoio!D134 -> 4 | F21: =Apoio!E134 -> 5 | G21: =Apoio!F134 -> 6 | H21: =Apoio!G134 -> 7 | I21: =Apoio!H134 -> 8 | ... P21: =Apoio!O134 -> 19 | R21: 4 | T21: =Apoio!A194 -> 1 | U21: =Apoio!B194 -> 2 | V21: =Apoio!C194 -> 5 | W21: =Apoio!D194 -> 6 | X21: =Apoio!E194 -> 7 | Y21: =Apoio!F194 -> 9 | Z21: =Apoio!G194 -> 10 | AA21: =Apoio!H194 -> 11 | ... AH21: =Apoio!O194 -> 20 | AJ21: 64
B22: =Apoio!A135 -> 1 | C22: =Apoio!B135 -> 2 | D22: =Apoio!C135 -> 3 | E22: =Apoio!D135 -> 4 | F22: =Apoio!E135 -> 5 | G22: =Apoio!F135 -> 6 | H22: =Apoio!G135 -> 7 | I22: =Apoio!H135 -> 8 | ... P22: =Apoio!O135 -> 20 | R22: 5 | T22: =Apoio!A195 -> 1 | U22: =Apoio!B195 -> 2 | V22: =Apoio!C195 -> 6 | W22: =Apoio!D195 -> 8 | X22: =Apoio!E195 -> 9 | Y22: =Apoio!F195 -> 10 | Z22: =Apoio!G195 -> 11 | AA22: =Apoio!H195 -> 13 | ... AH22: =Apoio!O195 -> 20 | AJ22: 65
B23: =Apoio!A136 -> 1 | C23: =Apoio!B136 -> 2 | D23: =Apoio!C136 -> 3 | E23: =Apoio!D136 -> 4 | F23: =Apoio!E136 -> 5 | G23: =Apoio!F136 -> 6 | H23: =Apoio!G136 -> 7 | I23: =Apoio!H136 -> 8 | ... P23: =Apoio!O136 -> 18 | R23: 6 | T23: =Apoio!A196 -> 1 | U23: =Apoio!B196 -> 3 | V23: =Apoio!C196 -> 4 | W23: =Apoio!D196 -> 5 | X23: =Apoio!E196 -> 6 | Y23: =Apoio!F196 -> 7 | Z23: =Apoio!G196 -> 8 | AA23: =Apoio!H196 -> 9 | ... AH23: =Apoio!O196 -> 19 | AJ23: 66
B24: =Apoio!A137 -> 1 | C24: =Apoio!B137 -> 2 | D24: =Apoio!C137 -> 3 | E24: =Apoio!D137 -> 4 | F24: =Apoio!E137 -> 5 | G24: =Apoio!F137 -> 6 | H24: =Apoio!G137 -> 7 | I24: =Apoio!H137 -> 8 | ... P24: =Apoio!O137 -> 19 | R24: 7 | T24: =Apoio!A197 -> 1 | U24: =Apoio!B197 -> 3 | V24: =Apoio!C197 -> 4 | W24: =Apoio!D197 -> 5 | X24: =Apoio!E197 -> 6 | Y24: =Apoio!F197 -> 7 | Z24: =Apoio!G197 -> 8 | AA24: =Apoio!H197 -> 9 | ... AH24: =Apoio!O197 -> 20 | AJ24: 67
B25: =Apoio!A138 -> 1 | C25: =Apoio!B138 -> 2 | D25: =Apoio!C138 -> 3 | E25: =Apoio!D138 -> 4 | F25: =Apoio!E138 -> 5 | G25: =Apoio!F138 -> 6 | H25: =Apoio!G138 -> 7 | I25: =Apoio!H138 -> 8 | ... P25: =Apoio!O138 -> 20 | R25: 8 | T25: =Apoio!A198 -> 1 | U25: =Apoio!B198 -> 3 | V25: =Apoio!C198 -> 4 | W25: =Apoio!D198 -> 5 | X25: =Apoio!E198 -> 6 | Y25: =Apoio!F198 -> 7 | Z25: =Apoio!G198 -> 9 | AA25: =Apoio!H198 -> 10 | ... AH25: =Apoio!O198 -> 20 | AJ25: 68
B26: =Apoio!A139 -> 1 | C26: =Apoio!B139 -> 2 | D26: =Apoio!C139 -> 3 | E26: =Apoio!D139 -> 4 | F26: =Apoio!E139 -> 5 | G26: =Apoio!F139 -> 6 | H26: =Apoio!G139 -> 7 | I26: =Apoio!H139 -> 9 | ... P26: =Apoio!O139 -> 19 | R26: 9 | T26: =Apoio!A199 -> 1 | U26: =Apoio!B199 -> 3 | V26: =Apoio!C199 -> 4 | W26: =Apoio!D199 -> 5 | X26: =Apoio!E199 -> 6 | Y26: =Apoio!F199 -> 7 | Z26: =Apoio!G199 -> 10 | AA26: =Apoio!H199 -> 12 | ... AH26: =Apoio!O199 -> 20 | AJ26: 69
B27: =Apoio!A140 -> 1 | C27: =Apoio!B140 -> 2 | D27: =Apoio!C140 -> 3 | E27: =Apoio!D140 -> 4 | F27: =Apoio!E140 -> 5 | G27: =Apoio!F140 -> 6 | H27: =Apoio!G140 -> 7 | I27: =Apoio!H140 -> 9 | ... P27: =Apoio!O140 -> 19 | R27: 10 | T27: =Apoio!A200 -> 1 | U27: =Apoio!B200 -> 3 | V27: =Apoio!C200 -> 4 | W27: =Apoio!D200 -> 5 | X27: =Apoio!E200 -> 6 | Y27: =Apoio!F200 -> 8 | Z27: =Apoio!G200 -> 9 | AA27: =Apoio!H200 -> 10 | ... AH27: =Apoio!O200 -> 20 | AJ27: 70
B28: =Apoio!A141 -> 1 | C28: =Apoio!B141 -> 2 | D28: =Apoio!C141 -> 3 | E28: =Apoio!D141 -> 4 | F28: =Apoio!E141 -> 5 | G28: =Apoio!F141 -> 6 | H28: =Apoio!G141 -> 7 | I28: =Apoio!H141 -> 9 | ... P28: =Apoio!O141 -> 20 | R28: 11 | T28: =Apoio!A201 -> 1 | U28: =Apoio!B201 -> 3 | V28: =Apoio!C201 -> 4 | W28: =Apoio!D201 -> 5 | X28: =Apoio!E201 -> 6 | Y28: =Apoio!F201 -> 8 | Z28: =Apoio!G201 -> 10 | AA28: =Apoio!H201 -> 11 | ... AH28: =Apoio!O201 -> 20 | AJ28: 71
B29: =Apoio!A142 -> 1 | C29: =Apoio!B142 -> 2 | D29: =Apoio!C142 -> 3 | E29: =Apoio!D142 -> 4 | F29: =Apoio!E142 -> 5 | G29: =Apoio!F142 -> 6 | H29: =Apoio!G142 -> 8 | I29: =Apoio!H142 -> 9 | ... P29: =Apoio!O142 -> 19 | R29: 12 | T29: =Apoio!A202 -> 1 | U29: =Apoio!B202 -> 3 | V29: =Apoio!C202 -> 4 | W29: =Apoio!D202 -> 5 | X29: =Apoio!E202 -> 7 | Y29: =Apoio!F202 -> 8 | Z29: =Apoio!G202 -> 9 | AA29: =Apoio!H202 -> 13 | ... AH29: =Apoio!O202 -> 20 | AJ29: 72
... B76: =Apoio!A189 -> 1 | C76: =Apoio!B189 -> 2 | D76: =Apoio!C189 -> 4 | E76: =Apoio!D189 -> 5 | F76: =Apoio!E189 -> 7 | G76: =Apoio!F189 -> 8 | H76: =Apoio!G189 -> 10 | I76: =Apoio!H189 -> 12 | ... P76: =Apoio!O189 -> 20 | R76: 59 | T76: =Apoio!A249 -> 4 | U76: =Apoio!B249 -> 5 | V76: =Apoio!C249 -> 6 | W76: =Apoio!D249 -> 7 | X76: =Apoio!E249 -> 8 | Y76: =Apoio!F249 -> 10 | Z76: =Apoio!G249 -> 11 | AA76: =Apoio!H249 -> 12 | ... AH76: =Apoio!O249 -> 20 | AJ76: 119
B77: =Apoio!A190 -> 1 | C77: =Apoio!B190 -> 2 | D77: =Apoio!C190 -> 4 | E77: =Apoio!D190 -> 6 | F77: =Apoio!E190 -> 7 | G77: =Apoio!F190 -> 8 | H77: =Apoio!G190 -> 9 | I77: =Apoio!H190 -> 10 | ... P77: =Apoio!O190 -> 20 | R77: 60

Sheet Opcao2
AA1: ="V"&X5 -> V1
A2: Opção 2 ( 3 fixos e 5 Excluídos )
X5: 1 | Y5: 10
B16: Total de 211 volantes
B18: =Apoio!AG223 -> 1 | C18: =Apoio!AH223 -> 2 | D18: =Apoio!AI223 -> 3 | E18: =Apoio!AJ223 -> 4 | F18: =Apoio!AK223 -> 5 | G18: =Apoio!AL223 -> 6 | H18: =Apoio!AM223 -> 7 | I18: =Apoio!AN223 -> 8 | ... P18: =Apoio!AU223 -> 25 | R18: 1 | U18: =Apoio!AG329 -> 1 | V18: =Apoio!AH329 -> 3 | W18: =Apoio!AI329 -> 4 | X18: =Apoio!AJ329 -> 5 | Y18: =Apoio!AK329 -> 6 | Z18: =Apoio!AL329 -> 7 | AA18: =Apoio!AM329 -> 8 | AB18: =Apoio!AN329 -> 10 | ... AI18: =Apoio!AU329 -> 25 | AK18: 107
B19: =Apoio!AG224 -> 1 | C19: =Apoio!AH224 -> 2 | D19: =Apoio!AI224 -> 3 | E19: =Apoio!AJ224 -> 4 | F19: =Apoio!AK224 -> 5 | G19: =Apoio!AL224 -> 6 | H19: =Apoio!AM224 -> 7 | I19: =Apoio!AN224 -> 8 | ... P19: =Apoio!AU224 -> 25 | R19: 2 | U19: =Apoio!AG330 -> 1 | V19: =Apoio!AH330 -> 3 | W19: =Apoio!AI330 -> 4 | X19: =Apoio!AJ330 -> 5 | Y19: =Apoio!AK330 -> 6 | Z19: =Apoio!AL330 -> 7 | AA19: =Apoio!AM330 -> 8 | AB19: =Apoio!AN330 -> 11 | ... AI19: =Apoio!AU330 -> 25 | AK19: 108
B20: =Apoio!AG225 -> 1 | C20: =Apoio!AH225 -> 2 | D20: =Apoio!AI225 -> 3 | E20: =Apoio!AJ225 -> 4 | F20: =Apoio!AK225 -> 5 | G20: =Apoio!AL225 -> 6 | H20: =Apoio!AM225 -> 7 | I20: =Apoio!AN225 -> 8 | ... P20: =Apoio!AU225 -> 25 | R20: 3 | U20: =Apoio!AG331 -> 1 | V20: =Apoio!AH331 -> 3 | W20: =Apoio!AI331 -> 4 | X20: =Apoio!AJ331 -> 5 | Y20: =Apoio!AK331 -> 6 | Z20: =Apoio!AL331 -> 7 | AA20: =Apoio!AM331 -> 9 | AB20: =Apoio!AN331 -> 10 | ... AI20: =Apoio!AU331 -> 25 | AK20: 109
B21: =Apoio!AG226 -> 1 | C21: =Apoio!AH226 -> 2 | D21: =Apoio!AI226 -> 3 | E21: =Apoio!AJ226 -> 4 | F21: =Apoio!AK226 -> 5 | G21: =Apoio!AL226 -> 6 | H21: =Apoio!AM226 -> 7 | I21: =Apoio!AN226 -> 8 | ... P21: =Apoio!AU226 -> 25 | R21: 4 | U21: =Apoio!AG332 -> 1 | V21: =Apoio!AH332 -> 3 | W21: =Apoio!AI332 -> 4 | X21: =Apoio!AJ332 -> 5 | Y21: =Apoio!AK332 -> 6 | Z21: =Apoio!AL332 -> 7 | AA21: =Apoio!AM332 -> 9 | AB21: =Apoio!AN332 -> 11 | ... AI21: =Apoio!AU332 -> 25 | AK21: 110
B22: =Apoio!AG227 -> 1 | C22: =Apoio!AH227 -> 2 | D22: =Apoio!AI227 -> 3 | E22: =Apoio!AJ227 -> 4 | F22: =Apoio!AK227 -> 5 | G22: =Apoio!AL227 -> 6 | H22: =Apoio!AM227 -> 7 | I22: =Apoio!AN227 -> 9 | ... P22: =Apoio!AU227 -> 25 | R22: 5 | U22: =Apoio!AG333 -> 1 | V22: =Apoio!AH333 -> 3 | W22: =Apoio!AI333 -> 4 | X22: =Apoio!AJ333 -> 5 | Y22: =Apoio!AK333 -> 6 | Z22: =Apoio!AL333 -> 8 | AA22: =Apoio!AM333 -> 9 | AB22: =Apoio!AN333 -> 10 | ... AI22: =Apoio!AU333 -> 25 | AK22: 111
B23: =Apoio!AG228 -> 1 | C23: =Apoio!AH228 -> 2 | D23: =Apoio!AI228 -> 3 | E23: =Apoio!AJ228 -> 4 | F23: =Apoio!AK228 -> 5 | G23: =Apoio!AL228 -> 6 | H23: =Apoio!AM228 -> 7 | I23: =Apoio!AN228 -> 9 | ... P23: =Apoio!AU228 -> 25 | R23: 6 | U23: =Apoio!AG334 -> 1 | V23: =Apoio!AH334 -> 3 | W23: =Apoio!AI334 -> 4 | X23: =Apoio!AJ334 -> 5 | Y23: =Apoio!AK334 -> 6 | Z23: =Apoio!AL334 -> 8 | AA23: =Apoio!AM334 -> 9 | AB23: =Apoio!AN334 -> 12 | ... AI23: =Apoio!AU334 -> 25 | AK23: 112
B24: =Apoio!AG229 -> 1 | C24: =Apoio!AH229 -> 2 | D24: =Apoio!AI229 -> 3 | E24: =Apoio!AJ229 -> 4 | F24: =Apoio!AK229 -> 5 | G24: =Apoio!AL229 -> 6 | H24: =Apoio!AM229 -> 7 | I24: =Apoio!AN229 -> 10 | ... P24: =Apoio!AU229 -> 25 | R24: 7 | U24: =Apoio!AG335 -> 1 | V24: =Apoio!AH335 -> 3 | W24: =Apoio!AI335 -> 4 | X24: =Apoio!AJ335 -> 5 | Y24: =Apoio!AK335 -> 6 | Z24: =Apoio!AL335 -> 8 | AA24: =Apoio!AM335 -> 10 | AB24: =Apoio!AN335 -> 11 | ... AI24: =Apoio!AU335 -> 25 | AK24: 113
B25: =Apoio!AG230 -> 1 | C25: =Apoio!AH230 -> 2 | D25: =Apoio!AI230 -> 3 | E25: =Apoio!AJ230 -> 4 | F25: =Apoio!AK230 -> 5 | G25: =Apoio!AL230 -> 6 | H25: =Apoio!AM230 -> 7 | I25: =Apoio!AN230 -> 11 | ... P25: =Apoio!AU230 -> 25 | R25: 8 | U25: =Apoio!AG336 -> 1 | V25: =Apoio!AH336 -> 3 | W25: =Apoio!AI336 -> 4 | X25: =Apoio!AJ336 -> 5 | Y25: =Apoio!AK336 -> 6 | Z25: =Apoio!AL336 -> 11 | AA25: =Apoio!AM336 -> 12 | AB25: =Apoio!AN336 -> 13 | ... AI25: =Apoio!AU336 -> 25 | AK25: 114
B26: =Apoio!AG231 -> 1 | C26: =Apoio!AH231 -> 2 | D26: =Apoio!AI231 -> 3 | E26: =Apoio!AJ231 -> 4 | F26: =Apoio!AK231 -> 5 | G26: =Apoio!AL231 -> 6 | H26: =Apoio!AM231 -> 8 | I26: =Apoio!AN231 -> 9 | ... P26: =Apoio!AU231 -> 25 | R26: 9 | U26: =Apoio!AG337 -> 1 | V26: =Apoio!AH337 -> 3 | W26: =Apoio!AI337 -> 4 | X26: =Apoio!AJ337 -> 5 | Y26: =Apoio!AK337 -> 7 | Z26: =Apoio!AL337 -> 8 | AA26: =Apoio!AM337 -> 9 | AB26: =Apoio!AN337 -> 11 | ... AI26: =Apoio!AU337 -> 25 | AK26: 115
B27: =Apoio!AG232 -> 1 | C27: =Apoio!AH232 -> 2 | D27: =Apoio!AI232 -> 3 | E27: =Apoio!AJ232 -> 4 | F27: =Apoio!AK232 -> 5 | G27: =Apoio!AL232 -> 6 | H27: =Apoio!AM232 -> 8 | I27: =Apoio!AN232 -> 9 | ... P27: =Apoio!AU232 -> 25 | R27: 10 | U27: =Apoio!AG338 -> 1 | V27: =Apoio!AH338 -> 3 | W27: =Apoio!AI338 -> 4 | X27: =Apoio!AJ338 -> 5 | Y27: =Apoio!AK338 -> 7 | Z27: =Apoio!AL338 -> 8 | AA27: =Apoio!AM338 -> 10 | AB27: =Apoio!AN338 -> 12 | ... AI27: =Apoio!AU338 -> 25 | AK27: 116
B28: =Apoio!AG233 -> 1 | C28: =Apoio!AH233 -> 2 | D28: =Apoio!AI233 -> 3 | E28: =Apoio!AJ233 -> 4 | F28: =Apoio!AK233 -> 5 | G28: =Apoio!AL233 -> 6 | H28: =Apoio!AM233 -> 8 | I28: =Apoio!AN233 -> 10 | ... P28: =Apoio!AU233 -> 25 | R28: 11 | U28: =Apoio!AG339 -> 1 | V28: =Apoio!AH339 -> 3 | W28: =Apoio!AI339 -> 4 | X28: =Apoio!AJ339 -> 5 | Y28: =Apoio!AK339 -> 7 | Z28: =Apoio!AL339 -> 9 | AA28: =Apoio!AM339 -> 10 | AB28: =Apoio!AN339 -> 11 | ... AI28: =Apoio!AU339 -> 25 | AK28: 117
B29: =Apoio!AG234 -> 1 | C29: =Apoio!AH234 -> 2 | D29: =Apoio!AI234 -> 3 | E29: =Apoio!AJ234 -> 4 | F29: =Apoio!AK234 -> 5 | G29: =Apoio!AL234 -> 6 | H29: =Apoio!AM234 -> 8 | I29: =Apoio!AN234 -> 11 | ... P29: =Apoio!AU234 -> 25 | R29: 12 | U29: =Apoio!AG340 -> 1 | V29: =Apoio!AH340 -> 3 | W29: =Apoio!AI340 -> 4 | X29: =Apoio!AJ340 -> 5 | Y29: =Apoio!AK340 -> 8 | Z29: =Apoio!AL340 -> 9 | AA29: =Apoio!AM340 -> 10 | AB29: =Apoio!AN340 -> 11 | ... AI29: =Apoio!AU340 -> 25 | AK29: 118
... B122: =Apoio!AG327 -> 1 | C122: =Apoio!AH327 -> 3 | D122: =Apoio!AI327 -> 4 | E122: =Apoio!AJ327 -> 5 | F122: =Apoio!AK327 -> 6 | G122: =Apoio!AL327 -> 7 | H122: =Apoio!AM327 -> 8 | I122: =Apoio!AN327 -> 9 | ... P122: =Apoio!AU327 -> 25 | R122: 105 | U122: =Apoio!AG433 -> 4 | V122: =Apoio!AH433 -> 6 | W122: =Apoio!AI433 -> 7 | X122: =Apoio!AJ433 -> 8 | Y122: =Apoio!AK433 -> 9 | Z122: =Apoio!AL433 -> 10 | AA122: =Apoio!AM433 -> 12 | AB122: =Apoio!AN433 -> 13 | ... AI122: =Apoio!AU433 -> 25 | AK122: 211
B123: =Apoio!AG328 -> 1 | C123: =Apoio!AH328 -> 3 | D123: =Apoio!AI328 -> 4 | E123: =Apoio!AJ328 -> 5 | F123: =Apoio!AK328 -> 6 | G123: =Apoio!AL328 -> 7 | H123: =Apoio!AM328 -> 8 | I123: =Apoio!AN328 -> 9 | ... P123: =Apoio!AU328 -> 25 | R123: 106

Sheet Opcao3
AA1: ="V"&X5 -> V1
A2: Opção 3 ( 5 fixos e 5 Excluídos )
X5: 1 | Y5: 10
B16: Total de 95 volantes
B18: =Apoio!CX108 -> 1 | C18: =Apoio!CY108 -> 2 | D18: =Apoio!CZ108 -> 3 | E18: =Apoio!DA108 -> 4 | F18: =Apoio!DB108 -> 5 | G18: =Apoio!DC108 -> 6 | H18: =Apoio!DD108 -> 7 | I18: =Apoio!DE108 -> 9 | ... P18: =Apoio!DL108 -> 25 | R18: 1
B19: =Apoio!CX109 -> 1 | C19: =Apoio!CY109 -> 2 | D19: =Apoio!CZ109 -> 3 | E19: =Apoio!DA109 -> 4 | F19: =Apoio!DB109 -> 5 | G19: =Apoio!DC109 -> 6 | H19: =Apoio!DD109 -> 7 | I19: =Apoio!DE109 -> 10 | ... P19: =Apoio!DL109 -> 25 | R19: 2
B20: =Apoio!CX110 -> 1 | C20: =Apoio!CY110 -> 2 | D20: =Apoio!CZ110 -> 3 | E20: =Apoio!DA110 -> 4 | F20: =Apoio!DB110 -> 5 | G20: =Apoio!DC110 -> 6 | H20: =Apoio!DD110 -> 7 | I20: =Apoio!DE110 -> 10 | ... P20: =Apoio!DL110 -> 25 | R20: 3
B21: =Apoio!CX111 -> 1 | C21: =Apoio!CY111 -> 2 | D21: =Apoio!CZ111 -> 3 | E21: =Apoio!DA111 -> 4 | F21: =Apoio!DB111 -> 5 | G21: =Apoio!DC111 -> 6 | H21: =Apoio!DD111 -> 8 | I21: =Apoio!DE111 -> 11 | ... P21: =Apoio!DL111 -> 25 | R21: 4
B22: =Apoio!CX112 -> 1 | C22: =Apoio!CY112 -> 2 | D22: =Apoio!CZ112 -> 3 | E22: =Apoio!DA112 -> 4 | F22: =Apoio!DB112 -> 5 | G22: =Apoio!DC112 -> 7 | H22: =Apoio!DD112 -> 8 | I22: =Apoio!DE112 -> 10 | ... P22: =Apoio!DL112 -> 25 | R22: 5
B23: =Apoio!CX113 -> 1 | C23: =Apoio!CY113 -> 2 | D23: =Apoio!CZ113 -> 3 | E23: =Apoio!DA113 -> 4 | F23: =Apoio!DB113 -> 5 | G23: =Apoio!DC113 -> 8 | H23: =Apoio!DD113 -> 9 | I23: =Apoio!DE113 -> 10 | ... P23: =Apoio!DL113 -> 25 | R23: 6
B24: =Apoio!CX114 -> 1 | C24: =Apoio!CY114 -> 2 | D24: =Apoio!CZ114 -> 3 | E24: =Apoio!DA114 -> 4 | F24: =Apoio!DB114 -> 5 | G24: =Apoio!DC114 -> 8 | H24: =Apoio!DD114 -> 10 | I24: =Apoio!DE114 -> 13 | ... P24: =Apoio!DL114 -> 25 | R24: 7
B25: =Apoio!CX115 -> 1 | C25: =Apoio!CY115 -> 2 | D25: =Apoio!CZ115 -> 3 | E25: =Apoio!DA115 -> 4 | F25: =Apoio!DB115 -> 6 | G25: =Apoio!DC115 -> 7 | H25: =Apoio!DD115 -> 8 | I25: =Apoio!DE115 -> 9 | ... P25: =Apoio!DL115 -> 25 | R25: 8
B26: =Apoio!CX116 -> 1 | C26: =Apoio!CY116 -> 2 | D26: =Apoio!CZ116 -> 3 | E26: =Apoio!DA116 -> 4 | F26: =Apoio!DB116 -> 6 | G26: =Apoio!DC116 -> 7 | H26: =Apoio!DD116 -> 9 | I26: =Apoio!DE116 -> 10 | ... P26: =Apoio!DL116 -> 25 | R26: 9
B27: =Apoio!CX117 -> 1 | C27: =Apoio!CY117 -> 2 | D27: =Apoio!CZ117 -> 3 | E27: =Apoio!DA117 -> 4 | F27: =Apoio!DB117 -> 6 | G27: =Apoio!DC117 -> 9 | H27: =Apoio!DD117 -> 10 | I27: =Apoio!DE117 -> 13 | ... P27: =Apoio!DL117 -> 25 | R27: 10
B28: =Apoio!CX118 -> 1 | C28: =Apoio!CY118 -> 2 | D28: =Apoio!CZ118 -> 3 | E28: =Apoio!DA118 -> 4 | F28: =Apoio!DB118 -> 7 | G28: =Apoio!DC118 -> 8 | H28: =Apoio!DD118 -> 9 | I28: =Apoio!DE118 -> 11 | ... P28: =Apoio!DL118 -> 25 | R28: 11
B29: =Apoio!CX119 -> 1 | C29: =Apoio!CY119 -> 2 | D29: =Apoio!CZ119 -> 3 | E29: =Apoio!DA119 -> 4 | F29: =Apoio!DB119 -> 7 | G29: =Apoio!DC119 -> 8 | H29: =Apoio!DD119 -> 11 | I29: =Apoio!DE119 -> 12 | ... P29: =Apoio!DL119 -> 25 | R29: 12
... B112: =Apoio!CX202 -> 5 | C112: =Apoio!CY202 -> 6 | D112: =Apoio!CZ202 -> 7 | E112: =Apoio!DA202 -> 8 | F112: =Apoio!DB202 -> 9 | G112: =Apoio!DC202 -> 10 | H112: =Apoio!DD202 -> 11 | I112: =Apoio!DE202 -> 12 | ... P112: =Apoio!DL202 -> 25 | R112: 95

Sheet Opcao4
AA1: ="V"&X5 -> V1
A2: Opção 4 ( 10 fixos e 5 Excluídos )
X5: 1 | Y5: 10
B16: Total de 24 volantes
B18: =Apoio!BE255 -> 1 | C18: =Apoio!BF255 -> 2 | D18: =Apoio!BG255 -> 3 | E18: =Apoio!BH255 -> 4 | F18: =Apoio!BI255 -> 5 | G18: =Apoio!BJ255 -> 6 | H18: =Apoio!BK255 -> 7 | I18: =Apoio!BL255 -> 8 | ... P18: =Apoio!BS255 -> 25 | R18: 1
B19: =Apoio!BE256 -> 1 | C19: =Apoio!BF256 -> 2 | D19: =Apoio!BG256 -> 3 | E19: =Apoio!BH256 -> 4 | F19: =Apoio!BI256 -> 5 | G19: =Apoio!BJ256 -> 6 | H19: =Apoio!BK256 -> 7 | I19: =Apoio!BL256 -> 8 | ... P19: =Apoio!BS256 -> 24 | R19: 2
B20: =Apoio!BE257 -> 1 | C20: =Apoio!BF257 -> 2 | D20: =Apoio!BG257 -> 3 | E20: =Apoio!BH257 -> 4 | F20: =Apoio!BI257 -> 5 | G20: =Apoio!BJ257 -> 6 | H20: =Apoio!BK257 -> 7 | I20: =Apoio!BL257 -> 8 | ... P20: =Apoio!BS257 -> 24 | R20: 3
B21: =Apoio!BE258 -> 1 | C21: =Apoio!BF258 -> 2 | D21: =Apoio!BG258 -> 3 | E21: =Apoio!BH258 -> 4 | F21: =Apoio!BI258 -> 5 | G21: =Apoio!BJ258 -> 6 | H21: =Apoio!BK258 -> 7 | I21: =Apoio!BL258 -> 8 | ... P21: =Apoio!BS258 -> 25 | R21: 4
B22: =Apoio!BE259 -> 1 | C22: =Apoio!BF259 -> 2 | D22: =Apoio!BG259 -> 3 | E22: =Apoio!BH259 -> 4 | F22: =Apoio!BI259 -> 5 | G22: =Apoio!BJ259 -> 6 | H22: =Apoio!BK259 -> 7 | I22: =Apoio!BL259 -> 8 | ... P22: =Apoio!BS259 -> 25 | R22: 5
B23: =Apoio!BE260 -> 1 | C23: =Apoio!BF260 -> 2 | D23: =Apoio!BG260 -> 3 | E23: =Apoio!BH260 -> 4 | F23: =Apoio!BI260 -> 5 | G23: =Apoio!BJ260 -> 6 | H23: =Apoio!BK260 -> 7 | I23: =Apoio!BL260 -> 8 | ... P23: =Apoio!BS260 -> 25 | R23: 6
B24: =Apoio!BE261 -> 1 | C24: =Apoio!BF261 -> 2 | D24: =Apoio!BG261 -> 3 | E24: =Apoio!BH261 -> 4 | F24: =Apoio!BI261 -> 5 | G24: =Apoio!BJ261 -> 6 | H24: =Apoio!BK261 -> 7 | I24: =Apoio!BL261 -> 8 | ... P24: =Apoio!BS261 -> 25 | R24: 7
B25: =Apoio!BE262 -> 1 | C25: =Apoio!BF262 -> 2 | D25: =Apoio!BG262 -> 3 | E25: =Apoio!BH262 -> 4 | F25: =Apoio!BI262 -> 5 | G25: =Apoio!BJ262 -> 6 | H25: =Apoio!BK262 -> 7 | I25: =Apoio!BL262 -> 8 | ... P25: =Apoio!BS262 -> 24 | R25: 8
B26: =Apoio!BE263 -> 1 | C26: =Apoio!BF263 -> 2 | D26: =Apoio!BG263 -> 3 | E26: =Apoio!BH263 -> 4 | F26: =Apoio!BI263 -> 5 | G26: =Apoio!BJ263 -> 6 | H26: =Apoio!BK263 -> 7 | I26: =Apoio!BL263 -> 8 | ... P26: =Apoio!BS263 -> 23 | R26: 9
B27: =Apoio!BE264 -> 1 | C27: =Apoio!BF264 -> 2 | D27: =Apoio!BG264 -> 3 | E27: =Apoio!BH264 -> 4 | F27: =Apoio!BI264 -> 5 | G27: =Apoio!BJ264 -> 6 | H27: =Apoio!BK264 -> 7 | I27: =Apoio!BL264 -> 8 | ... P27: =Apoio!BS264 -> 24 | R27: 10
B28: =Apoio!BE265 -> 1 | C28: =Apoio!BF265 -> 2 | D28: =Apoio!BG265 -> 3 | E28: =Apoio!BH265 -> 4 | F28: =Apoio!BI265 -> 5 | G28: =Apoio!BJ265 -> 6 | H28: =Apoio!BK265 -> 7 | I28: =Apoio!BL265 -> 8 | ... P28: =Apoio!BS265 -> 24 | R28: 11
B29: =Apoio!BE266 -> 1 | C29: =Apoio!BF266 -> 2 | D29: =Apoio!BG266 -> 3 | E29: =Apoio!BH266 -> 4 | F29: =Apoio!BI266 -> 5 | G29: =Apoio!BJ266 -> 6 | H29: =Apoio!BK266 -> 7 | I29: =Apoio!BL266 -> 8 | ... P29: =Apoio!BS266 -> 25 | R29: 12
... B41: =Apoio!BE278 -> 1 | C41: =Apoio!BF278 -> 2 | D41: =Apoio!BG278 -> 3 | E41: =Apoio!BH278 -> 4 | F41: =Apoio!BI278 -> 5 | G41: =Apoio!BJ278 -> 6 | H41: =Apoio!BK278 -> 7 | I41: =Apoio!BL278 -> 8 | ... P41: =Apoio!BS278 -> 23 | R41: 24

Sheet Opcao5
AA1: ="V"&X5 -> V1
A2: Opção 5 ( 12 fixos e 5 Excluídos )
X5: 1 | Y5: 10
B16: Total de 56 volantes
B18: =Apoio!FE69 -> 1 | C18: =Apoio!FF69 -> 2 | D18: =Apoio!FG69 -> 3 | E18: =Apoio!FH69 -> 4 | F18: =Apoio!FI69 -> 5 | G18: =Apoio!FJ69 -> 6 | H18: =Apoio!FK69 -> 7 | I18: =Apoio!FL69 -> 8 | ... P18: =Apoio!FS69 -> 15 | R18: 1
B19: =Apoio!FE70 -> 1 | C19: =Apoio!FF70 -> 2 | D19: =Apoio!FG70 -> 3 | E19: =Apoio!FH70 -> 4 | F19: =Apoio!FI70 -> 5 | G19: =Apoio!FJ70 -> 6 | H19: =Apoio!FK70 -> 7 | I19: =Apoio!FL70 -> 8 | ... P19: =Apoio!FS70 -> 16 | R19: 2
B20: =Apoio!FE71 -> 1 | C20: =Apoio!FF71 -> 2 | D20: =Apoio!FG71 -> 3 | E20: =Apoio!FH71 -> 4 | F20: =Apoio!FI71 -> 5 | G20: =Apoio!FJ71 -> 6 | H20: =Apoio!FK71 -> 7 | I20: =Apoio!FL71 -> 8 | ... P20: =Apoio!FS71 -> 22 | R20: 3
B21: =Apoio!FE72 -> 1 | C21: =Apoio!FF72 -> 2 | D21: =Apoio!FG72 -> 3 | E21: =Apoio!FH72 -> 4 | F21: =Apoio!FI72 -> 5 | G21: =Apoio!FJ72 -> 6 | H21: =Apoio!FK72 -> 7 | I21: =Apoio!FL72 -> 8 | ... P21: =Apoio!FS72 -> 23 | R21: 4
B22: =Apoio!FE73 -> 1 | C22: =Apoio!FF73 -> 2 | D22: =Apoio!FG73 -> 3 | E22: =Apoio!FH73 -> 4 | F22: =Apoio!FI73 -> 5 | G22: =Apoio!FJ73 -> 6 | H22: =Apoio!FK73 -> 7 | I22: =Apoio!FL73 -> 8 | ... P22: =Apoio!FS73 -> 24 | R22: 5
B23: =Apoio!FE74 -> 1 | C23: =Apoio!FF74 -> 2 | D23: =Apoio!FG74 -> 3 | E23: =Apoio!FH74 -> 4 | F23: =Apoio!FI74 -> 5 | G23: =Apoio!FJ74 -> 6 | H23: =Apoio!FK74 -> 7 | I23: =Apoio!FL74 -> 8 | ... P23: =Apoio!FS74 -> 25 | R23: 6
B24: =Apoio!FE75 -> 1 | C24: =Apoio!FF75 -> 2 | D24: =Apoio!FG75 -> 3 | E24: =Apoio!FH75 -> 4 | F24: =Apoio!FI75 -> 5 | G24: =Apoio!FJ75 -> 6 | H24: =Apoio!FK75 -> 7 | I24: =Apoio!FL75 -> 8 | ... P24: =Apoio!FS75 -> 16 | R24: 7
B25: =Apoio!FE76 -> 1 | C25: =Apoio!FF76 -> 2 | D25: =Apoio!FG76 -> 3 | E25: =Apoio!FH76 -> 4 | F25: =Apoio!FI76 -> 5 | G25: =Apoio!FJ76 -> 6 | H25: =Apoio!FK76 -> 7 | I25: =Apoio!FL76 -> 8 | ... P25: =Apoio!FS76 -> 22 | R25: 8
B26: =Apoio!FE77 -> 1 | C26: =Apoio!FF77 -> 2 | D26: =Apoio!FG77 -> 3 | E26: =Apoio!FH77 -> 4 | F26: =Apoio!FI77 -> 5 | G26: =Apoio!FJ77 -> 6 | H26: =Apoio!FK77 -> 7 | I26: =Apoio!FL77 -> 8 | ... P26: =Apoio!FS77 -> 23 | R26: 9
B27: =Apoio!FE78 -> 1 | C27: =Apoio!FF78 -> 2 | D27: =Apoio!FG78 -> 3 | E27: =Apoio!FH78 -> 4 | F27: =Apoio!FI78 -> 5 | G27: =Apoio!FJ78 -> 6 | H27: =Apoio!FK78 -> 7 | I27: =Apoio!FL78 -> 8 | ... P27: =Apoio!FS78 -> 24 | R27: 10
B28: =Apoio!FE79 -> 1 | C28: =Apoio!FF79 -> 2 | D28: =Apoio!FG79 -> 3 | E28: =Apoio!FH79 -> 4 | F28: =Apoio!FI79 -> 5 | G28: =Apoio!FJ79 -> 6 | H28: =Apoio!FK79 -> 7 | I28: =Apoio!FL79 -> 8 | ... P28: =Apoio!FS79 -> 25 | R28: 11
B29: =Apoio!FE80 -> 1 | C29: =Apoio!FF80 -> 2 | D29: =Apoio!FG80 -> 3 | E29: =Apoio!FH80 -> 4 | F29: =Apoio!FI80 -> 5 | G29: =Apoio!FJ80 -> 6 | H29: =Apoio!FK80 -> 7 | I29: =Apoio!FL80 -> 8 | ... P29: =Apoio!FS80 -> 22 | R29: 12
... B73: =Apoio!FE124 -> 1 | C73: =Apoio!FF124 -> 2 | D73: =Apoio!FG124 -> 3 | E73: =Apoio!FH124 -> 4 | F73: =Apoio!FI124 -> 5 | G73: =Apoio!FJ124 -> 6 | H73: =Apoio!FK124 -> 7 | I73: =Apoio!FL124 -> 8 | ... P73: =Apoio!FS124 -> 25 | R73: 56

Sheet Opcao6
AA1: ="V"&X5 -> V1
A2: Opção 6 ( 20 fixos )
X5: 1 | Y5: 10
B16: Total de 4 volantes
B18: =Apoio!FE133 -> 1 | C18: =Apoio!FF133 -> 4 | D18: =Apoio!FG133 -> 5 | E18: =Apoio!FH133 -> 6 | F18: =Apoio!FI133 -> 7 | G18: =Apoio!FJ133 -> 9 | H18: =Apoio!FK133 -> 10 | I18: =Apoio!FL133 -> 11 | ... P18: =Apoio!FS133 -> 20 | R18: 1
B19: =Apoio!FE134 -> 1 | C19: =Apoio!FF134 -> 2 | D19: =Apoio!FG134 -> 3 | E19: =Apoio!FH134 -> 5 | F19: =Apoio!FI134 -> 8 | G19: =Apoio!FJ134 -> 10 | H19: =Apoio!FK134 -> 11 | I19: =Apoio!FL134 -> 12 | ... P19: =Apoio!FS134 -> 19 | R19: 2
B20: =Apoio!FE135 -> 1 | C20: =Apoio!FF135 -> 2 | D20: =Apoio!FG135 -> 3 | E20: =Apoio!FH135 -> 4 | F20: =Apoio!FI135 -> 6 | G20: =Apoio!FJ135 -> 7 | H20: =Apoio!FK135 -> 8 | I20: =Apoio!FL135 -> 9 | ... P20: =Apoio!FS135 -> 20 | R20: 3
B21: =Apoio!FE136 -> 2 | C21: =Apoio!FF136 -> 3 | D21: =Apoio!FG136 -> 4 | E21: =Apoio!FH136 -> 5 | F21: =Apoio!FI136 -> 6 | G21: =Apoio!FJ136 -> 7 | H21: =Apoio!FK136 -> 8 | I21: =Apoio!FL136 -> 9 | ... P21: =Apoio!FS136 -> 20 | R21: 4

Sheet Opcao7
AA1: ="V"&X5 -> V1
A2: Opção 7 ( 20 fixos )
X5: 1 | Y5: 10
B16: Total de 38 volantes
B18: =Apoio!HK41 -> 1 | C18: =Apoio!HL41 -> 2 | D18: =Apoio!HM41 -> 3 | E18: =Apoio!HN41 -> 4 | F18: =Apoio!HO41 -> 6 | G18: =Apoio!HP41 -> 9 | H18: =Apoio!HQ41 -> 10 | I18: =Apoio!HR41 -> 11 | ... P18: =Apoio!HY41 -> 19 | R18: 1
B19: =Apoio!HK42 -> 1 | C19: =Apoio!HL42 -> 2 | D19: =Apoio!HM42 -> 3 | E19: =Apoio!HN42 -> 4 | F19: =Apoio!HO42 -> 5 | G19: =Apoio!HP42 -> 6 | H19: =Apoio!HQ42 -> 7 | I19: =Apoio!HR42 -> 8 | ... P19: =Apoio!HY42 -> 16 | R19: 2
B20: =Apoio!HK43 -> 1 | C20: =Apoio!HL43 -> 2 | D20: =Apoio!HM43 -> 4 | E20: =Apoio!HN43 -> 5 | F20: =Apoio!HO43 -> 6 | G20: =Apoio!HP43 -> 7 | H20: =Apoio!HQ43 -> 8 | I20: =Apoio!HR43 -> 9 | ... P20: =Apoio!HY43 -> 20 | R20: 3
B21: =Apoio!HK44 -> 1 | C21: =Apoio!HL44 -> 2 | D21: =Apoio!HM44 -> 3 | E21: =Apoio!HN44 -> 6 | F21: =Apoio!HO44 -> 7 | G21: =Apoio!HP44 -> 9 | H21: =Apoio!HQ44 -> 10 | I21: =Apoio!HR44 -> 11 | ... P21: =Apoio!HY44 -> 20 | R21: 4
B22: =Apoio!HK45 -> 1 | C22: =Apoio!HL45 -> 2 | D22: =Apoio!HM45 -> 3 | E22: =Apoio!HN45 -> 6 | F22: =Apoio!HO45 -> 7 | G22: =Apoio!HP45 -> 8 | H22: =Apoio!HQ45 -> 9 | I22: =Apoio!HR45 -> 10 | ... P22: =Apoio!HY45 -> 20 | R22: 5
B23: =Apoio!HK46 -> 1 | C23: =Apoio!HL46 -> 2 | D23: =Apoio!HM46 -> 3 | E23: =Apoio!HN46 -> 5 | F23: =Apoio!HO46 -> 7 | G23: =Apoio!HP46 -> 9 | H23: =Apoio!HQ46 -> 10 | I23: =Apoio!HR46 -> 11 | ... P23: =Apoio!HY46 -> 20 | R23: 6
B24: =Apoio!HK47 -> 1 | C24: =Apoio!HL47 -> 2 | D24: =Apoio!HM47 -> 3 | E24: =Apoio!HN47 -> 5 | F24: =Apoio!HO47 -> 7 | G24: =Apoio!HP47 -> 8 | H24: =Apoio!HQ47 -> 9 | I24: =Apoio!HR47 -> 11 | ... P24: =Apoio!HY47 -> 18 | R24: 7
B25: =Apoio!HK48 -> 1 | C25: =Apoio!HL48 -> 2 | D25: =Apoio!HM48 -> 3 | E25: =Apoio!HN48 -> 5 | F25: =Apoio!HO48 -> 6 | G25: =Apoio!HP48 -> 7 | H25: =Apoio!HQ48 -> 8 | I25: =Apoio!HR48 -> 9 | ... P25: =Apoio!HY48 -> 20 | R25: 8
B26: =Apoio!HK49 -> 1 | C26: =Apoio!HL49 -> 2 | D26: =Apoio!HM49 -> 4 | E26: =Apoio!HN49 -> 6 | F26: =Apoio!HO49 -> 7 | G26: =Apoio!HP49 -> 8 | H26: =Apoio!HQ49 -> 11 | I26: =Apoio!HR49 -> 13 | ... P26: =Apoio!HY49 -> 20 | R26: 9
B27: =Apoio!HK50 -> 1 | C27: =Apoio!HL50 -> 2 | D27: =Apoio!HM50 -> 3 | E27: =Apoio!HN50 -> 5 | F27: =Apoio!HO50 -> 6 | G27: =Apoio!HP50 -> 7 | H27: =Apoio!HQ50 -> 8 | I27: =Apoio!HR50 -> 9 | ... P27: =Apoio!HY50 -> 19 | R27: 10
B28: =Apoio!HK51 -> 1 | C28: =Apoio!HL51 -> 2 | D28: =Apoio!HM51 -> 4 | E28: =Apoio!HN51 -> 7 | F28: =Apoio!HO51 -> 8 | G28: =Apoio!HP51 -> 9 | H28: =Apoio!HQ51 -> 10 | I28: =Apoio!HR51 -> 11 | ... P28: =Apoio!HY51 -> 18 | R28: 11
B29: =Apoio!HK52 -> 1 | C29: =Apoio!HL52 -> 2 | D29: =Apoio!HM52 -> 3 | E29: =Apoio!HN52 -> 4 | F29: =Apoio!HO52 -> 6 | G29: =Apoio!HP52 -> 8 | H29: =Apoio!HQ52 -> 9 | I29: =Apoio!HR52 -> 11 | ... P29: =Apoio!HY52 -> 20 | R29: 12
... B55: =Apoio!HK78 -> 3 | C55: =Apoio!HL78 -> 4 | D55: =Apoio!HM78 -> 6 | E55: =Apoio!HN78 -> 7 | F55: =Apoio!HO78 -> 8 | G55: =Apoio!HP78 -> 9 | H55: =Apoio!HQ78 -> 10 | I55: =Apoio!HR78 -> 12 | ... P55: =Apoio!HY78 -> 20 | R55: 38

Sheet Opcao8
AA1: ="V"&X5 -> V1
A2: Opção 8 ( 20 fixos )
X5: 1 | Y5: 10
B16: Total de 21 volantes
B18: =Apoio!A252 -> 1 | C18: =Apoio!B252 -> 2 | D18: =Apoio!C252 -> 3 | E18: =Apoio!D252 -> 4 | F18: =Apoio!E252 -> 5 | G18: =Apoio!F252 -> 6 | H18: =Apoio!G252 -> 7 | I18: =Apoio!H252 -> 8 | ... P18: =Apoio!O252 -> 20 | R18: 1
B19: =Apoio!A253 -> 1 | C19: =Apoio!B253 -> 2 | D19: =Apoio!C253 -> 3 | E19: =Apoio!D253 -> 4 | F19: =Apoio!E253 -> 5 | G19: =Apoio!F253 -> 6 | H19: =Apoio!G253 -> 9 | I19: =Apoio!H253 -> 10 | ... P19: =Apoio!O253 -> 20 | R19: 2
B20: =Apoio!A254 -> 1 | C20: =Apoio!B254 -> 2 | D20: =Apoio!C254 -> 3 | E20: =Apoio!D254 -> 4 | F20: =Apoio!E254 -> 5 | G20: =Apoio!F254 -> 7 | H20: =Apoio!G254 -> 8 | I20: =Apoio!H254 -> 9 | ... P20: =Apoio!O254 -> 18 | R20: 3
B21: =Apoio!A255 -> 1 | C21: =Apoio!B255 -> 2 | D21: =Apoio!C255 -> 3 | E21: =Apoio!D255 -> 4 | F21: =Apoio!E255 -> 5 | G21: =Apoio!F255 -> 7 | H21: =Apoio!G255 -> 8 | I21: =Apoio!H255 -> 9 | ... P21: =Apoio!O255 -> 20 | R21: 4
B22: =Apoio!A256 -> 1 | C22: =Apoio!B256 -> 2 | D22: =Apoio!C256 -> 3 | E22: =Apoio!D256 -> 4 | F22: =Apoio!E256 -> 6 | G22: =Apoio!F256 -> 7 | H22: =Apoio!G256 -> 8 | I22: =Apoio!H256 -> 10 | ... P22: =Apoio!O256 -> 19 | R22: 5
B23: =Apoio!A257 -> 1 | C23: =Apoio!B257 -> 2 | D23: =Apoio!C257 -> 3 | E23: =Apoio!D257 -> 4 | F23: =Apoio!E257 -> 6 | G23: =Apoio!F257 -> 8 | H23: =Apoio!G257 -> 10 | I23: =Apoio!H257 -> 11 | ... P23: =Apoio!O257 -> 20 | R23: 6
B24: =Apoio!A258 -> 1 | C24: =Apoio!B258 -> 2 | D24: =Apoio!C258 -> 3 | E24: =Apoio!D258 -> 5 | F24: =Apoio!E258 -> 6 | G24: =Apoio!F258 -> 7 | H24: =Apoio!G258 -> 9 | I24: =Apoio!H258 -> 11 | ... P24: =Apoio!O258 -> 20 | R24: 7
B25: =Apoio!A259 -> 1 | C25: =Apoio!B259 -> 2 | D25: =Apoio!C259 -> 3 | E25: =Apoio!D259 -> 6 | F25: =Apoio!E259 -> 7 | G25: =Apoio!F259 -> 8 | H25: =Apoio!G259 -> 9 | I25: =Apoio!H259 -> 11 | ... P25: =Apoio!O259 -> 20 | R25: 8
B26: =Apoio!A260 -> 1 | C26: =Apoio!B260 -> 2 | D26: =Apoio!C260 -> 4 | E26: =Apoio!D260 -> 5 | F26: =Apoio!E260 -> 6 | G26: =Apoio!F260 -> 7 | H26: =Apoio!G260 -> 8 | I26: =Apoio!H260 -> 9 | ... P26: =Apoio!O260 -> 20 | R26: 9
B27: =Apoio!A261 -> 1 | C27: =Apoio!B261 -> 2 | D27: =Apoio!C261 -> 4 | E27: =Apoio!D261 -> 5 | F27: =Apoio!E261 -> 6 | G27: =Apoio!F261 -> 7 | H27: =Apoio!G261 -> 10 | I27: =Apoio!H261 -> 11 | ... P27: =Apoio!O261 -> 20 | R27: 10
B28: =Apoio!A262 -> 1 | C28: =Apoio!B262 -> 2 | D28: =Apoio!C262 -> 4 | E28: =Apoio!D262 -> 7 | F28: =Apoio!E262 -> 8 | G28: =Apoio!F262 -> 9 | H28: =Apoio!G262 -> 12 | I28: =Apoio!H262 -> 13 | ... P28: =Apoio!O262 -> 20 | R28: 11
B29: =Apoio!A263 -> 1 | C29: =Apoio!B263 -> 2 | D29: =Apoio!C263 -> 5 | E29: =Apoio!D263 -> 6 | F29: =Apoio!E263 -> 8 | G29: =Apoio!F263 -> 9 | H29: =Apoio!G263 -> 10 | I29: =Apoio!H263 -> 11 | ... P29: =Apoio!O263 -> 19 | R29: 12
... B38: =Apoio!A272 -> 3 | C38: =Apoio!B272 -> 4 | D38: =Apoio!C272 -> 5 | E38: =Apoio!D272 -> 6 | F38: =Apoio!E272 -> 8 | G38: =Apoio!F272 -> 9 | H38: =Apoio!G272 -> 10 | I38: =Apoio!H272 -> 11 | ... P38: =Apoio!O272 -> 20 | R38: 21

Sheet Opcao9
AA1: ="V"&X5 -> V1
A2: Opção 9 ( 20 fixos )
X5: 1 | Y5: 10
B16: Total de 356 volantes
B18: =Apoio!IS361 -> 1 | C18: =Apoio!IT361 -> 2 | D18: =Apoio!IU361 -> 3 | E18: =Apoio!IV361 -> 4 | F18: =Apoio!IW361 -> 5 | G18: =Apoio!IX361 -> 6 | H18: =Apoio!IY361 -> 7 | I18: =Apoio!IZ361 -> 8 | ... P18: =Apoio!JG361 -> 19 | R18: 1 | T18: =Apoio!IS539 -> 1 | U18: =Apoio!IT539 -> 2 | V18: =Apoio!IU539 -> 4 | W18: =Apoio!IV539 -> 6 | X18: =Apoio!IW539 -> 7 | Y18: =Apoio!IX539 -> 8 | Z18: =Apoio!IY539 -> 9 | AA18: =Apoio!IZ539 -> 11 | ... AH18: =Apoio!JG539 -> 20 | AJ18: 179
B19: =Apoio!IS362 -> 1 | C19: =Apoio!IT362 -> 2 | D19: =Apoio!IU362 -> 3 | E19: =Apoio!IV362 -> 4 | F19: =Apoio!IW362 -> 5 | G19: =Apoio!IX362 -> 6 | H19: =Apoio!IY362 -> 7 | I19: =Apoio!IZ362 -> 8 | ... P19: =Apoio!JG362 -> 17 | R19: 2 | T19: =Apoio!IS540 -> 1 | U19: =Apoio!IT540 -> 2 | V19: =Apoio!IU540 -> 4 | W19: =Apoio!IV540 -> 6 | X19: =Apoio!IW540 -> 7 | Y19: =Apoio!IX540 -> 9 | Z19: =Apoio!IY540 -> 10 | AA19: =Apoio!IZ540 -> 11 | ... AH19: =Apoio!JG540 -> 20 | AJ19: 180
B20: =Apoio!IS363 -> 1 | C20: =Apoio!IT363 -> 2 | D20: =Apoio!IU363 -> 3 | E20: =Apoio!IV363 -> 4 | F20: =Apoio!IW363 -> 5 | G20: =Apoio!IX363 -> 6 | H20: =Apoio!IY363 -> 7 | I20: =Apoio!IZ363 -> 8 | ... P20: =Apoio!JG363 -> 20 | R20: 3 | T20: =Apoio!IS541 -> 1 | U20: =Apoio!IT541 -> 2 | V20: =Apoio!IU541 -> 4 | W20: =Apoio!IV541 -> 6 | X20: =Apoio!IW541 -> 7 | Y20: =Apoio!IX541 -> 9 | Z20: =Apoio!IY541 -> 10 | AA20: =Apoio!IZ541 -> 11 | ... AH20: =Apoio!JG541 -> 20 | AJ20: 181
B21: =Apoio!IS364 -> 1 | C21: =Apoio!IT364 -> 2 | D21: =Apoio!IU364 -> 3 | E21: =Apoio!IV364 -> 4 | F21: =Apoio!IW364 -> 5 | G21: =Apoio!IX364 -> 6 | H21: =Apoio!IY364 -> 7 | I21: =Apoio!IZ364 -> 8 | ... P21: =Apoio!JG364 -> 20 | R21: 4 | T21: =Apoio!IS542 -> 1 | U21: =Apoio!IT542 -> 2 | V21: =Apoio!IU542 -> 4 | W21: =Apoio!IV542 -> 6 | X21: =Apoio!IW542 -> 7 | Y21: =Apoio!IX542 -> 10 | Z21: =Apoio!IY542 -> 11 | AA21: =Apoio!IZ542 -> 13 | ... AH21: =Apoio!JG542 -> 20 | AJ21: 182
B22: =Apoio!IS365 -> 1 | C22: =Apoio!IT365 -> 2 | D22: =Apoio!IU365 -> 3 | E22: =Apoio!IV365 -> 4 | F22: =Apoio!IW365 -> 5 | G22: =Apoio!IX365 -> 6 | H22: =Apoio!IY365 -> 7 | I22: =Apoio!IZ365 -> 8 | ... P22: =Apoio!JG365 -> 19 | R22: 5 | T22: =Apoio!IS543 -> 1 | U22: =Apoio!IT543 -> 2 | V22: =Apoio!IU543 -> 4 | W22: =Apoio!IV543 -> 6 | X22: =Apoio!IW543 -> 8 | Y22: =Apoio!IX543 -> 9 | Z22: =Apoio!IY543 -> 10 | AA22: =Apoio!IZ543 -> 11 | ... AH22: =Apoio!JG543 -> 20 | AJ22: 183
B23: =Apoio!IS366 -> 1 | C23: =Apoio!IT366 -> 2 | D23: =Apoio!IU366 -> 3 | E23: =Apoio!IV366 -> 4 | F23: =Apoio!IW366 -> 5 | G23: =Apoio!IX366 -> 6 | H23: =Apoio!IY366 -> 7 | I23: =Apoio!IZ366 -> 8 | ... P23: =Apoio!JG366 -> 18 | R23: 6 | T23: =Apoio!IS544 -> 1 | U23: =Apoio!IT544 -> 2 | V23: =Apoio!IU544 -> 4 | W23: =Apoio!IV544 -> 6 | X23: =Apoio!IW544 -> 8 | Y23: =Apoio!IX544 -> 10 | Z23: =Apoio!IY544 -> 11 | AA23: =Apoio!IZ544 -> 13 | ... AH23: =Apoio!JG544 -> 20 | AJ23: 184
B24: =Apoio!IS367 -> 1 | C24: =Apoio!IT367 -> 2 | D24: =Apoio!IU367 -> 3 | E24: =Apoio!IV367 -> 4 | F24: =Apoio!IW367 -> 5 | G24: =Apoio!IX367 -> 6 | H24: =Apoio!IY367 -> 7 | I24: =Apoio!IZ367 -> 8 | ... P24: =Apoio!JG367 -> 19 | R24: 7 | T24: =Apoio!IS545 -> 1 | U24: =Apoio!IT545 -> 2 | V24: =Apoio!IU545 -> 4 | W24: =Apoio!IV545 -> 7 | X24: =Apoio!IW545 -> 8 | Y24: =Apoio!IX545 -> 9 | Z24: =Apoio!IY545 -> 10 | AA24: =Apoio!IZ545 -> 11 | ... AH24: =Apoio!JG545 -> 20 | AJ24: 185
B25: =Apoio!IS368 -> 1 | C25: =Apoio!IT368 -> 2 | D25: =Apoio!IU368 -> 3 | E25: =Apoio!IV368 -> 4 | F25: =Apoio!IW368 -> 5 | G25: =Apoio!IX368 -> 6 | H25: =Apoio!IY368 -> 7 | I25: =Apoio!IZ368 -> 8 | ... P25: =Apoio!JG368 -> 20 | R25: 8 | T25: =Apoio!IS546 -> 1 | U25: =Apoio!IT546 -> 2 | V25: =Apoio!IU546 -> 4 | W25: =Apoio!IV546 -> 7 | X25: =Apoio!IW546 -> 8 | Y25: =Apoio!IX546 -> 9 | Z25: =Apoio!IY546 -> 10 | AA25: =Apoio!IZ546 -> 12 | ... AH25: =Apoio!JG546 -> 20 | AJ25: 186
B26: =Apoio!IS369 -> 1 | C26: =Apoio!IT369 -> 2 | D26: =Apoio!IU369 -> 3 | E26: =Apoio!IV369 -> 4 | F26: =Apoio!IW369 -> 5 | G26: =Apoio!IX369 -> 6 | H26: =Apoio!IY369 -> 7 | I26: =Apoio!IZ369 -> 8 | ... P26: =Apoio!JG369 -> 20 | R26: 9 | T26: =Apoio!IS547 -> 1 | U26: =Apoio!IT547 -> 2 | V26: =Apoio!IU547 -> 5 | W26: =Apoio!IV547 -> 6 | X26: =Apoio!IW547 -> 7 | Y26: =Apoio!IX547 -> 8 | Z26: =Apoio!IY547 -> 9 | AA26: =Apoio!IZ547 -> 10 | ... AH26: =Apoio!JG547 -> 18 | AJ26: 187
B27: =Apoio!IS370 -> 1 | C27: =Apoio!IT370 -> 2 | D27: =Apoio!IU370 -> 3 | E27: =Apoio!IV370 -> 4 | F27: =Apoio!IW370 -> 5 | G27: =Apoio!IX370 -> 6 | H27: =Apoio!IY370 -> 7 | I27: =Apoio!IZ370 -> 8 | ... P27: =Apoio!JG370 -> 20 | R27: 10 | T27: =Apoio!IS548 -> 1 | U27: =Apoio!IT548 -> 2 | V27: =Apoio!IU548 -> 5 | W27: =Apoio!IV548 -> 6 | X27: =Apoio!IW548 -> 7 | Y27: =Apoio!IX548 -> 8 | Z27: =Apoio!IY548 -> 9 | AA27: =Apoio!IZ548 -> 10 | ... AH27: =Apoio!JG548 -> 20 | AJ27: 188
B28: =Apoio!IS371 -> 1 | C28: =Apoio!IT371 -> 2 | D28: =Apoio!IU371 -> 3 | E28: =Apoio!IV371 -> 4 | F28: =Apoio!IW371 -> 5 | G28: =Apoio!IX371 -> 6 | H28: =Apoio!IY371 -> 7 | I28: =Apoio!IZ371 -> 8 | ... P28: =Apoio!JG371 -> 19 | R28: 11 | T28: =Apoio!IS549 -> 1 | U28: =Apoio!IT549 -> 2 | V28: =Apoio!IU549 -> 5 | W28: =Apoio!IV549 -> 6 | X28: =Apoio!IW549 -> 7 | Y28: =Apoio!IX549 -> 8 | Z28: =Apoio!IY549 -> 9 | AA28: =Apoio!IZ549 -> 10 | ... AH28: =Apoio!JG549 -> 20 | AJ28: 189
B29: =Apoio!IS372 -> 1 | C29: =Apoio!IT372 -> 2 | D29: =Apoio!IU372 -> 3 | E29: =Apoio!IV372 -> 4 | F29: =Apoio!IW372 -> 5 | G29: =Apoio!IX372 -> 6 | H29: =Apoio!IY372 -> 7 | I29: =Apoio!IZ372 -> 8 | ... P29: =Apoio!JG372 -> 20 | R29: 12 | T29: =Apoio!IS550 -> 1 | U29: =Apoio!IT550 -> 2 | V29: =Apoio!IU550 -> 5 | W29: =Apoio!IV550 -> 6 | X29: =Apoio!IW550 -> 7 | Y29: =Apoio!IX550 -> 8 | Z29: =Apoio!IY550 -> 9 | AA29: =Apoio!IZ550 -> 11 | ... AH29: =Apoio!JG550 -> 20 | AJ29: 190
... B195: =Apoio!IS538 -> 1 | C195: =Apoio!IT538 -> 2 | D195: =Apoio!IU538 -> 4 | E195: =Apoio!IV538 -> 6 | F195: =Apoio!IW538 -> 7 | G195: =Apoio!IX538 -> 8 | H195: =Apoio!IY538 -> 9 | I195: =Apoio!IZ538 -> 10 | ... P195: =Apoio!JG538 -> 18 | R195: 178 | T195: =Apoio!IS716 -> 4 | U195: =Apoio!IT716 -> 5 | V195: =Apoio!IU716 -> 7 | W195: =Apoio!IV716 -> 8 | X195: =Apoio!IW716 -> 10 | Y195: =Apoio!IX716 -> 11 | Z195: =Apoio!IY716 -> 12 | AA195: =Apoio!IZ716 -> 13 | ... AH195: =Apoio!JG716 -> 20 | AJ195: 356

Sheet Apoio
AG1: 1 | AH1: 2 | AI1: 3 | AJ1: 4 | AK1: 5 | AL1: 6 | AM1: 7 | AN1: 8 | AO1: 9 | AP1: 10 | AQ1: 11 | AR1: 12 | AS1: 13 | AT1: 14 | AU1: 15 | AV1: 16 | AW1: 17 | AX1: 18 | AY1: 19 | AZ1: 20 | BA1: 21 | BB1: 22 | BC1: 23 | BD1: 24 | BE1: 25 | CX1: 1 | CY1: 2 | CZ1: 3 | DA1: 4 | DB1: 5 | DC1: 6 | DD1: 7 | DE1: 8 | DF1: 9 | DG1: 10 | DH1: 11 | DI1: 12 | DJ1: 13 | DK1: 14 | DL1: 15 | DM1: 16 | DN1: 17 | DO1: 18 | DP1: 19 | DQ1: 20 | DR1: 21 | DS1: 22 | DT1: 23 | DU1: 24 | DV1: 25 | FE1: 1 | FF1: 2 | FG1: 3 | FH1: 4 | FI1: 5 | FJ1: 6 | FK1: 7 | FL1: 8 | FM1: 9 | FN1: 10 | FO1: 11 | FP1: 12 | FQ1: 13 | FR1: 14 | FS1: 15 | FT1: 16 | FU1: 17 | FV1: 18 | FW1: 19 | FX1: 20 | FY1: 21 | FZ1: 22 | GA1: 23 | GB1: 24 | GC1: 25
AG2: =AG220 -> 1 | AH2: =AH220 -> 2 | AI2: =AI220 -> 3 | AJ2: =BY15 -> 4 | AK2: =BZ15 -> 5 | AL2: =CA15 -> 6 | AM2: =CB15 -> 7 | AN2: =CC15 -> 8 | AO2: =CD15 -> 9 | AP2: =CE15 -> 10 | AQ2: =CF15 -> 11 | ... AZ2: =CO15 -> 25 | BA2: =AG221 -> 17 | BB2: =AH221 -> 18 | BC2: =AI221 -> 19 | BD2: =AJ221 -> 20 | BE2: =AK221 -> 21 | CX2: =CX105 -> 1 | CY2: =CY105 -> 2 | CZ2: =CZ105 -> 3 | DA2: =DA105 -> 4 | DB2: =DB105 -> 5 | DC2: =EH18 -> 6 | DD2: =EI18 -> 7 | DE2: =EJ18 -> 8 | DF2: =EK18 -> 9 | DG2: =EL18 -> 10 | DH2: =EM18 -> 11 | DI2: =EN18 -> 12 | DJ2: =EO18 -> 13 | ... DQ2: =EV18 -> 25 | DR2: =CX106 -> 17 | DS2: =CY106 -> 18 | DT2: =CZ106 -> 19 | DU2: =DA106 -> 20 | DV2: =DB106 -> 21 | FE2: =FE66 -> 1 | FF2: =FF66 -> 2 | FG2: =FG66 -> 3 | FH2: =FH66 -> 4 | FI2: =FI66 -> 5 | FJ2: =FJ66 -> 6 | FK2: =FK66 -> 7 | FL2: =FL66 -> 8 | ... FP2: =FP66 -> 12 | FQ2: =GU13 -> 13 | FR2: =GV13 -> 14 | FS2: =GW13 -> 15 | FT2: =GX13 -> 16 | FU2: =GY13 -> 22 | FV2: =GZ13 -> 23 | FW2: =HA13 -> 24 | FX2: =HB13 -> 25 | FY2: =FE67 -> 17 | FZ2: =FF67 -> 18 | GA2: =FG67 -> 19 | GB2: =FH67 -> 20 | GC2: =FI67 -> 21 | GK2: 1 | GL2: 2 | GM2: 3 | GN2: 4 | GO2: 5 | GP2: 6 | GQ2: 7 | GR2: 8 | GS2: 9 | GT2: 10 | GU2: 11 | GV2: 12 | GW2: 13 | GX2: 14 | GY2: 15 | GZ2: 16 | HA2: 17 | HB2: 18 | HC2: 19 | HD2: 20 | HE2: 21 | HF2: 22 | HG2: 23 | HH2: 24 | HI2: 25 | HK2: =LOOKUP(IC2,$A$3:$T$3,$A$4:$T$4) -> 1 | HL2: =LOOKUP(ID2,$A$3:$T$3,$A$4:$T$4) -> 2 | HM2: =LOOKUP(IE2,$A$3:$T$3,$A$4:$T$4) -> 3 | HN2: =LOOKUP(IF2,$A$3:$T$3,$A$4:$T$4) -> 4 | HO2: =LOOKUP(IG2,$A$3:$T$3,$A$4:$T$4) -> 6 | HP2: =LOOKUP(IH2,$A$3:$T$3,$A$4:$T$4) -> 9 | HQ2: =LOOKUP(II2,$A$3:$T$3,$A$4:$T$4) -> 10 | HR2: =LOOKUP(IJ2,$A$3:$T$3,$A$4:$T$4) -> 11 | ... HY2: =LOOKUP(IQ2,$A$3:$T$3,$A$4:$T$4) -> 19 | IC2: 1 | ID2: 2 | IE2: 3 | IF2: 4 | IG2: 6 | IH2: 9 | II2: 10 | IJ2: 11 | IK2: 12 | IL2: 14 | IM2: 15 | IN2: 16 | IO2: 17 | IP2: 18 | IQ2: 19 | IS2: =LOOKUP(JI2,$A$3:$Y$3,$A$4:$AE$4) -> 1 | IT2: =LOOKUP(JJ2,$A$3:$Y$3,$A$4:$AE$4) -> 2 | IU2: =LOOKUP(JK2,$A$3:$Y$3,$A$4:$AE$4) -> 3 | IV2: =LOOKUP(JL2,$A$3:$Y$3,$A$4:$AE$4) -> 4 | IW2: =LOOKUP(JM2,$A$3:$Y$3,$A$4:$AE$4) -> 5 | IX2: =LOOKUP(JN2,$A$3:$Y$3,$A$4:$AE$4) -> 6 | IY2: =LOOKUP(JO2,$A$3:$Y$3,$A$4:$AE$4) -> 7 | IZ2: =LOOKUP(JP2,$A$3:$Y$3,$A$4:$AE$4) -> 8 | ... JG2: =LOOKUP(JW2,$A$3:$Y$3,$A$4:$AE$4) -> 19 | JI2: 1 | JJ2: 2 | JK2: 3 | JL2: 4 | JM2: 5 | JN2: 6 | JO2: 7 | JP2: 8 | JQ2: 9 | JR2: 10 | JS2: 11 | JT2: 12 | JU2: 14 | JV2: 18 | JW2: 19
A3: 1 | B3: 2 | C3: 3 | D3: 4 | E3: 5 | F3: 6 | G3: 7 | H3: 8 | I3: 9 | J3: 10 | K3: 11 | L3: 12 | M3: 13 | N3: 14 | O3: 15 | P3: 16 | Q3: 17 | R3: 18 | S3: 19 | T3: 20 | GK3: =FE66 -> 1 | GL3: =FF66 -> 2 | GM3: =FG66 -> 3 | GN3: =FH66 -> 4 | GO3: =FI66 -> 5 | GP3: =FJ66 -> 6 | GQ3: =FK66 -> 7 | GR3: =FL66 -> 8 | ... GV3: =FP66 -> 12 | HK3: =LOOKUP(IC3,$A$3:$T$3,$A$4:$T$4) -> 1 | HL3: =LOOKUP(ID3,$A$3:$T$3,$A$4:$T$4) -> 2 | HM3: =LOOKUP(IE3,$A$3:$T$3,$A$4:$T$4) -> 3 | HN3: =LOOKUP(IF3,$A$3:$T$3,$A$4:$T$4) -> 4 | HO3: =LOOKUP(IG3,$A$3:$T$3,$A$4:$T$4) -> 5 | HP3: =LOOKUP(IH3,$A$3:$T$3,$A$4:$T$4) -> 6 | HQ3: =LOOKUP(II3,$A$3:$T$3,$A$4:$T$4) -> 7 | HR3: =LOOKUP(IJ3,$A$3:$T$3,$A$4:$T$4) -> 8 | ... HY3: =LOOKUP(IQ3,$A$3:$T$3,$A$4:$T$4) -> 16 | IC3: 1 | ID3: 2 | IE3: 3 | IF3: 4 | IG3: 5 | IH3: 6 | II3: 7 | IJ3: 8 | IK3: 9 | IL3: 10 | IM3: 11 | IN3: 12 | IO3: 13 | IP3: 15 | IQ3: 16 | IS3: =LOOKUP(JI3,$A$3:$Y$3,$A$4:$AE$4) -> 1 | IT3: =LOOKUP(JJ3,$A$3:$Y$3,$A$4:$AE$4) -> 2 | IU3: =LOOKUP(JK3,$A$3:$Y$3,$A$4:$AE$4) -> 3 | IV3: =LOOKUP(JL3,$A$3:$Y$3,$A$4:$AE$4) -> 4 | IW3: =LOOKUP(JM3,$A$3:$Y$3,$A$4:$AE$4) -> 5 | IX3: =LOOKUP(JN3,$A$3:$Y$3,$A$4:$AE$4) -> 6 | IY3: =LOOKUP(JO3,$A$3:$Y$3,$A$4:$AE$4) -> 7 | IZ3: =LOOKUP(JP3,$A$3:$Y$3,$A$4:$AE$4) -> 8 | ... JG3: =LOOKUP(JW3,$A$3:$Y$3,$A$4:$AE$4) -> 17 | JI3: 1 | JJ3: 2 | JK3: 3 | JL3: 4 | JM3: 5 | JN3: 6 | JO3: 7 | JP3: 8 | JQ3: 9 | JR3: 10 | JS3: 11 | JT3: 14 | JU3: 15 | JV3: 16 | JW3: 17
A4: =Início!B17 -> 1 | B4: =Início!C17 -> 2 | C4: =Início!D17 -> 3 | D4: =Início!E17 -> 4 | E4: =Início!F17 -> 5 | F4: =Início!G17 -> 6 | G4: =Início!H17 -> 7 | H4: =Início!I17 -> 8 | ... T4: =Início!U17 -> 20 | BX4: 1 | BY4: 2 | BZ4: 3 | CA4: 4 | CB4: 5 | CC4: 6 | CD4: 7 | CE4: 8 | CF4: 9 | CG4: 10 | CH4: 11 | CI4: 12 | CJ4: 13 | CK4: 14 | CL4: 15 | CM4: 16 | CN4: 17 | CO4: 18 | CP4: 19 | CQ4: 20 | CR4: 21 | CS4: 22 | CT4: 23 | CU4: 24 | CV4: 25 | GK4: =FE2 -> 1 | GL4: =FF2 -> 2 | GM4: =FG2 -> 3 | GN4: =FH2 -> 4 | GO4: =FI2 -> 5 | GP4: =FJ2 -> 6 | GQ4: =FK2 -> 7 | GR4: =FL2 -> 8 | ... GT4: =FN2 -> 10 | HK4: =LOOKUP(IC4,$A$3:$T$3,$A$4:$T$4) -> 1 | HL4: =LOOKUP(ID4,$A$3:$T$3,$A$4:$T$4) -> 2 | HM4: =LOOKUP(IE4,$A$3:$T$3,$A$4:$T$4) -> 4 | HN4: =LOOKUP(IF4,$A$3:$T$3,$A$4:$T$4) -> 5 | HO4: =LOOKUP(IG4,$A$3:$T$3,$A$4:$T$4) -> 6 | HP4: =LOOKUP(IH4,$A$3:$T$3,$A$4:$T$4) -> 7 | HQ4: =LOOKUP(II4,$A$3:$T$3,$A$4:$T$4) -> 8 | HR4: =LOOKUP(IJ4,$A$3:$T$3,$A$4:$T$4) -> 9 | ... HY4: =LOOKUP(IQ4,$A$3:$T$3,$A$4:$T$4) -> 20 | IC4: 1 | ID4: 2 | IE4: 4 | IF4: 5 | IG4: 6 | IH4: 7 | II4: 8 | IJ4: 9 | IK4: 12 | IL4: 13 | IM4: 14 | IN4: 15 | IO4: 18 | IP4: 19 | IQ4: 20 | IS4: =LOOKUP(JI4,$A$3:$Y$3,$A$4:$AE$4) -> 1 | IT4: =LOOKUP(JJ4,$A$3:$Y$3,$A$4:$AE$4) -> 2 | IU4: =LOOKUP(JK4,$A$3:$Y$3,$A$4:$AE$4) -> 3 | IV4: =LOOKUP(JL4,$A$3:$Y$3,$A$4:$AE$4) -> 4 | IW4: =LOOKUP(JM4,$A$3:$Y$3,$A$4:$AE$4) -> 5 | IX4: =LOOKUP(JN4,$A$3:$Y$3,$A$4:$AE$4) -> 6 | IY4: =LOOKUP(JO4,$A$3:$Y$3,$A$4:$AE$4) -> 7 | IZ4: =LOOKUP(JP4,$A$3:$Y$3,$A$4:$AE$4) -> 8 | ... JG4: =LOOKUP(JW4,$A$3:$Y$3,$A$4:$AE$4) -> 20 | JI4: 1 | JJ4: 2 | JK4: 3 | JL4: 4 | JM4: 5 | JN4: 6 | JO4: 7 | JP4: 8 | JQ4: 9 | JR4: 10 | JS4: 12 | JT4: 14 | JU4: 15 | JV4: 18 | JW4: 20
BX5: =AG220 -> 1 | BY5: =AH220 -> 2 | BZ5: =AI220 -> 3 | GK5: =COUNTIF($GK$2:$HI$3,GK2) -> 2 | GL5: =COUNTIF($GK$2:$HI$3,GL2) -> 2 | GM5: =COUNTIF($GK$2:$HI$3,GM2) -> 2 | GN5: =COUNTIF($GK$2:$HI$3,GN2) -> 2 | GO5: =COUNTIF($GK$2:$HI$3,GO2) -> 2 | GP5: =COUNTIF($GK$2:$HI$3,GP2) -> 2 | GQ5: =COUNTIF($GK$2:$HI$3,GQ2) -> 2 | GR5: =COUNTIF($GK$2:$HI$3,GR2) -> 2 | ... HI5: =COUNTIF($GK$2:$HI$3,HI2) -> 1 | HK5: =LOOKUP(IC5,$A$3:$T$3,$A$4:$T$4) -> 1 | HL5: =LOOKUP(ID5,$A$3:$T$3,$A$4:$T$4) -> 2 | HM5: =LOOKUP(IE5,$A$3:$T$3,$A$4:$T$4) -> 3 | HN5: =LOOKUP(IF5,$A$3:$T$3,$A$4:$T$4) -> 6 | HO5: =LOOKUP(IG5,$A$3:$T$3,$A$4:$T$4) -> 7 | HP5: =LOOKUP(IH5,$A$3:$T$3,$A$4:$T$4) -> 9 | HQ5: =LOOKUP(II5,$A$3:$T$3,$A$4:$T$4) -> 10 | HR5: =LOOKUP(IJ5,$A$3:$T$3,$A$4:$T$4) -> 11 | ... HY5: =LOOKUP(IQ5,$A$3:$T$3,$A$4:$T$4) -> 20 | IC5: 1 | ID5: 2 | IE5: 3 | IF5: 6 | IG5: 7 | IH5: 9 | II5: 10 | IJ5: 11 | IK5: 12 | IL5: 13 | IM5: 14 | IN5: 15 | IO5: 16 | IP5: 18 | IQ5: 20 | IS5: =LOOKUP(JI5,$A$3:$Y$3,$A$4:$AE$4) -> 1 | IT5: =LOOKUP(JJ5,$A$3:$Y$3,$A$4:$AE$4) -> 2 | IU5: =LOOKUP(JK5,$A$3:$Y$3,$A$4:$AE$4) -> 3 | IV5: =LOOKUP(JL5,$A$3:$Y$3,$A$4:$AE$4) -> 4 | IW5: =LOOKUP(JM5,$A$3:$Y$3,$A$4:$AE$4) -> 5 | IX5: =LOOKUP(JN5,$A$3:$Y$3,$A$4:$AE$4) -> 6 | IY5: =LOOKUP(JO5,$A$3:$Y$3,$A$4:$AE$4) -> 7 | IZ5: =LOOKUP(JP5,$A$3:$Y$3,$A$4:$AE$4) -> 8 | ... JG5: =LOOKUP(JW5,$A$3:$Y$3,$A$4:$AE$4) -> 20 | JI5: 1 | JJ5: 2 | JK5: 3 | JL5: 4 | JM5: 5 | JN5: 6 | JO5: 7 | JP5: 8 | JQ5: 9 | JR5: 10 | JS5: 13 | JT5: 14 | JU5: 15 | JV5: 19 | JW5: 20
BX6: =AG2 -> 1 | BY6: =AH2 -> 2 | BZ6: =AI2 -> 3 | CA6: =AJ2 -> 4 | CB6: =AK2 -> 5 | CC6: =AL2 -> 6 | CD6: =AM2 -> 7 | CE6: =AN2 -> 8 | ... CG6: =AP2 -> 10 | GK6: =IF(GK5=1,GK2,0) -> 0 | GL6: =IF(GL5=1,GL2,0) -> 0 | GM6: =IF(GM5=1,GM2,0) -> 0 | GN6: =IF(GN5=1,GN2,0) -> 0 | GO6: =IF(GO5=1,GO2,0) -> 0 | GP6: =IF(GP5=1,GP2,0) -> 0 | GQ6: =IF(GQ5=1,GQ2,0) -> 0 | GR6: =IF(GR5=1,GR2,0) -> 0 | ... HI6: =IF(HI5=1,HI2,0) -> 25 | HK6: =LOOKUP(IC6,$A$3:$T$3,$A$4:$T$4) -> 1 | HL6: =LOOKUP(ID6,$A$3:$T$3,$A$4:$T$4) -> 2 | HM6: =LOOKUP(IE6,$A$3:$T$3,$A$4:$T$4) -> 3 | HN6: =LOOKUP(IF6,$A$3:$T$3,$A$4:$T$4) -> 6 | HO6: =LOOKUP(IG6,$A$3:$T$3,$A$4:$T$4) -> 7 | HP6: =LOOKUP(IH6,$A$3:$T$3,$A$4:$T$4) -> 8 | HQ6: =LOOKUP(II6,$A$3:$T$3,$A$4:$T$4) -> 9 | HR6: =LOOKUP(IJ6,$A$3:$T$3,$A$4:$T$4) -> 10 | ... HY6: =LOOKUP(IQ6,$A$3:$T$3,$A$4:$T$4) -> 20 | IC6: 1 | ID6: 2 | IE6: 3 | IF6: 6 | IG6: 7 | IH6: 8 | II6: 9 | IJ6: 10 | IK6: 11 | IL6: 13 | IM6: 15 | IN6: 16 | IO6: 17 | IP6: 19 | IQ6: 20 | IS6: =LOOKUP(JI6,$A$3:$Y$3,$A$4:$AE$4) -> 1 | IT6: =LOOKUP(JJ6,$A$3:$Y$3,$A$4:$AE$4) -> 2 | IU6: =LOOKUP(JK6,$A$3:$Y$3,$A$4:$AE$4) -> 3 | IV6: =LOOKUP(JL6,$A$3:$Y$3,$A$4:$AE$4) -> 4 | IW6: =LOOKUP(JM6,$A$3:$Y$3,$A$4:$AE$4) -> 5 | IX6: =LOOKUP(JN6,$A$3:$Y$3,$A$4:$AE$4) -> 6 | IY6: =LOOKUP(JO6,$A$3:$Y$3,$A$4:$AE$4) -> 7 | IZ6: =LOOKUP(JP6,$A$3:$Y$3,$A$4:$AE$4) -> 8 | ... JG6: =LOOKUP(JW6,$A$3:$Y$3,$A$4:$AE$4) -> 19 | JI6: 1 | JJ6: 2 | JK6: 3 | JL6: 4 | JM6: 5 | JN6: 6 | JO6: 7 | JP6: 8 | JQ6: 9 | JR6: 11 | JS6: 12 | JT6: 13 | JU6: 14 | JV6: 18 | JW6: 19
AG7: =LOOKUP(BE7,$AG$1:$BE$1,$AG$2:$BE$2) -> 1 | AH7: =LOOKUP(BF7,$AG$1:$BE$1,$AG$2:$BE$2) -> 2 | AI7: =LOOKUP(BG7,$AG$1:$BE$1,$AG$2:$BE$2) -> 3 | AJ7: =LOOKUP(BH7,$AG$1:$BE$1,$AG$2:$BE$2) -> 4 | AK7: =LOOKUP(BI7,$AG$1:$BE$1,$AG$2:$BE$2) -> 5 | AL7: =LOOKUP(BJ7,$AG$1:$BE$1,$AG$2:$BE$2) -> 6 | AM7: =LOOKUP(BK7,$AG$1:$BE$1,$AG$2:$BE$2) -> 7 | AN7: =LOOKUP(BL7,$AG$1:$BE$1,$AG$2:$BE$2) -> 8 | ... AU7: =LOOKUP(BS7,$AG$1:$BE$1,$AG$2:$BE$2) -> 25 | BE7: 1 | BF7: 2 | BG7: 3 | BH7: 4 | BI7: 5 | BJ7: 6 | BK7: 7 | BL7: 8 | BM7: 9 | BN7: 10 | BO7: 12 | BP7: 17 | BQ7: 18 | BR7: 19 | BS7: 20 | BX7: =COUNTIF($BX$4:$CV$5,BX4) -> 2 | BY7: =COUNTIF($BX$4:$CV$5,BY4) -> 2 | BZ7: =COUNTIF($BX$4:$CV$5,BZ4) -> 2 | CA7: =COUNTIF($BX$4:$CV$5,CA4) -> 1 | CB7: =COUNTIF($BX$4:$CV$5,CB4) -> 1 | CC7: =COUNTIF($BX$4:$CV$5,CC4) -> 1 | CD7: =COUNTIF($BX$4:$CV$5,CD4) -> 1 | CE7: =COUNTIF($BX$4:$CV$5,CE4) -> 1 | ... CV7: =COUNTIF($BX$4:$CV$5,CV4) -> 1 | CX7: =LOOKUP(DO7,$CX$1:$DV$1,$CX$2:$DV$2) -> 1 | CY7: =LOOKUP(DP7,$CX$1:$DV$1,$CX$2:$DV$2) -> 2 | CZ7: =LOOKUP(DQ7,$CX$1:$DV$1,$CX$2:$DV$2) -> 3 | DA7: =LOOKUP(DR7,$CX$1:$DV$1,$CX$2:$DV$2) -> 4 | DB7: =LOOKUP(DS7,$CX$1:$DV$1,$CX$2:$DV$2) -> 5 | DC7: =LOOKUP(DT7,$CX$1:$DV$1,$CX$2:$DV$2) -> 6 | DD7: =LOOKUP(DU7,$CX$1:$DV$1,$CX$2:$DV$2) -> 7 | DE7: =LOOKUP(DV7,$CX$1:$DV$1,$CX$2:$DV$2) -> 9 | ... DL7: =LOOKUP(EC7,$CX$1:$DV$1,$CX$2:$DV$2) -> 25 | DO7: 1 | DP7: 2 | DQ7: 3 | DR7: 4 | DS7: 5 | DT7: 6 | DU7: 7 | DV7: 9 | DW7: 13 | DX7: 14 | DY7: 16 | DZ7: 17 | EA7: 18 | EB7: 19 | EC7: 20 | EE7: 1 | EF7: 2 | EG7: 3 | EH7: 4 | EI7: 5 | EJ7: 6 | EK7: 7 | EL7: 8 | EM7: 9 | EN7: 10 | EO7: 11 | EP7: 12 | EQ7: 13 | ER7: 14 | ES7: 15 | ET7: 16 | EU7: 17 | EV7: 18 | EW7: 19 | EX7: 20 | EY7: 21 | EZ7: 22 | FA7: 23 | FB7: 24 | FC7: 25 | FE7: =LOOKUP(FU7,$FE$1:$GC$1,$FE$2:$GC$2) -> 1 | FF7: =LOOKUP(FV7,$FE$1:$GC$1,$FE$2:$GC$2) -> 2 | FG7: =LOOKUP(FW7,$FE$1:$GC$1,$FE$2:$GC$2) -> 3 | FH7: =LOOKUP(FX7,$FE$1:$GC$1,$FE$2:$GC$2) -> 4 | FI7: =LOOKUP(FY7,$FE$1:$GC$1,$FE$2:$GC$2) -> 5 | FJ7: =LOOKUP(FZ7,$FE$1:$GC$1,$FE$2:$GC$2) -> 6 | FK7: =LOOKUP(GA7,$FE$1:$GC$1,$FE$2:$GC$2) -> 7 | FL7: =LOOKUP(GB7,$FE$1:$GC$1,$FE$2:$GC$2) -> 8 | ... FS7: =LOOKUP(GI7,$FE$1:$GC$1,$FE$2:$GC$2) -> 15 | FU7: 1 | FV7: 2 | FW7: 3 | FX7: 4 | FY7: 5 | FZ7: 6 | GA7: 7 | GB7: 8 | GC7: 9 | GD7: 10 | GE7: 11 | GF7: 12 | GG7: 13 | GH7: 14 | GI7: 15 | GK7: =LARGE($GK$6:$HI$6,GK2) -> 25 | GL7: =LARGE($GK$6:$HI$6,GL2) -> 24 | GM7: =LARGE($GK$6:$HI$6,GM2) -> 23 | GN7: =LARGE($GK$6:$HI$6,GN2) -> 22 | GO7: =LARGE($GK$6:$HI$6,GO2) -> 21 | GP7: =LARGE($GK$6:$HI$6,GP2) -> 20 | GQ7: =LARGE($GK$6:$HI$6,GQ2) -> 19 | GR7: =LARGE($GK$6:$HI$6,GR2) -> 18 | ... HI7: =LARGE($GK$6:$HI$6,HI2) -> 0 | HK7: =LOOKUP(IC7,$A$3:$T$3,$A$4:$T$4) -> 1 | HL7: =LOOKUP(ID7,$A$3:$T$3,$A$4:$T$4) -> 2 | HM7: =LOOKUP(IE7,$A$3:$T$3,$A$4:$T$4) -> 3 | HN7: =LOOKUP(IF7,$A$3:$T$3,$A$4:$T$4) -> 5 | HO7: =LOOKUP(IG7,$A$3:$T$3,$A$4:$T$4) -> 7 | HP7: =LOOKUP(IH7,$A$3:$T$3,$A$4:$T$4) -> 9 | HQ7: =LOOKUP(II7,$A$3:$T$3,$A$4:$T$4) -> 10 | HR7: =LOOKUP(IJ7,$A$3:$T$3,$A$4:$T$4) -> 11 | ... HY7: =LOOKUP(IQ7,$A$3:$T$3,$A$4:$T$4) -> 20 | IC7: 1 | ID7: 2 | IE7: 3 | IF7: 5 | IG7: 7 | IH7: 9 | II7: 10 | IJ7: 11 | IK7: 12 | IL7: 13 | IM7: 14 | IN7: 15 | IO7: 16 | IP7: 19 | IQ7: 20 | IS7: =LOOKUP(JI7,$A$3:$Y$3,$A$4:$AE$4) -> 1 | IT7: =LOOKUP(JJ7,$A$3:$Y$3,$A$4:$AE$4) -> 2 | IU7: =LOOKUP(JK7,$A$3:$Y$3,$A$4:$AE$4) -> 3 | IV7: =LOOKUP(JL7,$A$3:$Y$3,$A$4:$AE$4) -> 4 | IW7: =LOOKUP(JM7,$A$3:$Y$3,$A$4:$AE$4) -> 5 | IX7: =LOOKUP(JN7,$A$3:$Y$3,$A$4:$AE$4) -> 6 | IY7: =LOOKUP(JO7,$A$3:$Y$3,$A$4:$AE$4) -> 7 | IZ7: =LOOKUP(JP7,$A$3:$Y$3,$A$4:$AE$4) -> 8 | ... JG7: =LOOKUP(JW7,$A$3:$Y$3,$A$4:$AE$4) -> 18 | JI7: 1 | JJ7: 2 | JK7: 3 | JL7: 4 | JM7: 5 | JN7: 6 | JO7: 7 | JP7: 8 | JQ7: 9 | JR7: 11 | JS7: 12 | JT7: 14 | JU7: 16 | JV7: 17 | JW7: 18
AG8: =LOOKUP(BE8,$AG$1:$BE$1,$AG$2:$BE$2) -> 1 | AH8: =LOOKUP(BF8,$AG$1:$BE$1,$AG$2:$BE$2) -> 2 | AI8: =LOOKUP(BG8,$AG$1:$BE$1,$AG$2:$BE$2) -> 3 | AJ8: =LOOKUP(BH8,$AG$1:$BE$1,$AG$2:$BE$2) -> 4 | AK8: =LOOKUP(BI8,$AG$1:$BE$1,$AG$2:$BE$2) -> 5 | AL8: =LOOKUP(BJ8,$AG$1:$BE$1,$AG$2:$BE$2) -> 6 | AM8: =LOOKUP(BK8,$AG$1:$BE$1,$AG$2:$BE$2) -> 7 | AN8: =LOOKUP(BL8,$AG$1:$BE$1,$AG$2:$BE$2) -> 8 | ... AU8: =LOOKUP(BS8,$AG$1:$BE$1,$AG$2:$BE$2) -> 25 | BE8: 1 | BF8: 2 | BG8: 3 | BH8: 4 | BI8: 5 | BJ8: 6 | BK8: 7 | BL8: 8 | BM8: 9 | BN8: 10 | BO8: 14 | BP8: 16 | BQ8: 18 | BR8: 19 | BS8: 20 | BX8: =IF(BX7=1,BX4,0) -> 0 | BY8: =IF(BY7=1,BY4,0) -> 0 | BZ8: =IF(BZ7=1,BZ4,0) -> 0 | CA8: =IF(CA7=1,CA4,0) -> 4 | CB8: =IF(CB7=1,CB4,0) -> 5 | CC8: =IF(CC7=1,CC4,0) -> 6 | CD8: =IF(CD7=1,CD4,0) -> 7 | CE8: =IF(CE7=1,CE4,0) -> 8 | ... CV8: =IF(CV7=1,CV4,0) -> 25 | CX8: =LOOKUP(DO8,$CX$1:$DV$1,$CX$2:$DV$2) -> 1 | CY8: =LOOKUP(DP8,$CX$1:$DV$1,$CX$2:$DV$2) -> 2 | CZ8: =LOOKUP(DQ8,$CX$1:$DV$1,$CX$2:$DV$2) -> 3 | DA8: =LOOKUP(DR8,$CX$1:$DV$1,$CX$2:$DV$2) -> 4 | DB8: =LOOKUP(DS8,$CX$1:$DV$1,$CX$2:$DV$2) -> 5 | DC8: =LOOKUP(DT8,$CX$1:$DV$1,$CX$2:$DV$2) -> 6 | DD8: =LOOKUP(DU8,$CX$1:$DV$1,$CX$2:$DV$2) -> 7 | DE8: =LOOKUP(DV8,$CX$1:$DV$1,$CX$2:$DV$2) -> 10 | ... DL8: =LOOKUP(EC8,$CX$1:$DV$1,$CX$2:$DV$2) -> 25 | DO8: 1 | DP8: 2 | DQ8: 3 | DR8: 4 | DS8: 5 | DT8: 6 | DU8: 7 | DV8: 10 | DW8: 11 | DX8: 13 | DY8: 16 | DZ8: 17 | EA8: 18 | EB8: 19 | EC8: 20 | EE8: =CX105 -> 1 | EF8: =CY105 -> 2 | EG8: =CZ105 -> 3 | EH8: =DA105 -> 4 | EI8: =DB105 -> 5 | FE8: =LOOKUP(FU8,$FE$1:$GC$1,$FE$2:$GC$2) -> 1 | FF8: =LOOKUP(FV8,$FE$1:$GC$1,$FE$2:$GC$2) -> 2 | FG8: =LOOKUP(FW8,$FE$1:$GC$1,$FE$2:$GC$2) -> 3 | FH8: =LOOKUP(FX8,$FE$1:$GC$1,$FE$2:$GC$2) -> 4 | FI8: =LOOKUP(FY8,$FE$1:$GC$1,$FE$2:$GC$2) -> 5 | FJ8: =LOOKUP(FZ8,$FE$1:$GC$1,$FE$2:$GC$2) -> 6 | FK8: =LOOKUP(GA8,$FE$1:$GC$1,$FE$2:$GC$2) -> 7 | FL8: =LOOKUP(GB8,$FE$1:$GC$1,$FE$2:$GC$2) -> 8 | ... FS8: =LOOKUP(GI8,$FE$1:$GC$1,$FE$2:$GC$2) -> 16 | FU8: 1 | FV8: 2 | FW8: 3 | FX8: 4 | FY8: 5 | FZ8: 6 | GA8: 7 | GB8: 8 | GC8: 9 | GD8: 10 | GE8: 11 | GF8: 12 | GG8: 13 | GH8: 14 | GI8: 16 | GK8: =SMALL($GK$7:$HF$7,GK2) -> 0 | GL8: =SMALL($GK$7:$HF$7,GL2) -> 0 | GM8: =SMALL($GK$7:$HF$7,GM2) -> 0 | GN8: =SMALL($GK$7:$HF$7,GN2) -> 0 | GO8: =SMALL($GK$7:$HF$7,GO2) -> 0 | GP8: =SMALL($GK$7:$HF$7,GP2) -> 0 | GQ8: =SMALL($GK$7:$HF$7,GQ2) -> 0 | GR8: =SMALL($GK$7:$HF$7,GR2) -> 0 | ... HF8: =SMALL($GK$7:$HF$7,HF2) -> 25 | HK8: =LOOKUP(IC8,$A$3:$T$3,$A$4:$T$4) -> 1 | HL8: =LOOKUP(ID8,$A$3:$T$3,$A$4:$T$4) -> 2 | HM8: =LOOKUP(IE8,$A$3:$T$3,$A$4:$T$4) -> 3 | HN8: =LOOKUP(IF8,$A$3:$T$3,$A$4:$T$4) -> 5 | HO8: =LOOKUP(IG8,$A$3:$T$3,$A$4:$T$4) -> 7 | HP8: =LOOKUP(IH8,$A$3:$T$3,$A$4:$T$4) -> 8 | HQ8: =LOOKUP(II8,$A$3:$T$3,$A$4:$T$4) -> 9 | HR8: =LOOKUP(IJ8,$A$3:$T$3,$A$4:$T$4) -> 11 | ... HY8: =LOOKUP(IQ8,$A$3:$T$3,$A$4:$T$4) -> 18 | IC8: 1 | ID8: 2 | IE8: 3 | IF8: 5 | IG8: 7 | IH8: 8 | II8: 9 | IJ8: 11 | IK8: 12 | IL8: 13 | IM8: 14 | IN8: 15 | IO8: 16 | IP8: 17 | IQ8: 18 | IS8: =LOOKUP(JI8,$A$3:$Y$3,$A$4:$AE$4) -> 1 | IT8: =LOOKUP(JJ8,$A$3:$Y$3,$A$4:$AE$4) -> 2 | IU8: =LOOKUP(JK8,$A$3:$Y$3,$A$4:$AE$4) -> 3 | IV8: =LOOKUP(JL8,$A$3:$Y$3,$A$4:$AE$4) -> 4 | IW8: =LOOKUP(JM8,$A$3:$Y$3,$A$4:$AE$4) -> 5 | IX8: =LOOKUP(JN8,$A$3:$Y$3,$A$4:$AE$4) -> 6 | IY8: =LOOKUP(JO8,$A$3:$Y$3,$A$4:$AE$4) -> 7 | IZ8: =LOOKUP(JP8,$A$3:$Y$3,$A$4:$AE$4) -> 8 | ... JG8: =LOOKUP(JW8,$A$3:$Y$3,$A$4:$AE$4) -> 19 | JI8: 1 | JJ8: 2 | JK8: 3 | JL8: 4 | JM8: 5 | JN8: 6 | JO8: 7 | JP8: 8 | JQ8: 9 | JR8: 11 | JS8: 12 | JT8: 16 | JU8: 17 | JV8: 18 | JW8: 19
A9: =LOOKUP(Q9,$A$3:$Y$3,$A$4:$Y$4) -> 1 | B9: =LOOKUP(R9,$A$3:$Y$3,$A$4:$Y$4) -> 2 | C9: =LOOKUP(S9,$A$3:$Y$3,$A$4:$Y$4) -> 3 | D9: =LOOKUP(T9,$A$3:$Y$3,$A$4:$Y$4) -> 4 | E9: =LOOKUP(U9,$A$3:$Y$3,$A$4:$Y$4) -> 5 | F9: =LOOKUP(V9,$A$3:$Y$3,$A$4:$Y$4) -> 6 | G9: =LOOKUP(W9,$A$3:$Y$3,$A$4:$Y$4) -> 7 | H9: =LOOKUP(X9,$A$3:$Y$3,$A$4:$Y$4) -> 8 | ... O9: =LOOKUP(AE9,$A$3:$Y$3,$A$4:$Y$4) -> 18 | Q9: 1 | R9: 2 | S9: 3 | T9: 4 | U9: 5 | V9: 6 | W9: 7 | X9: 8 | Y9: 9 | Z9: 10 | AA9: 12 | AB9: 13 | AC9: 15 | AD9: 17 | AE9: 18 | AG9: =LOOKUP(BE9,$AG$1:$BE$1,$AG$2:$BE$2) -> 1 | AH9: =LOOKUP(BF9,$AG$1:$BE$1,$AG$2:$BE$2) -> 2 | AI9: =LOOKUP(BG9,$AG$1:$BE$1,$AG$2:$BE$2) -> 3 | AJ9: =LOOKUP(BH9,$AG$1:$BE$1,$AG$2:$BE$2) -> 4 | AK9: =LOOKUP(BI9,$AG$1:$BE$1,$AG$2:$BE$2) -> 5 | AL9: =LOOKUP(BJ9,$AG$1:$BE$1,$AG$2:$BE$2) -> 6 | AM9: =LOOKUP(BK9,$AG$1:$BE$1,$AG$2:$BE$2) -> 7 | AN9: =LOOKUP(BL9,$AG$1:$BE$1,$AG$2:$BE$2) -> 8 | ... AU9: =LOOKUP(BS9,$AG$1:$BE$1,$AG$2:$BE$2) -> 25 | BE9: 1 | BF9: 2 | BG9: 3 | BH9: 4 | BI9: 5 | BJ9: 6 | BK9: 7 | BL9: 8 | BM9: 9 | BN9: 11 | BO9: 13 | BP9: 17 | BQ9: 18 | BR9: 19 | BS9: 20 | BX9: =LARGE($BX$8:$CV$8,BX4) -> 25 | BY9: =LARGE($BX$8:$CV$8,BY4) -> 24 | BZ9: =LARGE($BX$8:$CV$8,BZ4) -> 23 | CA9: =LARGE($BX$8:$CV$8,CA4) -> 22 | CB9: =LARGE($BX$8:$CV$8,CB4) -> 21 | CC9: =LARGE($BX$8:$CV$8,CC4) -> 20 | CD9: =LARGE($BX$8:$CV$8,CD4) -> 19 | CE9: =LARGE($BX$8:$CV$8,CE4) -> 18 | ... CV9: =LARGE($BX$8:$CV$8,CV4) -> 0 | CX9: =LOOKUP(DO9,$CX$1:$DV$1,$CX$2:$DV$2) -> 1 | CY9: =LOOKUP(DP9,$CX$1:$DV$1,$CX$2:$DV$2) -> 2 | CZ9: =LOOKUP(DQ9,$CX$1:$DV$1,$CX$2:$DV$2) -> 3 | DA9: =LOOKUP(DR9,$CX$1:$DV$1,$CX$2:$DV$2) -> 4 | DB9: =LOOKUP(DS9,$CX$1:$DV$1,$CX$2:$DV$2) -> 5 | DC9: =LOOKUP(DT9,$CX$1:$DV$1,$CX$2:$DV$2) -> 6 | DD9: =LOOKUP(DU9,$CX$1:$DV$1,$CX$2:$DV$2) -> 7 | DE9: =LOOKUP(DV9,$CX$1:$DV$1,$CX$2:$DV$2) -> 10 | ... DL9: =LOOKUP(EC9,$CX$1:$DV$1,$CX$2:$DV$2) -> 25 | DO9: 1 | DP9: 2 | DQ9: 3 | DR9: 4 | DS9: 5 | DT9: 6 | DU9: 7 | DV9: 10 | DW9: 12 | DX9: 15 | DY9: 16 | DZ9: 17 | EA9: 18 | EB9: 19 | EC9: 20 | EE9: =CX2 -> 1 | EF9: =CY2 -> 2 | EG9: =CZ2 -> 3 | EH9: =DA2 -> 4 | EI9: =DB2 -> 5 | EJ9: =DC2 -> 6 | EK9: =DD2 -> 7 | EL9: =DE2 -> 8 | ... EN9: =DG2 -> 10 | FE9: =LOOKUP(FU9,$FE$1:$GC$1,$FE$2:$GC$2) -> 1 | FF9: =LOOKUP(FV9,$FE$1:$GC$1,$FE$2:$GC$2) -> 2 | FG9: =LOOKUP(FW9,$FE$1:$GC$1,$FE$2:$GC$2) -> 3 | FH9: =LOOKUP(FX9,$FE$1:$GC$1,$FE$2:$GC$2) -> 4 | FI9: =LOOKUP(FY9,$FE$1:$GC$1,$FE$2:$GC$2) -> 5 | FJ9: =LOOKUP(FZ9,$FE$1:$GC$1,$FE$2:$GC$2) -> 6 | FK9: =LOOKUP(GA9,$FE$1:$GC$1,$FE$2:$GC$2) -> 7 | FL9: =LOOKUP(GB9,$FE$1:$GC$1,$FE$2:$GC$2) -> 8 | ... FS9: =LOOKUP(GI9,$FE$1:$GC$1,$FE$2:$GC$2) -> 22 | FU9: 1 | FV9: 2 | FW9: 3 | FX9: 4 | FY9: 5 | FZ9: 6 | GA9: 7 | GB9: 8 | GC9: 9 | GD9: 10 | GE9: 11 | GF9: 12 | GG9: 13 | GH9: 14 | GI9: 17 | GK9: =FY2 -> 17 | GL9: =FZ2 -> 18 | GM9: =GA2 -> 19 | GN9: =GB2 -> 20 | GO9: =GC2 -> 21 | HK9: =LOOKUP(IC9,$A$3:$T$3,$A$4:$T$4) -> 1 | HL9: =LOOKUP(ID9,$A$3:$T$3,$A$4:$T$4) -> 2 | HM9: =LOOKUP(IE9,$A$3:$T$3,$A$4:$T$4) -> 3 | HN9: =LOOKUP(IF9,$A$3:$T$3,$A$4:$T$4) -> 5 | HO9: =LOOKUP(IG9,$A$3:$T$3,$A$4:$T$4) -> 6 | HP9: =LOOKUP(IH9,$A$3:$T$3,$A$4:$T$4) -> 7 | HQ9: =LOOKUP(II9,$A$3:$T$3,$A$4:$T$4) -> 8 | HR9: =LOOKUP(IJ9,$A$3:$T$3,$A$4:$T$4) -> 9 | ... HY9: =LOOKUP(IQ9,$A$3:$T$3,$A$4:$T$4) -> 20 | IC9: 1 | ID9: 2 | IE9: 3 | IF9: 5 | IG9: 6 | IH9: 7 | II9: 8 | IJ9: 9 | IK9: 12 | IL9: 14 | IM9: 16 | IN9: 17 | IO9: 18 | IP9: 19 | IQ9: 20 | IS9: =LOOKUP(JI9,$A$3:$Y$3,$A$4:$AE$4) -> 1 | IT9: =LOOKUP(JJ9,$A$3:$Y$3,$A$4:$AE$4) -> 2 | IU9: =LOOKUP(JK9,$A$3:$Y$3,$A$4:$AE$4) -> 3 | IV9: =LOOKUP(JL9,$A$3:$Y$3,$A$4:$AE$4) -> 4 | IW9: =LOOKUP(JM9,$A$3:$Y$3,$A$4:$AE$4) -> 5 | IX9: =LOOKUP(JN9,$A$3:$Y$3,$A$4:$AE$4) -> 6 | IY9: =LOOKUP(JO9,$A$3:$Y$3,$A$4:$AE$4) -> 7 | IZ9: =LOOKUP(JP9,$A$3:$Y$3,$A$4:$AE$4) -> 8 | ... JG9: =LOOKUP(JW9,$A$3:$Y$3,$A$4:$AE$4) -> 20 | JI9: 1 | JJ9: 2 | JK9: 3 | JL9: 4 | JM9: 5 | JN9: 6 | JO9: 7 | JP9: 8 | JQ9: 9 | JR9: 11 | JS9: 13 | JT9: 14 | JU9: 16 | JV9: 17 | JW9: 20
