Workbook

Sheet Início
A1: Sua Logo Aqui | AA1: ="V"&X5 -> V1
E2: Desdobramento Lotofácil com 20 Números
X5: 1 | Y5: 10
W7: Opção 1: Se você acertar os 15 números fixos dos 20 escolhidos há chances de 97% de 1 cartela com 14 pontos. ( 119 volantes ) Opção 2: Se você acertar os 3 números fixos escolhidos e não sair nenhum dos 5 excluídos garante no mínimo uma cartela com 13 pontos. ( 211 volantes ) Opção 3: Se você acertar os 5 números fixos escolhidos e não sair nenhum dos 5 excluídos garante no mínimo uma cartela com 12 pontos. ( 95 volantes ) Opção 4: Se você acertar os 10 números fixos escolhidos e não sair nenhum dos 5 excluídos garante no mínimo uma cartela com 14 pontos. ( 24 volantes ) Opção 5: Se você acertar os 12 números fixos escolhidos e não sair nenhum dos 5 excluídos garante no mínimo uma cartela com 15 pontos. ( 56 volantes ) Opção 6: Se você acertar os 15 números fixos dos 20 escolhidos garante ao menos 1 cartela com 12 pontos. ( 4 volantes ) Opção 7: Se você acertar os 15 números fixos dos 20 escolhidos garante ao menos 1 cartela com 13 pontos. ( 38 volantes ) Opção 8: Se você acertar os 15 números fixos dos 20 escolhidos garante ao menos 1 cartela com 13 pontos. ( 21 volantes ) Opção 9: Se você acertar os 15 números fixos dos 20 escolhidos garante ao menos 1 cartela com 14 pontos. ( 356 volantes )
B16: Digite 20 Números Fixo | K16: ( Qualquer Ordem)
B17: 1 | C17: 2 | D17: 3 | E17: 4 | F17: 5 | G17: 6 | H17: 7 | I17: 8 | J17: 9 | K17: 10 | L17: 11 | M17: 12 | N17: 13 | O17: 14 | P17: 15 | Q17: 16 | R17: 17 | S17: 18 | T17: 19 | U17: 20
B24: Opção 2:
B25: Digite 3 Números Fixo | K25: ( Qualquer Ordem)
B26: 1 | C26: 2 | D26: 3
B27: Digite 5 Números Para Excluir
B28: 17 | C28: 18 | D28: 19 | E28: 20 | F28: 21
B30: Opção 3:
B31: Digite 5 Números Fixo | K31: ( Qualquer Ordem)
B32: 1 | C32: 2 | D32: 3 | E32: 4 | F32: 5
B33: Digite 5 Números Para Excluir
B34: 17 | C34: 18 | D34: 19 | E34: 20 | F34: 21
B36: Opção 4:
B37: Digite 10 Números Fixo | K37: ( Qualquer Ordem)
B38: 1 | C38: 2 | D38: 3 | E38: 4 | F38: 5 | G38: 6 | H38: 7 | I38: 8 | J38: 9 | K38: 10
B39: Digite 5 Números Para Excluir
B40: 17 | C40: 18 | D40: 19 | E40: 20 | F40: 21
B42: Opção 5:
B43: Digite 12 Números Fixo | K43: ( Qualquer Ordem)
B44: 1 | C44: 2 | D44: 3 | E44: 4 | F44: 5 | G44: 6 | H44: 7 | I44: 8 | J44: 9 | K44: 10 | L44: 11 | M44: 12
B45: Digite 5 Números Para Excluir
B46: 17 | C46: 18 | D46: 19 | E46: 20 | F46: 21

Sheet Opcao1
AA1: ="V"&X5 -> V1
A2: Opção 1 ( 20 fixos )
X5: 1 | Y5: 10
B16: Total de 119 volantes
B18: =Apoio!A131 -> 1 | C18: =Apoio!B131 -> 2 | D18: =Apoio!C131 -> 3 | E18: =Apoio!D131 -> 4 | F18: =Apoio!E131 -> 5 | G18: =Apoio!F131 -> 6 | H18: =Apoio!G131 -> 7 | I18: =Apoio!H131 -> 8 | ... P18: =Apoio!O131 -> 18 | R18: 1 | T18: =Apoio!A191 -> 1 | U18: =Apoio!B191 -> 2 | V18: =Apoio!C191 -> 4 | W18: =Apoio!D191 -> 6 | X18: =Apoio!E191 -> 7 | Y18: =Apoio!F191 -> 8 | Z18: =Apoio!G191 -> 11 | AA18: =Apoio!H191 -> 12 | ... AH18: =Apoio!O191 -> 20 | AJ18: 61
B19: =Apoio!A132 -> 1 | C19: =Apoio!B132 -> 2 | D19: =Apoio!C132 -> 3 | E19: =Apoio!D132 -> 4 | F19: =Apoio!E132 -> 5 | G19: =Apoio!F132 -> 6 | H19: =Apoio!G132 -> 7 | I19: =Apoio!H132 -> 8 | ... P19: =Apoio!O132 -> 20 | R19: 2 | T19: =Apoio!A192 -> 1 | U19: =Apoio!B192 -> 2 | V19: =Apoio!C192 -> 4 | W19: =Apoio!D192 -> 7 | X19: =Apoio!E192 -> 9 | Y19: =Apoio!F192 -> 10 | Z19: =Apoio!G192 -> 11 | AA19: =Apoio!H192 -> 12 | ... AH19: =Apoio!O192 -> 20 | AJ19: 62
B20: =Apoio!A133 -> 1 | C20: =Apoio!B133 -> 2 | D20: =Apoio!C133 -> 3 | E20: =Apoio!D133 -> 4 | F20: =Apoio!E133 -> 5 | G20: =Apoio!F133 -> 6 | H20: =Apoio!G133 -> 7 | I20: =Apoio!H133 -> 8 | ... P20: =Apoio!O133 -> 20 | R20: 3 | T20: =Apoio!A193 -> 1 | U20: =Apoio!B193 -> 2 | V20: =Apoio!C193 -> 5 | W20: =Apoio!D193 -> 6 | X20: =Apoio!E193 -> 7 | Y20: =Apoio!F193 -> 8 | Z20: =Apoio!G193 -> 11 | AA20: =Apoio!H193 -> 12 | ... AH20: =Apoio!O193 -> 20 | AJ20: 63
B21: =Apoio!A134 -> 1 | C21: =Apoio!B134 -> 2 | D21: =Apoio!C134 -> 3 | E21: =Apoio!D134 -> 4 | F21: =Apoio!E134 -> 5 | G21: =Apoio!F134 -> 6 | H21: =Apoio!G134 -> 7 | I21: =Apoio!H134 -> 8 | ... P21: =Apoio!O134 -> 19 | R21: 4 | T21: =Apoio!A194 -> 1 | U21: =Apoio!B194 -> 2 | V21: =Apoio!C194 -> 5 | W21: =Apoio!D194 -> 6 | X21: =Apoio!E194 -> 7 | Y21: =Apoio!F194 -> 9 | Z21: =Apoio!G194 -> 10 | AA21: =Apoio!H194 -> 11 | ... AH21: =Apoio!O194 -> 20 | AJ21: 64
B22: =Apoio!A135 -> 1 | C22: =Apoio!B135 -> 2 | D22: =Apoio!C135 -> 3 | E22: =Apoio!D135 -> 4 | F22: =Apoio!E135 -> 5 | G22: =Apoio!F135 -> 6 | H22: =Apoio!G135 -> 7 | I22: =Apoio!H135 -> 8 | ... P22: =Apoio!O135 -> 20 | R22: 5 | T22: =Apoio!A195 -> 1 | U22: =Apoio!B195 -> 2 | V22: =Apoio!C195 -> 6 | W22: =Apoio!D195 -> 8 | X22: =Apoio!E195 -> 9 | Y22: =Apoio!F195 -> 10 | Z22: =Apoio!G195 -> 11 | AA22: =Apoio!H195 -> 13 | ... AH22: =Apoio!O195 -> 20 | AJ22: 65
B23: =Apoio!A136 -> 1 | C23: =Apoio!B136 -> 2 | D23: =Apoio!C136 -> 3 | E23: =Apoio!D136 -> 4 | F23: =Apoio!E136 -> 5 | G23: =Apoio!F136 -> 6 | H23: =Apoio!G136 -> 7 | I23: =Apoio!H136 -> 8 | ... P23: =Apoio!O136 -> 18 | R23: 6 | T23: =Apoio!A196 -> 1 | U23: =Apoio!B196 -> 3 | V23: =Apoio!C196 -> 4 | W23: =Apoio!D196 -> 5 | X23: =Apoio!E196 -> 6 | Y23: =Apoio!F196 -> 7 | Z23: =Apoio!G196 -> 8 | AA23: =Apoio!H196 -> 9 | ... AH23: =Apoio!O196 -> 19 | AJ23: 66
B24: =Apoio!A137 -> 1 | C24: =Apoio!B137 -> 2 | D24: =Apoio!C137 -> 3 | E24: =Apoio!D137 -> 4 | F24: =Apoio!E137 -> 5 | G24: =Apoio!F137 -> 6 | H24: =Apoio!G137 -> 7 | I24: =Apoio!H137 -> 8 | ... P24: =Apoio!O137 -> 19 | R24: 7 | T24: =Apoio!A197 -> 1 | U24: =Apoio!B197 -> 3 | V24: =Apoio!C197 -> 4 | W24: =Apoio!D197 -> 5 | X24: =Apoio!E197 -> 6 | Y24: =Apoio!F197 -> 7 | Z24: =Apoio!G197 -> 8 | AA24: =Apoio!H197 -> 9 | ... AH24: =Apoio!O197 -> 20 | AJ24: 67
B25: =Apoio!A138 -> 1 | C25: =Apoio!B138 -> 2 | D25: =Apoio!C138 -> 3 | E25: =Apoio!D138 -> 4 | F25: =Apoio!E138 -> 5 | G25: =Apoio!F138 -> 6 | H25: =Apoio!G138 -> 7 | I25: =Apoio!H138 -> 8 | ... P25: =Apoio!O138 -> 20 | R25: 8 | T25: =Apoio!A198 -> 1 | U25: =Apoio!B198 -> 3 | V25: =Apoio!C198 -> 4 | W25: =Apoio!D198 -> 5 | X25: =Apoio!E198 -> 6 | Y25: =Apoio!F198 -> 7 | Z25: =Apoio!G198 -> 9 | AA25: =Apoio!H198 -> 10 | ... AH25: =Apoio!O198 -> 20 | AJ25: 68
B26: =Apoio!A139 -> 1 | C26: =Apoio!B139 -> 2 | D26: =Apoio!C139 -> 3 | E26: =Apoio!D139 -> 4 | F26: =Apoio!E139 -> 5 | G26: =Apoio!F139 -> 6 | H26: =Apoio!G139 -> 7 | I26: =Apoio!H139 -> 9 | ... P26: =Apoio!O139 -> 19 | R26: 9 | T26: =Apoio!A199 -> 1 | U26: =Apoio!B199 -> 3 | V26: =Apoio!C199 -> 4 | W26: =Apoio!D199 -> 5 | X26: =Apoio!E199 -> 6 | Y26: =Apoio!F199 -> 7 | Z26: =Apoio!G199 -> 10 | AA26: =Apoio!H199 -> 12 | ... AH26: =Apoio!O199 -> 20 | AJ26: 69
B27: =Apoio!A140 -> 1 | C27: =Apoio!B140 -> 2 | D27: =Apoio!C140 -> 3 | E27: =Apoio!D140 -> 4 | F27: =Apoio!E140 -> 5 | G27: =Apoio!F140 -> 6 | H27: =Apoio!G140 -> 7 | I27: =Apoio!H140 -> 9 | ... P27: =Apoio!O140 -> 19 | R27: 10 | T27: =Apoio!A200 -> 1 | U27: =Apoio!B200 -> 3 | V27: =Apoio!C200 -> 4 | W27: =Apoio!D200 -> 5 | X27: =Apoio!E200 -> 6 | Y27: =Apoio!F200 -> 8 | Z27: =Apoio!G200 -> 9 | AA27: =Apoio!H200 -> 10 | ... AH27: =Apoio!O200 -> 20 | AJ27: 70
B28: =Apoio!A141 -> 1 | C28: =Apoio!B141 -> 2 | D28: =Apoio!C141 -> 3 | E28: =Apoio!D141 -> 4 | F28: =Apoio!E141 -> 5 | G28: =Apoio!F141 -> 6 | H28: =Apoio!G141 -> 7 | I28: =Apoio!H141 -> 9 | ... P28: =Apoio!O141 -> 20 | R28: 11 | T28: =Apoio!A201 -> 1 | U28: =Apoio!B201 -> 3 | V28: =Apoio!C201 -> 4 | W28: =Apoio!D201 -> 5 | X28: =Apoio!E201 -> 6 | Y28: =Apoio!F201 -> 8 | Z28: =Apoio!G201 -> 10 | AA28: =Apoio!H201 -> 11 | ... AH28: =Apoio!O201 -> 20 | AJ28: 71
B29: =Apoio!A142 -> 1 | C29: =Apoio!B142 -> 2 | D29: =Apoio!C142 -> 3 | E29: =Apoio!D142 -> 4 | F29: =Apoio!E142 -> 5 | G29: =Apoio!F142 -> 6 | H29: =Apoio!G142 -> 8 | I29: =Apoio!H142 -> 9 | ... P29: =Apoio!O142 -> 19 | R29: 12 | T29: =Apoio!A202 -> 1 | U29: =Apoio!B202 -> 3 | V29: =Apoio!C202 -> 4 | W29: =Apoio!D202 -> 5 | X29: =Apoio!E202 -> 7 | Y29: =Apoio!F202 -> 8 | Z29: =Apoio!G202 -> 9 | AA29: =Apoio!H202 -> 13 | ... AH29: =Apoio!O202 -> 20 | AJ29: 72
... B76: =Apoio!A189 -> 1 | C76: =Apoio!B189 -> 2 | D76: =Apoio!C189 -> 4 | E76: =Apoio!D189 -> 5 | F76: =Apoio!E189 -> 7 | G76: =Apoio!F189 -> 8 | H76: =Apoio!G189 -> 10 | I76: =Apoio!H189 -> 12 | ... P76: =Apoio!O189 -> 20 | R76: 59 | T76: =Apoio!A249 -> 4 | U76: =Apoio!B249 -> 5 | V76: =Apoio!C249 -> 6 | W76: =Apoio!D249 -> 7 | X76: =Apoio!E249 -> 8 | Y76: =Apoio!F249 -> 10 | Z76: =Apoio!G249 -> 11 | AA76: =Apoio!H249 -> 12 | ... AH76: =Apoio!O249 -> 20 | AJ76: 119
B77: =Apoio!A190 -> 1 | C77: =Apoio!B190 -> 2 | D77: =Apoio!C190 -> 4 | E77: =Apoio!D190 -> 6 | F77: =Apoio!E190 -> 7 | G77: =Apoio!F190 -> 8 | H77: =Apoio!G190 -> 9 | I77: =Apoio!H190 -> 10 | ... P77: =Apoio!O190 -> 20 | R77: 60

Sheet Opcao2
AA1: ="V"&X5 -> V1
A2: Opção 2 ( 3 fixos e 5 Excluídos )
X5: 1 | Y5: 10
B16: Total de 211 volantes
B18: =Apoio!AG223 -> 1 | C18: =Apoio!AH223 -> 2 | D18: =Apoio!AI223 -> 3 | E18: =Apoio!AJ223 -> 4 | F18: =Apoio!AK223 -> 5 | G18: =Apoio!AL223 -> 6 | H18: =Apoio!AM223 -> 7 | I18: =Apoio!AN223 -> 8 | ... P18: =Apoio!AU223 -> 25 | R18: 1 | U18: =Apoio!AG329 -> 1 | V18: =Apoio!AH329 -> 3 | W18: =Apoio!AI329 -> 4 | X18: =Apoio!AJ329 -> 5 | Y18: =Apoio!AK329 -> 6 | Z18: =Apoio!AL329 -> 7 | AA18: =Apoio!AM329 -> 8 | AB18: =Apoio!AN329 -> 10 | ... AI18: =Apoio!AU329 -> 25 | AK18: 107
B19: =Apoio!AG224 -> 1 | C19: =Apoio!AH224 -> 2 | D19: =Apoio!AI224 -> 3 | E19: =Apoio!AJ224 -> 4 | F19: =Apoio!AK224 -> 5 | G19: =Apoio!AL224 -> 6 | H19: =Apoio!AM224 -> 7 | I19: =Apoio!AN224 -> 8 | ... P19: =Apoio!AU224 -> 25 | R19: 2 | U19: =Apoio!AG330 -> 1 | V19: =Apoio!AH330 -> 3 | W19: =Apoio!AI330 -> 4 | X19: =Apoio!AJ330 -> 5 | Y19: =Apoio!AK330 -> 6 | Z19: =Apoio!AL330 -> 7 | AA19: =Apoio!AM330 -> 8 | AB19: =Apoio!AN330 -> 11 | ... AI19: =Apoio!AU330 -> 25 | AK19: 108
B20: =Apoio!AG225 -> 1 | C20: =Apoio!AH225 -> 2 | D20: =Apoio!AI225 -> 3 | E20: =Apoio!AJ225 -> 4 | F20: =Apoio!AK225 -> 5 | G20: =Apoio!AL225 -> 6 | H20: =Apoio!AM225 -> 7 | I20: =Apoio!AN225 -> 8 | ... P20: =Apoio!AU225 -> 25 | R20: 3 | U20: =Apoio!AG331 -> 1 | V20: =Apoio!AH331 -> 3 | W20: =Apoio!AI331 -> 4 | X20: =Apoio!AJ331 -> 5 | Y20: =Apoio!AK331 -> 6 | Z20: =Apoio!AL331 -> 7 | AA20: =Apoio!AM331 -> 9 | AB20: =Apoio!AN331 -> 10 | ... AI20: =Apoio!AU331 -> 25 | AK20: 109
B21: =Apoio!AG226 -> 1 | C21: =Apoio!AH226 -> 2 | D21: =Apoio!AI226 -> 3 | E21: =Apoio!AJ226 -> 4 | F21: =Apoio!AK226 -> 5 | G21: =Apoio!AL226 -> 6 | H21: =Apoio!AM226 -> 7 | I21: =Apoio!AN226 -> 8 | ... P21: =Apoio!AU226 -> 25 | R21: 4 | U21: =Apoio!AG332 -> 1 | V21: =Apoio!AH332 -> 3 | W21: =Apoio!AI332 -> 4 | X21: =Apoio!AJ332 -> 5 | Y21: =Apoio!AK332 -> 6 | Z21: =Apoio!AL332 -> 7 | AA21: =Apoio!AM332 -> 9 | AB21: =Apoio!AN332 -> 11 | ... AI21: =Apoio!AU332 -> 25 | AK21: 110
B22: =Apoio!AG227 -> 1 | C22: =Apoio!AH227 -> 2 | D22: =Apoio!AI227 -> 3 | E22: =Apoio!AJ227 -> 4 | F22: =Apoio!AK227 -> 5 | G22: =Apoio!AL227 -> 6 | H22: =Apoio!AM227 -> 7 | I22: =Apoio!AN227 -> 9 | ... P22: =Apoio!AU227 -> 25 | R22: 5 | U22: =Apoio!AG333 -> 1 | V22: =Apoio!AH333 -> 3 | W22: =Apoio!AI333 -> 4 | X22: =Apoio!AJ333 -> 5 | Y22: =Apoio!AK333 -> 6 | Z22: =Apoio!AL333 -> 8 | AA22: =Apoio!AM333 -> 9 | AB22: =Apoio!AN333 -> 10 | ... AI22: =Apoio!AU333 -> 25 | AK22: 111
B23: =Apoio!AG228 -> 1 | C23: =Apoio!AH228 -> 2 | D23: =Apoio!AI228 -> 3 | E23: =Apoio!AJ228 -> 4 | F23: =Apoio!AK228 -> 5 | G23: =Apoio!AL228 -> 6 | H23: =Apoio!AM228 -> 7 | I23: =Apoio!AN228 -> 9 | ... P23: =Apoio!AU228 -> 25 | R23: 6 | U23: =Apoio!AG334 -> 1 | V23: =Apoio!AH334 -> 3 | W23: =Apoio!AI334 -> 4 | X23: =Apoio!AJ334 -> 5 | Y23: =Apoio!AK334 -> 6 | Z23: =Apoio!AL334 -> 8 | AA23: =Apoio!AM334 -> 9 | AB23: =Apoio!AN334 -> 12 | ... AI23: =Apoio!AU334 -> 25 | AK23: 112
B24: =Apoio!AG229 -> 1 | C24: =Apoio!AH229 -> 2 | D24: =Apoio!AI229 -> 3 | E24: =Apoio!AJ229 -> 4 | F24: =Apoio!AK229 -> 5 | G24: =Apoio!AL229 -> 6 | H24: =Apoio!AM229 -> 7 | I24: =Apoio!AN229 -> 10 | ... P24: =Apoio!AU229 -> 25 | R24: 7 | U24: =Apoio!AG335 -> 1 | V24: =Apoio!AH335 -> 3 | W24: =Apoio!AI335 -> 4 | X24: =Apoio!AJ335 -> 5 | Y24: =Apoio!AK335 -> 6 | Z24: =Apoio!AL335 -> 8 | AA24: =Apoio!AM335 -> 10 | AB24: =Apoio!AN335 -> 11 | ... AI24: =Apoio!AU335 -> 25 | AK24: 113
B25: =Apoio!AG230 -> 1 | C25: =Apoio!AH230 -> 2 | D25: =Apoio!AI230 -> 3 | E25: =Apoio!AJ230 -> 4 | F25: =Apoio!AK230 -> 5 | G25: =Apoio!AL230 -> 6 | H25: =Apoio!AM230 -> 7 | I25: =Apoio!AN230 -> 11 | ... P25: =Apoio!AU230 -> 25 | R25: 8 | U25: =Apoio!AG336 -> 1 | V25: =Apoio!AH336 -> 3 | W25: =Apoio!AI336 -> 4 | X25: =Apoio!AJ336 -> 5 | Y25: =Apoio!AK336 -> 6 | Z25: =Apoio!AL336 -> 11 | AA25: =Apoio!AM336 -> 12 | AB25: =Apoio!AN336 -> 13 | ... AI25: =Apoio!AU336 -> 25 | AK25: 114
B26: =Apoio!AG231 -> 1 | C26: =Apoio!AH231 -> 2 | D26: =Apoio!AI231 -> 3 | E26: =Apoio!AJ231 -> 4 | F26: =Apoio!AK231 -> 5 | G26: =Apoio!AL231 -> 6 | H26: =Apoio!AM231 -> 8 | I26: =Apoio!AN231 -> 9 | ... P26: =Apoio!AU231 -> 25 | R26: 9 | U26: =Apoio!AG337 -> 1 | V26: =Apoio!AH337 -> 3 | W26: =Apoio!AI337 -> 4 | X26: =Apoio!AJ337 -> 5 | Y26: =Apoio!AK337 -> 7 | Z26: =Apoio!AL337 -> 8 | AA26: =Apoio!AM337 -> 9 | AB26: =Apoio!AN337 -> 11 | ... AI26: =Apoio!AU337 -> 25 | AK26: 115
B27: =Apoio!AG232 -> 1 | C27: =Apoio!AH232 -> 2 | D27: =Apoio!AI232 -> 3 | E27: =Apoio!AJ232 -> 4 | F27: =Apoio!AK232 -> 5 | G27: =Apoio!AL232 -> 6 | H27: =Apoio!AM232 -> 8 | I27: =Apoio!AN232 -> 9 | ... P27: =Apoio!AU232 -> 25 | R27: 10 | U27: =Apoio!AG338 -> 1 | V27: =Apoio!AH338 -> 3 | W27: =Apoio!AI338 -> 4 | X27: =Apoio!AJ338 -> 5 | Y27: =Apoio!AK338 -> 7 | Z27: =Apoio!AL338 -> 8 | AA27: =Apoio!AM338 -> 10 | AB27: =Apoio!AN338 -> 12 | ... AI27: =Apoio!AU338 -> 25 | AK27: 116
B28: =Apoio!AG233 -> 1 | C28: =Apoio!AH233 -> 2 | D28: =Apoio!AI233 -> 3 | E28: =Apoio!AJ233 -> 4 | F28: =Apoio!AK233 -> 5 | G28: =Apoio!AL233 -> 6 | H28: =Apoio!AM233 -> 8 | I28: =Apoio!AN233 -> 10 | ... P28: =Apoio!AU233 -> 25 | R28: 11 | U28: =Apoio!AG339 -> 1 | V28: =Apoio!AH339 -> 3 | W28: =Apoio!AI339 -> 4 | X28: =Apoio!AJ339 -> 5 | Y28: =Apoio!AK339 -> 7 | Z28: =Apoio!AL339 -> 9 | AA28: =Apoio!AM339 -> 10 | AB28: =Apoio!AN339 -> 11 | ... AI28: =Apoio!AU339 -> 25 | AK28: 117
B29: =Apoio!AG234 -> 1 | C29: =Apoio!AH234 -> 2 | D29: =Apoio!AI234 -> 3 | E29: =Apoio!AJ234 -> 4 | F29: =Apoio!AK234 -> 5 | G29: =Apoio!AL234 -> 6 | H29: =Apoio!AM234 -> 8 | I29: =Apoio!AN234 -> 11 | ... P29: =Apoio!AU234 -> 25 | R29: 12 | U29: =Apoio!AG340 -> 1 | V29: =Apoio!AH340 -> 3 | W29: =Apoio!AI340 -> 4 | X29: =Apoio!AJ340 -> 5 | Y29: =Apoio!AK340 -> 8 | Z29: =Apoio!AL340 -> 9 | AA29: =Apoio!AM340 -> 10 | AB29: =Apoio!AN340 -> 11 | ... AI29: =Apoio!AU340 -> 25 | AK29: 118
... B122: =Apoio!AG327 -> 1 | C122: =Apoio!AH327 -> 3 | D122: =Apoio!AI327 -> 4 | E122: =Apoio!AJ327 -> 5 | F122: =Apoio!AK327 -> 6 | G122: =Apoio!AL327 -> 7 | H122: =Apoio!AM327 -> 8 | I122: =Apoio!AN327 -> 9 | ... P122: =Apoio!AU327 -> 25 | R122: 105 | U122: =Apoio!AG433 -> 4 | V122: =Apoio!AH433 -> 6 | W122: =Apoio!AI433 -> 7 | X122: =Apoio!AJ433 -> 8 | Y122: =Apoio!AK433 -> 9 | Z122: =Apoio!AL433 -> 10 | AA122: =Apoio!AM433 -> 12 | AB122: =Apoio!AN433 -> 13 | ... AI122: =Apoio!AU433 -> 25 | AK122: 211
B123: =Apoio!AG328 -> 1 | C123: =Apoio!AH328 -> 3 | D123: =Apoio!AI328 -> 4 | E123: =Apoio!AJ328 -> 5 | F123: =Apoio!AK328 -> 6 | G123: =Apoio!AL328 -> 7 | H123: =Apoio!AM328 -> 8 | I123: =Apoio!AN328 -> 9 | ... P123: =Apoio!AU328 -> 25 | R123: 106

Sheet Opcao3
AA1: ="V"&X5 -> V1
A2: Opção 3 ( 5 fixos e 5 Excluídos )
X5: 1 | Y5: 10
B16: Total de 95 volantes
B18: =Apoio!CX108 -> 1 | C18: =Apoio!CY108 -> 2 | D18: =Apoio!CZ108 -> 3 | E18: =Apoio!DA108 -> 4 | F18: =Apoio!DB108 -> 5 | G18: =Apoio!DC108 -> 6 | H18: =Apoio!DD108 -> 7 | I18: =Apoio!DE108 -> 9 | ... P18: =Apoio!DL108 -> 25 | R18: 1
B19: =Apoio!CX109 -> 1 | C19: =Apoio!CY109 -> 2 | D19: =Apoio!CZ109 -> 3 | E19: =Apoio!DA109 -> 4 | F19: =Apoio!DB109 -> 5 | G19: =Apoio!DC109 -> 6 | H19: =Apoio!DD109 -> 7 | I19: =Apoio!DE109 -> 10 | ... P19: =Apoio!DL109 -> 25 | R19: 2
B20: =Apoio!CX110 -> 1 | C20: =Apoio!CY110 -> 2 | D20: =Apoio!CZ110 -> 3 | E20: =Apoio!DA110 -> 4 | F20: =Apoio!DB110 -> 5 | G20: =Apoio!DC110 -> 6 | H20: =Apoio!DD110 -> 7 | I20: =Apoio!DE110 -> 10 | ... P20: =Apoio!DL110 -> 25 | R20: 3
B21: =Apoio!CX111 -> 1 | C21: =Apoio!CY111 -> 2 | D21: =Apoio!CZ111 -> 3 | E21: =Apoio!DA111 -> 4 | F21: =Apoio!DB111 -> 5 | G21: =Apoio!DC111 -> 6 | H21: =Apoio!DD111 -> 8 | I21: =Apoio!DE111 -> 11 | ... P21: =Apoio!DL111 -> 25 | R21: 4
B22: =Apoio!CX112 -> 1 | C22: =Apoio!CY112 -> 2 | D22: =Apoio!CZ112 -> 3 | E22: =Apoio!DA112 -> 4 | F22: =Apoio!DB112 -> 5 | G22: =Apoio!DC112 -> 7 | H22: =Apoio!DD112 -> 8 | I22: =Apoio!DE112 -> 10 | ... P22: =Apoio!DL112 -> 25 | R22: 5
B23: =Apoio!CX113 -> 1 | C23: =Apoio!CY113 -> 2 | D23: =Apoio!CZ113 -> 3 | E23: =Apoio!DA113 -> 4 | F23: =Apoio!DB113 -> 5 | G23: =Apoio!DC113 -> 8 | H23: =Apoio!DD113 -> 9 | I23: =Apoio!DE113 -> 10 | ... P23: =Apoio!DL113 -> 25 | R23: 6
B24: =Apoio!CX114 -> 1 | C24: =Apoio!CY114 -> 2 | D24: =Apoio!CZ114 -> 3 | E24: =Apoio!DA114 -> 4 | F24: =Apoio!DB114 -> 5 | G24: =Apoio!DC114 -> 8 | H24: =Apoio!DD114 -> 10 | I24: =Apoio!DE114 -> 13 | ... P24: =Apoio!DL114 -> 25 | R24: 7
B25: =Apoio!CX115 -> 1 | C25: =Apoio!CY115 -> 2 | D25: =Apoio!CZ115 -> 3 | E25: =Apoio!DA115 -> 4 | F25: =Apoio!DB115 -> 6 | G25: =Apoio!DC115 -> 7 | H25: =Apoio!DD115 -> 8 | I25: =Apoio!DE115 -> 9 | ... P25: =Apoio!DL115 -> 25 | R25: 8
B26: =Apoio!CX116 -> 1 | C26: =Apoio!CY116 -> 2 | D26: =Apoio!CZ116 -> 3 | E26: =Apoio!DA116 -> 4 | F26: =Apoio!DB116 -> 6 | G26: =Apoio!DC116 -> 7 | H26: =Apoio!DD116 -> 9 | I26: =Apoio!DE116 -> 10 | ... P26: =Apoio!DL116 -> 25 | R26: 9
B27: =Apoio!CX117 -> 1 | C27: =Apoio!CY117 -> 2 | D27: =Apoio!CZ117 -> 3 | E27: =Apoio!DA117 -> 4 | F27: =Apoio!DB117 -> 6 | G27: =Apoio!DC117 -> 9 | H27: =Apoio!DD117 -> 10 | I27: =Apoio!DE117 -> 13 | ... P27: =Apoio!DL117 -> 25 | R27: 10
B28: =Apoio!CX118 -> 1 | C28: =Apoio!CY118 -> 2 | D28: =Apoio!CZ118 -> 3 | E28: =Apoio!DA118 -> 4 | F28: =Apoio!DB118 -> 7 | G28: =Apoio!DC118 -> 8 | H28: =Apoio!DD118 -> 9 | I28: =Apoio!DE118 -> 11 | ... P28: =Apoio!DL118 -> 25 | R28: 11
B29: =Apoio!CX119 -> 1 | C29: =Apoio!CY119 -> 2 | D29: =Apoio!CZ119 -> 3 | E29: =Apoio!DA119 -> 4 | F29: =Apoio!DB119 -> 7 | G29: =Apoio!DC119 -> 8 | H29: =Apoio!DD119 -> 11 | I29: =Apoio!DE119 -> 12 | ... P29: =Apoio!DL119 -> 25 | R29: 12
... B112: =Apoio!CX202 -> 5 | C112: =Apoio!CY202 -> 6 | D112: =Apoio!CZ202 -> 7 | E112: =Apoio!DA202 -> 8 | F112: =Apoio!DB202 -> 9 | G112: =Apoio!DC202 -> 10 | H112: =Apoio!DD202 -> 11 | I112: =Apoio!DE202 -> 12 | ... P112: =Apoio!DL202 -> 25 | R112: 95

Sheet Opcao4
AA1: ="V"&X5 -> V1
A2: Opção 4 ( 10 fixos e 5 Excluídos )
X5: 1 | Y5: 10
B16: Total de 24 volantes
B18: =Apoio!BE255 -> 1 | C18: =Apoio!BF255 -> 2 | D18: =Apoio!BG255 -> 3 | E18: =Apoio!BH255 -> 4 | F18: =Apoio!BI255 -> 5 | G18: =Apoio!BJ255 -> 6 | H18: =Apoio!BK255 -> 7 | I18: =Apoio!BL255 -> 8 | ... P18: =Apoio!BS255 -> 25 | R18: 1
B19: =Apoio!BE256 -> 1 | C19: =Apoio!BF256 -> 2 | D19: =Apoio!BG256 -> 3 | E19: =Apoio!BH256 -> 4 | F19: =Apoio!BI256 -> 5 | G19: =Apoio!BJ256 -> 6 | H19: =Apoio!BK256 -> 7 | I19: =Apoio!BL256 -> 8 | ... P19: =Apoio!BS256 -> 24 | R19: 2
B20: =Apoio!BE257 -> 1 | C20: =Apoio!BF257 -> 2 | D20: =Apoio!BG257 -> 3 | E20: =Apoio!BH257 -> 4 | F20: =Apoio!BI257 -> 5 | G20: =Apoio!BJ257 -> 6 | H20: =Apoio!BK257 -> 7 | I20: =Apoio!BL257 -> 8 | ... P20: =Apoio!BS257 -> 24 | R20: 3
B21: =Apoio!BE258 -> 1 | C21: =Apoio!BF258 -> 2 | D21: =Apoio!BG258 -> 3 | E21: =Apoio!BH258 -> 4 | F21: =Apoio!BI258 -> 5 | G21: =Apoio!BJ258 -> 6 | H21: =Apoio!BK258 -> 7 | I21: =Apoio!BL258 -> 8 | ... P21: =Apoio!BS258 -> 25 | R21: 4
B22: =Apoio!BE259 -> 1 | C22: =Apoio!BF259 -> 2 | D22: =Apoio!BG259 -> 3 | E22: =Apoio!BH259 -> 4 | F22: =Apoio!BI259 -> 5 | G22: =Apoio!BJ259 -> 6 | H22: =Apoio!BK259 -> 7 | I22: =Apoio!BL259 -> 8 | ... P22: =Apoio!BS259 -> 25 | R22: 5
B23: =Apoio!BE260 -> 1 | C23: =Apoio!BF260 -> 2 | D23: =Apoio!BG260 -> 3 | E23: =Apoio!BH260 -> 4 | F23: =Apoio!BI260 -> 5 | G23: =Apoio!BJ260 -> 6 | H23: =Apoio!BK260 -> 7 | I23: =Apoio!BL260 -> 8 | ... P23: =Apoio!BS260 -> 25 | R23: 6
B24: =Apoio!BE261 -> 1 | C24: =Apoio!BF261 -> 2 | D24: =Apoio!BG261 -> 3 | E24: =Apoio!BH261 -> 4 | F24: =Apoio!BI261 -> 5 | G24: =Apoio!BJ261 -> 6 | H24: =Apoio!BK261 -> 7 | I24: =Apoio!BL261 -> 8 | ... P24: =Apoio!BS261 -> 25 | R24: 7
B25: =Apoio!BE262 -> 1 | C25: =Apoio!BF262 -> 2 | D25: =Apoio!BG262 -> 3 | E25: =Apoio!BH262 -> 4 | F25: =Apoio!BI262 -> 5 | G25: =Apoio!BJ262 -> 6 | H25: =Apoio!BK262 -> 7 | I25: =Apoio!BL262 -> 8 | ... P25: =Apoio!BS262 -> 24 | R25: 8
B26: =Apoio!BE263 -> 1 | C26: =Apoio!BF263 -> 2 | D26: =Apoio!BG263 -> 3 | E26: =Apoio!BH263 -> 4 | F26: =Apoio!BI263 -> 5 | G26: =Apoio!BJ263 -> 6 | H26: =Apoio!BK263 -> 7 | I26: =Apoio!BL263 -> 8 | ... P26: =Apoio!BS263 -> 23 | R26: 9
B27: =Apoio!BE264 -> 1 | C27: =Apoio!BF264 -> 2 | D27: =Apoio!BG264 -> 3 | E27: =Apoio!BH264 -> 4 | F27: =Apoio!BI264 -> 5 | G27: =Apoio!BJ264 -> 6 | H27: =Apoio!BK264 -> 7 | I27: =Apoio!BL264 -> 8 | ... P27: =Apoio!BS264 -> 24 | R27: 10
B28: =Apoio!BE265 -> 1 | C28: =Apoio!BF265 -> 2 | D28: =Apoio!BG265 -> 3 | E28: =Apoio!BH265 -> 4 | F28: =Apoio!BI265 -> 5 | G28: =Apoio!BJ265 -> 6 | H28: =Apoio!BK265 -> 7 | I28: =Apoio!BL265 -> 8 | ... P28: =Apoio!BS265 -> 24 | R28: 11
B29: =Apoio!BE266 -> 1 | C29: =Apoio!BF266 -> 2 | D29: =Apoio!BG266 -> 3 | E29: =Apoio!BH266 -> 4 | F29: =Apoio!BI266 -> 5 | G29: =Apoio!BJ266 -> 6 | H29: =Apoio!BK266 -> 7 | I29: =Apoio!BL266 -> 8 | ... P29: =Apoio!BS266 -> 25 | R29: 12
... B41: =Apoio!BE278 -> 1 | C41: =Apoio!BF278 -> 2 | D41: =Apoio!BG278 -> 3 | E41: =Apoio!BH278 -> 4 | F41: =Apoio!BI278 -> 5 | G41: =Apoio!BJ278 -> 6 | H41: =Apoio!BK278 -> 7 | I41: =Apoio!BL278 -> 8 | ... P41: =Apoio!BS278 -> 23 | R41: 24

Sheet Opcao5
AA1: ="V"&X5 -> V1
A2: Opção 5 ( 12 fixos e 5 Excluídos )
X5: 1 | Y5: 10
B16: Total de 56 volantes
B18: =Apoio!FE69 -> 1 | C18: =Apoio!FF69 -> 2 | D18: =Apoio!FG69 -> 3 | E18: =Apoio!FH69 -> 4 | F18: =Apoio!FI69 -> 5 | G18: =Apoio!FJ69 -> 6 | H18: =Apoio!FK69 -> 7 | I18: =Apoio!FL69 -> 8 | ... P18: =Apoio!FS69 -> 15 | R18: 1
B19: =Apoio!FE70 -> 1 | C19: =Apoio!FF70 -> 2 | D19: =Apoio!FG70 -> 3 | E19: =Apoio!FH70 -> 4 | F19: =Apoio!FI70 -> 5 | G19: =Apoio!FJ70 -> 6 | H19: =Apoio!FK70 -> 7 | I19: =Apoio!FL70 -> 8 | ... P19: =Apoio!FS70 -> 16 | R19: 2
B20: =Apoio!FE71 -> 1 | C20: =Apoio!FF71 -> 2 | D20: =Apoio!FG71 -> 3 | E20: =Apoio!FH71 -> 4 | F20: =Apoio!FI71 -> 5 | G20: =Apoio!FJ71 -> 6 | H20: =Apoio!FK71 -> 7 | I20: =Apoio!FL71 -> 8 | ... P20: =Apoio!FS71 -> 22 | R20: 3
B21: =Apoio!FE72 -> 1 | C21: =Apoio!FF72 -> 2 | D21: =Apoio!FG72 -> 3 | E21: =Apoio!FH72 -> 4 | F21: =Apoio!FI72 -> 5 | G21: =Apoio!FJ72 -> 6 | H21: =Apoio!FK72 -> 7 | I21: =Apoio!FL72 -> 8 | ... P21: =Apoio!FS72 -> 23 | R21: 4
B22: =Apoio!FE73 -> 1 | C22: =Apoio!FF73 -> 2 | D22: =Apoio!FG73 -> 3 | E22: =Apoio!FH73 -> 4 | F22: =Apoio!FI73 -> 5 | G22: =Apoio!FJ73 -> 6 | H22: =Apoio!FK73 -> 7 | I22: =Apoio!FL73 -> 8 | ... P22: =Apoio!FS73 -> 24 | R22: 5
B23: =Apoio!FE74 -> 1 | C23: =Apoio!FF74 -> 2 | D23: =Apoio!FG74 -> 3 | E23: =Apoio!FH74 -> 4 | F23: =Apoio!FI74 -> 5 | G23: =Apoio!FJ74 -> 6 | H23: =Apoio!FK74 -> 7 | I23: =Apoio!FL74 -> 8 | ... P23: =Apoio!FS74 -> 25 | R23: 6
B24: =Apoio!FE75 -> 1 | C24: =Apoio!FF75 -> 2 | D24: =Apoio!FG75 -> 3 | E24: =Apoio!FH75 -> 4 | F24: =Apoio!FI75 -> 5 | G24: =Apoio!FJ75 -> 6 | H24: =Apoio!FK75 -> 7 | I24: =Apoio!FL75 -> 8 | ... P24: =Apoio!FS75 -> 16 | R24: 7
B25: =Apoio!FE76 -> 1 | C25: =Apoio!FF76 -> 2 | D25: =Apoio!FG76 -> 3 | E25: =Apoio!FH76 -> 4 | F25: =Apoio!FI76 -> 5 | G25: =Apoio!FJ76 -> 6 | H25: =Apoio!FK76 -> 7 | I25: =Apoio!FL76 -> 8 | ... P25: =Apoio!FS76 -> 22 | R25: 8
B26: =Apoio!FE77 -> 1 | C26: =Apoio!FF77 -> 2 | D26: =Apoio!FG77 -> 3 | E26: =Apoio!FH77 -> 4 | F26: =Apoio!FI77 -> 5 | G26: =Apoio!FJ77 -> 6 | H26: =Apoio!FK77 -> 7 | I26: =Apoio!FL77 -> 8 | ... P26: =Apoio!FS77 -> 23 | R26: 9
B27: =Apoio!FE78 -> 1 | C27: =Apoio!FF78 -> 2 | D27: =Apoio!FG78 -> 3 | E27: =Apoio!FH78 -> 4 | F27: =Apoio!FI78 -> 5 | G27: =Apoio!FJ78 -> 6 | H27: =Apoio!FK78 -> 7 | I27: =Apoio!FL78 -> 8 | ... P27: =Apoio!FS78 -> 24 | R27: 10
B28: =Apoio!FE79 -> 1 | C28: =Apoio!FF79 -> 2 | D28: =Apoio!FG79 -> 3 | E28: =Apoio!FH79 -> 4 | F28: =Apoio!FI79 -> 5 | G28: =Apoio!FJ79 -> 6 | H28: =Apoio!FK79 -> 7 | I28: =Apoio!FL79 -> 8 | ... P28: =Apoio!FS79 -> 25 | R28: 11
B29: =Apoio!FE80 -> 1 | C29: =Apoio!FF80 -> 2 | D29: =Apoio!FG80 -> 3 | E29: =Apoio!FH80 -> 4 | F29: =Apoio!FI80 -> 5 | G29: =Apoio!FJ80 -> 6 | H29: =Apoio!FK80 -> 7 | I29: =Apoio!FL80 -> 8 | ... P29: =Apoio!FS80 -> 22 | R29: 12
... B73: =Apoio!FE124 -> 1 | C73: =Apoio!FF124 -> 2 | D73: =Apoio!FG124 -> 3 | E73: =Apoio!FH124 -> 4 | F73: =Apoio!FI124 -> 5 | G73: =Apoio!FJ124 -> 6 | H73: =Apoio!FK124 -> 7 | I73: =Apoio!FL124 -> 8 | ... P73: =Apoio!FS124 -> 25 | R73: 56

Sheet Opcao6
AA1: ="V"&X5 -> V1
A2: Opção 6 ( 20 fixos )
X5: 1 | Y5: 10
B16: Total de 4 volantes
B18: =Apoio!FE133 -> 1 | C18: =Apoio!FF133 -> 4 | D18: =Apoio!FG133 -> 5 | E18: =Apoio!FH133 -> 6 | F18: =Apoio!FI133 -> 7 | G18: =Apoio!FJ133 -> 9 | H18: =Apoio!FK133 -> 10 | I18: =Apoio!FL133 -> 11 | ... P18: =Apoio!FS133 -> 20 | R18: 1
B19: =Apoio!FE134 -> 1 | C19: =Apoio!FF134 -> 2 | D19: =Apoio!FG134 -> 3 | E19: =Apoio!FH134 -> 5 | F19: =Apoio!FI134 -> 8 | G19: =Apoio!FJ134 -> 10 | H19: =Apoio!FK134 -> 11 | I19: =Apoio!FL134 -> 12 | ... P19: =Apoio!FS134 -> 19 | R19: 2
B20: =Apoio!FE135 -> 1 | C20: =Apoio!FF135 -> 2 | D20: =Apoio!FG135 -> 3 | E20: =Apoio!FH135 -> 4 | F20: =Apoio!FI135 -> 6 | G20: =Apoio!FJ135 -> 7 | H20: =Apoio!FK135 -> 8 | I20: =Apoio!FL135 -> 9 | ... P20: =Apoio!FS135 -> 20 | R20: 3
B21: =Apoio!FE136 -> 2 | C21: =Apoio!FF136 -> 3 | D21: =Apoio!FG136 -> 4 | E21: =Apoio!FH136 -> 5 | F21: =Apoio!FI136 -> 6 | G21: =Apoio!FJ136 -> 7 | H21: =Apoio!FK136 -> 8 | I21: =Apoio!FL136 -> 9 | ... P21: =Apoio!FS136 -> 20 | R21: 4

Sheet Opcao7
AA1: ="V"&X5 -> V1
A2: Opção 7 ( 20 fixos )
X5: 1 | Y5: 10
B16: Total de 38 volantes
B18: =Apoio!HK41 -> 1 | C18: =Apoio!HL41 -> 2 | D18: =Apoio!HM41 -> 3 | E18: =Apoio!HN41 -> 4 | F18: =Apoio!HO41 -> 6 | G18: =Apoio!HP41 -> 9 | H18: =Apoio!HQ41 -> 10 | I18: =Apoio!HR41 -> 11 | ... P18: =Apoio!HY41 -> 19 | R18: 1
B19: =Apoio!HK42 -> 1 | C19: =Apoio!HL42 -> 2 | D19: =Apoio!HM42 -> 3 | E19: =Apoio!HN42 -> 4 | F19: =Apoio!HO42 -> 5 | G19: =Apoio!HP42 -> 6 | H19: =Apoio!HQ42 -> 7 | I19: =Apoio!HR42 -> 8 | ... P19: =Apoio!HY42 -> 16 | R19: 2
B20: =Apoio!HK43 -> 1 | C20: =Apoio!HL43 -> 2 | D20: =Apoio!HM43 -> 4 | E20: =Apoio!HN43 -> 5 | F20: =Apoio!HO43 -> 6 | G20: =Apoio!HP43 -> 7 | H20: =Apoio!HQ43 -> 8 | I20: =Apoio!HR43 -> 9 | ... P20: =Apoio!HY43 -> 20 | R20: 3
B21: =Apoio!HK44 -> 1 | C21: =Apoio!HL44 -> 2 | D21: =Apoio!HM44 -> 3 | E21: =Apoio!HN44 -> 6 | F21: =Apoio!HO44 -> 7 | G21: =Apoio!HP44 -> 9 | H21: =Apoio!HQ44 -> 10 | I21: =Apoio!HR44 -> 11 | ... P21: =Apoio!HY44 -> 20 | R21: 4
B22: =Apoio!HK45 -> 1 | C22: =Apoio!HL45 -> 2 | D22: =Apoio!HM45 -> 3 | E22: =Apoio!HN45 -> 6 | F22: =Apoio!HO45 -> 7 | G22: =Apoio!HP45 -> 8 | H22: =Apoio!HQ45 -> 9 | I22: =Apoio!HR45 -> 10 | ... P22: =Apoio!HY45 -> 20 | R22: 5
B23: =Apoio!HK46 -> 1 | C23: =Apoio!HL46 -> 2 | D23: =Apoio!HM46 -> 3 | E23: =Apoio!HN46 -> 5 | F23: =Apoio!HO46 -> 7 | G23: =Apoio!HP46 -> 9 | H23: =Apoio!HQ46 -> 10 | I23: =Apoio!HR46 -> 11 | ... P23: =Apoio!HY46 -> 20 | R23: 6
B24: =Apoio!HK47 -> 1 | C24: =Apoio!HL47 -> 2 | D24: =Apoio!HM47 -> 3 | E24: =Apoio!HN47 -> 5 | F24: =Apoio!HO47 -> 7 | G24: =Apoio!HP47 -> 8 | H24: =Apoio!HQ47 -> 9 | I24: =Apoio!HR47 -> 11 | ... P24: =Apoio!HY47 -> 18 | R24: 7
B25: =Apoio!HK48 -> 1 | C25: =Apoio!HL48 -> 2 | D25: =Apoio!HM48 -> 3 | E25: =Apoio!HN48 -> 5 | F25: =Apoio!HO48 -> 6 | G25: =Apoio!HP48 -> 7 | H25: =Apoio!HQ48 -> 8 | I25: =Apoio!HR48 -> 9 | ... P25: =Apoio!HY48 -> 20 | R25: 8
B26: =Apoio!HK49 -> 1 | C26: =Apoio!HL49 -> 2 | D26: =Apoio!HM49 -> 4 | E26: =Apoio!HN49 -> 6 | F26: =Apoio!HO49 -> 7 | G26: =Apoio!HP49 -> 8 | H26: =Apoio!HQ49 -> 11 | I26: =Apoio!HR49 -> 13 | ... P26: =Apoio!HY49 -> 20 | R26: 9
B27: =Apoio!HK50 -> 1 | C27: =Apoio!HL50 -> 2 | D27: =Apoio!HM50 -> 3 | E27: =Apoio!HN50 -> 5 | F27: =Apoio!HO50 -> 6 | G27: =Apoio!HP50 -> 7 | H27: =Apoio!HQ50 -> 8 | I27: =Apoio!HR50 -> 9 | ... P27: =Apoio!HY50 -> 19 | R27: 10
B28: =Apoio!HK51 -> 1 | C28: =Apoio!HL51 -> 2 | D28: =Apoio!HM51 -> 4 | E28: =Apoio!HN51 -> 7 | F28: =Apoio!HO51 -> 8 | G28: =Apoio!HP51 -> 9 | H28: =Apoio!HQ51 -> 10 | I28: =Apoio!HR51 -> 11 | ... P28: =Apoio!HY51 -> 18 | R28: 11
B29: =Apoio!HK52 -> 1 | C29: =Apoio!HL52 -> 2 | D29: =Apoio!HM52 -> 3 | E29: =Apoio!HN52 -> 4 | F29: =Apoio!HO52 -> 6 | G29: =Apoio!HP52 -> 8 | H29: =Apoio!HQ52 -> 9 | I29: =Apoio!HR52 -> 11 | ... P29: =Apoio!HY52 -> 20 | R29: 12
... B55: =Apoio!HK78 -> 3 | C55: =Apoio!HL78 -> 4 | D55: =Apoio!HM78 -> 6 | E55: =Apoio!HN78 -> 7 | F55: =Apoio!HO78 -> 8 | G55: =Apoio!HP78 -> 9 | H55: =Apoio!HQ78 -> 10 | I55: =Apoio!HR78 -> 12 | ... P55: =Apoio!HY78 -> 20 | R55: 38

Sheet Opcao8
AA1: ="V"&X5 -> V1
A2: Opção 8 ( 20 fixos )
X5: 1 | Y5: 10
B16: Total de 21 volantes
B18: =Apoio!A252 -> 1 | C18: =Apoio!B252 -> 2 | D18: =Apoio!C252 -> 3 | E18: =Apoio!D252 -> 4 | F18: =Apoio!E252 -> 5 | G18: =Apoio!F252 -> 6 | H18: =Apoio!G252 -> 7 | I18: =Apoio!H252 -> 8 | ... P18: =Apoio!O252 -> 20 | R18: 1
B19: =Apoio!A253 -> 1 | C19: =Apoio!B253 -> 2 | D19: =Apoio!C253 -> 3 | E19: =Apoio!D253 -> 4 | F19: =Apoio!E253 -> 5 | G19: =Apoio!F253 -> 6 | H19: =Apoio!G253 -> 9 | I19: =Apoio!H253 -> 10 | ... P19: =Apoio!O253 -> 20 | R19: 2
B20: =Apoio!A254 -> 1 | C20: =Apoio!B254 -> 2 | D20: =Apoio!C254 -> 3 | E20: =Apoio!D254 -> 4 | F20: =Apoio!E254 -> 5 | G20: =Apoio!F254 -> 7 | H20: =Apoio!G254 -> 8 | I20: =Apoio!H254 -> 9 | ... P20: =Apoio!O254 -> 18 | R20: 3
B21: =Apoio!A255 -> 1 | C21: =Apoio!B255 -> 2 | D21: =Apoio!C255 -> 3 | E21: =Apoio!D255 -> 4 | F21: =Apoio!E255 -> 5 | G21: =Apoio!F255 -> 7 | H21: =Apoio!G255 -> 8 | I21: =Apoio!H255 -> 9 | ... P21: =Apoio!O255 -> 20 | R21: 4
B22: =Apoio!A256 -> 1 | C22: =Apoio!B256 -> 2 | D22: =Apoio!C256 -> 3 | E22: =Apoio!D256 -> 4 | F22: =Apoio!E256 -> 6 | G22: =Apoio!F256 -> 7 | H22: =Apoio!G256 -> 8 | I22: =Apoio!H256 -> 10 | ... P22: =Apoio!O256 -> 19 | R22: 5
B23: =Apoio!A257 -> 1 | C23: =Apoio!B257 -> 2 | D23: =Apoio!C257 -> 3 | E23: =Apoio!D257 -> 4 | F23: =Apoio!E257 -> 6 | G23: =Apoio!F257 -> 8 | H23: =Apoio!G257 -> 10 | I23: =Apoio!H257 -> 11 | ... P23: =Apoio!O257 -> 20 | R23: 6
B24: =Apoio!A258 -> 1 | C24: =Apoio!B258 -> 2 | D24: =Apoio!C258 -> 3 | E24: =Apoio!D258 -> 5 | F24: =Apoio!E258 -> 6 | G24: =Apoio!F258 -> 7 | H24: =Apoio!G258 -> 9 | I24: =Apoio!H258 -> 11 | ... P24: =Apoio!O258 -> 20 | R24: 7
B25: =Apoio!A259 -> 1 | C25: =Apoio!B259 -> 2 | D25: =Apoio!C259 -> 3 | E25: =Apoio!D259 -> 6 | F25: =Apoio!E259 -> 7 | G25: =Apoio!F259 -> 8 | H25: =Apoio!G259 -> 9 | I25: =Apoio!H259 -> 11 | ... P25: =Apoio!O259 -> 20 | R25: 8
B26: =Apoio!A260 -> 1 | C26: =Apoio!B260 -> 2 | D26: =Apoio!C260 -> 4 | E26: =Apoio!D260 -> 5 | F26: =Apoio!E260 -> 6 | G26: =Apoio!F260 -> 7 | H26: =Apoio!G260 -> 8 | I26: =Apoio!H260 -> 9 | ... P26: =Apoio!O260 -> 20 | R26: 9
B27: =Apoio!A261 -> 1 | C27: =Apoio!B261 -> 2 | D27: =Apoio!C261 -> 4 | E27: =Apoio!D261 -> 5 | F27: =Apoio!E261 -> 6 | G27: =Apoio!F261 -> 7 | H27: =Apoio!G261 -> 10 | I27: =Apoio!H261 -> 11 | ... P27: =Apoio!O261 -> 20 | R27: 10
B28: =Apoio!A262 -> 1 | C28: =Apoio!B262 -> 2 | D28: =Apoio!C262 -> 4 | E28: =Apoio!D262 -> 7 | F28: =Apoio!E262 -> 8 | G28: =Apoio!F262 -> 9 | H28: =Apoio!G262 -> 12 | I28: =Apoio!H262 -> 13 | ... P28: =Apoio!O262 -> 20 | R28: 11
B29: =Apoio!A263 -> 1 | C29: =Apoio!B263 -> 2 | D29: =Apoio!C263 -> 5 | E29: =Apoio!D263 -> 6 | F29: =Apoio!E263 -> 8 | G29: =Apoio!F263 -> 9 | H29: =Apoio!G263 -> 10 | I29: =Apoio!H263 -> 11 | ... P29: =Apoio!O263 -> 19 | R29: 12
... B38: =Apoio!A272 -> 3 | C38: =Apoio!B272 -> 4 | D38: =Apoio!C272 -> 5 | E38: =Apoio!D272 -> 6 | F38: =Apoio!E272 -> 8 | G38: =Apoio!F272 -> 9 | H38: =Apoio!G272 -> 10 | I38: =Apoio!H272 -> 11 | ... P38: =Apoio!O272 -> 20 | R38: 21

Sheet Opcao9
AA1: ="V"&X5 -> V1
A2: Opção 9 ( 20 fixos )
X5: 1 | Y5: 10
B16: Total de 356 volantes
B18: =Apoio!IS361 -> 1 | C18: =Apoio!IT361 -> 2 | D18: =Apoio!IU361 -> 3 | E18: =Apoio!IV361 -> 4 | F18: =Apoio!IW361 -> 5 | G18: =Apoio!IX361 -> 6 | H18: =Apoio!IY361 -> 7 | I18: =Apoio!IZ361 -> 8 | ... P18: =Apoio!JG361 -> 19 | R18: 1 | T18: =Apoio!IS539 -> 1 | U18: =Apoio!IT539 -> 2 | V18: =Apoio!IU539 -> 4 | W18: =Apoio!IV539 -> 6 | X18: =Apoio!IW539 -> 7 | Y18: =Apoio!IX539 -> 8 | Z18: =Apoio!IY539 -> 9 | AA18: =Apoio!IZ539 -> 11 | ... AH18: =Apoio!JG539 -> 20 | AJ18: 179
B19: =Apoio!IS362 -> 1 | C19: =Apoio!IT362 -> 2 | D19: =Apoio!IU362 -> 3 | E19: =Apoio!IV362 -> 4 | F19: =Apoio!IW362 -> 5 | G19: =Apoio!IX362 -> 6 | H19: =Apoio!IY362 -> 7 | I19: =Apoio!IZ362 -> 8 | ... P19: =Apoio!JG362 -> 17 | R19: 2 | T19: =Apoio!IS540 -> 1 | U19: =Apoio!IT540 -> 2 | V19: =Apoio!IU540 -> 4 | W19: =Apoio!IV540 -> 6 | X19: =Apoio!IW540 -> 7 | Y19: =Apoio!IX540 -> 9 | Z19: =Apoio!IY540 -> 10 | AA19: =Apoio!IZ540 -> 11 | ... AH19: =Apoio!JG540 -> 20 | AJ19: 180
B20: =Apoio!IS363 -> 1 | C20: =Apoio!IT363 -> 2 | D20: =Apoio!IU363 -> 3 | E20: =Apoio!IV363 -> 4 | F20: =Apoio!IW363 -> 5 | G20: =Apoio!IX363 -> 6 | H20: =Apoio!IY363 -> 7 | I20: =Apoio!IZ363 -> 8 | ... P20: =Apoio!JG363 -> 20 | R20: 3 | T20: =Apoio!IS541 -> 1 | U20: =Apoio!IT541 -> 2 | V20: =Apoio!IU541 -> 4 | W20: =Apoio!IV541 -> 6 | X20: =Apoio!IW541 -> 7 | Y20: =Apoio!IX541 -> 9 | Z20: =Apoio!IY541 -> 10 | AA20: =Apoio!IZ541 -> 11 | ... AH20: =Apoio!JG541 -> 20 | AJ20: 181
B21: =Apoio!IS364 -> 1 | C21: =Apoio!IT364 -> 2 | D21: =Apoio!IU364 -> 3 | E21: =Apoio!IV364 -> 4 | F21: =Apoio!IW364 -> 5 | G21: =Apoio!IX364 -> 6 | H21: =Apoio!IY364 -> 7 | I21: =Apoio!IZ364 -> 8 | ... P21: =Apoio!JG364 -> 20 | R21: 4 | T21: =Apoio!IS542 -> 1 | U21: =Apoio!IT542 -> 2 | V21: =Apoio!IU542 -> 4 | W21: =Apoio!IV542 -> 6 | X21: =Apoio!IW542 -> 7 | Y21: =Apoio!IX542 -> 10 | Z21: =Apoio!IY542 -> 11 | AA21: =Apoio!IZ542 -> 13 | ... AH21: =Apoio!JG542 -> 20 | AJ21: 182
B22: =Apoio!IS365 -> 1 | C22: =Apoio!IT365 -> 2 | D22: =Apoio!IU365 -> 3 | E22: =Apoio!IV365 -> 4 | F22: =Apoio!IW365 -> 5 | G22: =Apoio!IX365 -> 6 | H22: =Apoio!IY365 -> 7 | I22: =Apoio!IZ365 -> 8 | ... P22: =Apoio!JG365 -> 19 | R22: 5 | T22: =Apoio!IS543 -> 1 | U22: =Apoio!IT543 -> 2 | V22: =Apoio!IU543 -> 4 | W22: =Apoio!IV543 -> 6 | X22: =Apoio!IW543 -> 8 | Y22: =Apoio!IX543 -> 9 | Z22: =Apoio!IY543 -> 10 | AA22: =Apoio!IZ543 -> 11 | ... AH22: =Apoio!JG543 -> 20 | AJ22: 183
B23: =Apoio!IS366 -> 1 | C23: =Apoio!IT366 -> 2 | D23: =Apoio!IU366 -> 3 | E23: =Apoio!IV366 -> 4 | F23: =Apoio!IW366 -> 5 | G23: =Apoio!IX366 -> 6 | H23: =Apoio!IY366 -> 7 | I23: =Apoio!IZ366 -> 8 | ... P23: =Apoio!JG366 -> 18 | R23: 6 | T23: =Apoio!IS544 -> 1 | U23: =Apoio!IT544 -> 2 | V23: =Apoio!IU544 -> 4 | W23: =Apoio!IV544 -> 6 | X23: =Apoio!IW544 -> 8 | Y23: =Apoio!IX544 -> 10 | Z23: =Apoio!IY544 -> 11 | AA23: =Apoio!IZ544 -> 13 | ... AH23: =Apoio!JG544 -> 20 | AJ23: 184
B24: =Apoio!IS367 -> 1 | C24: =Apoio!IT367 -> 2 | D24: =Apoio!IU367 -> 3 | E24: =Apoio!IV367 -> 4 | F24: =Apoio!IW367 -> 5 | G24: =Apoio!IX367 -> 6 | H24: =Apoio!IY367 -> 7 | I24: =Apoio!IZ367 -> 8 | ... P24: =Apoio!JG367 -> 19 | R24: 7 | T24: =Apoio!IS545 -> 1 | U24: =Apoio!IT545 -> 2 | V24: =Apoio!IU545 -> 4 | W24: =Apoio!IV545 -> 7 | X24: =Apoio!IW545 -> 8 | Y24: =Apoio!IX545 -> 9 | Z24: =Apoio!IY545 -> 10 | AA24: =Apoio!IZ545 -> 11 | ... AH24: =Apoio!JG545 -> 20 | AJ24: 185
B25: =Apoio!IS368 -> 1 | C25: =Apoio!IT368 -> 2 | D25: =Apoio!IU368 -> 3 | E25: =Apoio!IV368 -> 4 | F25: =Apoio!IW368 -> 5 | G25: =Apoio!IX368 -> 6 | H25: =Apoio!IY368 -> 7 | I25: =Apoio!IZ368 -> 8 | ... P25: =Apoio!JG368 -> 20 | R25: 8 | T25: =Apoio!IS546 -> 1 | U25: =Apoio!IT546 -> 2 | V25: =Apoio!IU546 -> 4 | W25: =Apoio!IV546 -> 7 | X25: =Apoio!IW546 -> 8 | Y25: =Apoio!IX546 -> 9 | Z25: =Apoio!IY546 -> 10 | AA25: =Apoio!IZ546 -> 12 | ... AH25: =Apoio!JG546 -> 20 | AJ25: 186
B26: =Apoio!IS369 -> 1 | C26: =Apoio!IT369 -> 2 | D26: =Apoio!IU369 -> 3 | E26: =Apoio!IV369 -> 4 | F26: =Apoio!IW369 -> 5 | G26: =Apoio!IX369 -> 6 | H26: =Apoio!IY369 -> 7 | I26: =Apoio!IZ369 -> 8 | ... P26: =Apoio!JG369 -> 20 | R26: 9 | T26: =Apoio!IS547 -> 1 | U26: =Apoio!IT547 -> 2 | V26: =Apoio!IU547 -> 5 | W26: =Apoio!IV547 -> 6 | X26: =Apoio!IW547 -> 7 | Y26: =Apoio!IX547 -> 8 | Z26: =Apoio!IY547 -> 9 | AA26: =Apoio!IZ547 -> 10 | ... AH26: =Apoio!JG547 -> 18 | AJ26: 187
B27: =Apoio!IS370 -> 1 | C27: =Apoio!IT370 -> 2 | D27: =Apoio!IU370 -> 3 | E27: =Apoio!IV370 -> 4 | F27: =Apoio!IW370 -> 5 | G27: =Apoio!IX370 -> 6 | H27: =Apoio!IY370 -> 7 | I27: =Apoio!IZ370 -> 8 | ... P27: =Apoio!JG370 -> 20 | R27: 10 | T27: =Apoio!IS548 -> 1 | U27: =Apoio!IT548 -> 2 | V27: =Apoio!IU548 -> 5 | W27: =Apoio!IV548 -> 6 | X27: =Apoio!IW548 -> 7 | Y27: =Apoio!IX548 -> 8 | Z27: =Apoio!IY548 -> 9 | AA27: =Apoio!IZ548 -> 10 | ... AH27: =Apoio!JG548 -> 20 | AJ27: 188
B28: =Apoio!IS371 -> 1 | C28: =Apoio!IT371 -> 2 | D28: =Apoio!IU371 -> 3 | E28: =Apoio!IV371 -> 4 | F28: =Apoio!IW371 -> 5 | G28: =Apoio!IX371 -> 6 | H28: =Apoio!IY371 -> 7 | I28: =Apoio!IZ371 -> 8 | ... P28: =Apoio!JG371 -> 19 | R28: 11 | T28: =Apoio!IS549 -> 1 | U28: =Apoio!IT549 -> 2 | V28: =Apoio!IU549 -> 5 | W28: =Apoio!IV549 -> 6 | X28: =Apoio!IW549 -> 7 | Y28: =Apoio!IX549 -> 8 | Z28: =Apoio!IY549 -> 9 | AA28: =Apoio!IZ549 -> 10 | ... AH28: =Apoio!JG549 -> 20 | AJ28: 189
B29: =Apoio!IS372 -> 1 | C29: =Apoio!IT372 -> 2 | D29: =Apoio!IU372 -> 3 | E29: =Apoio!IV372 -> 4 | F29: =Apoio!IW372 -> 5 | G29: =Apoio!IX372 -> 6 | H29: =Apoio!IY372 -> 7 | I29: =Apoio!IZ372 -> 8 | ... P29: =Apoio!JG372 -> 20 | R29: 12 | T29: =Apoio!IS550 -> 1 | U29: =Apoio!IT550 -> 2 | V29: =Apoio!IU550 -> 5 | W29: =Apoio!IV550 -> 6 | X29: =Apoio!IW550 -> 7 | Y29: =Apoio!IX550 -> 8 | Z29: =Apoio!IY550 -> 9 | AA29: =Apoio!IZ550 -> 11 | ... AH29: =Apoio!JG550 -> 20 | AJ29: 190
... B195: =Apoio!IS538 -> 1 | C195: =Apoio!IT538 -> 2 | D195: =Apoio!IU538 -> 4 | E195: =Apoio!IV538 -> 6 | F195: =Apoio!IW538 -> 7 | G195: =Apoio!IX538 -> 8 | H195: =Apoio!IY538 -> 9 | I195: =Apoio!IZ538 -> 10 | ... P195: =Apoio!JG538 -> 18 | R195: 178 | T195: =Apoio!IS716 -> 4 | U195: =Apoio!IT716 -> 5 | V195: =Apoio!IU716 -> 7 | W195: =Apoio!IV716 -> 8 | X195: =Apoio!IW716 -> 10 | Y195: =Apoio!IX716 -> 11 | Z195: =Apoio!IY716 -> 12 | AA195: =Apoio!IZ716 -> 13 | ... AH195: =Apoio!JG716 -> 20 | AJ195: 356

Sheet Apoio
AG1: 1 | AH1: 2 | AI1: 3 | AJ1: 4 | AK1: 5 | AL1: 6 | AM1: 7 | AN1: 8 | AO1: 9 | AP1: 10 | AQ1: 11 | AR1: 12 | AS1: 13 | AT1: 14 | AU1: 15 | AV1: 16 | AW1: 17 | AX1: 18 | AY1: 19 | AZ1: 20 | BA1: 21 | BB1: 22 | BC1: 23 | BD1: 24 | BE1: 25 | CX1: 1 | CY1: 2 | CZ1: 3 | DA1: 4 | DB1: 5 | DC1: 6 | DD1: 7 | DE1: 8 | DF1: 9 | DG1: 10 | DH1: 11 | DI1: 12 | DJ1: 13 | DK1: 14 | DL1: 15 | DM1: 16 | DN1: 17 | DO1: 18 | DP1: 19 | DQ1: 20 | DR1: 21 | DS1: 22 | DT1: 23 | DU1: 24 | DV1: 25 | FE1: 1 | FF1: 2 | FG1: 3 | FH1: 4 | FI1: 5 | FJ1: 6 | FK1: 7 | FL1: 8 | FM1: 9 | FN1: 10 | FO1: 11 | FP1: 12 | FQ1: 13 | FR1: 14 | FS1: 15 | FT1: 16 | FU1: 17 | FV1: 18 | FW1: 19 | FX1: 20 | FY1: 21 | FZ1: 22 | GA1: 23 | GB1: 24 | GC1: 25
AG2: =AG220 -> 1 | AH2: =AH220 -> 2 | AI2: =AI220 -> 3 | AJ2: =BY15 -> 4 | AK2: =BZ15 -> 5 | AL2: =CA15 -> 6 | AM2: =CB15 -> 7 | AN2: =CC15 -> 8 | AO2: =CD15 -> 9 | AP2: =CE15 -> 10 | AQ2: =CF15 -> 11 | ... AZ2: =CO15 -> 25 | BA2: =AG221 -> 17 | BB2: =AH221 -> 18 | BC2: =AI221 -> 19 | BD2: =AJ221 -> 20 | BE2: =AK221 -> 21 | CX2: =CX105 -> 1 | CY2: =CY105 -> 2 | CZ2: =CZ105 -> 3 | DA2: =DA105 -> 4 | DB2: =DB105 -> 5 | DC2: =EH18 -> 6 | DD2: =EI18 -> 7 | DE2: =EJ18 -> 8 | DF2: =EK18 -> 9 | DG2: =EL18 -> 10 | DH2: =EM18 -> 11 | DI2: =EN18 -> 12 | DJ2: =EO18 -> 13 | ... DQ2: =EV18 -> 25 | DR2: =CX106 -> 17 | DS2: =CY106 -> 18 | DT2: =CZ106 -> 19 | DU2: =DA106 -> 20 | DV2: =DB106 -> 21 | FE2: =FE66 -> 1 | FF2: =FF66 -> 2 | FG2: =FG66 -> 3 | FH2: =FH66 -> 4 | FI2: =FI66 -> 5 | FJ2: =FJ66 -> 6 | FK2: =FK66 -> 7 | FL2: =FL66 -> 8 | ... FP2: =FP66 -> 12 | FQ2: =GU13 -> 13 | FR2: =GV13 -> 14 | FS2: =GW13 -> 15 | FT2: =GX13 -> 16 | FU2: =GY13 -> 22 | FV2: =GZ13 -> 23 | FW2: =HA13 -> 24 | FX2: =HB13 -> 25 | FY2: =FE67 -> 17 | FZ2: =FF67 -> 18 | GA2: =FG67 -> 19 | GB2: =FH67 -> 20 | GC2: =FI67 -> 21 | GK2: 1 | GL2: 2 | GM2: 3 | GN2: 4 | GO2: 5 | GP2: 6 | GQ2: 7 | GR2: 8 | GS2: 9 | GT2: 10 | GU2: 11 | GV2: 12 | GW2: 13 | GX2: 14 | GY2: 15 | GZ2: 16 | HA2: 17 | HB2: 18 | HC2: 19 | HD2: 20 | HE2: 21 | HF2: 22 | HG2: 23 | HH2: 24 | HI2: 25 | HK2: =LOOKUP(IC2,$A$3:$T$3,$A$4:$T$4) -> 1 | HL2: =LOOKUP(ID2,$A$3:$T$3,$A$4:$T$4) -> 2 | HM2: =LOOKUP(IE2,$A$3:$T$3,$A$4:$T$4) -> 3 | HN2: =LOOKUP(IF2,$A$3:$T$3,$A$4:$T$4) -> 4 | HO2: =LOOKUP(IG2,$A$3:$T$3,$A$4:$T$4) -> 6 | HP2: =LOOKUP(IH2,$A$3:$T$3,$A$4:$T$4) -> 9 | HQ2: =LOOKUP(II2,$A$3:$T$3,$A$4:$T$4) -> 10 | HR2: =LOOKUP(IJ2,$A$3:$T$3,$A$4:$T$4) -> 11 | ... HY2: =LOOKUP(IQ2,$A$3:$T$3,$A$4:$T$4) -> 19 | IC2: 1 | ID2: 2 | IE2: 3 | IF2: 4 | IG2: 6 | IH2: 9 | II2: 10 | IJ2: 11 | IK2: 12 | IL2: 14 | IM2: 15 | IN2: 16 | IO2: 17 | IP2: 18 | IQ2: 19 | IS2: =LOOKUP(JI2,$A$3:$Y$3,$A$4:$AE$4) -> 1 | IT2: =LOOKUP(JJ2,$A$3:$Y$3,$A$4:$AE$4) -> 2 | IU2: =LOOKUP(JK2,$A$3:$Y$3,$A$4:$AE$4) -> 3 | IV2: =LOOKUP(JL2,$A$3:$Y$3,$A$4:$AE$4) -> 4 | IW2: =LOOKUP(JM2,$A$3:$Y$3,$A$4:$AE$4) -> 5 | IX2: =LOOKUP(JN2,$A$3:$Y$3,$A$4:$AE$4) -> 6 | IY2: =LOOKUP(JO2,$A$3:$Y$3,$A$4:$AE$4) -> 7 | IZ2: =LOOKUP(JP2,$A$3:$Y$3,$A$4:$AE$4) -> 8 | ... JG2: =LOOKUP(JW2,$A$3:$Y$3,$A$4:$AE$4) -> 19 | JI2: 1 | JJ2: 2 | JK2: 3 | JL2: 4 | JM2: 5 | JN2: 6 | JO2: 7 | JP2: 8 | JQ2: 9 | JR2: 10 | JS2: 11 | JT2: 12 | JU2: 14 | JV2: 18 | JW2: 19
A3: 1 | B3: 2 | C3: 3 | D3: 4 | E3: 5 | F3: 6 | G3: 7 | H3: 8 | I3: 9 | J3: 10 | K3: 11 | L3: 12 | M3: 13 | N3: 14 | O3: 15 | P3: 16 | Q3: 17 | R3: 18 | S3: 19 | T3: 20 | GK3: =FE66 -> 1 | GL3: =FF66 -> 2 | GM3: =FG66 -> 3 | GN3: =FH66 -> 4 | GO3: =FI66 -> 5 | GP3: =FJ66 -> 6 | GQ3: =FK66 -> 7 | GR3: =FL66 -> 8 | ... GV3: =FP66 -> 12 | HK3: =LOOKUP(IC3,$A$3:$T$3,$A$4:$T$4) -> 1 | HL3: =LOOKUP(ID3,$A$3:$T$3,$A$4:$T$4) -> 2 | HM3: =LOOKUP(IE3,$A$3:$T$3,$A$4:$T$4) -> 3 | HN3: =LOOKUP(IF3,$A$3:$T$3,$A$4:$T$4) -> 4 | HO3: =LOOKUP(IG3,$A$3:$T$3,$A$4:$T$4) -> 5 | HP3: =LOOKUP(IH3,$A$3:$T$3,$A$4:$T$4) -> 6 | HQ3: =LOOKUP(II3,$A$3:$T$3,$A$4:$T$4) -> 7 | HR3: =LOOKUP(IJ3,$A$3:$T$3,$A$4:$T$4) -> 8 | ... HY3: =LOOKUP(IQ3,$A$3:$T$3,$A$4:$T$4) -> 16 | IC3: 1 | ID3: 2 | IE3: 3 | IF3: 4 | IG3: 5 | IH3: 6 | II3: 7 | IJ3: 8 | IK3: 9 | IL3: 10 | IM3: 11 | IN3: 12 | IO3: 13 | IP3: 15 | IQ3: 16 | IS3: =LOOKUP(JI3,$A$3:$Y$3,$A$4:$AE$4) -> 1 | IT3: =LOOKUP(JJ3,$A$3:$Y$3,$A$4:$AE$4) -> 2 | IU3: =LOOKUP(JK3,$A$3:$Y$3,$A$4:$AE$4) -> 3 | IV3: =LOOKUP(JL3,$A$3:$Y$3,$A$4:$AE$4) -> 4 | IW3: =LOOKUP(JM3,$A$3:$Y$3,$A$4:$AE$4) -> 5 | IX3: =LOOKUP(JN3,$A$3:$Y$3,$A$4:$AE$4) -> 6 | IY3: =LOOKUP(JO3,$A$3:$Y$3,$A$4:$AE$4) -> 7 | IZ3: =LOOKUP(JP3,$A$3:$Y$3,$A$4:$AE$4) -> 8 | ... JG3: =LOOKUP(JW3,$A$3:$Y$3,$A$4:$AE$4) -> 17 | JI3: 1 | JJ3: 2 | JK3: 3 | JL3: 4 | JM3: 5 | JN3: 6 | JO3: 7 | JP3: 8 | JQ3: 9 | JR3: 10 | JS3: 11 | JT3: 14 | JU3: 15 | JV3: 16 | JW3: 17
A4: =Início!B17 -> 1 | B4: =Início!C17 -> 2 | C4: =Início!D17 -> 3 | D4: =Início!E17 -> 4 | E4: =Início!F17 -> 5 | F4: =Início!G17 -> 6 | G4: =Início!H17 -> 7 | H4: =Início!I17 -> 8 | ... T4: =Início!U17 -> 20 | BX4: 1 | BY4: 2 | BZ4: 3 | CA4: 4 | CB4: 5 | CC4: 6 | CD4: 7 | CE4: 8 | CF4: 9 | CG4: 10 | CH4: 11 | CI4: 12 | CJ4: 13 | CK4: 14 | CL4: 15 | CM4: 16 | CN4: 17 | CO4: 18 | CP4: 19 | CQ4: 20 | CR4: 21 | CS4: 22 | CT4: 23 | CU4: 24 | CV4: 25 | GK4: =FE2 -> 1 | GL4: =FF2 -> 2 | GM4: =FG2 -> 3 | GN4: =FH2 -> 4 | GO4: =FI2 -> 5 | GP4: =FJ2 -> 6 | GQ4: =FK2 -> 7 | GR4: =FL2 -> 8 | ... GT4: =FN2 -> 10 | HK4: =LOOKUP(IC4,$A$3:$T$3,$A$4:$T$4) -> 1 | HL4: =LOOKUP(ID4,$A$3:$T$3,$A$4:$T$4) -> 2 | HM4: =LOOKUP(IE4,$A$3:$T$3,$A$4:$T$4) -> 4 | HN4: =LOOKUP(IF4,$A$3:$T$3,$A$4:$T$4) -> 5 | HO4: =LOOKUP(IG4,$A$3:$T$3,$A$4:$T$4) -> 6 | HP4: =LOOKUP(IH4,$A$3:$T$3,$A$4:$T$4) -> 7 | HQ4: =LOOKUP(II4,$A$3:$T$3,$A$4:$T$4) -> 8 | HR4: =LOOKUP(IJ4,$A$3:$T$3,$A$4:$T$4) -> 9 | ... HY4: =LOOKUP(IQ4,$A$3:$T$3,$A$4:$T$4) -> 20 | IC4: 1 | ID4: 2 | IE4: 4 | IF4: 5 | IG4: 6 | IH4: 7 | II4: 8 | IJ4: 9 | IK4: 12 | IL4: 13 | IM4: 14 | IN4: 15 | IO4: 18 | IP4: 19 | IQ4: 20 | IS4: =LOOKUP(JI4,$A$3:$Y$3,$A$4:$AE$4) -> 1 | IT4: =LOOKUP(JJ4,$A$3:$Y$3,$A$4:$AE$4) -> 2 | IU4: =LOOKUP(JK4,$A$3:$Y$3,$A$4:$AE$4) -> 3 | IV4: =LOOKUP(JL4,$A$3:$Y$3,$A$4:$AE$4) -> 4 | IW4: =LOOKUP(JM4,$A$3:$Y$3,$A$4:$AE$4) -> 5 | IX4: =LOOKUP(JN4,$A$3:$Y$3,$A$4:$AE$4) -> 6 | IY4: =LOOKUP(JO4,$A$3:$Y$3,$A$4:$AE$4) -> 7 | IZ4: =LOOKUP(JP4,$A$3:$Y$3,$A$4:$AE$4) -> 8 | ... JG4: =LOOKUP(JW4,$A$3:$Y$3,$A$4:$AE$4) -> 20 | JI4: 1 | JJ4: 2 | JK4: 3 | JL4: 4 | JM4: 5 | JN4: 6 | JO4: 7 | JP4: 8 | JQ4: 9 | JR4: 10 | JS4: 12 | JT4: 14 | JU4: 15 | JV4: 18 | JW4: 20
BX5: =AG220 -> 1 | BY5: =AH220 -> 2 | BZ5: =AI220 -> 3 | GK5: =COUNTIF($GK$2:$HI$3,GK2) -> 2 | GL5: =COUNTIF($GK$2:$HI$3,GL2) -> 2 | GM5: =COUNTIF($GK$2:$HI$3,GM2) -> 2 | GN5: =COUNTIF($GK$2:$HI$3,GN2) -> 2 | GO5: =COUNTIF($GK$2:$HI$3,GO2) -> 2 | GP5: =COUNTIF($GK$2:$HI$3,GP2) -> 2 | GQ5: =COUNTIF($GK$2:$HI$3,GQ2) -> 2 | GR5: =COUNTIF($GK$2:$HI$3,GR2) -> 2 | ... HI5: =COUNTIF($GK$2:$HI$3,HI2) -> 1 | HK5: =LOOKUP(IC5,$A$3:$T$3,$A$4:$T$4) -> 1 | HL5: =LOOKUP(ID5,$A$3:$T$3,$A$4:$T$4) -> 2 | HM5: =LOOKUP(IE5,$A$3:$T$3,$A$4:$T$4) -> 3 | HN5: =LOOKUP(IF5,$A$3:$T$3,$A$4:$T$4) -> 6 | HO5: =LOOKUP(IG5,$A$3:$T$3,$A$4:$T$4) -> 7 | HP5: =LOOKUP(IH5,$A$3:$T$3,$A$4:$T$4) -> 9 | HQ5: =LOOKUP(II5,$A$3:$T$3,$A$4:$T$4) -> 10 | HR5: =LOOKUP(IJ5,$A$3:$T$3,$A$4:$T$4) -> 11 | ... HY5: =LOOKUP(IQ5,$A$3:$T$3,$A$4:$T$4) -> 20 | IC5: 1 | ID5: 2 | IE5: 3 | IF5: 6 | IG5: 7 | IH5: 9 | II5: 10 | IJ5: 11 | IK5: 12 | IL5: 13 | IM5: 14 | IN5: 15 | IO5: 16 | IP5: 18 | IQ5: 20 | IS5: =LOOKUP(JI5,$A$3:$Y$3,$A$4:$AE$4) -> 1 | IT5: =LOOKUP(JJ5,$A$3:$Y$3,$A$4:$AE$4) -> 2 | IU5: =LOOKUP(JK5,$A$3:$Y$3,$A$4:$AE$4) -> 3 | IV5: =LOOKUP(JL5,$A$3:$Y$3,$A$4:$AE$4) -> 4 | IW5: =LOOKUP(JM5,$A$3:$Y$3,$A$4:$AE$4) -> 5 | IX5: =LOOKUP(JN5,$A$3:$Y$3,$A$4:$AE$4) -> 6 | IY5: =LOOKUP(JO5,$A$3:$Y$3,$A$4:$AE$4) -> 7 | IZ5: =LOOKUP(JP5,$A$3:$Y$3,$A$4:$AE$4) -> 8 | ... JG5: =LOOKUP(JW5,$A$3:$Y$3,$A$4:$AE$4) -> 20 | JI5: 1 | JJ5: 2 | JK5: 3 | JL5: 4 | JM5: 5 | JN5: 6 | JO5: 7 | JP5: 8 | JQ5: 9 | JR5: 10 | JS5: 13 | JT5: 14 | JU5: 15 | JV5: 19 | JW5: 20
BX6: =AG2 -> 1 | BY6: =AH2 -> 2 | BZ6: =AI2 -> 3 | CA6: =AJ2 -> 4 | CB6: =AK2 -> 5 | CC6: =AL2 -> 6 | CD6: =AM2 -> 7 | CE6: =AN2 -> 8 | ... CG6: =AP2 -> 10 | GK6: =IF(GK5=1,GK2,0) -> 0 | GL6: =IF(GL5=1,GL2,0) -> 0 | GM6: =IF(GM5=1,GM2,0) -> 0 | GN6: =IF(GN5=1,GN2,0) -> 0 | GO6: =IF(GO5=1,GO2,0) -> 0 | GP6: =IF(GP5=1,GP2,0) -> 0 | GQ6: =IF(GQ5=1,GQ2,0) -> 0 | GR6: =IF(GR5=1,GR2,0) -> 0 | ... HI6: =IF(HI5=1,HI2,0) -> 25 | HK6: =LOOKUP(IC6,$A$3:$T$3,$A$4:$T$4) -> 1 | HL6: =LOOKUP(ID6,$A$3:$T$3,$A$4:$T$4) -> 2 | HM6: =LOOKUP(IE6,$A$3:$T$3,$A$4:$T$4) -> 3 | HN6: =LOOKUP(IF6,$A$3:$T$3,$A$4:$T$4) -> 6 | HO6: =LOOKUP(IG6,$A$3:$T$3,$A$4:$T$4) -> 7 | HP6: =LOOKUP(IH6,$A$3:$T$3,$A$4:$T$4) -> 8 | HQ6: =LOOKUP(II6,$A$3:$T$3,$A$4:$T$4) -> 9 | HR6: =LOOKUP(IJ6,$A$3:$T$3,$A$4:$T$4) -> 10 | ... HY6: =LOOKUP(IQ6,$A$3:$T$3,$A$4:$T$4) -> 20 | IC6: 1 | ID6: 2 | IE6: 3 | IF6: 6 | IG6: 7 | IH6: 8 | II6: 9 | IJ6: 10 | IK6: 11 | IL6: 13 | IM6: 15 | IN6: 16 | IO6: 17 | IP6: 19 | IQ6: 20 | IS6: =LOOKUP(JI6,$A$3:$Y$3,$A$4:$AE$4) -> 1 | IT6: =LOOKUP(JJ6,$A$3:$Y$3,$A$4:$AE$4) -> 2 | IU6: =LOOKUP(JK6,$A$3:$Y$3,$A$4:$AE$4) -> 3 | IV6: =LOOKUP(JL6,$A$3:$Y$3,$A$4:$AE$4) -> 4 | IW6: =LOOKUP(JM6,$A$3:$Y$3,$A$4:$AE$4) -> 5 | IX6: =LOOKUP(JN6,$A$3:$Y$3,$A$4:$AE$4) -> 6 | IY6: =LOOKUP(JO6,$A$3:$Y$3,$A$4:$AE$4) -> 7 | IZ6: =LOOKUP(JP6,$A$3:$Y$3,$A$4:$AE$4) -> 8 | ... JG6: =LOOKUP(JW6,$A$3:$Y$3,$A$4:$AE$4) -> 19 | JI6: 1 | JJ6: 2 | JK6: 3 | JL6: 4 | JM6: 5 | JN6: 6 | JO6: 7 | JP6: 8 | JQ6: 9 | JR6: 11 | JS6: 12 | JT6: 13 | JU6: 14 | JV6: 18 | JW6: 19
AG7: =LOOKUP(BE7,$AG$1:$BE$1,$AG$2:$BE$2) -> 1 | AH7: =LOOKUP(BF7,$AG$1:$BE$1,$AG$2:$BE$2) -> 2 | AI7: =LOOKUP(BG7,$AG$1:$BE$1,$AG$2:$BE$2) -> 3 | AJ7: =LOOKUP(BH7,$AG$1:$BE$1,$AG$2:$BE$2) -> 4 | AK7: =LOOKUP(BI7,$AG$1:$BE$1,$AG$2:$BE$2) -> 5 | AL7: =LOOKUP(BJ7,$AG$1:$BE$1,$AG$2:$BE$2) -> 6 | AM7: =LOOKUP(BK7,$AG$1:$BE$1,$AG$2:$BE$2) -> 7 | AN7: =LOOKUP(BL7,$AG$1:$BE$1,$AG$2:$BE$2) -> 8 | ... AU7: =LOOKUP(BS7,$AG$1:$BE$1,$AG$2:$BE$2) -> 25 | BE7: 1 | BF7: 2 | BG7: 3 | BH7: 4 | BI7: 5 | BJ7: 6 | BK7: 7 | BL7: 8 | BM7: 9 | BN7: 10 | BO7: 12 | BP7: 17 | BQ7: 18 | BR7: 19 | BS7: 20 | BX7: =COUNTIF($BX$4:$CV$5,BX4) -> 2 | BY7: =COUNTIF($BX$4:$CV$5,BY4) -> 2 | BZ7: =COUNTIF($BX$4:$CV$5,BZ4) -> 2 | CA7: =COUNTIF($BX$4:$CV$5,CA4) -> 1 | CB7: =COUNTIF($BX$4:$CV$5,CB4) -> 1 | CC7: =COUNTIF($BX$4:$CV$5,CC4) -> 1 | CD7: =COUNTIF($BX$4:$CV$5,CD4) -> 1 | CE7: =COUNTIF($BX$4:$CV$5,CE4) -> 1 | ... CV7: =COUNTIF($BX$4:$CV$5,CV4) -> 1 | CX7: =LOOKUP(DO7,$CX$1:$DV$1,$CX$2:$DV$2) -> 1 | CY7: =LOOKUP(DP7,$CX$1:$DV$1,$CX$2:$DV$2) -> 2 | CZ7: =LOOKUP(DQ7,$CX$1:$DV$1,$CX$2:$DV$2) -> 3 | DA7: =LOOKUP(DR7,$CX$1:$DV$1,$CX$2:$DV$2) -> 4 | DB7: =LOOKUP(DS7,$CX$1:$DV$1,$CX$2:$DV$2) -> 5 | DC7: =LOOKUP(DT7,$CX$1:$DV$1,$CX$2:$DV$2) -> 6 | DD7: =LOOKUP(DU7,$CX$1:$DV$1,$CX$2:$DV$2) -> 7 | DE7: =LOOKUP(DV7,$CX$1:$DV$1,$CX$2:$DV$2) -> 9 | ... DL7: =LOOKUP(EC7,$CX$1:$DV$1,$CX$2:$DV$2) -> 25 | DO7: 1 | DP7: 2 | DQ7: 3 | DR7: 4 | DS7: 5 | DT7: 6 | DU7: 7 | DV7: 9 | DW7: 13 | DX7: 14 | DY7: 16 | DZ7: 17 | EA7: 18 | EB7: 19 | EC7: 20 | EE7: 1 | EF7: 2 | EG7: 3 | EH7: 4 | EI7: 5 | EJ7: 6 | EK7: 7 | EL7: 8 | EM7: 9 | EN7: 10 | EO7: 11 | EP7: 12 | EQ7: 13 | ER7: 14 | ES7: 15 | ET7: 16 | EU7: 17 | EV7: 18 | EW7: 19 | EX7: 20 | EY7: 21 | EZ7: 22 | FA7: 23 | FB7: 24 | FC7: 25 | FE7: =LOOKUP(FU7,$FE$1:$GC$1,$FE$2:$GC$2) -> 1 | FF7: =LOOKUP(FV7,$FE$1:$GC$1,$FE$2:$GC$2) -> 2 | FG7: =LOOKUP(FW7,$FE$1:$GC$1,$FE$2:$GC$2) -> 3 | FH7: =LOOKUP(FX7,$FE$1:$GC$1,$FE$2:$GC$2) -> 4 | FI7: =LOOKUP(FY7,$FE$1:$GC$1,$FE$2:$GC$2) -> 5 | FJ7: =LOOKUP(FZ7,$FE$1:$GC$1,$FE$2:$GC$2) -> 6 | FK7: =LOOKUP(GA7,$FE$1:$GC$1,$FE$2:$GC$2) -> 7 | FL7: =LOOKUP(GB7,$FE$1:$GC$1,$FE$2:$GC$2) -> 8 | ... FS7: =LOOKUP(GI7,$FE$1:$GC$1,$FE$2:$GC$2) -> 15 | FU7: 1 | FV7: 2 | FW7: 3 | FX7: 4 | FY7: 5 | FZ7: 6 | GA7: 7 | GB7: 8 | GC7: 9 | GD7: 10 | GE7: 11 | GF7: 12 | GG7: 13 | GH7: 14 | GI7: 15 | GK7: =LARGE($GK$6:$HI$6,GK2) -> 25 | GL7: =LARGE($GK$6:$HI$6,GL2) -> 24 | GM7: =LARGE($GK$6:$HI$6,GM2) -> 23 | GN7: =LARGE($GK$6:$HI$6,GN2) -> 22 | GO7: =LARGE($GK$6:$HI$6,GO2) -> 21 | GP7: =LARGE($GK$6:$HI$6,GP2) -> 20 | GQ7: =LARGE($GK$6:$HI$6,GQ2) -> 19 | GR7: =LARGE($GK$6:$HI$6,GR2) -> 18 | ... HI7: =LARGE($GK$6:$HI$6,HI2) -> 0 | HK7: =LOOKUP(IC7,$A$3:$T$3,$A$4:$T$4) -> 1 | HL7: =LOOKUP(ID7,$A$3:$T$3,$A$4:$T$4) -> 2 | HM7: =LOOKUP(IE7,$A$3:$T$3,$A$4:$T$4) -> 3 | HN7: =LOOKUP(IF7,$A$3:$T$3,$A$4:$T$4) -> 5 | HO7: =LOOKUP(IG7,$A$3:$T$3,$A$4:$T$4) -> 7 | HP7: =LOOKUP(IH7,$A$3:$T$3,$A$4:$T$4) -> 9 | HQ7: =LOOKUP(II7,$A$3:$T$3,$A$4:$T$4) -> 10 | HR7: =LOOKUP(IJ7,$A$3:$T$3,$A$4:$T$4) -> 11 | ... HY7: =LOOKUP(IQ7,$A$3:$T$3,$A$4:$T$4) -> 20 | IC7: 1 | ID7: 2 | IE7: 3 | IF7: 5 | IG7: 7 | IH7: 9 | II7: 10 | IJ7: 11 | IK7: 12 | IL7: 13 | IM7: 14 | IN7: 15 | IO7: 16 | IP7: 19 | IQ7: 20 | IS7: =LOOKUP(JI7,$A$3:$Y$3,$A$4:$AE$4) -> 1 | IT7: =LOOKUP(JJ7,$A$3:$Y$3,$A$4:$AE$4) -> 2 | IU7: =LOOKUP(JK7,$A$3:$Y$3,$A$4:$AE$4) -> 3 | IV7: =LOOKUP(JL7,$A$3:$Y$3,$A$4:$AE$4) -> 4 | IW7: =LOOKUP(JM7,$A$3:$Y$3,$A$4:$AE$4) -> 5 | IX7: =LOOKUP(JN7,$A$3:$Y$3,$A$4:$AE$4) -> 6 | IY7: =LOOKUP(JO7,$A$3:$Y$3,$A$4:$AE$4) -> 7 | IZ7: =LOOKUP(JP7,$A$3:$Y$3,$A$4:$AE$4) -> 8 | ... JG7: =LOOKUP(JW7,$A$3:$Y$3,$A$4:$AE$4) -> 18 | JI7: 1 | JJ7: 2 | JK7: 3 | JL7: 4 | JM7: 5 | JN7: 6 | JO7: 7 | JP7: 8 | JQ7: 9 | JR7: 11 | JS7: 12 | JT7: 14 | JU7: 16 | JV7: 17 | JW7: 18
AG8: =LOOKUP(BE8,$AG$1:$BE$1,$AG$2:$BE$2) -> 1 | AH8: =LOOKUP(BF8,$AG$1:$BE$1,$AG$2:$BE$2) -> 2 | AI8: =LOOKUP(BG8,$AG$1:$BE$1,$AG$2:$BE$2) -> 3 | AJ8: =LOOKUP(BH8,$AG$1:$BE$1,$AG$2:$BE$2) -> 4 | AK8: =LOOKUP(BI8,$AG$1:$BE$1,$AG$2:$BE$2) -> 5 | AL8: =LOOKUP(BJ8,$AG$1:$BE$1,$AG$2:$BE$2) -> 6 | AM8: =LOOKUP(BK8,$AG$1:$BE$1,$AG$2:$BE$2) -> 7 | AN8: =LOOKUP(BL8,$AG$1:$BE$1,$AG$2:$BE$2) -> 8 | ... AU8: =LOOKUP(BS8,$AG$1:$BE$1,$AG$2:$BE$2) -> 25 | BE8: 1 | BF8: 2 | BG8: 3 | BH8: 4 | BI8: 5 | BJ8: 6 | BK8: 7 | BL8: 8 | BM8: 9 | BN8: 10 | BO8: 14 | BP8: 16 | BQ8: 18 | BR8: 19 | BS8: 20 | BX8: =IF(BX7=1,BX4,0) -> 0 | BY8: =IF(BY7=1,BY4,0) -> 0 | BZ8: =IF(BZ7=1,BZ4,0) -> 0 | CA8: =IF(CA7=1,CA4,0) -> 4 | CB8: =IF(CB7=1,CB4,0) -> 5 | CC8: =IF(CC7=1,CC4,0) -> 6 | CD8: =IF(CD7=1,CD4,0) -> 7 | CE8: =IF(CE7=1,CE4,0) -> 8 | ... CV8: =IF(CV7=1,CV4,0) -> 25 | CX8: =LOOKUP(DO8,$CX$1:$DV$1,$CX$2:$DV$2) -> 1 | CY8: =LOOKUP(DP8,$CX$1:$DV$1,$CX$2:$DV$2) -> 2 | CZ8: =LOOKUP(DQ8,$CX$1:$DV$1,$CX$2:$DV$2) -> 3 | DA8: =LOOKUP(DR8,$CX$1:$DV$1,$CX$2:$DV$2) -> 4 | DB8: =LOOKUP(DS8,$CX$1:$DV$1,$CX$2:$DV$2) -> 5 | DC8: =LOOKUP(DT8,$CX$1:$DV$1,$CX$2:$DV$2) -> 6 | DD8: =LOOKUP(DU8,$CX$1:$DV$1,$CX$2:$DV$2) -> 7 | DE8: =LOOKUP(DV8,$CX$1:$DV$1,$CX$2:$DV$2) -> 10 | ... DL8: =LOOKUP(EC8,$CX$1:$DV$1,$CX$2:$DV$2) -> 25 | DO8: 1 | DP8: 2 | DQ8: 3 | DR8: 4 | DS8: 5 | DT8: 6 | DU8: 7 | DV8: 10 | DW8: 11 | DX8: 13 | DY8: 16 | DZ8: 17 | EA8: 18 | EB8: 19 | EC8: 20 | EE8: =CX105 -> 1 | EF8: =CY105 -> 2 | EG8: =CZ105 -> 3 | EH8: =DA105 -> 4 | EI8: =DB105 -> 5 | FE8: =LOOKUP(FU8,$FE$1:$GC$1,$FE$2:$GC$2) -> 1 | FF8: =LOOKUP(FV8,$FE$1:$GC$1,$FE$2:$GC$2) -> 2 | FG8: =LOOKUP(FW8,$FE$1:$GC$1,$FE$2:$GC$2) -> 3 | FH8: =LOOKUP(FX8,$FE$1:$GC$1,$FE$2:$GC$2) -> 4 | FI8: =LOOKUP(FY8,$FE$1:$GC$1,$FE$2:$GC$2) -> 5 | FJ8: =LOOKUP(FZ8,$FE$1:$GC$1,$FE$2:$GC$2) -> 6 | FK8: =LOOKUP(GA8,$FE$1:$GC$1,$FE$2:$GC$2) -> 7 | FL8: =LOOKUP(GB8,$FE$1:$GC$1,$FE$2:$GC$2) -> 8 | ... FS8: =LOOKUP(GI8,$FE$1:$GC$1,$FE$2:$GC$2) -> 16 | FU8: 1 | FV8: 2 | FW8: 3 | FX8: 4 | FY8: 5 | FZ8: 6 | GA8: 7 | GB8: 8 | GC8: 9 | GD8: 10 | GE8: 11 | GF8: 12 | GG8: 13 | GH8: 14 | GI8: 16 | GK8: =SMALL($GK$7:$HF$7,GK2) -> 0 | GL8: =SMALL($GK$7:$HF$7,GL2) -> 0 | GM8: =SMALL($GK$7:$HF$7,GM2) -> 0 | GN8: =SMALL($GK$7:$HF$7,GN2) -> 0 | GO8: =SMALL($GK$7:$HF$7,GO2) -> 0 | GP8: =SMALL($GK$7:$HF$7,GP2) -> 0 | GQ8: =SMALL($GK$7:$HF$7,GQ2) -> 0 | GR8: =SMALL($GK$7:$HF$7,GR2) -> 0 | ... HF8: =SMALL($GK$7:$HF$7,HF2) -> 25 | HK8: =LOOKUP(IC8,$A$3:$T$3,$A$4:$T$4) -> 1 | HL8: =LOOKUP(ID8,$A$3:$T$3,$A$4:$T$4) -> 2 | HM8: =LOOKUP(IE8,$A$3:$T$3,$A$4:$T$4) -> 3 | HN8: =LOOKUP(IF8,$A$3:$T$3,$A$4:$T$4) -> 5 | HO8: =LOOKUP(IG8,$A$3:$T$3,$A$4:$T$4) -> 7 | HP8: =LOOKUP(IH8,$A$3:$T$3,$A$4:$T$4) -> 8 | HQ8: =LOOKUP(II8,$A$3:$T$3,$A$4:$T$4) -> 9 | HR8: =LOOKUP(IJ8,$A$3:$T$3,$A$4:$T$4) -> 11 | ... HY8: =LOOKUP(IQ8,$A$3:$T$3,$A$4:$T$4) -> 18 | IC8: 1 | ID8: 2 | IE8: 3 | IF8: 5 | IG8: 7 | IH8: 8 | II8: 9 | IJ8: 11 | IK8: 12 | IL8: 13 | IM8: 14 | IN8: 15 | IO8: 16 | IP8: 17 | IQ8: 18 | IS8: =LOOKUP(JI8,$A$3:$Y$3,$A$4:$AE$4) -> 1 | IT8: =LOOKUP(JJ8,$A$3:$Y$3,$A$4:$AE$4) -> 2 | IU8: =LOOKUP(JK8,$A$3:$Y$3,$A$4:$AE$4) -> 3 | IV8: =LOOKUP(JL8,$A$3:$Y$3,$A$4:$AE$4) -> 4 | IW8: =LOOKUP(JM8,$A$3:$Y$3,$A$4:$AE$4) -> 5 | IX8: =LOOKUP(JN8,$A$3:$Y$3,$A$4:$AE$4) -> 6 | IY8: =LOOKUP(JO8,$A$3:$Y$3,$A$4:$AE$4) -> 7 | IZ8: =LOOKUP(JP8,$A$3:$Y$3,$A$4:$AE$4) -> 8 | ... JG8: =LOOKUP(JW8,$A$3:$Y$3,$A$4:$AE$4) -> 19 | JI8: 1 | JJ8: 2 | JK8: 3 | JL8: 4 | JM8: 5 | JN8: 6 | JO8: 7 | JP8: 8 | JQ8: 9 | JR8: 11 | JS8: 12 | JT8: 16 | JU8: 17 | JV8: 18 | JW8: 19
A9: =LOOKUP(Q9,$A$3:$Y$3,$A$4:$Y$4) -> 1 | B9: =LOOKUP(R9,$A$3:$Y$3,$A$4:$Y$4) -> 2 | C9: =LOOKUP(S9,$A$3:$Y$3,$A$4:$Y$4) -> 3 | D9: =LOOKUP(T9,$A$3:$Y$3,$A$4:$Y$4) -> 4 | E9: =LOOKUP(U9,$A$3:$Y$3,$A$4:$Y$4) -> 5 | F9: =LOOKUP(V9,$A$3:$Y$3,$A$4:$Y$4) -> 6 | G9: =LOOKUP(W9,$A$3:$Y$3,$A$4:$Y$4) -> 7 | H9: =LOOKUP(X9,$A$3:$Y$3,$A$4:$Y$4) -> 8 | ... O9: =LOOKUP(AE9,$A$3:$Y$3,$A$4:$Y$4) -> 18 | Q9: 1 | R9: 2 | S9: 3 | T9: 4 | U9: 5 | V9: 6 | W9: 7 | X9: 8 | Y9: 9 | Z9: 10 | AA9: 12 | AB9: 13 | AC9: 15 | AD9: 17 | AE9: 18 | AG9: =LOOKUP(BE9,$AG$1:$BE$1,$AG$2:$BE$2) -> 1 | AH9: =LOOKUP(BF9,$AG$1:$BE$1,$AG$2:$BE$2) -> 2 | AI9: =LOOKUP(BG9,$AG$1:$BE$1,$AG$2:$BE$2) -> 3 | AJ9: =LOOKUP(BH9,$AG$1:$BE$1,$AG$2:$BE$2) -> 4 | AK9: =LOOKUP(BI9,$AG$1:$BE$1,$AG$2:$BE$2) -> 5 | AL9: =LOOKUP(BJ9,$AG$1:$BE$1,$AG$2:$BE$2) -> 6 | AM9: =LOOKUP(BK9,$AG$1:$BE$1,$AG$2:$BE$2) -> 7 | AN9: =LOOKUP(BL9,$AG$1:$BE$1,$AG$2:$BE$2) -> 8 | ... AU9: =LOOKUP(BS9,$AG$1:$BE$1,$AG$2:$BE$2) -> 25 | BE9: 1 | BF9: 2 | BG9: 3 | BH9: 4 | BI9: 5 | BJ9: 6 | BK9: 7 | BL9: 8 | BM9: 9 | BN9: 11 | BO9: 13 | BP9: 17 | BQ9: 18 | BR9: 19 | BS9: 20 | BX9: =LARGE($BX$8:$CV$8,BX4) -> 25 | BY9: =LARGE($BX$8:$CV$8,BY4) -> 24 | BZ9: =LARGE($BX$8:$CV$8,BZ4) -> 23 | CA9: =LARGE($BX$8:$CV$8,CA4) -> 22 | CB9: =LARGE($BX$8:$CV$8,CB4) -> 21 | CC9: =LARGE($BX$8:$CV$8,CC4) -> 20 | CD9: =LARGE($BX$8:$CV$8,CD4) -> 19 | CE9: =LARGE($BX$8:$CV$8,CE4) -> 18 | ... CV9: =LARGE($BX$8:$CV$8,CV4) -> 0 | CX9: =LOOKUP(DO9,$CX$1:$DV$1,$CX$2:$DV$2) -> 1 | CY9: =LOOKUP(DP9,$CX$1:$DV$1,$CX$2:$DV$2) -> 2 | CZ9: =LOOKUP(DQ9,$CX$1:$DV$1,$CX$2:$DV$2) -> 3 | DA9: =LOOKUP(DR9,$CX$1:$DV$1,$CX$2:$DV$2) -> 4 | DB9: =LOOKUP(DS9,$CX$1:$DV$1,$CX$2:$DV$2) -> 5 | DC9: =LOOKUP(DT9,$CX$1:$DV$1,$CX$2:$DV$2) -> 6 | DD9: =LOOKUP(DU9,$CX$1:$DV$1,$CX$2:$DV$2) -> 7 | DE9: =LOOKUP(DV9,$CX$1:$DV$1,$CX$2:$DV$2) -> 10 | ... DL9: =LOOKUP(EC9,$CX$1:$DV$1,$CX$2:$DV$2) -> 25 | DO9: 1 | DP9: 2 | DQ9: 3 | DR9: 4 | DS9: 5 | DT9: 6 | DU9: 7 | DV9: 10 | DW9: 12 | DX9: 15 | DY9: 16 | DZ9: 17 | EA9: 18 | EB9: 19 | EC9: 20 | EE9: =CX2 -> 1 | EF9: =CY2 -> 2 | EG9: =CZ2 -> 3 | EH9: =DA2 -> 4 | EI9: =DB2 -> 5 | EJ9: =DC2 -> 6 | EK9: =DD2 -> 7 | EL9: =DE2 -> 8 | ... EN9: =DG2 -> 10 | FE9: =LOOKUP(FU9,$FE$1:$GC$1,$FE$2:$GC$2) -> 1 | FF9: =LOOKUP(FV9,$FE$1:$GC$1,$FE$2:$GC$2) -> 2 | FG9: =LOOKUP(FW9,$FE$1:$GC$1,$FE$2:$GC$2) -> 3 | FH9: =LOOKUP(FX9,$FE$1:$GC$1,$FE$2:$GC$2) -> 4 | FI9: =LOOKUP(FY9,$FE$1:$GC$1,$FE$2:$GC$2) -> 5 | FJ9: =LOOKUP(FZ9,$FE$1:$GC$1,$FE$2:$GC$2) -> 6 | FK9: =LOOKUP(GA9,$FE$1:$GC$1,$FE$2:$GC$2) -> 7 | FL9: =LOOKUP(GB9,$FE$1:$GC$1,$FE$2:$GC$2) -> 8 | ... FS9: =LOOKUP(GI9,$FE$1:$GC$1,$FE$2:$GC$2) -> 22 | FU9: 1 | FV9: 2 | FW9: 3 | FX9: 4 | FY9: 5 | FZ9: 6 | GA9: 7 | GB9: 8 | GC9: 9 | GD9: 10 | GE9: 11 | GF9: 12 | GG9: 13 | GH9: 14 | GI9: 17 | GK9: =FY2 -> 17 | GL9: =FZ2 -> 18 | GM9: =GA2 -> 19 | GN9: =GB2 -> 20 | GO9: =GC2 -> 21 | HK9: =LOOKUP(IC9,$A$3:$T$3,$A$4:$T$4) -> 1 | HL9: =LOOKUP(ID9,$A$3:$T$3,$A$4:$T$4) -> 2 | HM9: =LOOKUP(IE9,$A$3:$T$3,$A$4:$T$4) -> 3 | HN9: =LOOKUP(IF9,$A$3:$T$3,$A$4:$T$4) -> 5 | HO9: =LOOKUP(IG9,$A$3:$T$3,$A$4:$T$4) -> 6 | HP9: =LOOKUP(IH9,$A$3:$T$3,$A$4:$T$4) -> 7 | HQ9: =LOOKUP(II9,$A$3:$T$3,$A$4:$T$4) -> 8 | HR9: =LOOKUP(IJ9,$A$3:$T$3,$A$4:$T$4) -> 9 | ... HY9: =LOOKUP(IQ9,$A$3:$T$3,$A$4:$T$4) -> 20 | IC9: 1 | ID9: 2 | IE9: 3 | IF9: 5 | IG9: 6 | IH9: 7 | II9: 8 | IJ9: 9 | IK9: 12 | IL9: 14 | IM9: 16 | IN9: 17 | IO9: 18 | IP9: 19 | IQ9: 20 | IS9: =LOOKUP(JI9,$A$3:$Y$3,$A$4:$AE$4) -> 1 | IT9: =LOOKUP(JJ9,$A$3:$Y$3,$A$4:$AE$4) -> 2 | IU9: =LOOKUP(JK9,$A$3:$Y$3,$A$4:$AE$4) -> 3 | IV9: =LOOKUP(JL9,$A$3:$Y$3,$A$4:$AE$4) -> 4 | IW9: =LOOKUP(JM9,$A$3:$Y$3,$A$4:$AE$4) -> 5 | IX9: =LOOKUP(JN9,$A$3:$Y$3,$A$4:$AE$4) -> 6 | IY9: =LOOKUP(JO9,$A$3:$Y$3,$A$4:$AE$4) -> 7 | IZ9: =LOOKUP(JP9,$A$3:$Y$3,$A$4:$AE$4) -> 8 | ... JG9: =LOOKUP(JW9,$A$3:$Y$3,$A$4:$AE$4) -> 20 | JI9: 1 | JJ9: 2 | JK9: 3 | JL9: 4 | JM9: 5 | JN9: 6 | JO9: 7 | JP9: 8 | JQ9: 9 | JR9: 11 | JS9: 13 | JT9: 14 | JU9: 16 | JV9: 17 | JW9: 20
A10: =LOOKUP(Q10,$A$3:$Y$3,$A$4:$Y$4) -> 1 | B10: =LOOKUP(R10,$A$3:$Y$3,$A$4:$Y$4) -> 2 | C10: =LOOKUP(S10,$A$3:$Y$3,$A$4:$Y$4) -> 3 | D10: =LOOKUP(T10,$A$3:$Y$3,$A$4:$Y$4) -> 4 | E10: =LOOKUP(U10,$A$3:$Y$3,$A$4:$Y$4) -> 5 | F10: =LOOKUP(V10,$A$3:$Y$3,$A$4:$Y$4) -> 6 | G10: =LOOKUP(W10,$A$3:$Y$3,$A$4:$Y$4) -> 7 | H10: =LOOKUP(X10,$A$3:$Y$3,$A$4:$Y$4) -> 8 | ... O10: =LOOKUP(AE10,$A$3:$Y$3,$A$4:$Y$4) -> 20 | Q10: 1 | R10: 2 | S10: 3 | T10: 4 | U10: 5 | V10: 6 | W10: 7 | X10: 8 | Y10: 9 | Z10: 11 | AA10: 14 | AB10: 15 | AC10: 17 | AD10: 18 | AE10: 20 | AG10: =LOOKUP(BE10,$AG$1:$BE$1,$AG$2:$BE$2) -> 1 | AH10: =LOOKUP(BF10,$AG$1:$BE$1,$AG$2:$BE$2) -> 2 | AI10: =LOOKUP(BG10,$AG$1:$BE$1,$AG$2:$BE$2) -> 3 | AJ10: =LOOKUP(BH10,$AG$1:$BE$1,$AG$2:$BE$2) -> 4 | AK10: =LOOKUP(BI10,$AG$1:$BE$1,$AG$2:$BE$2) -> 5 | AL10: =LOOKUP(BJ10,$AG$1:$BE$1,$AG$2:$BE$2) -> 6 | AM10: =LOOKUP(BK10,$AG$1:$BE$1,$AG$2:$BE$2) -> 7 | AN10: =LOOKUP(BL10,$AG$1:$BE$1,$AG$2:$BE$2) -> 8 | ... AU10: =LOOKUP(BS10,$AG$1:$BE$1,$AG$2:$BE$2) -> 25 | BE10: 1 | BF10: 2 | BG10: 3 | BH10: 4 | BI10: 5 | BJ10: 6 | BK10: 7 | BL10: 8 | BM10: 11 | BN10: 15 | BO10: 16 | BP10: 17 | BQ10: 18 | BR10: 19 | BS10: 20 | BX10: =SMALL($BX$9:$CS$9,BX4) -> 4 | BY10: =SMALL($BX$9:$CS$9,BY4) -> 5 | BZ10: =SMALL($BX$9:$CS$9,BZ4) -> 6 | CA10: =SMALL($BX$9:$CS$9,CA4) -> 7 | CB10: =SMALL($BX$9:$CS$9,CB4) -> 8 | CC10: =SMALL($BX$9:$CS$9,CC4) -> 9 | CD10: =SMALL($BX$9:$CS$9,CD4) -> 10 | CE10: =SMALL($BX$9:$CS$9,CE4) -> 11 | ... CS10: =SMALL($BX$9:$CS$9,CS4) -> 25 | CX10: =LOOKUP(DO10,$CX$1:$DV$1,$CX$2:$DV$2) -> 1 | CY10: =LOOKUP(DP10,$CX$1:$DV$1,$CX$2:$DV$2) -> 2 | CZ10: =LOOKUP(DQ10,$CX$1:$DV$1,$CX$2:$DV$2) -> 3 | DA10: =LOOKUP(DR10,$CX$1:$DV$1,$CX$2:$DV$2) -> 4 | DB10: =LOOKUP(DS10,$CX$1:$DV$1,$CX$2:$DV$2) -> 5 | DC10: =LOOKUP(DT10,$CX$1:$DV$1,$CX$2:$DV$2) -> 6 | DD10: =LOOKUP(DU10,$CX$1:$DV$1,$CX$2:$DV$2) -> 8 | DE10: =LOOKUP(DV10,$CX$1:$DV$1,$CX$2:$DV$2) -> 11 | ... DL10: =LOOKUP(EC10,$CX$1:$DV$1,$CX$2:$DV$2) -> 25 | DO10: 1 | DP10: 2 | DQ10: 3 | DR10: 4 | DS10: 5 | DT10: 6 | DU10: 8 | DV10: 11 | DW10: 14 | DX10: 15 | DY10: 16 | DZ10: 17 | EA10: 18 | EB10: 19 | EC10: 20 | EE10: =COUNTIF($EE$7:$FC$8,EE7) -> 2 | EF10: =COUNTIF($EE$7:$FC$8,EF7) -> 2 | EG10: =COUNTIF($EE$7:$FC$8,EG7) -> 2 | EH10: =COUNTIF($EE$7:$FC$8,EH7) -> 2 | EI10: =COUNTIF($EE$7:$FC$8,EI7) -> 2 | EJ10: =COUNTIF($EE$7:$FC$8,EJ7) -> 1 | EK10: =COUNTIF($EE$7:$FC$8,EK7) -> 1 | EL10: =COUNTIF($EE$7:$FC$8,EL7) -> 1 | ... FC10: =COUNTIF($EE$7:$FC$8,FC7) -> 1 | FE10: =LOOKUP(FU10,$FE$1:$GC$1,$FE$2:$GC$2) -> 1 | FF10: =LOOKUP(FV10,$FE$1:$GC$1,$FE$2:$GC$2) -> 2 | FG10: =LOOKUP(FW10,$FE$1:$GC$1,$FE$2:$GC$2) -> 3 | FH10: =LOOKUP(FX10,$FE$1:$GC$1,$FE$2:$GC$2) -> 4 | FI10: =LOOKUP(FY10,$FE$1:$GC$1,$FE$2:$GC$2) -> 5 | FJ10: =LOOKUP(FZ10,$FE$1:$GC$1,$FE$2:$GC$2) -> 6 | FK10: =LOOKUP(GA10,$FE$1:$GC$1,$FE$2:$GC$2) -> 7 | FL10: =LOOKUP(GB10,$FE$1:$GC$1,$FE$2:$GC$2) -> 8 | ... FS10: =LOOKUP(GI10,$FE$1:$GC$1,$FE$2:$GC$2) -> 23 | FU10: 1 | FV10: 2 | FW10: 3 | FX10: 4 | FY10: 5 | FZ10: 6 | GA10: 7 | GB10: 8 | GC10: 9 | GD10: 10 | GE10: 11 | GF10: 12 | GG10: 13 | GH10: 14 | GI10: 18 | GK10: =COUNTIF($GK$8:$HI$9,GK8) -> 9 | GL10: =COUNTIF($GK$8:$HI$9,GL8) -> 9 | GM10: =COUNTIF($GK$8:$HI$9,GM8) -> 9 | GN10: =COUNTIF($GK$8:$HI$9,GN8) -> 9 | GO10: =COUNTIF($GK$8:$HI$9,GO8) -> 9 | GP10: =COUNTIF($GK$8:$HI$9,GP8) -> 9 | GQ10: =COUNTIF($GK$8:$HI$9,GQ8) -> 9 | GR10: =COUNTIF($GK$8:$HI$9,GR8) -> 9 | ... HF10: =COUNTIF($GK$8:$HI$9,HF8) -> 1 | HK10: =LOOKUP(IC10,$A$3:$T$3,$A$4:$T$4) -> 1 | HL10: =LOOKUP(ID10,$A$3:$T$3,$A$4:$T$4) -> 2 | HM10: =LOOKUP(IE10,$A$3:$T$3,$A$4:$T$4) -> 4 | HN10: =LOOKUP(IF10,$A$3:$T$3,$A$4:$T$4) -> 6 | HO10: =LOOKUP(IG10,$A$3:$T$3,$A$4:$T$4) -> 7 | HP10: =LOOKUP(IH10,$A$3:$T$3,$A$4:$T$4) -> 8 | HQ10: =LOOKUP(II10,$A$3:$T$3,$A$4:$T$4) -> 11 | HR10: =LOOKUP(IJ10,$A$3:$T$3,$A$4:$T$4) -> 13 | ... HY10: =LOOKUP(IQ10,$A$3:$T$3,$A$4:$T$4) -> 20 | IC10: 1 | ID10: 2 | IE10: 4 | IF10: 6 | IG10: 7 | IH10: 8 | II10: 11 | IJ10: 13 | IK10: 14 | IL10: 15 | IM10: 16 | IN10: 17 | IO10: 18 | IP10: 19 | IQ10: 20 | IS10: =LOOKUP(JI10,$A$3:$Y$3,$A$4:$AE$4) -> 1 | IT10: =LOOKUP(JJ10,$A$3:$Y$3,$A$4:$AE$4) -> 2 | IU10: =LOOKUP(JK10,$A$3:$Y$3,$A$4:$AE$4) -> 3 | IV10: =LOOKUP(JL10,$A$3:$Y$3,$A$4:$AE$4) -> 4 | IW10: =LOOKUP(JM10,$A$3:$Y$3,$A$4:$AE$4) -> 5 | IX10: =LOOKUP(JN10,$A$3:$Y$3,$A$4:$AE$4) -> 6 | IY10: =LOOKUP(JO10,$A$3:$Y$3,$A$4:$AE$4) -> 7 | IZ10: =LOOKUP(JP10,$A$3:$Y$3,$A$4:$AE$4) -> 8 | ... JG10: =LOOKUP(JW10,$A$3:$Y$3,$A$4:$AE$4) -> 20 | JI10: 1 | JJ10: 2 | JK10: 3 | JL10: 4 | JM10: 5 | JN10: 6 | JO10: 7 | JP10: 8 | JQ10: 9 | JR10: 12 | JS10: 13 | JT10: 16 | JU10: 18 | JV10: 19 | JW10: 20
A11: =LOOKUP(Q11,$A$3:$Y$3,$A$4:$Y$4) -> 1 | B11: =LOOKUP(R11,$A$3:$Y$3,$A$4:$Y$4) -> 2 | C11: =LOOKUP(S11,$A$3:$Y$3,$A$4:$Y$4) -> 3 | D11: =LOOKUP(T11,$A$3:$Y$3,$A$4:$Y$4) -> 4 | E11: =LOOKUP(U11,$A$3:$Y$3,$A$4:$Y$4) -> 5 | F11: =LOOKUP(V11,$A$3:$Y$3,$A$4:$Y$4) -> 6 | G11: =LOOKUP(W11,$A$3:$Y$3,$A$4:$Y$4) -> 7 | H11: =LOOKUP(X11,$A$3:$Y$3,$A$4:$Y$4) -> 8 | ... O11: =LOOKUP(AE11,$A$3:$Y$3,$A$4:$Y$4) -> 20 | Q11: 1 | R11: 2 | S11: 3 | T11: 4 | U11: 5 | V11: 6 | W11: 7 | X11: 8 | Y11: 9 | Z11: 12 | AA11: 13 | AB11: 15 | AC11: 16 | AD11: 18 | AE11: 20 | AG11: =LOOKUP(BE11,$AG$1:$BE$1,$AG$2:$BE$2) -> 1 | AH11: =LOOKUP(BF11,$AG$1:$BE$1,$AG$2:$BE$2) -> 2 | AI11: =LOOKUP(BG11,$AG$1:$BE$1,$AG$2:$BE$2) -> 3 | AJ11: =LOOKUP(BH11,$AG$1:$BE$1,$AG$2:$BE$2) -> 4 | AK11: =LOOKUP(BI11,$AG$1:$BE$1,$AG$2:$BE$2) -> 5 | AL11: =LOOKUP(BJ11,$AG$1:$BE$1,$AG$2:$BE$2) -> 6 | AM11: =LOOKUP(BK11,$AG$1:$BE$1,$AG$2:$BE$2) -> 7 | AN11: =LOOKUP(BL11,$AG$1:$BE$1,$AG$2:$BE$2) -> 9 | ... AU11: =LOOKUP(BS11,$AG$1:$BE$1,$AG$2:$BE$2) -> 25 | BE11: 1 | BF11: 2 | BG11: 3 | BH11: 4 | BI11: 5 | BJ11: 6 | BK11: 7 | BL11: 9 | BM11: 11 | BN11: 12 | BO11: 14 | BP11: 16 | BQ11: 18 | BR11: 19 | BS11: 20 | BX11: =BA2 -> 17 | BY11: =BB2 -> 18 | BZ11: =BC2 -> 19 | CA11: =BD2 -> 20 | CB11: =BE2 -> 21 | CX11: =LOOKUP(DO11,$CX$1:$DV$1,$CX$2:$DV$2) -> 1 | CY11: =LOOKUP(DP11,$CX$1:$DV$1,$CX$2:$DV$2) -> 2 | CZ11: =LOOKUP(DQ11,$CX$1:$DV$1,$CX$2:$DV$2) -> 3 | DA11: =LOOKUP(DR11,$CX$1:$DV$1,$CX$2:$DV$2) -> 4 | DB11: =LOOKUP(DS11,$CX$1:$DV$1,$CX$2:$DV$2) -> 5 | DC11: =LOOKUP(DT11,$CX$1:$DV$1,$CX$2:$DV$2) -> 7 | DD11: =LOOKUP(DU11,$CX$1:$DV$1,$CX$2:$DV$2) -> 8 | DE11: =LOOKUP(DV11,$CX$1:$DV$1,$CX$2:$DV$2) -> 10 | ... DL11: =LOOKUP(EC11,$CX$1:$DV$1,$CX$2:$DV$2) -> 25 | DO11: 1 | DP11: 2 | DQ11: 3 | DR11: 4 | DS11: 5 | DT11: 7 | DU11: 8 | DV11: 10 | DW11: 11 | DX11: 14 | DY11: 16 | DZ11: 17 | EA11: 18 | EB11: 19 | EC11: 20 | EE11: =IF(EE10=1,EE7,0) -> 0 | EF11: =IF(EF10=1,EF7,0) -> 0 | EG11: =IF(EG10=1,EG7,0) -> 0 | EH11: =IF(EH10=1,EH7,0) -> 0 | EI11: =IF(EI10=1,EI7,0) -> 0 | EJ11: =IF(EJ10=1,EJ7,0) -> 6 | EK11: =IF(EK10=1,EK7,0) -> 7 | EL11: =IF(EL10=1,EL7,0) -> 8 | ... FC11: =IF(FC10=1,FC7,0) -> 25 | FE11: =LOOKUP(FU11,$FE$1:$GC$1,$FE$2:$GC$2) -> 1 | FF11: =LOOKUP(FV11,$FE$1:$GC$1,$FE$2:$GC$2) -> 2 | FG11: =LOOKUP(FW11,$FE$1:$GC$1,$FE$2:$GC$2) -> 3 | FH11: =LOOKUP(FX11,$FE$1:$GC$1,$FE$2:$GC$2) -> 4 | FI11: =LOOKUP(FY11,$FE$1:$GC$1,$FE$2:$GC$2) -> 5 | FJ11: =LOOKUP(FZ11,$FE$1:$GC$1,$FE$2:$GC$2) -> 6 | FK11: =LOOKUP(GA11,$FE$1:$GC$1,$FE$2:$GC$2) -> 7 | FL11: =LOOKUP(GB11,$FE$1:$GC$1,$FE$2:$GC$2) -> 8 | ... FS11: =LOOKUP(GI11,$FE$1:$GC$1,$FE$2:$GC$2) -> 24 | FU11: 1 | FV11: 2 | FW11: 3 | FX11: 4 | FY11: 5 | FZ11: 6 | GA11: 7 | GB11: 8 | GC11: 9 | GD11: 10 | GE11: 11 | GF11: 12 | GG11: 13 | GH11: 14 | GI11: 19 | GK11: =IF(GK10=1,GK8,0) -> 0 | GL11: =IF(GL10=1,GL8,0) -> 0 | GM11: =IF(GM10=1,GM8,0) -> 0 | GN11: =IF(GN10=1,GN8,0) -> 0 | GO11: =IF(GO10=1,GO8,0) -> 0 | GP11: =IF(GP10=1,GP8,0) -> 0 | GQ11: =IF(GQ10=1,GQ8,0) -> 0 | GR11: =IF(GR10=1,GR8,0) -> 0 | ... HF11: =IF(HF10=1,HF8,0) -> 25 | HK11: =LOOKUP(IC11,$A$3:$T$3,$A$4:$T$4) -> 1 | HL11: =LOOKUP(ID11,$A$3:$T$3,$A$4:$T$4) -> 2 | HM11: =LOOKUP(IE11,$A$3:$T$3,$A$4:$T$4) -> 3 | HN11: =LOOKUP(IF11,$A$3:$T$3,$A$4:$T$4) -> 5 | HO11: =LOOKUP(IG11,$A$3:$T$3,$A$4:$T$4) -> 6 | HP11: =LOOKUP(IH11,$A$3:$T$3,$A$4:$T$4) -> 7 | HQ11: =LOOKUP(II11,$A$3:$T$3,$A$4:$T$4) -> 8 | HR11: =LOOKUP(IJ11,$A$3:$T$3,$A$4:$T$4) -> 9 | ... HY11: =LOOKUP(IQ11,$A$3:$T$3,$A$4:$T$4) -> 19 | IC11: 1 | ID11: 2 | IE11: 3 | IF11: 5 | IG11: 6 | IH11: 7 | II11: 8 | IJ11: 9 | IK11: 10 | IL11: 11 | IM11: 12 | IN11: 13 | IO11: 16 | IP11: 18 | IQ11: 19 | IS11: =LOOKUP(JI11,$A$3:$Y$3,$A$4:$AE$4) -> 1 | IT11: =LOOKUP(JJ11,$A$3:$Y$3,$A$4:$AE$4) -> 2 | IU11: =LOOKUP(JK11,$A$3:$Y$3,$A$4:$AE$4) -> 3 | IV11: =LOOKUP(JL11,$A$3:$Y$3,$A$4:$AE$4) -> 4 | IW11: =LOOKUP(JM11,$A$3:$Y$3,$A$4:$AE$4) -> 5 | IX11: =LOOKUP(JN11,$A$3:$Y$3,$A$4:$AE$4) -> 6 | IY11: =LOOKUP(JO11,$A$3:$Y$3,$A$4:$AE$4) -> 7 | IZ11: =LOOKUP(JP11,$A$3:$Y$3,$A$4:$AE$4) -> 8 | ... JG11: =LOOKUP(JW11,$A$3:$Y$3,$A$4:$AE$4) -> 20 | JI11: 1 | JJ11: 2 | JK11: 3 | JL11: 4 | JM11: 5 | JN11: 6 | JO11: 7 | JP11: 8 | JQ11: 9 | JR11: 12 | JS11: 14 | JT11: 17 | JU11: 18 | JV11: 19 | JW11: 20
A12: =LOOKUP(Q12,$A$3:$Y$3,$A$4:$Y$4) -> 1 | B12: =LOOKUP(R12,$A$3:$Y$3,$A$4:$Y$4) -> 2 | C12: =LOOKUP(S12,$A$3:$Y$3,$A$4:$Y$4) -> 3 | D12: =LOOKUP(T12,$A$3:$Y$3,$A$4:$Y$4) -> 4 | E12: =LOOKUP(U12,$A$3:$Y$3,$A$4:$Y$4) -> 5 | F12: =LOOKUP(V12,$A$3:$Y$3,$A$4:$Y$4) -> 6 | G12: =LOOKUP(W12,$A$3:$Y$3,$A$4:$Y$4) -> 7 | H12: =LOOKUP(X12,$A$3:$Y$3,$A$4:$Y$4) -> 8 | ... O12: =LOOKUP(AE12,$A$3:$Y$3,$A$4:$Y$4) -> 19 | Q12: 1 | R12: 2 | S12: 3 | T12: 4 | U12: 5 | V12: 6 | W12: 7 | X12: 8 | Y12: 10 | Z12: 11 | AA12: 12 | AB12: 14 | AC12: 15 | AD12: 17 | AE12: 19 | AG12: =LOOKUP(BE12,$AG$1:$BE$1,$AG$2:$BE$2) -> 1 | AH12: =LOOKUP(BF12,$AG$1:$BE$1,$AG$2:$BE$2) -> 2 | AI12: =LOOKUP(BG12,$AG$1:$BE$1,$AG$2:$BE$2) -> 3 | AJ12: =LOOKUP(BH12,$AG$1:$BE$1,$AG$2:$BE$2) -> 4 | AK12: =LOOKUP(BI12,$AG$1:$BE$1,$AG$2:$BE$2) -> 5 | AL12: =LOOKUP(BJ12,$AG$1:$BE$1,$AG$2:$BE$2) -> 6 | AM12: =LOOKUP(BK12,$AG$1:$BE$1,$AG$2:$BE$2) -> 7 | AN12: =LOOKUP(BL12,$AG$1:$BE$1,$AG$2:$BE$2) -> 9 | ... AU12: =LOOKUP(BS12,$AG$1:$BE$1,$AG$2:$BE$2) -> 25 | BE12: 1 | BF12: 2 | BG12: 3 | BH12: 4 | BI12: 5 | BJ12: 6 | BK12: 7 | BL12: 9 | BM12: 13 | BN12: 14 | BO12: 15 | BP12: 16 | BQ12: 18 | BR12: 19 | BS12: 20 | BX12: =COUNTIF($BX$10:$CV$11,BX10) -> 1 | BY12: =COUNTIF($BX$10:$CV$11,BY10) -> 1 | BZ12: =COUNTIF($BX$10:$CV$11,BZ10) -> 1 | CA12: =COUNTIF($BX$10:$CV$11,CA10) -> 1 | CB12: =COUNTIF($BX$10:$CV$11,CB10) -> 1 | CC12: =COUNTIF($BX$10:$CV$11,CC10) -> 1 | CD12: =COUNTIF($BX$10:$CV$11,CD10) -> 1 | CE12: =COUNTIF($BX$10:$CV$11,CE10) -> 1 | ... CS12: =COUNTIF($BX$10:$CV$11,CS10) -> 1 | CX12: =LOOKUP(DO12,$CX$1:$DV$1,$CX$2:$DV$2) -> 1 | CY12: =LOOKUP(DP12,$CX$1:$DV$1,$CX$2:$DV$2) -> 2 | CZ12: =LOOKUP(DQ12,$CX$1:$DV$1,$CX$2:$DV$2) -> 3 | DA12: =LOOKUP(DR12,$CX$1:$DV$1,$CX$2:$DV$2) -> 4 | DB12: =LOOKUP(DS12,$CX$1:$DV$1,$CX$2:$DV$2) -> 5 | DC12: =LOOKUP(DT12,$CX$1:$DV$1,$CX$2:$DV$2) -> 8 | DD12: =LOOKUP(DU12,$CX$1:$DV$1,$CX$2:$DV$2) -> 9 | DE12: =LOOKUP(DV12,$CX$1:$DV$1,$CX$2:$DV$2) -> 10 | ... DL12: =LOOKUP(EC12,$CX$1:$DV$1,$CX$2:$DV$2) -> 25 | DO12: 1 | DP12: 2 | DQ12: 3 | DR12: 4 | DS12: 5 | DT12: 8 | DU12: 9 | DV12: 10 | DW12: 11 | DX12: 15 | DY12: 16 | DZ12: 17 | EA12: 18 | EB12: 19 | EC12: 20 | EE12: =LARGE($EE$11:$FC$11,EE7) -> 25 | EF12: =LARGE($EE$11:$FC$11,EF7) -> 24 | EG12: =LARGE($EE$11:$FC$11,EG7) -> 23 | EH12: =LARGE($EE$11:$FC$11,EH7) -> 22 | EI12: =LARGE($EE$11:$FC$11,EI7) -> 21 | EJ12: =LARGE($EE$11:$FC$11,EJ7) -> 20 | EK12: =LARGE($EE$11:$FC$11,EK7) -> 19 | EL12: =LARGE($EE$11:$FC$11,EL7) -> 18 | ... FC12: =LARGE($EE$11:$FC$11,FC7) -> 0 | FE12: =LOOKUP(FU12,$FE$1:$GC$1,$FE$2:$GC$2) -> 1 | FF12: =LOOKUP(FV12,$FE$1:$GC$1,$FE$2:$GC$2) -> 2 | FG12: =LOOKUP(FW12,$FE$1:$GC$1,$FE$2:$GC$2) -> 3 | FH12: =LOOKUP(FX12,$FE$1:$GC$1,$FE$2:$GC$2) -> 4 | FI12: =LOOKUP(FY12,$FE$1:$GC$1,$FE$2:$GC$2) -> 5 | FJ12: =LOOKUP(FZ12,$FE$1:$GC$1,$FE$2:$GC$2) -> 6 | FK12: =LOOKUP(GA12,$FE$1:$GC$1,$FE$2:$GC$2) -> 7 | FL12: =LOOKUP(GB12,$FE$1:$GC$1,$FE$2:$GC$2) -> 8 | ... FS12: =LOOKUP(GI12,$FE$1:$GC$1,$FE$2:$GC$2) -> 25 | FU12: 1 | FV12: 2 | FW12: 3 | FX12: 4 | FY12: 5 | FZ12: 6 | GA12: 7 | GB12: 8 | GC12: 9 | GD12: 10 | GE12: 11 | GF12: 12 | GG12: 13 | GH12: 14 | GI12: 20 | GK12: =LARGE($GK$11:$HF$11,GK2) -> 25 | GL12: =LARGE($GK$11:$HF$11,GL2) -> 24 | GM12: =LARGE($GK$11:$HF$11,GM2) -> 23 | GN12: =LARGE($GK$11:$HF$11,GN2) -> 22 | GO12: =LARGE($GK$11:$HF$11,GO2) -> 16 | GP12: =LARGE($GK$11:$HF$11,GP2) -> 15 | GQ12: =LARGE($GK$11:$HF$11,GQ2) -> 14 | GR12: =LARGE($GK$11:$HF$11,GR2) -> 13 | ... HB12: =LARGE($GK$11:$HF$11,HB2) -> 0 | HK12: =LOOKUP(IC12,$A$3:$T$3,$A$4:$T$4) -> 1 | HL12: =LOOKUP(ID12,$A$3:$T$3,$A$4:$T$4) -> 2 | HM12: =LOOKUP(IE12,$A$3:$T$3,$A$4:$T$4) -> 4 | HN12: =LOOKUP(IF12,$A$3:$T$3,$A$4:$T$4) -> 7 | HO12: =LOOKUP(IG12,$A$3:$T$3,$A$4:$T$4) -> 8 | HP12: =LOOKUP(IH12,$A$3:$T$3,$A$4:$T$4) -> 9 | HQ12: =LOOKUP(II12,$A$3:$T$3,$A$4:$T$4) -> 10 | HR12: =LOOKUP(IJ12,$A$3:$T$3,$A$4:$T$4) -> 11 | ... HY12: =LOOKUP(IQ12,$A$3:$T$3,$A$4:$T$4) -> 18 | IC12: 1 | ID12: 2 | IE12: 4 | IF12: 7 | IG12: 8 | IH12: 9 | II12: 10 | IJ12: 11 | IK12: 12 | IL12: 13 | IM12: 14 | IN12: 15 | IO12: 16 | IP12: 17 | IQ12: 18 | IS12: =LOOKUP(JI12,$A$3:$Y$3,$A$4:$AE$4) -> 1 | IT12: =LOOKUP(JJ12,$A$3:$Y$3,$A$4:$AE$4) -> 2 | IU12: =LOOKUP(JK12,$A$3:$Y$3,$A$4:$AE$4) -> 3 | IV12: =LOOKUP(JL12,$A$3:$Y$3,$A$4:$AE$4) -> 4 | IW12: =LOOKUP(JM12,$A$3:$Y$3,$A$4:$AE$4) -> 5 | IX12: =LOOKUP(JN12,$A$3:$Y$3,$A$4:$AE$4) -> 6 | IY12: =LOOKUP(JO12,$A$3:$Y$3,$A$4:$AE$4) -> 7 | IZ12: =LOOKUP(JP12,$A$3:$Y$3,$A$4:$AE$4) -> 8 | ... JG12: =LOOKUP(JW12,$A$3:$Y$3,$A$4:$AE$4) -> 19 | JI12: 1 | JJ12: 2 | JK12: 3 | JL12: 4 | JM12: 5 | JN12: 6 | JO12: 7 | JP12: 8 | JQ12: 10 | JR12: 11 | JS12: 12 | JT12: 13 | JU12: 15 | JV12: 16 | JW12: 19
A13: =LOOKUP(Q13,$A$3:$Y$3,$A$4:$Y$4) -> 1 | B13: =LOOKUP(R13,$A$3:$Y$3,$A$4:$Y$4) -> 2 | C13: =LOOKUP(S13,$A$3:$Y$3,$A$4:$Y$4) -> 3 | D13: =LOOKUP(T13,$A$3:$Y$3,$A$4:$Y$4) -> 4 | E13: =LOOKUP(U13,$A$3:$Y$3,$A$4:$Y$4) -> 5 | F13: =LOOKUP(V13,$A$3:$Y$3,$A$4:$Y$4) -> 6 | G13: =LOOKUP(W13,$A$3:$Y$3,$A$4:$Y$4) -> 7 | H13: =LOOKUP(X13,$A$3:$Y$3,$A$4:$Y$4) -> 8 | ... O13: =LOOKUP(AE13,$A$3:$Y$3,$A$4:$Y$4) -> 20 | Q13: 1 | R13: 2 | S13: 3 | T13: 4 | U13: 5 | V13: 6 | W13: 7 | X13: 8 | Y13: 10 | Z13: 11 | AA13: 12 | AB13: 15 | AC13: 18 | AD13: 19 | AE13: 20 | AG13: =LOOKUP(BE13,$AG$1:$BE$1,$AG$2:$BE$2) -> 1 | AH13: =LOOKUP(BF13,$AG$1:$BE$1,$AG$2:$BE$2) -> 2 | AI13: =LOOKUP(BG13,$AG$1:$BE$1,$AG$2:$BE$2) -> 3 | AJ13: =LOOKUP(BH13,$AG$1:$BE$1,$AG$2:$BE$2) -> 4 | AK13: =LOOKUP(BI13,$AG$1:$BE$1,$AG$2:$BE$2) -> 5 | AL13: =LOOKUP(BJ13,$AG$1:$BE$1,$AG$2:$BE$2) -> 6 | AM13: =LOOKUP(BK13,$AG$1:$BE$1,$AG$2:$BE$2) -> 7 | AN13: =LOOKUP(BL13,$AG$1:$BE$1,$AG$2:$BE$2) -> 10 | ... AU13: =LOOKUP(BS13,$AG$1:$BE$1,$AG$2:$BE$2) -> 25 | BE13: 1 | BF13: 2 | BG13: 3 | BH13: 4 | BI13: 5 | BJ13: 6 | BK13: 7 | BL13: 10 | BM13: 12 | BN13: 14 | BO13: 15 | BP13: 16 | BQ13: 18 | BR13: 19 | BS13: 20 | BX13: =IF(BX12=1,BX10,0) -> 4 | BY13: =IF(BY12=1,BY10,0) -> 5 | BZ13: =IF(BZ12=1,BZ10,0) -> 6 | CA13: =IF(CA12=1,CA10,0) -> 7 | CB13: =IF(CB12=1,CB10,0) -> 8 | CC13: =IF(CC12=1,CC10,0) -> 9 | CD13: =IF(CD12=1,CD10,0) -> 10 | CE13: =IF(CE12=1,CE10,0) -> 11 | ... CS13: =IF(CS12=1,CS10,0) -> 25 | CX13: =LOOKUP(DO13,$CX$1:$DV$1,$CX$2:$DV$2) -> 1 | CY13: =LOOKUP(DP13,$CX$1:$DV$1,$CX$2:$DV$2) -> 2 | CZ13: =LOOKUP(DQ13,$CX$1:$DV$1,$CX$2:$DV$2) -> 3 | DA13: =LOOKUP(DR13,$CX$1:$DV$1,$CX$2:$DV$2) -> 4 | DB13: =LOOKUP(DS13,$CX$1:$DV$1,$CX$2:$DV$2) -> 5 | DC13: =LOOKUP(DT13,$CX$1:$DV$1,$CX$2:$DV$2) -> 8 | DD13: =LOOKUP(DU13,$CX$1:$DV$1,$CX$2:$DV$2) -> 10 | DE13: =LOOKUP(DV13,$CX$1:$DV$1,$CX$2:$DV$2) -> 13 | ... DL13: =LOOKUP(EC13,$CX$1:$DV$1,$CX$2:$DV$2) -> 25 | DO13: 1 | DP13: 2 | DQ13: 3 | DR13: 4 | DS13: 5 | DT13: 8 | DU13: 10 | DV13: 13 | DW13: 14 | DX13: 15 | DY13: 16 | DZ13: 17 | EA13: 18 | EB13: 19 | EC13: 20 | EE13: =SMALL($EE$12:$EZ$12,EE7) -> 0 | EF13: =SMALL($EE$12:$EZ$12,EF7) -> 0 | EG13: =SMALL($EE$12:$EZ$12,EG7) -> 6 | EH13: =SMALL($EE$12:$EZ$12,EH7) -> 7 | EI13: =SMALL($EE$12:$EZ$12,EI7) -> 8 | EJ13: =SMALL($EE$12:$EZ$12,EJ7) -> 9 | EK13: =SMALL($EE$12:$EZ$12,EK7) -> 10 | EL13: =SMALL($EE$12:$EZ$12,EL7) -> 11 | ... EZ13: =SMALL($EE$12:$EZ$12,EZ7) -> 25 | FE13: =LOOKUP(FU13,$FE$1:$GC$1,$FE$2:$GC$2) -> 1 | FF13: =LOOKUP(FV13,$FE$1:$GC$1,$FE$2:$GC$2) -> 2 | FG13: =LOOKUP(FW13,$FE$1:$GC$1,$FE$2:$GC$2) -> 3 | FH13: =LOOKUP(FX13,$FE$1:$GC$1,$FE$2:$GC$2) -> 4 | FI13: =LOOKUP(FY13,$FE$1:$GC$1,$FE$2:$GC$2) -> 5 | FJ13: =LOOKUP(FZ13,$FE$1:$GC$1,$FE$2:$GC$2) -> 6 | FK13: =LOOKUP(GA13,$FE$1:$GC$1,$FE$2:$GC$2) -> 7 | FL13: =LOOKUP(GB13,$FE$1:$GC$1,$FE$2:$GC$2) -> 8 | ... FS13: =LOOKUP(GI13,$FE$1:$GC$1,$FE$2:$GC$2) -> 16 | FU13: 1 | FV13: 2 | FW13: 3 | FX13: 4 | FY13: 5 | FZ13: 6 | GA13: 7 | GB13: 8 | GC13: 9 | GD13: 10 | GE13: 11 | GF13: 12 | GG13: 13 | GH13: 15 | GI13: 16 | GK13: =SMALL($GK$12:$HB$12,GK2) -> 0 | GL13: =SMALL($GK$12:$HB$12,GL2) -> 0 | GM13: =SMALL($GK$12:$HB$12,GM2) -> 0 | GN13: =SMALL($GK$12:$HB$12,GN2) -> 0 | GO13: =SMALL($GK$12:$HB$12,GO2) -> 0 | GP13: =SMALL($GK$12:$HB$12,GP2) -> 0 | GQ13: =SMALL($GK$12:$HB$12,GQ2) -> 0 | GR13: =SMALL($GK$12:$HB$12,GR2) -> 0 | ... HB13: =SMALL($GK$12:$HB$12,HB2) -> 25 | HK13: =LOOKUP(IC13,$A$3:$T$3,$A$4:$T$4) -> 1 | HL13: =LOOKUP(ID13,$A$3:$T$3,$A$4:$T$4) -> 2 | HM13: =LOOKUP(IE13,$A$3:$T$3,$A$4:$T$4) -> 3 | HN13: =LOOKUP(IF13,$A$3:$T$3,$A$4:$T$4) -> 4 | HO13: =LOOKUP(IG13,$A$3:$T$3,$A$4:$T$4) -> 6 | HP13: =LOOKUP(IH13,$A$3:$T$3,$A$4:$T$4) -> 8 | HQ13: =LOOKUP(II13,$A$3:$T$3,$A$4:$T$4) -> 9 | HR13: =LOOKUP(IJ13,$A$3:$T$3,$A$4:$T$4) -> 11 | ... HY13: =LOOKUP(IQ13,$A$3:$T$3,$A$4:$T$4) -> 20 | IC13: 1 | ID13: 2 | IE13: 3 | IF13: 4 | IG13: 6 | IH13: 8 | II13: 9 | IJ13: 11 | IK13: 12 | IL13: 13 | IM13: 16 | IN13: 17 | IO13: 18 | IP13: 19 | IQ13: 20 | IS13: =LOOKUP(JI13,$A$3:$Y$3,$A$4:$AE$4) -> 1 | IT13: =LOOKUP(JJ13,$A$3:$Y$3,$A$4:$AE$4) -> 2 | IU13: =LOOKUP(JK13,$A$3:$Y$3,$A$4:$AE$4) -> 3 | IV13: =LOOKUP(JL13,$A$3:$Y$3,$A$4:$AE$4) -> 4 | IW13: =LOOKUP(JM13,$A$3:$Y$3,$A$4:$AE$4) -> 5 | IX13: =LOOKUP(JN13,$A$3:$Y$3,$A$4:$AE$4) -> 6 | IY13: =LOOKUP(JO13,$A$3:$Y$3,$A$4:$AE$4) -> 7 | IZ13: =LOOKUP(JP13,$A$3:$Y$3,$A$4:$AE$4) -> 8 | ... JG13: =LOOKUP(JW13,$A$3:$Y$3,$A$4:$AE$4) -> 20 | JI13: 1 | JJ13: 2 | JK13: 3 | JL13: 4 | JM13: 5 | JN13: 6 | JO13: 7 | JP13: 8 | JQ13: 10 | JR13: 11 | JS13: 12 | JT13: 14 | JU13: 15 | JV13: 17 | JW13: 20
A14: =LOOKUP(Q14,$A$3:$Y$3,$A$4:$Y$4) -> 1 | B14: =LOOKUP(R14,$A$3:$Y$3,$A$4:$Y$4) -> 2 | C14: =LOOKUP(S14,$A$3:$Y$3,$A$4:$Y$4) -> 3 | D14: =LOOKUP(T14,$A$3:$Y$3,$A$4:$Y$4) -> 4 | E14: =LOOKUP(U14,$A$3:$Y$3,$A$4:$Y$4) -> 5 | F14: =LOOKUP(V14,$A$3:$Y$3,$A$4:$Y$4) -> 6 | G14: =LOOKUP(W14,$A$3:$Y$3,$A$4:$Y$4) -> 7 | H14: =LOOKUP(X14,$A$3:$Y$3,$A$4:$Y$4) -> 8 | ... O14: =LOOKUP(AE14,$A$3:$Y$3,$A$4:$Y$4) -> 18 | Q14: 1 | R14: 2 | S14: 3 | T14: 4 | U14: 5 | V14: 6 | W14: 7 | X14: 8 | Y14: 10 | Z14: 11 | AA14: 13 | AB14: 14 | AC14: 15 | AD14: 16 | AE14: 18 | AG14: =LOOKUP(BE14,$AG$1:$BE$1,$AG$2:$BE$2) -> 1 | AH14: =LOOKUP(BF14,$AG$1:$BE$1,$AG$2:$BE$2) -> 2 | AI14: =LOOKUP(BG14,$AG$1:$BE$1,$AG$2:$BE$2) -> 3 | AJ14: =LOOKUP(BH14,$AG$1:$BE$1,$AG$2:$BE$2) -> 4 | AK14: =LOOKUP(BI14,$AG$1:$BE$1,$AG$2:$BE$2) -> 5 | AL14: =LOOKUP(BJ14,$AG$1:$BE$1,$AG$2:$BE$2) -> 6 | AM14: =LOOKUP(BK14,$AG$1:$BE$1,$AG$2:$BE$2) -> 7 | AN14: =LOOKUP(BL14,$AG$1:$BE$1,$AG$2:$BE$2) -> 11 | ... AU14: =LOOKUP(BS14,$AG$1:$BE$1,$AG$2:$BE$2) -> 25 | BE14: 1 | BF14: 2 | BG14: 3 | BH14: 4 | BI14: 5 | BJ14: 6 | BK14: 7 | BL14: 11 | BM14: 13 | BN14: 15 | BO14: 16 | BP14: 17 | BQ14: 18 | BR14: 19 | BS14: 20 | BX14: =LARGE($BX$13:$CS$13,BX4) -> 25 | BY14: =LARGE($BX$13:$CS$13,BY4) -> 24 | BZ14: =LARGE($BX$13:$CS$13,BZ4) -> 23 | CA14: =LARGE($BX$13:$CS$13,CA4) -> 22 | CB14: =LARGE($BX$13:$CS$13,CB4) -> 16 | CC14: =LARGE($BX$13:$CS$13,CC4) -> 15 | CD14: =LARGE($BX$13:$CS$13,CD4) -> 14 | CE14: =LARGE($BX$13:$CS$13,CE4) -> 13 | ... CO14: =LARGE($BX$13:$CS$13,CO4) -> 0 | CX14: =LOOKUP(DO14,$CX$1:$DV$1,$CX$2:$DV$2) -> 1 | CY14: =LOOKUP(DP14,$CX$1:$DV$1,$CX$2:$DV$2) -> 2 | CZ14: =LOOKUP(DQ14,$CX$1:$DV$1,$CX$2:$DV$2) -> 3 | DA14: =LOOKUP(DR14,$CX$1:$DV$1,$CX$2:$DV$2) -> 4 | DB14: =LOOKUP(DS14,$CX$1:$DV$1,$CX$2:$DV$2) -> 6 | DC14: =LOOKUP(DT14,$CX$1:$DV$1,$CX$2:$DV$2) -> 7 | DD14: =LOOKUP(DU14,$CX$1:$DV$1,$CX$2:$DV$2) -> 8 | DE14: =LOOKUP(DV14,$CX$1:$DV$1,$CX$2:$DV$2) -> 9 | ... DL14: =LOOKUP(EC14,$CX$1:$DV$1,$CX$2:$DV$2) -> 25 | DO14: 1 | DP14: 2 | DQ14: 3 | DR14: 4 | DS14: 6 | DT14: 7 | DU14: 8 | DV14: 9 | DW14: 10 | DX14: 13 | DY14: 16 | DZ14: 17 | EA14: 18 | EB14: 19 | EC14: 20 | EE14: =DR2 -> 17 | EF14: =DS2 -> 18 | EG14: =DT2 -> 19 | EH14: =DU2 -> 20 | EI14: =DV2 -> 21 | FE14: =LOOKUP(FU14,$FE$1:$GC$1,$FE$2:$GC$2) -> 1 | FF14: =LOOKUP(FV14,$FE$1:$GC$1,$FE$2:$GC$2) -> 2 | FG14: =LOOKUP(FW14,$FE$1:$GC$1,$FE$2:$GC$2) -> 3 | FH14: =LOOKUP(FX14,$FE$1:$GC$1,$FE$2:$GC$2) -> 4 | FI14: =LOOKUP(FY14,$FE$1:$GC$1,$FE$2:$GC$2) -> 5 | FJ14: =LOOKUP(FZ14,$FE$1:$GC$1,$FE$2:$GC$2) -> 6 | FK14: =LOOKUP(GA14,$FE$1:$GC$1,$FE$2:$GC$2) -> 7 | FL14: =LOOKUP(GB14,$FE$1:$GC$1,$FE$2:$GC$2) -> 8 | ... FS14: =LOOKUP(GI14,$FE$1:$GC$1,$FE$2:$GC$2) -> 22 | FU14: 1 | FV14: 2 | FW14: 3 | FX14: 4 | FY14: 5 | FZ14: 6 | GA14: 7 | GB14: 8 | GC14: 9 | GD14: 10 | GE14: 11 | GF14: 12 | GG14: 13 | GH14: 15 | GI14: 17 | HK14: =LOOKUP(IC14,$A$3:$T$3,$A$4:$T$4) -> 1 | HL14: =LOOKUP(ID14,$A$3:$T$3,$A$4:$T$4) -> 2 | HM14: =LOOKUP(IE14,$A$3:$T$3,$A$4:$T$4) -> 3 | HN14: =LOOKUP(IF14,$A$3:$T$3,$A$4:$T$4) -> 4 | HO14: =LOOKUP(IG14,$A$3:$T$3,$A$4:$T$4) -> 5 | HP14: =LOOKUP(IH14,$A$3:$T$3,$A$4:$T$4) -> 8 | HQ14: =LOOKUP(II14,$A$3:$T$3,$A$4:$T$4) -> 10 | HR14: =LOOKUP(IJ14,$A$3:$T$3,$A$4:$T$4) -> 12 | ... HY14: =LOOKUP(IQ14,$A$3:$T$3,$A$4:$T$4) -> 20 | IC14: 1 | ID14: 2 | IE14: 3 | IF14: 4 | IG14: 5 | IH14: 8 | II14: 10 | IJ14: 12 | IK14: 13 | IL14: 15 | IM14: 16 | IN14: 17 | IO14: 18 | IP14: 19 | IQ14: 20 | IS14: =LOOKUP(JI14,$A$3:$Y$3,$A$4:$AE$4) -> 1 | IT14: =LOOKUP(JJ14,$A$3:$Y$3,$A$4:$AE$4) -> 2 | IU14: =LOOKUP(JK14,$A$3:$Y$3,$A$4:$AE$4) -> 3 | IV14: =LOOKUP(JL14,$A$3:$Y$3,$A$4:$AE$4) -> 4 | IW14: =LOOKUP(JM14,$A$3:$Y$3,$A$4:$AE$4) -> 5 | IX14: =LOOKUP(JN14,$A$3:$Y$3,$A$4:$AE$4) -> 6 | IY14: =LOOKUP(JO14,$A$3:$Y$3,$A$4:$AE$4) -> 7 | IZ14: =LOOKUP(JP14,$A$3:$Y$3,$A$4:$AE$4) -> 8 | ... JG14: =LOOKUP(JW14,$A$3:$Y$3,$A$4:$AE$4) -> 20 | JI14: 1 | JJ14: 2 | JK14: 3 | JL14: 4 | JM14: 5 | JN14: 6 | JO14: 7 | JP14: 8 | JQ14: 10 | JR14: 11 | JS14: 12 | JT14: 14 | JU14: 16 | JV14: 17 | JW14: 20
A15: =LOOKUP(Q15,$A$3:$Y$3,$A$4:$Y$4) -> 1 | B15: =LOOKUP(R15,$A$3:$Y$3,$A$4:$Y$4) -> 2 | C15: =LOOKUP(S15,$A$3:$Y$3,$A$4:$Y$4) -> 3 | D15: =LOOKUP(T15,$A$3:$Y$3,$A$4:$Y$4) -> 4 | E15: =LOOKUP(U15,$A$3:$Y$3,$A$4:$Y$4) -> 5 | F15: =LOOKUP(V15,$A$3:$Y$3,$A$4:$Y$4) -> 6 | G15: =LOOKUP(W15,$A$3:$Y$3,$A$4:$Y$4) -> 7 | H15: =LOOKUP(X15,$A$3:$Y$3,$A$4:$Y$4) -> 8 | ... O15: =LOOKUP(AE15,$A$3:$Y$3,$A$4:$Y$4) -> 19 | Q15: 1 | R15: 2 | S15: 3 | T15: 4 | U15: 5 | V15: 6 | W15: 7 | X15: 8 | Y15: 11 | Z15: 12 | AA15: 13 | AB15: 16 | AC15: 17 | AD15: 18 | AE15: 19 | AG15: =LOOKUP(BE15,$AG$1:$BE$1,$AG$2:$BE$2) -> 1 | AH15: =LOOKUP(BF15,$AG$1:$BE$1,$AG$2:$BE$2) -> 2 | AI15: =LOOKUP(BG15,$AG$1:$BE$1,$AG$2:$BE$2) -> 3 | AJ15: =LOOKUP(BH15,$AG$1:$BE$1,$AG$2:$BE$2) -> 4 | AK15: =LOOKUP(BI15,$AG$1:$BE$1,$AG$2:$BE$2) -> 5 | AL15: =LOOKUP(BJ15,$AG$1:$BE$1,$AG$2:$BE$2) -> 6 | AM15: =LOOKUP(BK15,$AG$1:$BE$1,$AG$2:$BE$2) -> 8 | AN15: =LOOKUP(BL15,$AG$1:$BE$1,$AG$2:$BE$2) -> 9 | ... AU15: =LOOKUP(BS15,$AG$1:$BE$1,$AG$2:$BE$2) -> 25 | BE15: 1 | BF15: 2 | BG15: 3 | BH15: 4 | BI15: 5 | BJ15: 6 | BK15: 8 | BL15: 9 | BM15: 11 | BN15: 14 | BO15: 15 | BP15: 16 | BQ15: 18 | BR15: 19 | BS15: 20 | BX15: =SMALL($BX$14:$CO$14,BX4) -> 0 | BY15: =SMALL($BX$14:$CO$14,BY4) -> 4 | BZ15: =SMALL($BX$14:$CO$14,BZ4) -> 5 | CA15: =SMALL($BX$14:$CO$14,CA4) -> 6 | CB15: =SMALL($BX$14:$CO$14,CB4) -> 7 | CC15: =SMALL($BX$14:$CO$14,CC4) -> 8 | CD15: =SMALL($BX$14:$CO$14,CD4) -> 9 | CE15: =SMALL($BX$14:$CO$14,CE4) -> 10 | ... CO15: =SMALL($BX$14:$CO$14,CO4) -> 25 | CX15: =LOOKUP(DO15,$CX$1:$DV$1,$CX$2:$DV$2) -> 1 | CY15: =LOOKUP(DP15,$CX$1:$DV$1,$CX$2:$DV$2) -> 2 | CZ15: =LOOKUP(DQ15,$CX$1:$DV$1,$CX$2:$DV$2) -> 3 | DA15: =LOOKUP(DR15,$CX$1:$DV$1,$CX$2:$DV$2) -> 4 | DB15: =LOOKUP(DS15,$CX$1:$DV$1,$CX$2:$DV$2) -> 6 | DC15: =LOOKUP(DT15,$CX$1:$DV$1,$CX$2:$DV$2) -> 7 | DD15: =LOOKUP(DU15,$CX$1:$DV$1,$CX$2:$DV$2) -> 9 | DE15: =LOOKUP(DV15,$CX$1:$DV$1,$CX$2:$DV$2) -> 10 | ... DL15: =LOOKUP(EC15,$CX$1:$DV$1,$CX$2:$DV$2) -> 25 | DO15: 1 | DP15: 2 | DQ15: 3 | DR15: 4 | DS15: 6 | DT15: 7 | DU15: 9 | DV15: 10 | DW15: 11 | DX15: 14 | DY15: 16 | DZ15: 17 | EA15: 18 | EB15: 19 | EC15: 20 | EE15: =COUNTIF($EE$13:$FC$14,EE13) -> 2 | EF15: =COUNTIF($EE$13:$FC$14,EF13) -> 2 | EG15: =COUNTIF($EE$13:$FC$14,EG13) -> 1 | EH15: =COUNTIF($EE$13:$FC$14,EH13) -> 1 | EI15: =COUNTIF($EE$13:$FC$14,EI13) -> 1 | EJ15: =COUNTIF($EE$13:$FC$14,EJ13) -> 1 | EK15: =COUNTIF($EE$13:$FC$14,EK13) -> 1 | EL15: =COUNTIF($EE$13:$FC$14,EL13) -> 1 | ... EZ15: =COUNTIF($EE$13:$FC$14,EZ13) -> 1 | FE15: =LOOKUP(FU15,$FE$1:$GC$1,$FE$2:$GC$2) -> 1 | FF15: =LOOKUP(FV15,$FE$1:$GC$1,$FE$2:$GC$2) -> 2 | FG15: =LOOKUP(FW15,$FE$1:$GC$1,$FE$2:$GC$2) -> 3 | FH15: =LOOKUP(FX15,$FE$1:$GC$1,$FE$2:$GC$2) -> 4 | FI15: =LOOKUP(FY15,$FE$1:$GC$1,$FE$2:$GC$2) -> 5 | FJ15: =LOOKUP(FZ15,$FE$1:$GC$1,$FE$2:$GC$2) -> 6 | FK15: =LOOKUP(GA15,$FE$1:$GC$1,$FE$2:$GC$2) -> 7 | FL15: =LOOKUP(GB15,$FE$1:$GC$1,$FE$2:$GC$2) -> 8 | ... FS15: =LOOKUP(GI15,$FE$1:$GC$1,$FE$2:$GC$2) -> 23 | FU15: 1 | FV15: 2 | FW15: 3 | FX15: 4 | FY15: 5 | FZ15: 6 | GA15: 7 | GB15: 8 | GC15: 9 | GD15: 10 | GE15: 11 | GF15: 12 | GG15: 13 | GH15: 15 | GI15: 18 | HK15: =LOOKUP(IC15,$A$3:$T$3,$A$4:$T$4) -> 1 | HL15: =LOOKUP(ID15,$A$3:$T$3,$A$4:$T$4) -> 2 | HM15: =LOOKUP(IE15,$A$3:$T$3,$A$4:$T$4) -> 3 | HN15: =LOOKUP(IF15,$A$3:$T$3,$A$4:$T$4) -> 4 | HO15: =LOOKUP(IG15,$A$3:$T$3,$A$4:$T$4) -> 5 | HP15: =LOOKUP(IH15,$A$3:$T$3,$A$4:$T$4) -> 7 | HQ15: =LOOKUP(II15,$A$3:$T$3,$A$4:$T$4) -> 8 | HR15: =LOOKUP(IJ15,$A$3:$T$3,$A$4:$T$4) -> 11 | ... HY15: =LOOKUP(IQ15,$A$3:$T$3,$A$4:$T$4) -> 20 | IC15: 1 | ID15: 2 | IE15: 3 | IF15: 4 | IG15: 5 | IH15: 7 | II15: 8 | IJ15: 11 | IK15: 12 | IL15: 14 | IM15: 15 | IN15: 16 | IO15: 17 | IP15: 19 | IQ15: 20 | IS15: =LOOKUP(JI15,$A$3:$Y$3,$A$4:$AE$4) -> 1 | IT15: =LOOKUP(JJ15,$A$3:$Y$3,$A$4:$AE$4) -> 2 | IU15: =LOOKUP(JK15,$A$3:$Y$3,$A$4:$AE$4) -> 3 | IV15: =LOOKUP(JL15,$A$3:$Y$3,$A$4:$AE$4) -> 4 | IW15: =LOOKUP(JM15,$A$3:$Y$3,$A$4:$AE$4) -> 5 | IX15: =LOOKUP(JN15,$A$3:$Y$3,$A$4:$AE$4) -> 6 | IY15: =LOOKUP(JO15,$A$3:$Y$3,$A$4:$AE$4) -> 7 | IZ15: =LOOKUP(JP15,$A$3:$Y$3,$A$4:$AE$4) -> 8 | ... JG15: =LOOKUP(JW15,$A$3:$Y$3,$A$4:$AE$4) -> 20 | JI15: 1 | JJ15: 2 | JK15: 3 | JL15: 4 | JM15: 5 | JN15: 6 | JO15: 7 | JP15: 8 | JQ15: 10 | JR15: 11 | JS15: 13 | JT15: 15 | JU15: 16 | JV15: 18 | JW15: 20
A16: =LOOKUP(Q16,$A$3:$Y$3,$A$4:$Y$4) -> 1 | B16: =LOOKUP(R16,$A$3:$Y$3,$A$4:$Y$4) -> 2 | C16: =LOOKUP(S16,$A$3:$Y$3,$A$4:$Y$4) -> 3 | D16: =LOOKUP(T16,$A$3:$Y$3,$A$4:$Y$4) -> 4 | E16: =LOOKUP(U16,$A$3:$Y$3,$A$4:$Y$4) -> 5 | F16: =LOOKUP(V16,$A$3:$Y$3,$A$4:$Y$4) -> 6 | G16: =LOOKUP(W16,$A$3:$Y$3,$A$4:$Y$4) -> 7 | H16: =LOOKUP(X16,$A$3:$Y$3,$A$4:$Y$4) -> 8 | ... O16: =LOOKUP(AE16,$A$3:$Y$3,$A$4:$Y$4) -> 20 | Q16: 1 | R16: 2 | S16: 3 | T16: 4 | U16: 5 | V16: 6 | W16: 7 | X16: 8 | Y16: 12 | Z16: 13 | AA16: 14 | AB16: 16 | AC16: 17 | AD16: 18 | AE16: 20 | AG16: =LOOKUP(BE16,$AG$1:$BE$1,$AG$2:$BE$2) -> 1 | AH16: =LOOKUP(BF16,$AG$1:$BE$1,$AG$2:$BE$2) -> 2 | AI16: =LOOKUP(BG16,$AG$1:$BE$1,$AG$2:$BE$2) -> 3 | AJ16: =LOOKUP(BH16,$AG$1:$BE$1,$AG$2:$BE$2) -> 4 | AK16: =LOOKUP(BI16,$AG$1:$BE$1,$AG$2:$BE$2) -> 5 | AL16: =LOOKUP(BJ16,$AG$1:$BE$1,$AG$2:$BE$2) -> 6 | AM16: =LOOKUP(BK16,$AG$1:$BE$1,$AG$2:$BE$2) -> 8 | AN16: =LOOKUP(BL16,$AG$1:$BE$1,$AG$2:$BE$2) -> 9 | ... AU16: =LOOKUP(BS16,$AG$1:$BE$1,$AG$2:$BE$2) -> 25 | BE16: 1 | BF16: 2 | BG16: 3 | BH16: 4 | BI16: 5 | BJ16: 6 | BK16: 8 | BL16: 9 | BM16: 13 | BN16: 14 | BO16: 15 | BP16: 17 | BQ16: 18 | BR16: 19 | BS16: 20 | CX16: =LOOKUP(DO16,$CX$1:$DV$1,$CX$2:$DV$2) -> 1 | CY16: =LOOKUP(DP16,$CX$1:$DV$1,$CX$2:$DV$2) -> 2 | CZ16: =LOOKUP(DQ16,$CX$1:$DV$1,$CX$2:$DV$2) -> 3 | DA16: =LOOKUP(DR16,$CX$1:$DV$1,$CX$2:$DV$2) -> 4 | DB16: =LOOKUP(DS16,$CX$1:$DV$1,$CX$2:$DV$2) -> 6 | DC16: =LOOKUP(DT16,$CX$1:$DV$1,$CX$2:$DV$2) -> 9 | DD16: =LOOKUP(DU16,$CX$1:$DV$1,$CX$2:$DV$2) -> 10 | DE16: =LOOKUP(DV16,$CX$1:$DV$1,$CX$2:$DV$2) -> 13 | ... DL16: =LOOKUP(EC16,$CX$1:$DV$1,$CX$2:$DV$2) -> 25 | DO16: 1 | DP16: 2 | DQ16: 3 | DR16: 4 | DS16: 6 | DT16: 9 | DU16: 10 | DV16: 13 | DW16: 14 | DX16: 15 | DY16: 16 | DZ16: 17 | EA16: 18 | EB16: 19 | EC16: 20 | EE16: =IF(EE15=1,EE13,0) -> 0 | EF16: =IF(EF15=1,EF13,0) -> 0 | EG16: =IF(EG15=1,EG13,0) -> 6 | EH16: =IF(EH15=1,EH13,0) -> 7 | EI16: =IF(EI15=1,EI13,0) -> 8 | EJ16: =IF(EJ15=1,EJ13,0) -> 9 | EK16: =IF(EK15=1,EK13,0) -> 10 | EL16: =IF(EL15=1,EL13,0) -> 11 | ... EZ16: =IF(EZ15=1,EZ13,0) -> 25 | FE16: =LOOKUP(FU16,$FE$1:$GC$1,$FE$2:$GC$2) -> 1 | FF16: =LOOKUP(FV16,$FE$1:$GC$1,$FE$2:$GC$2) -> 2 | FG16: =LOOKUP(FW16,$FE$1:$GC$1,$FE$2:$GC$2) -> 3 | FH16: =LOOKUP(FX16,$FE$1:$GC$1,$FE$2:$GC$2) -> 4 | FI16: =LOOKUP(FY16,$FE$1:$GC$1,$FE$2:$GC$2) -> 5 | FJ16: =LOOKUP(FZ16,$FE$1:$GC$1,$FE$2:$GC$2) -> 6 | FK16: =LOOKUP(GA16,$FE$1:$GC$1,$FE$2:$GC$2) -> 7 | FL16: =LOOKUP(GB16,$FE$1:$GC$1,$FE$2:$GC$2) -> 8 | ... FS16: =LOOKUP(GI16,$FE$1:$GC$1,$FE$2:$GC$2) -> 24 | FU16: 1 | FV16: 2 | FW16: 3 | FX16: 4 | FY16: 5 | FZ16: 6 | GA16: 7 | GB16: 8 | GC16: 9 | GD16: 10 | GE16: 11 | GF16: 12 | GG16: 13 | GH16: 15 | GI16: 19 | HK16: =LOOKUP(IC16,$A$3:$T$3,$A$4:$T$4) -> 1 | HL16: =LOOKUP(ID16,$A$3:$T$3,$A$4:$T$4) -> 2 | HM16: =LOOKUP(IE16,$A$3:$T$3,$A$4:$T$4) -> 3 | HN16: =LOOKUP(IF16,$A$3:$T$3,$A$4:$T$4) -> 4 | HO16: =LOOKUP(IG16,$A$3:$T$3,$A$4:$T$4) -> 5 | HP16: =LOOKUP(IH16,$A$3:$T$3,$A$4:$T$4) -> 6 | HQ16: =LOOKUP(II16,$A$3:$T$3,$A$4:$T$4) -> 9 | HR16: =LOOKUP(IJ16,$A$3:$T$3,$A$4:$T$4) -> 10 | ... HY16: =LOOKUP(IQ16,$A$3:$T$3,$A$4:$T$4) -> 20 | IC16: 1 | ID16: 2 | IE16: 3 | IF16: 4 | IG16: 5 | IH16: 6 | II16: 9 | IJ16: 10 | IK16: 13 | IL16: 14 | IM16: 15 | IN16: 16 | IO16: 17 | IP16: 18 | IQ16: 20 | IS16: =LOOKUP(JI16,$A$3:$Y$3,$A$4:$AE$4) -> 1 | IT16: =LOOKUP(JJ16,$A$3:$Y$3,$A$4:$AE$4) -> 2 | IU16: =LOOKUP(JK16,$A$3:$Y$3,$A$4:$AE$4) -> 3 | IV16: =LOOKUP(JL16,$A$3:$Y$3,$A$4:$AE$4) -> 4 | IW16: =LOOKUP(JM16,$A$3:$Y$3,$A$4:$AE$4) -> 5 | IX16: =LOOKUP(JN16,$A$3:$Y$3,$A$4:$AE$4) -> 6 | IY16: =LOOKUP(JO16,$A$3:$Y$3,$A$4:$AE$4) -> 7 | IZ16: =LOOKUP(JP16,$A$3:$Y$3,$A$4:$AE$4) -> 8 | ... JG16: =LOOKUP(JW16,$A$3:$Y$3,$A$4:$AE$4) -> 20 | JI16: 1 | JJ16: 2 | JK16: 3 | JL16: 4 | JM16: 5 | JN16: 6 | JO16: 7 | JP16: 8 | JQ16: 10 | JR16: 11 | JS16: 16 | JT16: 17 | JU16: 18 | JV16: 19 | JW16: 20
A17: =LOOKUP(Q17,$A$3:$Y$3,$A$4:$Y$4) -> 1 | B17: =LOOKUP(R17,$A$3:$Y$3,$A$4:$Y$4) -> 2 | C17: =LOOKUP(S17,$A$3:$Y$3,$A$4:$Y$4) -> 3 | D17: =LOOKUP(T17,$A$3:$Y$3,$A$4:$Y$4) -> 4 | E17: =LOOKUP(U17,$A$3:$Y$3,$A$4:$Y$4) -> 5 | F17: =LOOKUP(V17,$A$3:$Y$3,$A$4:$Y$4) -> 6 | G17: =LOOKUP(W17,$A$3:$Y$3,$A$4:$Y$4) -> 7 | H17: =LOOKUP(X17,$A$3:$Y$3,$A$4:$Y$4) -> 9 | ... O17: =LOOKUP(AE17,$A$3:$Y$3,$A$4:$Y$4) -> 19 | Q17: 1 | R17: 2 | S17: 3 | T17: 4 | U17: 5 | V17: 6 | W17: 7 | X17: 9 | Y17: 10 | Z17: 12 | AA17: 13 | AB17: 14 | AC17: 16 | AD17: 17 | AE17: 19 | AG17: =LOOKUP(BE17,$AG$1:$BE$1,$AG$2:$BE$2) -> 1 | AH17: =LOOKUP(BF17,$AG$1:$BE$1,$AG$2:$BE$2) -> 2 | AI17: =LOOKUP(BG17,$AG$1:$BE$1,$AG$2:$BE$2) -> 3 | AJ17: =LOOKUP(BH17,$AG$1:$BE$1,$AG$2:$BE$2) -> 4 | AK17: =LOOKUP(BI17,$AG$1:$BE$1,$AG$2:$BE$2) -> 5 | AL17: =LOOKUP(BJ17,$AG$1:$BE$1,$AG$2:$BE$2) -> 6 | AM17: =LOOKUP(BK17,$AG$1:$BE$1,$AG$2:$BE$2) -> 8 | AN17: =LOOKUP(BL17,$AG$1:$BE$1,$AG$2:$BE$2) -> 10 | ... AU17: =LOOKUP(BS17,$AG$1:$BE$1,$AG$2:$BE$2) -> 25 | BE17: 1 | BF17: 2 | BG17: 3 | BH17: 4 | BI17: 5 | BJ17: 6 | BK17: 8 | BL17: 10 | BM17: 11 | BN17: 12 | BO17: 13 | BP17: 16 | BQ17: 18 | BR17: 19 | BS17: 20 | CX17: =LOOKUP(DO17,$CX$1:$DV$1,$CX$2:$DV$2) -> 1 | CY17: =LOOKUP(DP17,$CX$1:$DV$1,$CX$2:$DV$2) -> 2 | CZ17: =LOOKUP(DQ17,$CX$1:$DV$1,$CX$2:$DV$2) -> 3 | DA17: =LOOKUP(DR17,$CX$1:$DV$1,$CX$2:$DV$2) -> 4 | DB17: =LOOKUP(DS17,$CX$1:$DV$1,$CX$2:$DV$2) -> 7 | DC17: =LOOKUP(DT17,$CX$1:$DV$1,$CX$2:$DV$2) -> 8 | DD17: =LOOKUP(DU17,$CX$1:$DV$1,$CX$2:$DV$2) -> 9 | DE17: =LOOKUP(DV17,$CX$1:$DV$1,$CX$2:$DV$2) -> 11 | ... DL17: =LOOKUP(EC17,$CX$1:$DV$1,$CX$2:$DV$2) -> 25 | DO17: 1 | DP17: 2 | DQ17: 3 | DR17: 4 | DS17: 7 | DT17: 8 | DU17: 9 | DV17: 11 | DW17: 13 | DX17: 14 | DY17: 16 | DZ17: 17 | EA17: 18 | EB17: 19 | EC17: 20 | EE17: =LARGE($EE$16:$EZ$16,EE7) -> 25 | EF17: =LARGE($EE$16:$EZ$16,EF7) -> 24 | EG17: =LARGE($EE$16:$EZ$16,EG7) -> 23 | EH17: =LARGE($EE$16:$EZ$16,EH7) -> 22 | EI17: =LARGE($EE$16:$EZ$16,EI7) -> 16 | EJ17: =LARGE($EE$16:$EZ$16,EJ7) -> 15 | EK17: =LARGE($EE$16:$EZ$16,EK7) -> 14 | EL17: =LARGE($EE$16:$EZ$16,EL7) -> 13 | ... EV17: =LARGE($EE$16:$EZ$16,EV7) -> 0 | FE17: =LOOKUP(FU17,$FE$1:$GC$1,$FE$2:$GC$2) -> 1 | FF17: =LOOKUP(FV17,$FE$1:$GC$1,$FE$2:$GC$2) -> 2 | FG17: =LOOKUP(FW17,$FE$1:$GC$1,$FE$2:$GC$2) -> 3 | FH17: =LOOKUP(FX17,$FE$1:$GC$1,$FE$2:$GC$2) -> 4 | FI17: =LOOKUP(FY17,$FE$1:$GC$1,$FE$2:$GC$2) -> 5 | FJ17: =LOOKUP(FZ17,$FE$1:$GC$1,$FE$2:$GC$2) -> 6 | FK17: =LOOKUP(GA17,$FE$1:$GC$1,$FE$2:$GC$2) -> 7 | FL17: =LOOKUP(GB17,$FE$1:$GC$1,$FE$2:$GC$2) -> 8 | ... FS17: =LOOKUP(GI17,$FE$1:$GC$1,$FE$2:$GC$2) -> 25 | FU17: 1 | FV17: 2 | FW17: 3 | FX17: 4 | FY17: 5 | FZ17: 6 | GA17: 7 | GB17: 8 | GC17: 9 | GD17: 10 | GE17: 11 | GF17: 12 | GG17: 13 | GH17: 15 | GI17: 20 | HK17: =LOOKUP(IC17,$A$3:$T$3,$A$4:$T$4) -> 1 | HL17: =LOOKUP(ID17,$A$3:$T$3,$A$4:$T$4) -> 2 | HM17: =LOOKUP(IE17,$A$3:$T$3,$A$4:$T$4) -> 3 | HN17: =LOOKUP(IF17,$A$3:$T$3,$A$4:$T$4) -> 4 | HO17: =LOOKUP(IG17,$A$3:$T$3,$A$4:$T$4) -> 5 | HP17: =LOOKUP(IH17,$A$3:$T$3,$A$4:$T$4) -> 6 | HQ17: =LOOKUP(II17,$A$3:$T$3,$A$4:$T$4) -> 7 | HR17: =LOOKUP(IJ17,$A$3:$T$3,$A$4:$T$4) -> 10 | ... HY17: =LOOKUP(IQ17,$A$3:$T$3,$A$4:$T$4) -> 20 | IC17: 1 | ID17: 2 | IE17: 3 | IF17: 4 | IG17: 5 | IH17: 6 | II17: 7 | IJ17: 10 | IK17: 11 | IL17: 12 | IM17: 14 | IN17: 17 | IO17: 18 | IP17: 19 | IQ17: 20 | IS17: =LOOKUP(JI17,$A$3:$Y$3,$A$4:$AE$4) -> 1 | IT17: =LOOKUP(JJ17,$A$3:$Y$3,$A$4:$AE$4) -> 2 | IU17: =LOOKUP(JK17,$A$3:$Y$3,$A$4:$AE$4) -> 3 | IV17: =LOOKUP(JL17,$A$3:$Y$3,$A$4:$AE$4) -> 4 | IW17: =LOOKUP(JM17,$A$3:$Y$3,$A$4:$AE$4) -> 5 | IX17: =LOOKUP(JN17,$A$3:$Y$3,$A$4:$AE$4) -> 6 | IY17: =LOOKUP(JO17,$A$3:$Y$3,$A$4:$AE$4) -> 7 | IZ17: =LOOKUP(JP17,$A$3:$Y$3,$A$4:$AE$4) -> 8 | ... JG17: =LOOKUP(JW17,$A$3:$Y$3,$A$4:$AE$4) -> 20 | JI17: 1 | JJ17: 2 | JK17: 3 | JL17: 4 | JM17: 5 | JN17: 6 | JO17: 7 | JP17: 8 | JQ17: 10 | JR17: 12 | JS17: 13 | JT17: 14 | JU17: 17 | JV17: 19 | JW17: 20
A18: =LOOKUP(Q18,$A$3:$Y$3,$A$4:$Y$4) -> 1 | B18: =LOOKUP(R18,$A$3:$Y$3,$A$4:$Y$4) -> 2 | C18: =LOOKUP(S18,$A$3:$Y$3,$A$4:$Y$4) -> 3 | D18: =LOOKUP(T18,$A$3:$Y$3,$A$4:$Y$4) -> 4 | E18: =LOOKUP(U18,$A$3:$Y$3,$A$4:$Y$4) -> 5 | F18: =LOOKUP(V18,$A$3:$Y$3,$A$4:$Y$4) -> 6 | G18: =LOOKUP(W18,$A$3:$Y$3,$A$4:$Y$4) -> 7 | H18: =LOOKUP(X18,$A$3:$Y$3,$A$4:$Y$4) -> 9 | ... O18: =LOOKUP(AE18,$A$3:$Y$3,$A$4:$Y$4) -> 19 | Q18: 1 | R18: 2 | S18: 3 | T18: 4 | U18: 5 | V18: 6 | W18: 7 | X18: 9 | Y18: 11 | Z18: 12 | AA18: 13 | AB18: 15 | AC18: 17 | AD18: 18 | AE18: 19 | AG18: =LOOKUP(BE18,$AG$1:$BE$1,$AG$2:$BE$2) -> 1 | AH18: =LOOKUP(BF18,$AG$1:$BE$1,$AG$2:$BE$2) -> 2 | AI18: =LOOKUP(BG18,$AG$1:$BE$1,$AG$2:$BE$2) -> 3 | AJ18: =LOOKUP(BH18,$AG$1:$BE$1,$AG$2:$BE$2) -> 4 | AK18: =LOOKUP(BI18,$AG$1:$BE$1,$AG$2:$BE$2) -> 5 | AL18: =LOOKUP(BJ18,$AG$1:$BE$1,$AG$2:$BE$2) -> 6 | AM18: =LOOKUP(BK18,$AG$1:$BE$1,$AG$2:$BE$2) -> 8 | AN18: =LOOKUP(BL18,$AG$1:$BE$1,$AG$2:$BE$2) -> 11 | ... AU18: =LOOKUP(BS18,$AG$1:$BE$1,$AG$2:$BE$2) -> 25 | BE18: 1 | BF18: 2 | BG18: 3 | BH18: 4 | BI18: 5 | BJ18: 6 | BK18: 8 | BL18: 11 | BM18: 12 | BN18: 14 | BO18: 15 | BP18: 16 | BQ18: 18 | BR18: 19 | BS18: 20 | CX18: =LOOKUP(DO18,$CX$1:$DV$1,$CX$2:$DV$2) -> 1 | CY18: =LOOKUP(DP18,$CX$1:$DV$1,$CX$2:$DV$2) -> 2 | CZ18: =LOOKUP(DQ18,$CX$1:$DV$1,$CX$2:$DV$2) -> 3 | DA18: =LOOKUP(DR18,$CX$1:$DV$1,$CX$2:$DV$2) -> 4 | DB18: =LOOKUP(DS18,$CX$1:$DV$1,$CX$2:$DV$2) -> 7 | DC18: =LOOKUP(DT18,$CX$1:$DV$1,$CX$2:$DV$2) -> 8 | DD18: =LOOKUP(DU18,$CX$1:$DV$1,$CX$2:$DV$2) -> 11 | DE18: =LOOKUP(DV18,$CX$1:$DV$1,$CX$2:$DV$2) -> 12 | ... DL18: =LOOKUP(EC18,$CX$1:$DV$1,$CX$2:$DV$2) -> 25 | DO18: 1 | DP18: 2 | DQ18: 3 | DR18: 4 | DS18: 7 | DT18: 8 | DU18: 11 | DV18: 12 | DW18: 13 | DX18: 15 | DY18: 16 | DZ18: 17 | EA18: 18 | EB18: 19 | EC18: 20 | EE18: =SMALL($EE$17:$EV$17,EE7) -> 0 | EF18: =SMALL($EE$17:$EV$17,EF7) -> 0 | EG18: =SMALL($EE$17:$EV$17,EG7) -> 0 | EH18: =SMALL($EE$17:$EV$17,EH7) -> 6 | EI18: =SMALL($EE$17:$EV$17,EI7) -> 7 | EJ18: =SMALL($EE$17:$EV$17,EJ7) -> 8 | EK18: =SMALL($EE$17:$EV$17,EK7) -> 9 | EL18: =SMALL($EE$17:$EV$17,EL7) -> 10 | ... EV18: =SMALL($EE$17:$EV$17,EV7) -> 25 | FE18: =LOOKUP(FU18,$FE$1:$GC$1,$FE$2:$GC$2) -> 1 | FF18: =LOOKUP(FV18,$FE$1:$GC$1,$FE$2:$GC$2) -> 2 | FG18: =LOOKUP(FW18,$FE$1:$GC$1,$FE$2:$GC$2) -> 3 | FH18: =LOOKUP(FX18,$FE$1:$GC$1,$FE$2:$GC$2) -> 4 | FI18: =LOOKUP(FY18,$FE$1:$GC$1,$FE$2:$GC$2) -> 5 | FJ18: =LOOKUP(FZ18,$FE$1:$GC$1,$FE$2:$GC$2) -> 6 | FK18: =LOOKUP(GA18,$FE$1:$GC$1,$FE$2:$GC$2) -> 7 | FL18: =LOOKUP(GB18,$FE$1:$GC$1,$FE$2:$GC$2) -> 8 | ... FS18: =LOOKUP(GI18,$FE$1:$GC$1,$FE$2:$GC$2) -> 22 | FU18: 1 | FV18: 2 | FW18: 3 | FX18: 4 | FY18: 5 | FZ18: 6 | GA18: 7 | GB18: 8 | GC18: 9 | GD18: 10 | GE18: 11 | GF18: 12 | GG18: 13 | GH18: 16 | GI18: 17 | HK18: =LOOKUP(IC18,$A$3:$T$3,$A$4:$T$4) -> 1 | HL18: =LOOKUP(ID18,$A$3:$T$3,$A$4:$T$4) -> 2 | HM18: =LOOKUP(IE18,$A$3:$T$3,$A$4:$T$4) -> 3 | HN18: =LOOKUP(IF18,$A$3:$T$3,$A$4:$T$4) -> 4 | HO18: =LOOKUP(IG18,$A$3:$T$3,$A$4:$T$4) -> 5 | HP18: =LOOKUP(IH18,$A$3:$T$3,$A$4:$T$4) -> 6 | HQ18: =LOOKUP(II18,$A$3:$T$3,$A$4:$T$4) -> 7 | HR18: =LOOKUP(IJ18,$A$3:$T$3,$A$4:$T$4) -> 8 | ... HY18: =LOOKUP(IQ18,$A$3:$T$3,$A$4:$T$4) -> 19 | IC18: 1 | ID18: 2 | IE18: 3 | IF18: 4 | IG18: 5 | IH18: 6 | II18: 7 | IJ18: 8 | IK18: 9 | IL18: 10 | IM18: 13 | IN18: 16 | IO18: 17 | IP18: 18 | IQ18: 19 | IS18: =LOOKUP(JI18,$A$3:$Y$3,$A$4:$AE$4) -> 1 | IT18: =LOOKUP(JJ18,$A$3:$Y$3,$A$4:$AE$4) -> 2 | IU18: =LOOKUP(JK18,$A$3:$Y$3,$A$4:$AE$4) -> 3 | IV18: =LOOKUP(JL18,$A$3:$Y$3,$A$4:$AE$4) -> 4 | IW18: =LOOKUP(JM18,$A$3:$Y$3,$A$4:$AE$4) -> 5 | IX18: =LOOKUP(JN18,$A$3:$Y$3,$A$4:$AE$4) -> 6 | IY18: =LOOKUP(JO18,$A$3:$Y$3,$A$4:$AE$4) -> 7 | IZ18: =LOOKUP(JP18,$A$3:$Y$3,$A$4:$AE$4) -> 8 | ... JG18: =LOOKUP(JW18,$A$3:$Y$3,$A$4:$AE$4) -> 20 | JI18: 1 | JJ18: 2 | JK18: 3 | JL18: 4 | JM18: 5 | JN18: 6 | JO18: 7 | JP18: 8 | JQ18: 10 | JR18: 12 | JS18: 14 | JT18: 15 | JU18: 16 | JV18: 17 | JW18: 20
A19: =LOOKUP(Q19,$A$3:$Y$3,$A$4:$Y$4) -> 1 | B19: =LOOKUP(R19,$A$3:$Y$3,$A$4:$Y$4) -> 2 | C19: =LOOKUP(S19,$A$3:$Y$3,$A$4:$Y$4) -> 3 | D19: =LOOKUP(T19,$A$3:$Y$3,$A$4:$Y$4) -> 4 | E19: =LOOKUP(U19,$A$3:$Y$3,$A$4:$Y$4) -> 5 | F19: =LOOKUP(V19,$A$3:$Y$3,$A$4:$Y$4) -> 6 | G19: =LOOKUP(W19,$A$3:$Y$3,$A$4:$Y$4) -> 7 | H19: =LOOKUP(X19,$A$3:$Y$3,$A$4:$Y$4) -> 9 | ... O19: =LOOKUP(AE19,$A$3:$Y$3,$A$4:$Y$4) -> 20 | Q19: 1 | R19: 2 | S19: 3 | T19: 4 | U19: 5 | V19: 6 | W19: 7 | X19: 9 | Y19: 11 | Z19: 12 | AA19: 14 | AB19: 16 | AC19: 18 | AD19: 19 | AE19: 20 | AG19: =LOOKUP(BE19,$AG$1:$BE$1,$AG$2:$BE$2) -> 1 | AH19: =LOOKUP(BF19,$AG$1:$BE$1,$AG$2:$BE$2) -> 2 | AI19: =LOOKUP(BG19,$AG$1:$BE$1,$AG$2:$BE$2) -> 3 | AJ19: =LOOKUP(BH19,$AG$1:$BE$1,$AG$2:$BE$2) -> 4 | AK19: =LOOKUP(BI19,$AG$1:$BE$1,$AG$2:$BE$2) -> 5 | AL19: =LOOKUP(BJ19,$AG$1:$BE$1,$AG$2:$BE$2) -> 6 | AM19: =LOOKUP(BK19,$AG$1:$BE$1,$AG$2:$BE$2) -> 8 | AN19: =LOOKUP(BL19,$AG$1:$BE$1,$AG$2:$BE$2) -> 11 | ... AU19: =LOOKUP(BS19,$AG$1:$BE$1,$AG$2:$BE$2) -> 25 | BE19: 1 | BF19: 2 | BG19: 3 | BH19: 4 | BI19: 5 | BJ19: 6 | BK19: 8 | BL19: 11 | BM19: 13 | BN19: 14 | BO19: 16 | BP19: 17 | BQ19: 18 | BR19: 19 | BS19: 20 | CX19: =LOOKUP(DO19,$CX$1:$DV$1,$CX$2:$DV$2) -> 1 | CY19: =LOOKUP(DP19,$CX$1:$DV$1,$CX$2:$DV$2) -> 2 | CZ19: =LOOKUP(DQ19,$CX$1:$DV$1,$CX$2:$DV$2) -> 3 | DA19: =LOOKUP(DR19,$CX$1:$DV$1,$CX$2:$DV$2) -> 4 | DB19: =LOOKUP(DS19,$CX$1:$DV$1,$CX$2:$DV$2) -> 7 | DC19: =LOOKUP(DT19,$CX$1:$DV$1,$CX$2:$DV$2) -> 9 | DD19: =LOOKUP(DU19,$CX$1:$DV$1,$CX$2:$DV$2) -> 11 | DE19: =LOOKUP(DV19,$CX$1:$DV$1,$CX$2:$DV$2) -> 12 | ... DL19: =LOOKUP(EC19,$CX$1:$DV$1,$CX$2:$DV$2) -> 25 | DO19: 1 | DP19: 2 | DQ19: 3 | DR19: 4 | DS19: 7 | DT19: 9 | DU19: 11 | DV19: 12 | DW19: 13 | DX19: 15 | DY19: 16 | DZ19: 17 | EA19: 18 | EB19: 19 | EC19: 20 | FE19: =LOOKUP(FU19,$FE$1:$GC$1,$FE$2:$GC$2) -> 1 | FF19: =LOOKUP(FV19,$FE$1:$GC$1,$FE$2:$GC$2) -> 2 | FG19: =LOOKUP(FW19,$FE$1:$GC$1,$FE$2:$GC$2) -> 3 | FH19: =LOOKUP(FX19,$FE$1:$GC$1,$FE$2:$GC$2) -> 4 | FI19: =LOOKUP(FY19,$FE$1:$GC$1,$FE$2:$GC$2) -> 5 | FJ19: =LOOKUP(FZ19,$FE$1:$GC$1,$FE$2:$GC$2) -> 6 | FK19: =LOOKUP(GA19,$FE$1:$GC$1,$FE$2:$GC$2) -> 7 | FL19: =LOOKUP(GB19,$FE$1:$GC$1,$FE$2:$GC$2) -> 8 | ... FS19: =LOOKUP(GI19,$FE$1:$GC$1,$FE$2:$GC$2) -> 23 | FU19: 1 | FV19: 2 | FW19: 3 | FX19: 4 | FY19: 5 | FZ19: 6 | GA19: 7 | GB19: 8 | GC19: 9 | GD19: 10 | GE19: 11 | GF19: 12 | GG19: 13 | GH19: 16 | GI19: 18 | HK19: =LOOKUP(IC19,$A$3:$T$3,$A$4:$T$4) -> 1 | HL19: =LOOKUP(ID19,$A$3:$T$3,$A$4:$T$4) -> 2 | HM19: =LOOKUP(IE19,$A$3:$T$3,$A$4:$T$4) -> 3 | HN19: =LOOKUP(IF19,$A$3:$T$3,$A$4:$T$4) -> 4 | HO19: =LOOKUP(IG19,$A$3:$T$3,$A$4:$T$4) -> 5 | HP19: =LOOKUP(IH19,$A$3:$T$3,$A$4:$T$4) -> 6 | HQ19: =LOOKUP(II19,$A$3:$T$3,$A$4:$T$4) -> 7 | HR19: =LOOKUP(IJ19,$A$3:$T$3,$A$4:$T$4) -> 8 | ... HY19: =LOOKUP(IQ19,$A$3:$T$3,$A$4:$T$4) -> 20 | IC19: 1 | ID19: 2 | IE19: 3 | IF19: 4 | IG19: 5 | IH19: 6 | II19: 7 | IJ19: 8 | IK19: 9 | IL19: 10 | IM19: 12 | IN19: 15 | IO19: 17 | IP19: 18 | IQ19: 20 | IS19: =LOOKUP(JI19,$A$3:$Y$3,$A$4:$AE$4) -> 1 | IT19: =LOOKUP(JJ19,$A$3:$Y$3,$A$4:$AE$4) -> 2 | IU19: =LOOKUP(JK19,$A$3:$Y$3,$A$4:$AE$4) -> 3 | IV19: =LOOKUP(JL19,$A$3:$Y$3,$A$4:$AE$4) -> 4 | IW19: =LOOKUP(JM19,$A$3:$Y$3,$A$4:$AE$4) -> 5 | IX19: =LOOKUP(JN19,$A$3:$Y$3,$A$4:$AE$4) -> 6 | IY19: =LOOKUP(JO19,$A$3:$Y$3,$A$4:$AE$4) -> 7 | IZ19: =LOOKUP(JP19,$A$3:$Y$3,$A$4:$AE$4) -> 9 | ... JG19: =LOOKUP(JW19,$A$3:$Y$3,$A$4:$AE$4) -> 17 | JI19: 1 | JJ19: 2 | JK19: 3 | JL19: 4 | JM19: 5 | JN19: 6 | JO19: 7 | JP19: 9 | JQ19: 10 | JR19: 11 | JS19: 12 | JT19: 13 | JU19: 15 | JV19: 16 | JW19: 17
A20: =LOOKUP(Q20,$A$3:$Y$3,$A$4:$Y$4) -> 1 | B20: =LOOKUP(R20,$A$3:$Y$3,$A$4:$Y$4) -> 2 | C20: =LOOKUP(S20,$A$3:$Y$3,$A$4:$Y$4) -> 3 | D20: =LOOKUP(T20,$A$3:$Y$3,$A$4:$Y$4) -> 4 | E20: =LOOKUP(U20,$A$3:$Y$3,$A$4:$Y$4) -> 5 | F20: =LOOKUP(V20,$A$3:$Y$3,$A$4:$Y$4) -> 6 | G20: =LOOKUP(W20,$A$3:$Y$3,$A$4:$Y$4) -> 8 | H20: =LOOKUP(X20,$A$3:$Y$3,$A$4:$Y$4) -> 9 | ... O20: =LOOKUP(AE20,$A$3:$Y$3,$A$4:$Y$4) -> 19 | Q20: 1 | R20: 2 | S20: 3 | T20: 4 | U20: 5 | V20: 6 | W20: 8 | X20: 9 | Y20: 10 | Z20: 12 | AA20: 14 | AB20: 15 | AC20: 16 | AD20: 18 | AE20: 19 | AG20: =LOOKUP(BE20,$AG$1:$BE$1,$AG$2:$BE$2) -> 1 | AH20: =LOOKUP(BF20,$AG$1:$BE$1,$AG$2:$BE$2) -> 2 | AI20: =LOOKUP(BG20,$AG$1:$BE$1,$AG$2:$BE$2) -> 3 | AJ20: =LOOKUP(BH20,$AG$1:$BE$1,$AG$2:$BE$2) -> 4 | AK20: =LOOKUP(BI20,$AG$1:$BE$1,$AG$2:$BE$2) -> 5 | AL20: =LOOKUP(BJ20,$AG$1:$BE$1,$AG$2:$BE$2) -> 6 | AM20: =LOOKUP(BK20,$AG$1:$BE$1,$AG$2:$BE$2) -> 9 | AN20: =LOOKUP(BL20,$AG$1:$BE$1,$AG$2:$BE$2) -> 11 | ... AU20: =LOOKUP(BS20,$AG$1:$BE$1,$AG$2:$BE$2) -> 25 | BE20: 1 | BF20: 2 | BG20: 3 | BH20: 4 | BI20: 5 | BJ20: 6 | BK20: 9 | BL20: 11 | BM20: 12 | BN20: 13 | BO20: 15 | BP20: 17 | BQ20: 18 | BR20: 19 | BS20: 20 | CX20: =LOOKUP(DO20,$CX$1:$DV$1,$CX$2:$DV$2) -> 1 | CY20: =LOOKUP(DP20,$CX$1:$DV$1,$CX$2:$DV$2) -> 2 | CZ20: =LOOKUP(DQ20,$CX$1:$DV$1,$CX$2:$DV$2) -> 3 | DA20: =LOOKUP(DR20,$CX$1:$DV$1,$CX$2:$DV$2) -> 4 | DB20: =LOOKUP(DS20,$CX$1:$DV$1,$CX$2:$DV$2) -> 7 | DC20: =LOOKUP(DT20,$CX$1:$DV$1,$CX$2:$DV$2) -> 11 | DD20: =LOOKUP(DU20,$CX$1:$DV$1,$CX$2:$DV$2) -> 12 | DE20: =LOOKUP(DV20,$CX$1:$DV$1,$CX$2:$DV$2) -> 13 | ... DL20: =LOOKUP(EC20,$CX$1:$DV$1,$CX$2:$DV$2) -> 25 | DO20: 1 | DP20: 2 | DQ20: 3 | DR20: 4 | DS20: 7 | DT20: 11 | DU20: 12 | DV20: 13 | DW20: 14 | DX20: 15 | DY20: 16 | DZ20: 17 | EA20: 18 | EB20: 19 | EC20: 20 | FE20: =LOOKUP(FU20,$FE$1:$GC$1,$FE$2:$GC$2) -> 1 | FF20: =LOOKUP(FV20,$FE$1:$GC$1,$FE$2:$GC$2) -> 2 | FG20: =LOOKUP(FW20,$FE$1:$GC$1,$FE$2:$GC$2) -> 3 | FH20: =LOOKUP(FX20,$FE$1:$GC$1,$FE$2:$GC$2) -> 4 | FI20: =LOOKUP(FY20,$FE$1:$GC$1,$FE$2:$GC$2) -> 5 | FJ20: =LOOKUP(FZ20,$FE$1:$GC$1,$FE$2:$GC$2) -> 6 | FK20: =LOOKUP(GA20,$FE$1:$GC$1,$FE$2:$GC$2) -> 7 | FL20: =LOOKUP(GB20,$FE$1:$GC$1,$FE$2:$GC$2) -> 8 | ... FS20: =LOOKUP(GI20,$FE$1:$GC$1,$FE$2:$GC$2) -> 24 | FU20: 1 | FV20: 2 | FW20: 3 | FX20: 4 | FY20: 5 | FZ20: 6 | GA20: 7 | GB20: 8 | GC20: 9 | GD20: 10 | GE20: 11 | GF20: 12 | GG20: 13 | GH20: 16 | GI20: 19 | HK20: =LOOKUP(IC20,$A$3:$T$3,$A$4:$T$4) -> 1 | HL20: =LOOKUP(ID20,$A$3:$T$3,$A$4:$T$4) -> 2 | HM20: =LOOKUP(IE20,$A$3:$T$3,$A$4:$T$4) -> 3 | HN20: =LOOKUP(IF20,$A$3:$T$3,$A$4:$T$4) -> 5 | HO20: =LOOKUP(IG20,$A$3:$T$3,$A$4:$T$4) -> 6 | HP20: =LOOKUP(IH20,$A$3:$T$3,$A$4:$T$4) -> 7 | HQ20: =LOOKUP(II20,$A$3:$T$3,$A$4:$T$4) -> 8 | HR20: =LOOKUP(IJ20,$A$3:$T$3,$A$4:$T$4) -> 9 | ... HY20: =LOOKUP(IQ20,$A$3:$T$3,$A$4:$T$4) -> 19 | IC20: 1 | ID20: 2 | IE20: 3 | IF20: 5 | IG20: 6 | IH20: 7 | II20: 8 | IJ20: 9 | IK20: 10 | IL20: 14 | IM20: 15 | IN20: 16 | IO20: 17 | IP20: 18 | IQ20: 19 | IS20: =LOOKUP(JI20,$A$3:$Y$3,$A$4:$AE$4) -> 1 | IT20: =LOOKUP(JJ20,$A$3:$Y$3,$A$4:$AE$4) -> 2 | IU20: =LOOKUP(JK20,$A$3:$Y$3,$A$4:$AE$4) -> 3 | IV20: =LOOKUP(JL20,$A$3:$Y$3,$A$4:$AE$4) -> 4 | IW20: =LOOKUP(JM20,$A$3:$Y$3,$A$4:$AE$4) -> 5 | IX20: =LOOKUP(JN20,$A$3:$Y$3,$A$4:$AE$4) -> 6 | IY20: =LOOKUP(JO20,$A$3:$Y$3,$A$4:$AE$4) -> 7 | IZ20: =LOOKUP(JP20,$A$3:$Y$3,$A$4:$AE$4) -> 9 | ... JG20: =LOOKUP(JW20,$A$3:$Y$3,$A$4:$AE$4) -> 18 | JI20: 1 | JJ20: 2 | JK20: 3 | JL20: 4 | JM20: 5 | JN20: 6 | JO20: 7 | JP20: 9 | JQ20: 10 | JR20: 11 | JS20: 13 | JT20: 14 | JU20: 15 | JV20: 16 | JW20: 18
A21: =LOOKUP(Q21,$A$3:$Y$3,$A$4:$Y$4) -> 1 | B21: =LOOKUP(R21,$A$3:$Y$3,$A$4:$Y$4) -> 2 | C21: =LOOKUP(S21,$A$3:$Y$3,$A$4:$Y$4) -> 3 | D21: =LOOKUP(T21,$A$3:$Y$3,$A$4:$Y$4) -> 4 | E21: =LOOKUP(U21,$A$3:$Y$3,$A$4:$Y$4) -> 5 | F21: =LOOKUP(V21,$A$3:$Y$3,$A$4:$Y$4) -> 6 | G21: =LOOKUP(W21,$A$3:$Y$3,$A$4:$Y$4) -> 8 | H21: =LOOKUP(X21,$A$3:$Y$3,$A$4:$Y$4) -> 9 | ... O21: =LOOKUP(AE21,$A$3:$Y$3,$A$4:$Y$4) -> 20 | Q21: 1 | R21: 2 | S21: 3 | T21: 4 | U21: 5 | V21: 6 | W21: 8 | X21: 9 | Y21: 11 | Z21: 13 | AA21: 14 | AB21: 15 | AC21: 18 | AD21: 19 | AE21: 20 | AG21: =LOOKUP(BE21,$AG$1:$BE$1,$AG$2:$BE$2) -> 1 | AH21: =LOOKUP(BF21,$AG$1:$BE$1,$AG$2:$BE$2) -> 2 | AI21: =LOOKUP(BG21,$AG$1:$BE$1,$AG$2:$BE$2) -> 3 | AJ21: =LOOKUP(BH21,$AG$1:$BE$1,$AG$2:$BE$2) -> 4 | AK21: =LOOKUP(BI21,$AG$1:$BE$1,$AG$2:$BE$2) -> 5 | AL21: =LOOKUP(BJ21,$AG$1:$BE$1,$AG$2:$BE$2) -> 6 | AM21: =LOOKUP(BK21,$AG$1:$BE$1,$AG$2:$BE$2) -> 10 | AN21: =LOOKUP(BL21,$AG$1:$BE$1,$AG$2:$BE$2) -> 11 | ... AU21: =LOOKUP(BS21,$AG$1:$BE$1,$AG$2:$BE$2) -> 25 | BE21: 1 | BF21: 2 | BG21: 3 | BH21: 4 | BI21: 5 | BJ21: 6 | BK21: 10 | BL21: 11 | BM21: 12 | BN21: 14 | BO21: 16 | BP21: 17 | BQ21: 18 | BR21: 19 | BS21: 20 | CX21: =LOOKUP(DO21,$CX$1:$DV$1,$CX$2:$DV$2) -> 1 | CY21: =LOOKUP(DP21,$CX$1:$DV$1,$CX$2:$DV$2) -> 2 | CZ21: =LOOKUP(DQ21,$CX$1:$DV$1,$CX$2:$DV$2) -> 3 | DA21: =LOOKUP(DR21,$CX$1:$DV$1,$CX$2:$DV$2) -> 5 | DB21: =LOOKUP(DS21,$CX$1:$DV$1,$CX$2:$DV$2) -> 6 | DC21: =LOOKUP(DT21,$CX$1:$DV$1,$CX$2:$DV$2) -> 7 | DD21: =LOOKUP(DU21,$CX$1:$DV$1,$CX$2:$DV$2) -> 8 | DE21: =LOOKUP(DV21,$CX$1:$DV$1,$CX$2:$DV$2) -> 9 | ... DL21: =LOOKUP(EC21,$CX$1:$DV$1,$CX$2:$DV$2) -> 25 | DO21: 1 | DP21: 2 | DQ21: 3 | DR21: 5 | DS21: 6 | DT21: 7 | DU21: 8 | DV21: 9 | DW21: 13 | DX21: 15 | DY21: 16 | DZ21: 17 | EA21: 18 | EB21: 19 | EC21: 20 | FE21: =LOOKUP(FU21,$FE$1:$GC$1,$FE$2:$GC$2) -> 1 | FF21: =LOOKUP(FV21,$FE$1:$GC$1,$FE$2:$GC$2) -> 2 | FG21: =LOOKUP(FW21,$FE$1:$GC$1,$FE$2:$GC$2) -> 3 | FH21: =LOOKUP(FX21,$FE$1:$GC$1,$FE$2:$GC$2) -> 4 | FI21: =LOOKUP(FY21,$FE$1:$GC$1,$FE$2:$GC$2) -> 5 | FJ21: =LOOKUP(FZ21,$FE$1:$GC$1,$FE$2:$GC$2) -> 6 | FK21: =LOOKUP(GA21,$FE$1:$GC$1,$FE$2:$GC$2) -> 7 | FL21: =LOOKUP(GB21,$FE$1:$GC$1,$FE$2:$GC$2) -> 8 | ... FS21: =LOOKUP(GI21,$FE$1:$GC$1,$FE$2:$GC$2) -> 25 | FU21: 1 | FV21: 2 | FW21: 3 | FX21: 4 | FY21: 5 | FZ21: 6 | GA21: 7 | GB21: 8 | GC21: 9 | GD21: 10 | GE21: 11 | GF21: 12 | GG21: 13 | GH21: 16 | GI21: 20 | HK21: =LOOKUP(IC21,$A$3:$T$3,$A$4:$T$4) -> 1 | HL21: =LOOKUP(ID21,$A$3:$T$3,$A$4:$T$4) -> 4 | HM21: =LOOKUP(IE21,$A$3:$T$3,$A$4:$T$4) -> 5 | HN21: =LOOKUP(IF21,$A$3:$T$3,$A$4:$T$4) -> 6 | HO21: =LOOKUP(IG21,$A$3:$T$3,$A$4:$T$4) -> 7 | HP21: =LOOKUP(IH21,$A$3:$T$3,$A$4:$T$4) -> 9 | HQ21: =LOOKUP(II21,$A$3:$T$3,$A$4:$T$4) -> 10 | HR21: =LOOKUP(IJ21,$A$3:$T$3,$A$4:$T$4) -> 11 | ... HY21: =LOOKUP(IQ21,$A$3:$T$3,$A$4:$T$4) -> 20 | IC21: 1 | ID21: 4 | IE21: 5 | IF21: 6 | IG21: 7 | IH21: 9 | II21: 10 | IJ21: 11 | IK21: 12 | IL21: 15 | IM21: 16 | IN21: 17 | IO21: 18 | IP21: 19 | IQ21: 20 | IS21: =LOOKUP(JI21,$A$3:$Y$3,$A$4:$AE$4) -> 1 | IT21: =LOOKUP(JJ21,$A$3:$Y$3,$A$4:$AE$4) -> 2 | IU21: =LOOKUP(JK21,$A$3:$Y$3,$A$4:$AE$4) -> 3 | IV21: =LOOKUP(JL21,$A$3:$Y$3,$A$4:$AE$4) -> 4 | IW21: =LOOKUP(JM21,$A$3:$Y$3,$A$4:$AE$4) -> 5 | IX21: =LOOKUP(JN21,$A$3:$Y$3,$A$4:$AE$4) -> 6 | IY21: =LOOKUP(JO21,$A$3:$Y$3,$A$4:$AE$4) -> 7 | IZ21: =LOOKUP(JP21,$A$3:$Y$3,$A$4:$AE$4) -> 9 | ... JG21: =LOOKUP(JW21,$A$3:$Y$3,$A$4:$AE$4) -> 20 | JI21: 1 | JJ21: 2 | JK21: 3 | JL21: 4 | JM21: 5 | JN21: 6 | JO21: 7 | JP21: 9 | JQ21: 10 | JR21: 11 | JS21: 14 | JT21: 15 | JU21: 17 | JV21: 18 | JW21: 20
A22: =LOOKUP(Q22,$A$3:$Y$3,$A$4:$Y$4) -> 1 | B22: =LOOKUP(R22,$A$3:$Y$3,$A$4:$Y$4) -> 2 | C22: =LOOKUP(S22,$A$3:$Y$3,$A$4:$Y$4) -> 3 | D22: =LOOKUP(T22,$A$3:$Y$3,$A$4:$Y$4) -> 4 | E22: =LOOKUP(U22,$A$3:$Y$3,$A$4:$Y$4) -> 5 | F22: =LOOKUP(V22,$A$3:$Y$3,$A$4:$Y$4) -> 6 | G22: =LOOKUP(W22,$A$3:$Y$3,$A$4:$Y$4) -> 9 | H22: =LOOKUP(X22,$A$3:$Y$3,$A$4:$Y$4) -> 10 | ... O22: =LOOKUP(AE22,$A$3:$Y$3,$A$4:$Y$4) -> 20 | Q22: 1 | R22: 2 | S22: 3 | T22: 4 | U22: 5 | V22: 6 | W22: 9 | X22: 10 | Y22: 11 | Z22: 12 | AA22: 13 | AB22: 14 | AC22: 15 | AD22: 16 | AE22: 20 | AG22: =LOOKUP(BE22,$AG$1:$BE$1,$AG$2:$BE$2) -> 1 | AH22: =LOOKUP(BF22,$AG$1:$BE$1,$AG$2:$BE$2) -> 2 | AI22: =LOOKUP(BG22,$AG$1:$BE$1,$AG$2:$BE$2) -> 3 | AJ22: =LOOKUP(BH22,$AG$1:$BE$1,$AG$2:$BE$2) -> 4 | AK22: =LOOKUP(BI22,$AG$1:$BE$1,$AG$2:$BE$2) -> 5 | AL22: =LOOKUP(BJ22,$AG$1:$BE$1,$AG$2:$BE$2) -> 7 | AM22: =LOOKUP(BK22,$AG$1:$BE$1,$AG$2:$BE$2) -> 8 | AN22: =LOOKUP(BL22,$AG$1:$BE$1,$AG$2:$BE$2) -> 9 | ... AU22: =LOOKUP(BS22,$AG$1:$BE$1,$AG$2:$BE$2) -> 25 | BE22: 1 | BF22: 2 | BG22: 3 | BH22: 4 | BI22: 5 | BJ22: 7 | BK22: 8 | BL22: 9 | BM22: 10 | BN22: 11 | BO22: 13 | BP22: 15 | BQ22: 18 | BR22: 19 | BS22: 20 | CX22: =LOOKUP(DO22,$CX$1:$DV$1,$CX$2:$DV$2) -> 1 | CY22: =LOOKUP(DP22,$CX$1:$DV$1,$CX$2:$DV$2) -> 2 | CZ22: =LOOKUP(DQ22,$CX$1:$DV$1,$CX$2:$DV$2) -> 3 | DA22: =LOOKUP(DR22,$CX$1:$DV$1,$CX$2:$DV$2) -> 5 | DB22: =LOOKUP(DS22,$CX$1:$DV$1,$CX$2:$DV$2) -> 6 | DC22: =LOOKUP(DT22,$CX$1:$DV$1,$CX$2:$DV$2) -> 7 | DD22: =LOOKUP(DU22,$CX$1:$DV$1,$CX$2:$DV$2) -> 9 | DE22: =LOOKUP(DV22,$CX$1:$DV$1,$CX$2:$DV$2) -> 11 | ... DL22: =LOOKUP(EC22,$CX$1:$DV$1,$CX$2:$DV$2) -> 25 | DO22: 1 | DP22: 2 | DQ22: 3 | DR22: 5 | DS22: 6 | DT22: 7 | DU22: 9 | DV22: 11 | DW22: 14 | DX22: 15 | DY22: 16 | DZ22: 17 | EA22: 18 | EB22: 19 | EC22: 20 | FE22: =LOOKUP(FU22,$FE$1:$GC$1,$FE$2:$GC$2) -> 1 | FF22: =LOOKUP(FV22,$FE$1:$GC$1,$FE$2:$GC$2) -> 2 | FG22: =LOOKUP(FW22,$FE$1:$GC$1,$FE$2:$GC$2) -> 3 | FH22: =LOOKUP(FX22,$FE$1:$GC$1,$FE$2:$GC$2) -> 4 | FI22: =LOOKUP(FY22,$FE$1:$GC$1,$FE$2:$GC$2) -> 5 | FJ22: =LOOKUP(FZ22,$FE$1:$GC$1,$FE$2:$GC$2) -> 6 | FK22: =LOOKUP(GA22,$FE$1:$GC$1,$FE$2:$GC$2) -> 7 | FL22: =LOOKUP(GB22,$FE$1:$GC$1,$FE$2:$GC$2) -> 8 | ... FS22: =LOOKUP(GI22,$FE$1:$GC$1,$FE$2:$GC$2) -> 23 | FU22: 1 | FV22: 2 | FW22: 3 | FX22: 4 | FY22: 5 | FZ22: 6 | GA22: 7 | GB22: 8 | GC22: 9 | GD22: 10 | GE22: 11 | GF22: 12 | GG22: 13 | GH22: 17 | GI22: 18 | HK22: =LOOKUP(IC22,$A$3:$T$3,$A$4:$T$4) -> 1 | HL22: =LOOKUP(ID22,$A$3:$T$3,$A$4:$T$4) -> 2 | HM22: =LOOKUP(IE22,$A$3:$T$3,$A$4:$T$4) -> 5 | HN22: =LOOKUP(IF22,$A$3:$T$3,$A$4:$T$4) -> 6 | HO22: =LOOKUP(IG22,$A$3:$T$3,$A$4:$T$4) -> 8 | HP22: =LOOKUP(IH22,$A$3:$T$3,$A$4:$T$4) -> 9 | HQ22: =LOOKUP(II22,$A$3:$T$3,$A$4:$T$4) -> 10 | HR22: =LOOKUP(IJ22,$A$3:$T$3,$A$4:$T$4) -> 11 | ... HY22: =LOOKUP(IQ22,$A$3:$T$3,$A$4:$T$4) -> 20 | IC22: 1 | ID22: 2 | IE22: 5 | IF22: 6 | IG22: 8 | IH22: 9 | II22: 10 | IJ22: 11 | IK22: 12 | IL22: 13 | IM22: 14 | IN22: 15 | IO22: 17 | IP22: 19 | IQ22: 20 | IS22: =LOOKUP(JI22,$A$3:$Y$3,$A$4:$AE$4) -> 1 | IT22: =LOOKUP(JJ22,$A$3:$Y$3,$A$4:$AE$4) -> 2 | IU22: =LOOKUP(JK22,$A$3:$Y$3,$A$4:$AE$4) -> 3 | IV22: =LOOKUP(JL22,$A$3:$Y$3,$A$4:$AE$4) -> 4 | IW22: =LOOKUP(JM22,$A$3:$Y$3,$A$4:$AE$4) -> 5 | IX22: =LOOKUP(JN22,$A$3:$Y$3,$A$4:$AE$4) -> 6 | IY22: =LOOKUP(JO22,$A$3:$Y$3,$A$4:$AE$4) -> 7 | IZ22: =LOOKUP(JP22,$A$3:$Y$3,$A$4:$AE$4) -> 9 | ... JG22: =LOOKUP(JW22,$A$3:$Y$3,$A$4:$AE$4) -> 19 | JI22: 1 | JJ22: 2 | JK22: 3 | JL22: 4 | JM22: 5 | JN22: 6 | JO22: 7 | JP22: 9 | JQ22: 10 | JR22: 13 | JS22: 14 | JT22: 15 | JU22: 17 | JV22: 18 | JW22: 19
A23: =LOOKUP(Q23,$A$3:$Y$3,$A$4:$Y$4) -> 1 | B23: =LOOKUP(R23,$A$3:$Y$3,$A$4:$Y$4) -> 2 | C23: =LOOKUP(S23,$A$3:$Y$3,$A$4:$Y$4) -> 3 | D23: =LOOKUP(T23,$A$3:$Y$3,$A$4:$Y$4) -> 4 | E23: =LOOKUP(U23,$A$3:$Y$3,$A$4:$Y$4) -> 5 | F23: =LOOKUP(V23,$A$3:$Y$3,$A$4:$Y$4) -> 6 | G23: =LOOKUP(W23,$A$3:$Y$3,$A$4:$Y$4) -> 10 | H23: =LOOKUP(X23,$A$3:$Y$3,$A$4:$Y$4) -> 11 | ... O23: =LOOKUP(AE23,$A$3:$Y$3,$A$4:$Y$4) -> 20 | Q23: 1 | R23: 2 | S23: 3 | T23: 4 | U23: 5 | V23: 6 | W23: 10 | X23: 11 | Y23: 12 | Z23: 13 | AA23: 14 | AB23: 17 | AC23: 18 | AD23: 19 | AE23: 20 | AG23: =LOOKUP(BE23,$AG$1:$BE$1,$AG$2:$BE$2) -> 1 | AH23: =LOOKUP(BF23,$AG$1:$BE$1,$AG$2:$BE$2) -> 2 | AI23: =LOOKUP(BG23,$AG$1:$BE$1,$AG$2:$BE$2) -> 3 | AJ23: =LOOKUP(BH23,$AG$1:$BE$1,$AG$2:$BE$2) -> 4 | AK23: =LOOKUP(BI23,$AG$1:$BE$1,$AG$2:$BE$2) -> 5 | AL23: =LOOKUP(BJ23,$AG$1:$BE$1,$AG$2:$BE$2) -> 7 | AM23: =LOOKUP(BK23,$AG$1:$BE$1,$AG$2:$BE$2) -> 8 | AN23: =LOOKUP(BL23,$AG$1:$BE$1,$AG$2:$BE$2) -> 9 | ... AU23: =LOOKUP(BS23,$AG$1:$BE$1,$AG$2:$BE$2) -> 25 | BE23: 1 | BF23: 2 | BG23: 3 | BH23: 4 | BI23: 5 | BJ23: 7 | BK23: 8 | BL23: 9 | BM23: 12 | BN23: 13 | BO23: 15 | BP23: 16 | BQ23: 18 | BR23: 19 | BS23: 20 | CX23: =LOOKUP(DO23,$CX$1:$DV$1,$CX$2:$DV$2) -> 1 | CY23: =LOOKUP(DP23,$CX$1:$DV$1,$CX$2:$DV$2) -> 2 | CZ23: =LOOKUP(DQ23,$CX$1:$DV$1,$CX$2:$DV$2) -> 3 | DA23: =LOOKUP(DR23,$CX$1:$DV$1,$CX$2:$DV$2) -> 5 | DB23: =LOOKUP(DS23,$CX$1:$DV$1,$CX$2:$DV$2) -> 6 | DC23: =LOOKUP(DT23,$CX$1:$DV$1,$CX$2:$DV$2) -> 8 | DD23: =LOOKUP(DU23,$CX$1:$DV$1,$CX$2:$DV$2) -> 10 | DE23: =LOOKUP(DV23,$CX$1:$DV$1,$CX$2:$DV$2) -> 11 | ... DL23: =LOOKUP(EC23,$CX$1:$DV$1,$CX$2:$DV$2) -> 25 | DO23: 1 | DP23: 2 | DQ23: 3 | DR23: 5 | DS23: 6 | DT23: 8 | DU23: 10 | DV23: 11 | DW23: 12 | DX23: 13 | DY23: 16 | DZ23: 17 | EA23: 18 | EB23: 19 | EC23: 20 | FE23: =LOOKUP(FU23,$FE$1:$GC$1,$FE$2:$GC$2) -> 1 | FF23: =LOOKUP(FV23,$FE$1:$GC$1,$FE$2:$GC$2) -> 2 | FG23: =LOOKUP(FW23,$FE$1:$GC$1,$FE$2:$GC$2) -> 3 | FH23: =LOOKUP(FX23,$FE$1:$GC$1,$FE$2:$GC$2) -> 4 | FI23: =LOOKUP(FY23,$FE$1:$GC$1,$FE$2:$GC$2) -> 5 | FJ23: =LOOKUP(FZ23,$FE$1:$GC$1,$FE$2:$GC$2) -> 6 | FK23: =LOOKUP(GA23,$FE$1:$GC$1,$FE$2:$GC$2) -> 7 | FL23: =LOOKUP(GB23,$FE$1:$GC$1,$FE$2:$GC$2) -> 8 | ... FS23: =LOOKUP(GI23,$FE$1:$GC$1,$FE$2:$GC$2) -> 24 | FU23: 1 | FV23: 2 | FW23: 3 | FX23: 4 | FY23: 5 | FZ23: 6 | GA23: 7 | GB23: 8 | GC23: 9 | GD23: 10 | GE23: 11 | GF23: 12 | GG23: 13 | GH23: 17 | GI23: 19 | HK23: =LOOKUP(IC23,$A$3:$T$3,$A$4:$T$4) -> 1 | HL23: =LOOKUP(ID23,$A$3:$T$3,$A$4:$T$4) -> 3 | HM23: =LOOKUP(IE23,$A$3:$T$3,$A$4:$T$4) -> 4 | HN23: =LOOKUP(IF23,$A$3:$T$3,$A$4:$T$4) -> 5 | HO23: =LOOKUP(IG23,$A$3:$T$3,$A$4:$T$4) -> 6 | HP23: =LOOKUP(IH23,$A$3:$T$3,$A$4:$T$4) -> 7 | HQ23: =LOOKUP(II23,$A$3:$T$3,$A$4:$T$4) -> 8 | HR23: =LOOKUP(IJ23,$A$3:$T$3,$A$4:$T$4) -> 9 | ... HY23: =LOOKUP(IQ23,$A$3:$T$3,$A$4:$T$4) -> 20 | IC23: 1 | ID23: 3 | IE23: 4 | IF23: 5 | IG23: 6 | IH23: 7 | II23: 8 | IJ23: 9 | IK23: 11 | IL23: 12 | IM23: 13 | IN23: 14 | IO23: 16 | IP23: 17 | IQ23: 20 | IS23: =LOOKUP(JI23,$A$3:$Y$3,$A$4:$AE$4) -> 1 | IT23: =LOOKUP(JJ23,$A$3:$Y$3,$A$4:$AE$4) -> 2 | IU23: =LOOKUP(JK23,$A$3:$Y$3,$A$4:$AE$4) -> 3 | IV23: =LOOKUP(JL23,$A$3:$Y$3,$A$4:$AE$4) -> 4 | IW23: =LOOKUP(JM23,$A$3:$Y$3,$A$4:$AE$4) -> 5 | IX23: =LOOKUP(JN23,$A$3:$Y$3,$A$4:$AE$4) -> 6 | IY23: =LOOKUP(JO23,$A$3:$Y$3,$A$4:$AE$4) -> 7 | IZ23: =LOOKUP(JP23,$A$3:$Y$3,$A$4:$AE$4) -> 9 | ... JG23: =LOOKUP(JW23,$A$3:$Y$3,$A$4:$AE$4) -> 20 | JI23: 1 | JJ23: 2 | JK23: 3 | JL23: 4 | JM23: 5 | JN23: 6 | JO23: 7 | JP23: 9 | JQ23: 10 | JR23: 14 | JS23: 15 | JT23: 16 | JU23: 18 | JV23: 19 | JW23: 20
A24: =LOOKUP(Q24,$A$3:$Y$3,$A$4:$Y$4) -> 1 | B24: =LOOKUP(R24,$A$3:$Y$3,$A$4:$Y$4) -> 2 | C24: =LOOKUP(S24,$A$3:$Y$3,$A$4:$Y$4) -> 3 | D24: =LOOKUP(T24,$A$3:$Y$3,$A$4:$Y$4) -> 4 | E24: =LOOKUP(U24,$A$3:$Y$3,$A$4:$Y$4) -> 5 | F24: =LOOKUP(V24,$A$3:$Y$3,$A$4:$Y$4) -> 7 | G24: =LOOKUP(W24,$A$3:$Y$3,$A$4:$Y$4) -> 8 | H24: =LOOKUP(X24,$A$3:$Y$3,$A$4:$Y$4) -> 9 | ... O24: =LOOKUP(AE24,$A$3:$Y$3,$A$4:$Y$4) -> 20 | Q24: 1 | R24: 2 | S24: 3 | T24: 4 | U24: 5 | V24: 7 | W24: 8 | X24: 9 | Y24: 10 | Z24: 11 | AA24: 12 | AB24: 16 | AC24: 17 | AD24: 19 | AE24: 20 | AG24: =LOOKUP(BE24,$AG$1:$BE$1,$AG$2:$BE$2) -> 1 | AH24: =LOOKUP(BF24,$AG$1:$BE$1,$AG$2:$BE$2) -> 2 | AI24: =LOOKUP(BG24,$AG$1:$BE$1,$AG$2:$BE$2) -> 3 | AJ24: =LOOKUP(BH24,$AG$1:$BE$1,$AG$2:$BE$2) -> 4 | AK24: =LOOKUP(BI24,$AG$1:$BE$1,$AG$2:$BE$2) -> 5 | AL24: =LOOKUP(BJ24,$AG$1:$BE$1,$AG$2:$BE$2) -> 7 | AM24: =LOOKUP(BK24,$AG$1:$BE$1,$AG$2:$BE$2) -> 8 | AN24: =LOOKUP(BL24,$AG$1:$BE$1,$AG$2:$BE$2) -> 9 | ... AU24: =LOOKUP(BS24,$AG$1:$BE$1,$AG$2:$BE$2) -> 25 | BE24: 1 | BF24: 2 | BG24: 3 | BH24: 4 | BI24: 5 | BJ24: 7 | BK24: 8 | BL24: 9 | BM24: 13 | BN24: 14 | BO24: 16 | BP24: 17 | BQ24: 18 | BR24: 19 | BS24: 20 | CX24: =LOOKUP(DO24,$CX$1:$DV$1,$CX$2:$DV$2) -> 1 | CY24: =LOOKUP(DP24,$CX$1:$DV$1,$CX$2:$DV$2) -> 2 | CZ24: =LOOKUP(DQ24,$CX$1:$DV$1,$CX$2:$DV$2) -> 3 | DA24: =LOOKUP(DR24,$CX$1:$DV$1,$CX$2:$DV$2) -> 5 | DB24: =LOOKUP(DS24,$CX$1:$DV$1,$CX$2:$DV$2) -> 6 | DC24: =LOOKUP(DT24,$CX$1:$DV$1,$CX$2:$DV$2) -> 9 | DD24: =LOOKUP(DU24,$CX$1:$DV$1,$CX$2:$DV$2) -> 10 | DE24: =LOOKUP(DV24,$CX$1:$DV$1,$CX$2:$DV$2) -> 11 | ... DL24: =LOOKUP(EC24,$CX$1:$DV$1,$CX$2:$DV$2) -> 25 | DO24: 1 | DP24: 2 | DQ24: 3 | DR24: 5 | DS24: 6 | DT24: 9 | DU24: 10 | DV24: 11 | DW24: 12 | DX24: 13 | DY24: 16 | DZ24: 17 | EA24: 18 | EB24: 19 | EC24: 20 | FE24: =LOOKUP(FU24,$FE$1:$GC$1,$FE$2:$GC$2) -> 1 | FF24: =LOOKUP(FV24,$FE$1:$GC$1,$FE$2:$GC$2) -> 2 | FG24: =LOOKUP(FW24,$FE$1:$GC$1,$FE$2:$GC$2) -> 3 | FH24: =LOOKUP(FX24,$FE$1:$GC$1,$FE$2:$GC$2) -> 4 | FI24: =LOOKUP(FY24,$FE$1:$GC$1,$FE$2:$GC$2) -> 5 | FJ24: =LOOKUP(FZ24,$FE$1:$GC$1,$FE$2:$GC$2) -> 6 | FK24: =LOOKUP(GA24,$FE$1:$GC$1,$FE$2:$GC$2) -> 7 | FL24: =LOOKUP(GB24,$FE$1:$GC$1,$FE$2:$GC$2) -> 8 | ... FS24: =LOOKUP(GI24,$FE$1:$GC$1,$FE$2:$GC$2) -> 25 | FU24: 1 | FV24: 2 | FW24: 3 | FX24: 4 | FY24: 5 | FZ24: 6 | GA24: 7 | GB24: 8 | GC24: 9 | GD24: 10 | GE24: 11 | GF24: 12 | GG24: 13 | GH24: 17 | GI24: 20 | HK24: =LOOKUP(IC24,$A$3:$T$3,$A$4:$T$4) -> 1 | HL24: =LOOKUP(ID24,$A$3:$T$3,$A$4:$T$4) -> 3 | HM24: =LOOKUP(IE24,$A$3:$T$3,$A$4:$T$4) -> 4 | HN24: =LOOKUP(IF24,$A$3:$T$3,$A$4:$T$4) -> 5 | HO24: =LOOKUP(IG24,$A$3:$T$3,$A$4:$T$4) -> 6 | HP24: =LOOKUP(IH24,$A$3:$T$3,$A$4:$T$4) -> 8 | HQ24: =LOOKUP(II24,$A$3:$T$3,$A$4:$T$4) -> 10 | HR24: =LOOKUP(IJ24,$A$3:$T$3,$A$4:$T$4) -> 12 | ... HY24: =LOOKUP(IQ24,$A$3:$T$3,$A$4:$T$4) -> 20 | IC24: 1 | ID24: 3 | IE24: 4 | IF24: 5 | IG24: 6 | IH24: 8 | II24: 10 | IJ24: 12 | IK24: 13 | IL24: 14 | IM24: 15 | IN24: 16 | IO24: 18 | IP24: 19 | IQ24: 20 | IS24: =LOOKUP(JI24,$A$3:$Y$3,$A$4:$AE$4) -> 1 | IT24: =LOOKUP(JJ24,$A$3:$Y$3,$A$4:$AE$4) -> 2 | IU24: =LOOKUP(JK24,$A$3:$Y$3,$A$4:$AE$4) -> 3 | IV24: =LOOKUP(JL24,$A$3:$Y$3,$A$4:$AE$4) -> 4 | IW24: =LOOKUP(JM24,$A$3:$Y$3,$A$4:$AE$4) -> 5 | IX24: =LOOKUP(JN24,$A$3:$Y$3,$A$4:$AE$4) -> 6 | IY24: =LOOKUP(JO24,$A$3:$Y$3,$A$4:$AE$4) -> 7 | IZ24: =LOOKUP(JP24,$A$3:$Y$3,$A$4:$AE$4) -> 9 | ... JG24: =LOOKUP(JW24,$A$3:$Y$3,$A$4:$AE$4) -> 20 | JI24: 1 | JJ24: 2 | JK24: 3 | JL24: 4 | JM24: 5 | JN24: 6 | JO24: 7 | JP24: 9 | JQ24: 11 | JR24: 12 | JS24: 15 | JT24: 16 | JU24: 17 | JV24: 19 | JW24: 20
A25: =LOOKUP(Q25,$A$3:$Y$3,$A$4:$Y$4) -> 1 | B25: =LOOKUP(R25,$A$3:$Y$3,$A$4:$Y$4) -> 2 | C25: =LOOKUP(S25,$A$3:$Y$3,$A$4:$Y$4) -> 3 | D25: =LOOKUP(T25,$A$3:$Y$3,$A$4:$Y$4) -> 4 | E25: =LOOKUP(U25,$A$3:$Y$3,$A$4:$Y$4) -> 5 | F25: =LOOKUP(V25,$A$3:$Y$3,$A$4:$Y$4) -> 7 | G25: =LOOKUP(W25,$A$3:$Y$3,$A$4:$Y$4) -> 8 | H25: =LOOKUP(X25,$A$3:$Y$3,$A$4:$Y$4) -> 9 | ... O25: =LOOKUP(AE25,$A$3:$Y$3,$A$4:$Y$4) -> 19 | Q25: 1 | R25: 2 | S25: 3 | T25: 4 | U25: 5 | V25: 7 | W25: 8 | X25: 9 | Y25: 10 | Z25: 11 | AA25: 13 | AB25: 14 | AC25: 17 | AD25: 18 | AE25: 19 | AG25: =LOOKUP(BE25,$AG$1:$BE$1,$AG$2:$BE$2) -> 1 | AH25: =LOOKUP(BF25,$AG$1:$BE$1,$AG$2:$BE$2) -> 2 | AI25: =LOOKUP(BG25,$AG$1:$BE$1,$AG$2:$BE$2) -> 3 | AJ25: =LOOKUP(BH25,$AG$1:$BE$1,$AG$2:$BE$2) -> 4 | AK25: =LOOKUP(BI25,$AG$1:$BE$1,$AG$2:$BE$2) -> 5 | AL25: =LOOKUP(BJ25,$AG$1:$BE$1,$AG$2:$BE$2) -> 7 | AM25: =LOOKUP(BK25,$AG$1:$BE$1,$AG$2:$BE$2) -> 8 | AN25: =LOOKUP(BL25,$AG$1:$BE$1,$AG$2:$BE$2) -> 10 | ... AU25: =LOOKUP(BS25,$AG$1:$BE$1,$AG$2:$BE$2) -> 25 | BE25: 1 | BF25: 2 | BG25: 3 | BH25: 4 | BI25: 5 | BJ25: 7 | BK25: 8 | BL25: 10 | BM25: 11 | BN25: 12 | BO25: 14 | BP25: 17 | BQ25: 18 | BR25: 19 | BS25: 20 | CX25: =LOOKUP(DO25,$CX$1:$DV$1,$CX$2:$DV$2) -> 1 | CY25: =LOOKUP(DP25,$CX$1:$DV$1,$CX$2:$DV$2) -> 2 | CZ25: =LOOKUP(DQ25,$CX$1:$DV$1,$CX$2:$DV$2) -> 3 | DA25: =LOOKUP(DR25,$CX$1:$DV$1,$CX$2:$DV$2) -> 5 | DB25: =LOOKUP(DS25,$CX$1:$DV$1,$CX$2:$DV$2) -> 6 | DC25: =LOOKUP(DT25,$CX$1:$DV$1,$CX$2:$DV$2) -> 10 | DD25: =LOOKUP(DU25,$CX$1:$DV$1,$CX$2:$DV$2) -> 11 | DE25: =LOOKUP(DV25,$CX$1:$DV$1,$CX$2:$DV$2) -> 12 | ... DL25: =LOOKUP(EC25,$CX$1:$DV$1,$CX$2:$DV$2) -> 25 | DO25: 1 | DP25: 2 | DQ25: 3 | DR25: 5 | DS25: 6 | DT25: 10 | DU25: 11 | DV25: 12 | DW25: 13 | DX25: 14 | DY25: 16 | DZ25: 17 | EA25: 18 | EB25: 19 | EC25: 20 | FE25: =LOOKUP(FU25,$FE$1:$GC$1,$FE$2:$GC$2) -> 1 | FF25: =LOOKUP(FV25,$FE$1:$GC$1,$FE$2:$GC$2) -> 2 | FG25: =LOOKUP(FW25,$FE$1:$GC$1,$FE$2:$GC$2) -> 3 | FH25: =LOOKUP(FX25,$FE$1:$GC$1,$FE$2:$GC$2) -> 4 | FI25: =LOOKUP(FY25,$FE$1:$GC$1,$FE$2:$GC$2) -> 5 | FJ25: =LOOKUP(FZ25,$FE$1:$GC$1,$FE$2:$GC$2) -> 6 | FK25: =LOOKUP(GA25,$FE$1:$GC$1,$FE$2:$GC$2) -> 7 | FL25: =LOOKUP(GB25,$FE$1:$GC$1,$FE$2:$GC$2) -> 8 | ... FS25: =LOOKUP(GI25,$FE$1:$GC$1,$FE$2:$GC$2) -> 24 | FU25: 1 | FV25: 2 | FW25: 3 | FX25: 4 | FY25: 5 | FZ25: 6 | GA25: 7 | GB25: 8 | GC25: 9 | GD25: 10 | GE25: 11 | GF25: 12 | GG25: 13 | GH25: 18 | GI25: 19 | HK25: =LOOKUP(IC25,$A$3:$T$3,$A$4:$T$4) -> 1 | HL25: =LOOKUP(ID25,$A$3:$T$3,$A$4:$T$4) -> 3 | HM25: =LOOKUP(IE25,$A$3:$T$3,$A$4:$T$4) -> 4 | HN25: =LOOKUP(IF25,$A$3:$T$3,$A$4:$T$4) -> 5 | HO25: =LOOKUP(IG25,$A$3:$T$3,$A$4:$T$4) -> 6 | HP25: =LOOKUP(IH25,$A$3:$T$3,$A$4:$T$4) -> 9 | HQ25: =LOOKUP(II25,$A$3:$T$3,$A$4:$T$4) -> 11 | HR25: =LOOKUP(IJ25,$A$3:$T$3,$A$4:$T$4) -> 12 | ... HY25: =LOOKUP(IQ25,$A$3:$T$3,$A$4:$T$4) -> 19 | IC25: 1 | ID25: 3 | IE25: 4 | IF25: 5 | IG25: 6 | IH25: 9 | II25: 11 | IJ25: 12 | IK25: 13 | IL25: 14 | IM25: 15 | IN25: 16 | IO25: 17 | IP25: 18 | IQ25: 19 | IS25: =LOOKUP(JI25,$A$3:$Y$3,$A$4:$AE$4) -> 1 | IT25: =LOOKUP(JJ25,$A$3:$Y$3,$A$4:$AE$4) -> 2 | IU25: =LOOKUP(JK25,$A$3:$Y$3,$A$4:$AE$4) -> 3 | IV25: =LOOKUP(JL25,$A$3:$Y$3,$A$4:$AE$4) -> 4 | IW25: =LOOKUP(JM25,$A$3:$Y$3,$A$4:$AE$4) -> 5 | IX25: =LOOKUP(JN25,$A$3:$Y$3,$A$4:$AE$4) -> 6 | IY25: =LOOKUP(JO25,$A$3:$Y$3,$A$4:$AE$4) -> 7 | IZ25: =LOOKUP(JP25,$A$3:$Y$3,$A$4:$AE$4) -> 9 | ... JG25: =LOOKUP(JW25,$A$3:$Y$3,$A$4:$AE$4) -> 20 | JI25: 1 | JJ25: 2 | JK25: 3 | JL25: 4 | JM25: 5 | JN25: 6 | JO25: 7 | JP25: 9 | JQ25: 11 | JR25: 13 | JS25: 14 | JT25: 15 | JU25: 18 | JV25: 19 | JW25: 20
A26: =LOOKUP(Q26,$A$3:$Y$3,$A$4:$Y$4) -> 1 | B26: =LOOKUP(R26,$A$3:$Y$3,$A$4:$Y$4) -> 2 | C26: =LOOKUP(S26,$A$3:$Y$3,$A$4:$Y$4) -> 3 | D26: =LOOKUP(T26,$A$3:$Y$3,$A$4:$Y$4) -> 4 | E26: =LOOKUP(U26,$A$3:$Y$3,$A$4:$Y$4) -> 5 | F26: =LOOKUP(V26,$A$3:$Y$3,$A$4:$Y$4) -> 7 | G26: =LOOKUP(W26,$A$3:$Y$3,$A$4:$Y$4) -> 8 | H26: =LOOKUP(X26,$A$3:$Y$3,$A$4:$Y$4) -> 9 | ... O26: =LOOKUP(AE26,$A$3:$Y$3,$A$4:$Y$4) -> 20 | Q26: 1 | R26: 2 | S26: 3 | T26: 4 | U26: 5 | V26: 7 | W26: 8 | X26: 9 | Y26: 12 | Z26: 13 | AA26: 14 | AB26: 15 | AC26: 17 | AD26: 19 | AE26: 20 | AG26: =LOOKUP(BE26,$AG$1:$BE$1,$AG$2:$BE$2) -> 1 | AH26: =LOOKUP(BF26,$AG$1:$BE$1,$AG$2:$BE$2) -> 2 | AI26: =LOOKUP(BG26,$AG$1:$BE$1,$AG$2:$BE$2) -> 3 | AJ26: =LOOKUP(BH26,$AG$1:$BE$1,$AG$2:$BE$2) -> 4 | AK26: =LOOKUP(BI26,$AG$1:$BE$1,$AG$2:$BE$2) -> 5 | AL26: =LOOKUP(BJ26,$AG$1:$BE$1,$AG$2:$BE$2) -> 7 | AM26: =LOOKUP(BK26,$AG$1:$BE$1,$AG$2:$BE$2) -> 9 | AN26: =LOOKUP(BL26,$AG$1:$BE$1,$AG$2:$BE$2) -> 10 | ... AU26: =LOOKUP(BS26,$AG$1:$BE$1,$AG$2:$BE$2) -> 25 | BE26: 1 | BF26: 2 | BG26: 3 | BH26: 4 | BI26: 5 | BJ26: 7 | BK26: 9 | BL26: 10 | BM26: 11 | BN26: 14 | BO26: 15 | BP26: 16 | BQ26: 18 | BR26: 19 | BS26: 20 | CX26: =LOOKUP(DO26,$CX$1:$DV$1,$CX$2:$DV$2) -> 1 | CY26: =LOOKUP(DP26,$CX$1:$DV$1,$CX$2:$DV$2) -> 2 | CZ26: =LOOKUP(DQ26,$CX$1:$DV$1,$CX$2:$DV$2) -> 3 | DA26: =LOOKUP(DR26,$CX$1:$DV$1,$CX$2:$DV$2) -> 5 | DB26: =LOOKUP(DS26,$CX$1:$DV$1,$CX$2:$DV$2) -> 7 | DC26: =LOOKUP(DT26,$CX$1:$DV$1,$CX$2:$DV$2) -> 9 | DD26: =LOOKUP(DU26,$CX$1:$DV$1,$CX$2:$DV$2) -> 10 | DE26: =LOOKUP(DV26,$CX$1:$DV$1,$CX$2:$DV$2) -> 13 | ... DL26: =LOOKUP(EC26,$CX$1:$DV$1,$CX$2:$DV$2) -> 25 | DO26: 1 | DP26: 2 | DQ26: 3 | DR26: 5 | DS26: 7 | DT26: 9 | DU26: 10 | DV26: 13 | DW26: 14 | DX26: 15 | DY26: 16 | DZ26: 17 | EA26: 18 | EB26: 19 | EC26: 20 | FE26: =LOOKUP(FU26,$FE$1:$GC$1,$FE$2:$GC$2) -> 1 | FF26: =LOOKUP(FV26,$FE$1:$GC$1,$FE$2:$GC$2) -> 2 | FG26: =LOOKUP(FW26,$FE$1:$GC$1,$FE$2:$GC$2) -> 3 | FH26: =LOOKUP(FX26,$FE$1:$GC$1,$FE$2:$GC$2) -> 4 | FI26: =LOOKUP(FY26,$FE$1:$GC$1,$FE$2:$GC$2) -> 5 | FJ26: =LOOKUP(FZ26,$FE$1:$GC$1,$FE$2:$GC$2) -> 6 | FK26: =LOOKUP(GA26,$FE$1:$GC$1,$FE$2:$GC$2) -> 7 | FL26: =LOOKUP(GB26,$FE$1:$GC$1,$FE$2:$GC$2) -> 8 | ... FS26: =LOOKUP(GI26,$FE$1:$GC$1,$FE$2:$GC$2) -> 25 | FU26: 1 | FV26: 2 | FW26: 3 | FX26: 4 | FY26: 5 | FZ26: 6 | GA26: 7 | GB26: 8 | GC26: 9 | GD26: 10 | GE26: 11 | GF26: 12 | GG26: 13 | GH26: 18 | GI26: 20 | HK26: =LOOKUP(IC26,$A$3:$T$3,$A$4:$T$4) -> 1 | HL26: =LOOKUP(ID26,$A$3:$T$3,$A$4:$T$4) -> 3 | HM26: =LOOKUP(IE26,$A$3:$T$3,$A$4:$T$4) -> 4 | HN26: =LOOKUP(IF26,$A$3:$T$3,$A$4:$T$4) -> 5 | HO26: =LOOKUP(IG26,$A$3:$T$3,$A$4:$T$4) -> 7 | HP26: =LOOKUP(IH26,$A$3:$T$3,$A$4:$T$4) -> 8 | HQ26: =LOOKUP(II26,$A$3:$T$3,$A$4:$T$4) -> 9 | HR26: =LOOKUP(IJ26,$A$3:$T$3,$A$4:$T$4) -> 10 | ... HY26: =LOOKUP(IQ26,$A$3:$T$3,$A$4:$T$4) -> 20 | IC26: 1 | ID26: 3 | IE26: 4 | IF26: 5 | IG26: 7 | IH26: 8 | II26: 9 | IJ26: 10 | IK26: 11 | IL26: 13 | IM26: 14 | IN26: 15 | IO26: 18 | IP26: 19 | IQ26: 20 | IS26: =LOOKUP(JI26,$A$3:$Y$3,$A$4:$AE$4) -> 1 | IT26: =LOOKUP(JJ26,$A$3:$Y$3,$A$4:$AE$4) -> 2 | IU26: =LOOKUP(JK26,$A$3:$Y$3,$A$4:$AE$4) -> 3 | IV26: =LOOKUP(JL26,$A$3:$Y$3,$A$4:$AE$4) -> 4 | IW26: =LOOKUP(JM26,$A$3:$Y$3,$A$4:$AE$4) -> 5 | IX26: =LOOKUP(JN26,$A$3:$Y$3,$A$4:$AE$4) -> 6 | IY26: =LOOKUP(JO26,$A$3:$Y$3,$A$4:$AE$4) -> 7 | IZ26: =LOOKUP(JP26,$A$3:$Y$3,$A$4:$AE$4) -> 9 | ... JG26: =LOOKUP(JW26,$A$3:$Y$3,$A$4:$AE$4) -> 19 | JI26: 1 | JJ26: 2 | JK26: 3 | JL26: 4 | JM26: 5 | JN26: 6 | JO26: 7 | JP26: 9 | JQ26: 11 | JR26: 14 | JS26: 15 | JT26: 16 | JU26: 17 | JV26: 18 | JW26: 19
A27: =LOOKUP(Q27,$A$3:$Y$3,$A$4:$Y$4) -> 1 | B27: =LOOKUP(R27,$A$3:$Y$3,$A$4:$Y$4) -> 2 | C27: =LOOKUP(S27,$A$3:$Y$3,$A$4:$Y$4) -> 3 | D27: =LOOKUP(T27,$A$3:$Y$3,$A$4:$Y$4) -> 4 | E27: =LOOKUP(U27,$A$3:$Y$3,$A$4:$Y$4) -> 5 | F27: =LOOKUP(V27,$A$3:$Y$3,$A$4:$Y$4) -> 7 | G27: =LOOKUP(W27,$A$3:$Y$3,$A$4:$Y$4) -> 8 | H27: =LOOKUP(X27,$A$3:$Y$3,$A$4:$Y$4) -> 10 | ... O27: =LOOKUP(AE27,$A$3:$Y$3,$A$4:$Y$4) -> 20 | Q27: 1 | R27: 2 | S27: 3 | T27: 4 | U27: 5 | V27: 7 | W27: 8 | X27: 10 | Y27: 11 | Z27: 12 | AA27: 13 | AB27: 14 | AC27: 16 | AD27: 19 | AE27: 20 | AG27: =LOOKUP(BE27,$AG$1:$BE$1,$AG$2:$BE$2) -> 1 | AH27: =LOOKUP(BF27,$AG$1:$BE$1,$AG$2:$BE$2) -> 2 | AI27: =LOOKUP(BG27,$AG$1:$BE$1,$AG$2:$BE$2) -> 3 | AJ27: =LOOKUP(BH27,$AG$1:$BE$1,$AG$2:$BE$2) -> 4 | AK27: =LOOKUP(BI27,$AG$1:$BE$1,$AG$2:$BE$2) -> 5 | AL27: =LOOKUP(BJ27,$AG$1:$BE$1,$AG$2:$BE$2) -> 7 | AM27: =LOOKUP(BK27,$AG$1:$BE$1,$AG$2:$BE$2) -> 9 | AN27: =LOOKUP(BL27,$AG$1:$BE$1,$AG$2:$BE$2) -> 10 | ... AU27: =LOOKUP(BS27,$AG$1:$BE$1,$AG$2:$BE$2) -> 25 | BE27: 1 | BF27: 2 | BG27: 3 | BH27: 4 | BI27: 5 | BJ27: 7 | BK27: 9 | BL27: 10 | BM27: 12 | BN27: 13 | BO27: 15 | BP27: 17 | BQ27: 18 | BR27: 19 | BS27: 20 | CX27: =LOOKUP(DO27,$CX$1:$DV$1,$CX$2:$DV$2) -> 1 | CY27: =LOOKUP(DP27,$CX$1:$DV$1,$CX$2:$DV$2) -> 2 | CZ27: =LOOKUP(DQ27,$CX$1:$DV$1,$CX$2:$DV$2) -> 3 | DA27: =LOOKUP(DR27,$CX$1:$DV$1,$CX$2:$DV$2) -> 5 | DB27: =LOOKUP(DS27,$CX$1:$DV$1,$CX$2:$DV$2) -> 8 | DC27: =LOOKUP(DT27,$CX$1:$DV$1,$CX$2:$DV$2) -> 9 | DD27: =LOOKUP(DU27,$CX$1:$DV$1,$CX$2:$DV$2) -> 11 | DE27: =LOOKUP(DV27,$CX$1:$DV$1,$CX$2:$DV$2) -> 12 | ... DL27: =LOOKUP(EC27,$CX$1:$DV$1,$CX$2:$DV$2) -> 25 | DO27: 1 | DP27: 2 | DQ27: 3 | DR27: 5 | DS27: 8 | DT27: 9 | DU27: 11 | DV27: 12 | DW27: 13 | DX27: 14 | DY27: 16 | DZ27: 17 | EA27: 18 | EB27: 19 | EC27: 20 | FE27: =LOOKUP(FU27,$FE$1:$GC$1,$FE$2:$GC$2) -> 1 | FF27: =LOOKUP(FV27,$FE$1:$GC$1,$FE$2:$GC$2) -> 2 | FG27: =LOOKUP(FW27,$FE$1:$GC$1,$FE$2:$GC$2) -> 3 | FH27: =LOOKUP(FX27,$FE$1:$GC$1,$FE$2:$GC$2) -> 4 | FI27: =LOOKUP(FY27,$FE$1:$GC$1,$FE$2:$GC$2) -> 5 | FJ27: =LOOKUP(FZ27,$FE$1:$GC$1,$FE$2:$GC$2) -> 6 | FK27: =LOOKUP(GA27,$FE$1:$GC$1,$FE$2:$GC$2) -> 7 | FL27: =LOOKUP(GB27,$FE$1:$GC$1,$FE$2:$GC$2) -> 8 | ... FS27: =LOOKUP(GI27,$FE$1:$GC$1,$FE$2:$GC$2) -> 25 | FU27: 1 | FV27: 2 | FW27: 3 | FX27: 4 | FY27: 5 | FZ27: 6 | GA27: 7 | GB27: 8 | GC27: 9 | GD27: 10 | GE27: 11 | GF27: 12 | GG27: 13 | GH27: 19 | GI27: 20 | HK27: =LOOKUP(IC27,$A$3:$T$3,$A$4:$T$4) -> 1 | HL27: =LOOKUP(ID27,$A$3:$T$3,$A$4:$T$4) -> 3 | HM27: =LOOKUP(IE27,$A$3:$T$3,$A$4:$T$4) -> 4 | HN27: =LOOKUP(IF27,$A$3:$T$3,$A$4:$T$4) -> 6 | HO27: =LOOKUP(IG27,$A$3:$T$3,$A$4:$T$4) -> 7 | HP27: =LOOKUP(IH27,$A$3:$T$3,$A$4:$T$4) -> 8 | HQ27: =LOOKUP(II27,$A$3:$T$3,$A$4:$T$4) -> 10 | HR27: =LOOKUP(IJ27,$A$3:$T$3,$A$4:$T$4) -> 11 | ... HY27: =LOOKUP(IQ27,$A$3:$T$3,$A$4:$T$4) -> 20 | IC27: 1 | ID27: 3 | IE27: 4 | IF27: 6 | IG27: 7 | IH27: 8 | II27: 10 | IJ27: 11 | IK27: 12 | IL27: 13 | IM27: 14 | IN27: 15 | IO27: 17 | IP27: 18 | IQ27: 20 | IS27: =LOOKUP(JI27,$A$3:$Y$3,$A$4:$AE$4) -> 1 | IT27: =LOOKUP(JJ27,$A$3:$Y$3,$A$4:$AE$4) -> 2 | IU27: =LOOKUP(JK27,$A$3:$Y$3,$A$4:$AE$4) -> 3 | IV27: =LOOKUP(JL27,$A$3:$Y$3,$A$4:$AE$4) -> 4 | IW27: =LOOKUP(JM27,$A$3:$Y$3,$A$4:$AE$4) -> 5 | IX27: =LOOKUP(JN27,$A$3:$Y$3,$A$4:$AE$4) -> 6 | IY27: =LOOKUP(JO27,$A$3:$Y$3,$A$4:$AE$4) -> 7 | IZ27: =LOOKUP(JP27,$A$3:$Y$3,$A$4:$AE$4) -> 9 | ... JG27: =LOOKUP(JW27,$A$3:$Y$3,$A$4:$AE$4) -> 20 | JI27: 1 | JJ27: 2 | JK27: 3 | JL27: 4 | JM27: 5 | JN27: 6 | JO27: 7 | JP27: 9 | JQ27: 13 | JR27: 14 | JS27: 15 | JT27: 16 | JU27: 17 | JV27: 18 | JW27: 20
A28: =LOOKUP(Q28,$A$3:$Y$3,$A$4:$Y$4) -> 1 | B28: =LOOKUP(R28,$A$3:$Y$3,$A$4:$Y$4) -> 2 | C28: =LOOKUP(S28,$A$3:$Y$3,$A$4:$Y$4) -> 3 | D28: =LOOKUP(T28,$A$3:$Y$3,$A$4:$Y$4) -> 4 | E28: =LOOKUP(U28,$A$3:$Y$3,$A$4:$Y$4) -> 5 | F28: =LOOKUP(V28,$A$3:$Y$3,$A$4:$Y$4) -> 7 | G28: =LOOKUP(W28,$A$3:$Y$3,$A$4:$Y$4) -> 9 | H28: =LOOKUP(X28,$A$3:$Y$3,$A$4:$Y$4) -> 10 | ... O28: =LOOKUP(AE28,$A$3:$Y$3,$A$4:$Y$4) -> 20 | Q28: 1 | R28: 2 | S28: 3 | T28: 4 | U28: 5 | V28: 7 | W28: 9 | X28: 10 | Y28: 11 | Z28: 13 | AA28: 15 | AB28: 16 | AC28: 18 | AD28: 19 | AE28: 20 | AG28: =LOOKUP(BE28,$AG$1:$BE$1,$AG$2:$BE$2) -> 1 | AH28: =LOOKUP(BF28,$AG$1:$BE$1,$AG$2:$BE$2) -> 2 | AI28: =LOOKUP(BG28,$AG$1:$BE$1,$AG$2:$BE$2) -> 3 | AJ28: =LOOKUP(BH28,$AG$1:$BE$1,$AG$2:$BE$2) -> 4 | AK28: =LOOKUP(BI28,$AG$1:$BE$1,$AG$2:$BE$2) -> 5 | AL28: =LOOKUP(BJ28,$AG$1:$BE$1,$AG$2:$BE$2) -> 7 | AM28: =LOOKUP(BK28,$AG$1:$BE$1,$AG$2:$BE$2) -> 10 | AN28: =LOOKUP(BL28,$AG$1:$BE$1,$AG$2:$BE$2) -> 11 | ... AU28: =LOOKUP(BS28,$AG$1:$BE$1,$AG$2:$BE$2) -> 25 | BE28: 1 | BF28: 2 | BG28: 3 | BH28: 4 | BI28: 5 | BJ28: 7 | BK28: 10 | BL28: 11 | BM28: 12 | BN28: 13 | BO28: 14 | BP28: 16 | BQ28: 18 | BR28: 19 | BS28: 20 | CX28: =LOOKUP(DO28,$CX$1:$DV$1,$CX$2:$DV$2) -> 1 | CY28: =LOOKUP(DP28,$CX$1:$DV$1,$CX$2:$DV$2) -> 2 | CZ28: =LOOKUP(DQ28,$CX$1:$DV$1,$CX$2:$DV$2) -> 3 | DA28: =LOOKUP(DR28,$CX$1:$DV$1,$CX$2:$DV$2) -> 6 | DB28: =LOOKUP(DS28,$CX$1:$DV$1,$CX$2:$DV$2) -> 7 | DC28: =LOOKUP(DT28,$CX$1:$DV$1,$CX$2:$DV$2) -> 8 | DD28: =LOOKUP(DU28,$CX$1:$DV$1,$CX$2:$DV$2) -> 9 | DE28: =LOOKUP(DV28,$CX$1:$DV$1,$CX$2:$DV$2) -> 10 | ... DL28: =LOOKUP(EC28,$CX$1:$DV$1,$CX$2:$DV$2) -> 25 | DO28: 1 | DP28: 2 | DQ28: 3 | DR28: 6 | DS28: 7 | DT28: 8 | DU28: 9 | DV28: 10 | DW28: 11 | DX28: 15 | DY28: 16 | DZ28: 17 | EA28: 18 | EB28: 19 | EC28: 20 | FE28: =LOOKUP(FU28,$FE$1:$GC$1,$FE$2:$GC$2) -> 1 | FF28: =LOOKUP(FV28,$FE$1:$GC$1,$FE$2:$GC$2) -> 2 | FG28: =LOOKUP(FW28,$FE$1:$GC$1,$FE$2:$GC$2) -> 3 | FH28: =LOOKUP(FX28,$FE$1:$GC$1,$FE$2:$GC$2) -> 4 | FI28: =LOOKUP(FY28,$FE$1:$GC$1,$FE$2:$GC$2) -> 5 | FJ28: =LOOKUP(FZ28,$FE$1:$GC$1,$FE$2:$GC$2) -> 6 | FK28: =LOOKUP(GA28,$FE$1:$GC$1,$FE$2:$GC$2) -> 7 | FL28: =LOOKUP(GB28,$FE$1:$GC$1,$FE$2:$GC$2) -> 8 | ... FS28: =LOOKUP(GI28,$FE$1:$GC$1,$FE$2:$GC$2) -> 16 | FU28: 1 | FV28: 2 | FW28: 3 | FX28: 4 | FY28: 5 | FZ28: 6 | GA28: 7 | GB28: 8 | GC28: 9 | GD28: 10 | GE28: 11 | GF28: 12 | GG28: 14 | GH28: 15 | GI28: 16 | HK28: =LOOKUP(IC28,$A$3:$T$3,$A$4:$T$4) -> 1 | HL28: =LOOKUP(ID28,$A$3:$T$3,$A$4:$T$4) -> 3 | HM28: =LOOKUP(IE28,$A$3:$T$3,$A$4:$T$4) -> 5 | HN28: =LOOKUP(IF28,$A$3:$T$3,$A$4:$T$4) -> 7 | HO28: =LOOKUP(IG28,$A$3:$T$3,$A$4:$T$4) -> 8 | HP28: =LOOKUP(IH28,$A$3:$T$3,$A$4:$T$4) -> 9 | HQ28: =LOOKUP(II28,$A$3:$T$3,$A$4:$T$4) -> 10 | HR28: =LOOKUP(IJ28,$A$3:$T$3,$A$4:$T$4) -> 11 | ... HY28: =LOOKUP(IQ28,$A$3:$T$3,$A$4:$T$4) -> 20 | IC28: 1 | ID28: 3 | IE28: 5 | IF28: 7 | IG28: 8 | IH28: 9 | II28: 10 | IJ28: 11 | IK28: 12 | IL28: 13 | IM28: 14 | IN28: 17 | IO28: 18 | IP28: 19 | IQ28: 20 | IS28: =LOOKUP(JI28,$A$3:$Y$3,$A$4:$AE$4) -> 1 | IT28: =LOOKUP(JJ28,$A$3:$Y$3,$A$4:$AE$4) -> 2 | IU28: =LOOKUP(JK28,$A$3:$Y$3,$A$4:$AE$4) -> 3 | IV28: =LOOKUP(JL28,$A$3:$Y$3,$A$4:$AE$4) -> 4 | IW28: =LOOKUP(JM28,$A$3:$Y$3,$A$4:$AE$4) -> 5 | IX28: =LOOKUP(JN28,$A$3:$Y$3,$A$4:$AE$4) -> 6 | IY28: =LOOKUP(JO28,$A$3:$Y$3,$A$4:$AE$4) -> 7 | IZ28: =LOOKUP(JP28,$A$3:$Y$3,$A$4:$AE$4) -> 10 | ... JG28: =LOOKUP(JW28,$A$3:$Y$3,$A$4:$AE$4) -> 20 | JI28: 1 | JJ28: 2 | JK28: 3 | JL28: 4 | JM28: 5 | JN28: 6 | JO28: 7 | JP28: 10 | JQ28: 11 | JR28: 12 | JS28: 13 | JT28: 17 | JU28: 18 | JV28: 19 | JW28: 20
A29: =LOOKUP(Q29,$A$3:$Y$3,$A$4:$Y$4) -> 1 | B29: =LOOKUP(R29,$A$3:$Y$3,$A$4:$Y$4) -> 2 | C29: =LOOKUP(S29,$A$3:$Y$3,$A$4:$Y$4) -> 3 | D29: =LOOKUP(T29,$A$3:$Y$3,$A$4:$Y$4) -> 4 | E29: =LOOKUP(U29,$A$3:$Y$3,$A$4:$Y$4) -> 5 | F29: =LOOKUP(V29,$A$3:$Y$3,$A$4:$Y$4) -> 8 | G29: =LOOKUP(W29,$A$3:$Y$3,$A$4:$Y$4) -> 9 | H29: =LOOKUP(X29,$A$3:$Y$3,$A$4:$Y$4) -> 10 | ... O29: =LOOKUP(AE29,$A$3:$Y$3,$A$4:$Y$4) -> 20 | Q29: 1 | R29: 2 | S29: 3 | T29: 4 | U29: 5 | V29: 8 | W29: 9 | X29: 10 | Y29: 12 | Z29: 13 | AA29: 14 | AB29: 16 | AC29: 17 | AD29: 18 | AE29: 20 | AG29: =LOOKUP(BE29,$AG$1:$BE$1,$AG$2:$BE$2) -> 1 | AH29: =LOOKUP(BF29,$AG$1:$BE$1,$AG$2:$BE$2) -> 2 | AI29: =LOOKUP(BG29,$AG$1:$BE$1,$AG$2:$BE$2) -> 3 | AJ29: =LOOKUP(BH29,$AG$1:$BE$1,$AG$2:$BE$2) -> 4 | AK29: =LOOKUP(BI29,$AG$1:$BE$1,$AG$2:$BE$2) -> 5 | AL29: =LOOKUP(BJ29,$AG$1:$BE$1,$AG$2:$BE$2) -> 8 | AM29: =LOOKUP(BK29,$AG$1:$BE$1,$AG$2:$BE$2) -> 9 | AN29: =LOOKUP(BL29,$AG$1:$BE$1,$AG$2:$BE$2) -> 10 | ... AU29: =LOOKUP(BS29,$AG$1:$BE$1,$AG$2:$BE$2) -> 25 | BE29: 1 | BF29: 2 | BG29: 3 | BH29: 4 | BI29: 5 | BJ29: 8 | BK29: 9 | BL29: 10 | BM29: 11 | BN29: 12 | BO29: 16 | BP29: 17 | BQ29: 18 | BR29: 19 | BS29: 20 | CX29: =LOOKUP(DO29,$CX$1:$DV$1,$CX$2:$DV$2) -> 1 | CY29: =LOOKUP(DP29,$CX$1:$DV$1,$CX$2:$DV$2) -> 2 | CZ29: =LOOKUP(DQ29,$CX$1:$DV$1,$CX$2:$DV$2) -> 3 | DA29: =LOOKUP(DR29,$CX$1:$DV$1,$CX$2:$DV$2) -> 6 | DB29: =LOOKUP(DS29,$CX$1:$DV$1,$CX$2:$DV$2) -> 7 | DC29: =LOOKUP(DT29,$CX$1:$DV$1,$CX$2:$DV$2) -> 8 | DD29: =LOOKUP(DU29,$CX$1:$DV$1,$CX$2:$DV$2) -> 10 | DE29: =LOOKUP(DV29,$CX$1:$DV$1,$CX$2:$DV$2) -> 13 | ... DL29: =LOOKUP(EC29,$CX$1:$DV$1,$CX$2:$DV$2) -> 25 | DO29: 1 | DP29: 2 | DQ29: 3 | DR29: 6 | DS29: 7 | DT29: 8 | DU29: 10 | DV29: 13 | DW29: 14 | DX29: 15 | DY29: 16 | DZ29: 17 | EA29: 18 | EB29: 19 | EC29: 20 | FE29: =LOOKUP(FU29,$FE$1:$GC$1,$FE$2:$GC$2) -> 1 | FF29: =LOOKUP(FV29,$FE$1:$GC$1,$FE$2:$GC$2) -> 2 | FG29: =LOOKUP(FW29,$FE$1:$GC$1,$FE$2:$GC$2) -> 3 | FH29: =LOOKUP(FX29,$FE$1:$GC$1,$FE$2:$GC$2) -> 4 | FI29: =LOOKUP(FY29,$FE$1:$GC$1,$FE$2:$GC$2) -> 5 | FJ29: =LOOKUP(FZ29,$FE$1:$GC$1,$FE$2:$GC$2) -> 6 | FK29: =LOOKUP(GA29,$FE$1:$GC$1,$FE$2:$GC$2) -> 7 | FL29: =LOOKUP(GB29,$FE$1:$GC$1,$FE$2:$GC$2) -> 8 | ... FS29: =LOOKUP(GI29,$FE$1:$GC$1,$FE$2:$GC$2) -> 22 | FU29: 1 | FV29: 2 | FW29: 3 | FX29: 4 | FY29: 5 | FZ29: 6 | GA29: 7 | GB29: 8 | GC29: 9 | GD29: 10 | GE29: 11 | GF29: 12 | GG29: 14 | GH29: 15 | GI29: 17 | HK29: =LOOKUP(IC29,$A$3:$T$3,$A$4:$T$4) -> 1 | HL29: =LOOKUP(ID29,$A$3:$T$3,$A$4:$T$4) -> 2 | HM29: =LOOKUP(IE29,$A$3:$T$3,$A$4:$T$4) -> 4 | HN29: =LOOKUP(IF29,$A$3:$T$3,$A$4:$T$4) -> 5 | HO29: =LOOKUP(IG29,$A$3:$T$3,$A$4:$T$4) -> 6 | HP29: =LOOKUP(IH29,$A$3:$T$3,$A$4:$T$4) -> 7 | HQ29: =LOOKUP(II29,$A$3:$T$3,$A$4:$T$4) -> 10 | HR29: =LOOKUP(IJ29,$A$3:$T$3,$A$4:$T$4) -> 11 | ... HY29: =LOOKUP(IQ29,$A$3:$T$3,$A$4:$T$4) -> 20 | IC29: 1 | ID29: 2 | IE29: 4 | IF29: 5 | IG29: 6 | IH29: 7 | II29: 10 | IJ29: 11 | IK29: 13 | IL29: 14 | IM29: 16 | IN29: 17 | IO29: 18 | IP29: 19 | IQ29: 20 | IS29: =LOOKUP(JI29,$A$3:$Y$3,$A$4:$AE$4) -> 1 | IT29: =LOOKUP(JJ29,$A$3:$Y$3,$A$4:$AE$4) -> 2 | IU29: =LOOKUP(JK29,$A$3:$Y$3,$A$4:$AE$4) -> 3 | IV29: =LOOKUP(JL29,$A$3:$Y$3,$A$4:$AE$4) -> 4 | IW29: =LOOKUP(JM29,$A$3:$Y$3,$A$4:$AE$4) -> 5 | IX29: =LOOKUP(JN29,$A$3:$Y$3,$A$4:$AE$4) -> 6 | IY29: =LOOKUP(JO29,$A$3:$Y$3,$A$4:$AE$4) -> 7 | IZ29: =LOOKUP(JP29,$A$3:$Y$3,$A$4:$AE$4) -> 10 | ... JG29: =LOOKUP(JW29,$A$3:$Y$3,$A$4:$AE$4) -> 19 | JI29: 1 | JJ29: 2 | JK29: 3 | JL29: 4 | JM29: 5 | JN29: 6 | JO29: 7 | JP29: 10 | JQ29: 12 | JR29: 13 | JS29: 14 | JT29: 16 | JU29: 17 | JV29: 18 | JW29: 19
A30: =LOOKUP(Q30,$A$3:$Y$3,$A$4:$Y$4) -> 1 | B30: =LOOKUP(R30,$A$3:$Y$3,$A$4:$Y$4) -> 2 | C30: =LOOKUP(S30,$A$3:$Y$3,$A$4:$Y$4) -> 3 | D30: =LOOKUP(T30,$A$3:$Y$3,$A$4:$Y$4) -> 4 | E30: =LOOKUP(U30,$A$3:$Y$3,$A$4:$Y$4) -> 5 | F30: =LOOKUP(V30,$A$3:$Y$3,$A$4:$Y$4) -> 8 | G30: =LOOKUP(W30,$A$3:$Y$3,$A$4:$Y$4) -> 10 | H30: =LOOKUP(X30,$A$3:$Y$3,$A$4:$Y$4) -> 11 | ... O30: =LOOKUP(AE30,$A$3:$Y$3,$A$4:$Y$4) -> 20 | Q30: 1 | R30: 2 | S30: 3 | T30: 4 | U30: 5 | V30: 8 | W30: 10 | X30: 11 | Y30: 14 | Z30: 15 | AA30: 16 | AB30: 17 | AC30: 18 | AD30: 19 | AE30: 20 | AG30: =LOOKUP(BE30,$AG$1:$BE$1,$AG$2:$BE$2) -> 1 | AH30: =LOOKUP(BF30,$AG$1:$BE$1,$AG$2:$BE$2) -> 2 | AI30: =LOOKUP(BG30,$AG$1:$BE$1,$AG$2:$BE$2) -> 3 | AJ30: =LOOKUP(BH30,$AG$1:$BE$1,$AG$2:$BE$2) -> 4 | AK30: =LOOKUP(BI30,$AG$1:$BE$1,$AG$2:$BE$2) -> 5 | AL30: =LOOKUP(BJ30,$AG$1:$BE$1,$AG$2:$BE$2) -> 8 | AM30: =LOOKUP(BK30,$AG$1:$BE$1,$AG$2:$BE$2) -> 9 | AN30: =LOOKUP(BL30,$AG$1:$BE$1,$AG$2:$BE$2) -> 11 | ... AU30: =LOOKUP(BS30,$AG$1:$BE$1,$AG$2:$BE$2) -> 25 | BE30: 1 | BF30: 2 | BG30: 3 | BH30: 4 | BI30: 5 | BJ30: 8 | BK30: 9 | BL30: 11 | BM30: 12 | BN30: 13 | BO30: 14 | BP30: 17 | BQ30: 18 | BR30: 19 | BS30: 20 | CX30: =LOOKUP(DO30,$CX$1:$DV$1,$CX$2:$DV$2) -> 1 | CY30: =LOOKUP(DP30,$CX$1:$DV$1,$CX$2:$DV$2) -> 2 | CZ30: =LOOKUP(DQ30,$CX$1:$DV$1,$CX$2:$DV$2) -> 3 | DA30: =LOOKUP(DR30,$CX$1:$DV$1,$CX$2:$DV$2) -> 6 | DB30: =LOOKUP(DS30,$CX$1:$DV$1,$CX$2:$DV$2) -> 8 | DC30: =LOOKUP(DT30,$CX$1:$DV$1,$CX$2:$DV$2) -> 9 | DD30: =LOOKUP(DU30,$CX$1:$DV$1,$CX$2:$DV$2) -> 11 | DE30: =LOOKUP(DV30,$CX$1:$DV$1,$CX$2:$DV$2) -> 12 | ... DL30: =LOOKUP(EC30,$CX$1:$DV$1,$CX$2:$DV$2) -> 25 | DO30: 1 | DP30: 2 | DQ30: 3 | DR30: 6 | DS30: 8 | DT30: 9 | DU30: 11 | DV30: 12 | DW30: 13 | DX30: 14 | DY30: 16 | DZ30: 17 | EA30: 18 | EB30: 19 | EC30: 20 | FE30: =LOOKUP(FU30,$FE$1:$GC$1,$FE$2:$GC$2) -> 1 | FF30: =LOOKUP(FV30,$FE$1:$GC$1,$FE$2:$GC$2) -> 2 | FG30: =LOOKUP(FW30,$FE$1:$GC$1,$FE$2:$GC$2) -> 3 | FH30: =LOOKUP(FX30,$FE$1:$GC$1,$FE$2:$GC$2) -> 4 | FI30: =LOOKUP(FY30,$FE$1:$GC$1,$FE$2:$GC$2) -> 5 | FJ30: =LOOKUP(FZ30,$FE$1:$GC$1,$FE$2:$GC$2) -> 6 | FK30: =LOOKUP(GA30,$FE$1:$GC$1,$FE$2:$GC$2) -> 7 | FL30: =LOOKUP(GB30,$FE$1:$GC$1,$FE$2:$GC$2) -> 8 | ... FS30: =LOOKUP(GI30,$FE$1:$GC$1,$FE$2:$GC$2) -> 23 | FU30: 1 | FV30: 2 | FW30: 3 | FX30: 4 | FY30: 5 | FZ30: 6 | GA30: 7 | GB30: 8 | GC30: 9 | GD30: 10 | GE30: 11 | GF30: 12 | GG30: 14 | GH30: 15 | GI30: 18 | HK30: =LOOKUP(IC30,$A$3:$T$3,$A$4:$T$4) -> 2 | HL30: =LOOKUP(ID30,$A$3:$T$3,$A$4:$T$4) -> 4 | HM30: =LOOKUP(IE30,$A$3:$T$3,$A$4:$T$4) -> 5 | HN30: =LOOKUP(IF30,$A$3:$T$3,$A$4:$T$4) -> 7 | HO30: =LOOKUP(IG30,$A$3:$T$3,$A$4:$T$4) -> 8 | HP30: =LOOKUP(IH30,$A$3:$T$3,$A$4:$T$4) -> 9 | HQ30: =LOOKUP(II30,$A$3:$T$3,$A$4:$T$4) -> 10 | HR30: =LOOKUP(IJ30,$A$3:$T$3,$A$4:$T$4) -> 11 | ... HY30: =LOOKUP(IQ30,$A$3:$T$3,$A$4:$T$4) -> 19 | IC30: 2 | ID30: 4 | IE30: 5 | IF30: 7 | IG30: 8 | IH30: 9 | II30: 10 | IJ30: 11 | IK30: 12 | IL30: 13 | IM30: 14 | IN30: 15 | IO30: 16 | IP30: 17 | IQ30: 19 | IS30: =LOOKUP(JI30,$A$3:$Y$3,$A$4:$AE$4) -> 1 | IT30: =LOOKUP(JJ30,$A$3:$Y$3,$A$4:$AE$4) -> 2 | IU30: =LOOKUP(JK30,$A$3:$Y$3,$A$4:$AE$4) -> 3 | IV30: =LOOKUP(JL30,$A$3:$Y$3,$A$4:$AE$4) -> 4 | IW30: =LOOKUP(JM30,$A$3:$Y$3,$A$4:$AE$4) -> 5 | IX30: =LOOKUP(JN30,$A$3:$Y$3,$A$4:$AE$4) -> 6 | IY30: =LOOKUP(JO30,$A$3:$Y$3,$A$4:$AE$4) -> 7 | IZ30: =LOOKUP(JP30,$A$3:$Y$3,$A$4:$AE$4) -> 11 | ... JG30: =LOOKUP(JW30,$A$3:$Y$3,$A$4:$AE$4) -> 19 | JI30: 1 | JJ30: 2 | JK30: 3 | JL30: 4 | JM30: 5 | JN30: 6 | JO30: 7 | JP30: 11 | JQ30: 12 | JR30: 13 | JS30: 15 | JT30: 16 | JU30: 17 | JV30: 18 | JW30: 19
... A39: =LOOKUP(Q39,$A$3:$Y$3,$A$4:$Y$4) -> 1 | B39: =LOOKUP(R39,$A$3:$Y$3,$A$4:$Y$4) -> 2 | C39: =LOOKUP(S39,$A$3:$Y$3,$A$4:$Y$4) -> 3 | D39: =LOOKUP(T39,$A$3:$Y$3,$A$4:$Y$4) -> 4 | E39: =LOOKUP(U39,$A$3:$Y$3,$A$4:$Y$4) -> 6 | F39: =LOOKUP(V39,$A$3:$Y$3,$A$4:$Y$4) -> 9 | G39: =LOOKUP(W39,$A$3:$Y$3,$A$4:$Y$4) -> 10 | H39: =LOOKUP(X39,$A$3:$Y$3,$A$4:$Y$4) -> 11 | ... O39: =LOOKUP(AE39,$A$3:$Y$3,$A$4:$Y$4) -> 20 | Q39: 1 | R39: 2 | S39: 3 | T39: 4 | U39: 6 | V39: 9 | W39: 10 | X39: 11 | Y39: 12 | Z39: 15 | AA39: 16 | AB39: 17 | AC39: 18 | AD39: 19 | AE39: 20 | AG39: =LOOKUP(BE39,$AG$1:$BE$1,$AG$2:$BE$2) -> 1 | AH39: =LOOKUP(BF39,$AG$1:$BE$1,$AG$2:$BE$2) -> 2 | AI39: =LOOKUP(BG39,$AG$1:$BE$1,$AG$2:$BE$2) -> 3 | AJ39: =LOOKUP(BH39,$AG$1:$BE$1,$AG$2:$BE$2) -> 4 | AK39: =LOOKUP(BI39,$AG$1:$BE$1,$AG$2:$BE$2) -> 6 | AL39: =LOOKUP(BJ39,$AG$1:$BE$1,$AG$2:$BE$2) -> 7 | AM39: =LOOKUP(BK39,$AG$1:$BE$1,$AG$2:$BE$2) -> 9 | AN39: =LOOKUP(BL39,$AG$1:$BE$1,$AG$2:$BE$2) -> 10 | ... AU39: =LOOKUP(BS39,$AG$1:$BE$1,$AG$2:$BE$2) -> 25 | BE39: 1 | BF39: 2 | BG39: 3 | BH39: 4 | BI39: 6 | BJ39: 7 | BK39: 9 | BL39: 10 | BM39: 11 | BN39: 13 | BO39: 14 | BP39: 17 | BQ39: 18 | BR39: 19 | BS39: 20 | CX39: =LOOKUP(DO39,$CX$1:$DV$1,$CX$2:$DV$2) -> 1 | CY39: =LOOKUP(DP39,$CX$1:$DV$1,$CX$2:$DV$2) -> 2 | CZ39: =LOOKUP(DQ39,$CX$1:$DV$1,$CX$2:$DV$2) -> 4 | DA39: =LOOKUP(DR39,$CX$1:$DV$1,$CX$2:$DV$2) -> 6 | DB39: =LOOKUP(DS39,$CX$1:$DV$1,$CX$2:$DV$2) -> 7 | DC39: =LOOKUP(DT39,$CX$1:$DV$1,$CX$2:$DV$2) -> 8 | DD39: =LOOKUP(DU39,$CX$1:$DV$1,$CX$2:$DV$2) -> 10 | DE39: =LOOKUP(DV39,$CX$1:$DV$1,$CX$2:$DV$2) -> 12 | ... DL39: =LOOKUP(EC39,$CX$1:$DV$1,$CX$2:$DV$2) -> 25 | DO39: 1 | DP39: 2 | DQ39: 4 | DR39: 6 | DS39: 7 | DT39: 8 | DU39: 10 | DV39: 12 | DW39: 13 | DX39: 14 | DY39: 16 | DZ39: 17 | EA39: 18 | EB39: 19 | EC39: 20 | FE39: =LOOKUP(FU39,$FE$1:$GC$1,$FE$2:$GC$2) -> 1 | FF39: =LOOKUP(FV39,$FE$1:$GC$1,$FE$2:$GC$2) -> 2 | FG39: =LOOKUP(FW39,$FE$1:$GC$1,$FE$2:$GC$2) -> 3 | FH39: =LOOKUP(FX39,$FE$1:$GC$1,$FE$2:$GC$2) -> 4 | FI39: =LOOKUP(FY39,$FE$1:$GC$1,$FE$2:$GC$2) -> 5 | FJ39: =LOOKUP(FZ39,$FE$1:$GC$1,$FE$2:$GC$2) -> 6 | FK39: =LOOKUP(GA39,$FE$1:$GC$1,$FE$2:$GC$2) -> 7 | FL39: =LOOKUP(GB39,$FE$1:$GC$1,$FE$2:$GC$2) -> 8 | ... FS39: =LOOKUP(GI39,$FE$1:$GC$1,$FE$2:$GC$2) -> 25 | FU39: 1 | FV39: 2 | FW39: 3 | FX39: 4 | FY39: 5 | FZ39: 6 | GA39: 7 | GB39: 8 | GC39: 9 | GD39: 10 | GE39: 11 | GF39: 12 | GG39: 14 | GH39: 17 | GI39: 20 | HK39: =LOOKUP(IC39,$A$3:$T$3,$A$4:$T$4) -> 3 | HL39: =LOOKUP(ID39,$A$3:$T$3,$A$4:$T$4) -> 4 | HM39: =LOOKUP(IE39,$A$3:$T$3,$A$4:$T$4) -> 6 | HN39: =LOOKUP(IF39,$A$3:$T$3,$A$4:$T$4) -> 7 | HO39: =LOOKUP(IG39,$A$3:$T$3,$A$4:$T$4) -> 8 | HP39: =LOOKUP(IH39,$A$3:$T$3,$A$4:$T$4) -> 9 | HQ39: =LOOKUP(II39,$A$3:$T$3,$A$4:$T$4) -> 10 | HR39: =LOOKUP(IJ39,$A$3:$T$3,$A$4:$T$4) -> 12 | ... HY39: =LOOKUP(IQ39,$A$3:$T$3,$A$4:$T$4) -> 20 | IC39: 3 | ID39: 4 | IE39: 6 | IF39: 7 | IG39: 8 | IH39: 9 | II39: 10 | IJ39: 12 | IK39: 13 | IL39: 14 | IM39: 15 | IN39: 16 | IO39: 17 | IP39: 19 | IQ39: 20 | IS39: =LOOKUP(JI39,$A$3:$Y$3,$A$4:$AE$4) -> 1 | IT39: =LOOKUP(JJ39,$A$3:$Y$3,$A$4:$AE$4) -> 2 | IU39: =LOOKUP(JK39,$A$3:$Y$3,$A$4:$AE$4) -> 3 | IV39: =LOOKUP(JL39,$A$3:$Y$3,$A$4:$AE$4) -> 4 | IW39: =LOOKUP(JM39,$A$3:$Y$3,$A$4:$AE$4) -> 5 | IX39: =LOOKUP(JN39,$A$3:$Y$3,$A$4:$AE$4) -> 6 | IY39: =LOOKUP(JO39,$A$3:$Y$3,$A$4:$AE$4) -> 8 | IZ39: =LOOKUP(JP39,$A$3:$Y$3,$A$4:$AE$4) -> 9 | ... JG39: =LOOKUP(JW39,$A$3:$Y$3,$A$4:$AE$4) -> 20 | JI39: 1 | JJ39: 2 | JK39: 3 | JL39: 4 | JM39: 5 | JN39: 6 | JO39: 8 | JP39: 9 | JQ39: 11 | JR39: 15 | JS39: 16 | JT39: 17 | JU39: 18 | JV39: 19 | JW39: 20
A40: =LOOKUP(Q40,$A$3:$Y$3,$A$4:$Y$4) -> 1 | B40: =LOOKUP(R40,$A$3:$Y$3,$A$4:$Y$4) -> 2 | C40: =LOOKUP(S40,$A$3:$Y$3,$A$4:$Y$4) -> 3 | D40: =LOOKUP(T40,$A$3:$Y$3,$A$4:$Y$4) -> 4 | E40: =LOOKUP(U40,$A$3:$Y$3,$A$4:$Y$4) -> 7 | F40: =LOOKUP(V40,$A$3:$Y$3,$A$4:$Y$4) -> 8 | G40: =LOOKUP(W40,$A$3:$Y$3,$A$4:$Y$4) -> 9 | H40: =LOOKUP(X40,$A$3:$Y$3,$A$4:$Y$4) -> 10 | ... O40: =LOOKUP(AE40,$A$3:$Y$3,$A$4:$Y$4) -> 17 | Q40: 1 | R40: 2 | S40: 3 | T40: 4 | U40: 7 | V40: 8 | W40: 9 | X40: 10 | Y40: 11 | Z40: 12 | AA40: 13 | AB40: 14 | AC40: 15 | AD40: 16 | AE40: 17 | AG40: =LOOKUP(BE40,$AG$1:$BE$1,$AG$2:$BE$2) -> 1 | AH40: =LOOKUP(BF40,$AG$1:$BE$1,$AG$2:$BE$2) -> 2 | AI40: =LOOKUP(BG40,$AG$1:$BE$1,$AG$2:$BE$2) -> 3 | AJ40: =LOOKUP(BH40,$AG$1:$BE$1,$AG$2:$BE$2) -> 4 | AK40: =LOOKUP(BI40,$AG$1:$BE$1,$AG$2:$BE$2) -> 6 | AL40: =LOOKUP(BJ40,$AG$1:$BE$1,$AG$2:$BE$2) -> 7 | AM40: =LOOKUP(BK40,$AG$1:$BE$1,$AG$2:$BE$2) -> 9 | AN40: =LOOKUP(BL40,$AG$1:$BE$1,$AG$2:$BE$2) -> 10 | ... AU40: =LOOKUP(BS40,$AG$1:$BE$1,$AG$2:$BE$2) -> 25 | BE40: 1 | BF40: 2 | BG40: 3 | BH40: 4 | BI40: 6 | BJ40: 7 | BK40: 9 | BL40: 10 | BM40: 12 | BN40: 13 | BO40: 14 | BP40: 17 | BQ40: 18 | BR40: 19 | BS40: 20 | CX40: =LOOKUP(DO40,$CX$1:$DV$1,$CX$2:$DV$2) -> 1 | CY40: =LOOKUP(DP40,$CX$1:$DV$1,$CX$2:$DV$2) -> 2 | CZ40: =LOOKUP(DQ40,$CX$1:$DV$1,$CX$2:$DV$2) -> 4 | DA40: =LOOKUP(DR40,$CX$1:$DV$1,$CX$2:$DV$2) -> 6 | DB40: =LOOKUP(DS40,$CX$1:$DV$1,$CX$2:$DV$2) -> 8 | DC40: =LOOKUP(DT40,$CX$1:$DV$1,$CX$2:$DV$2) -> 10 | DD40: =LOOKUP(DU40,$CX$1:$DV$1,$CX$2:$DV$2) -> 11 | DE40: =LOOKUP(DV40,$CX$1:$DV$1,$CX$2:$DV$2) -> 12 | ... DL40: =LOOKUP(EC40,$CX$1:$DV$1,$CX$2:$DV$2) -> 25 | DO40: 1 | DP40: 2 | DQ40: 4 | DR40: 6 | DS40: 8 | DT40: 10 | DU40: 11 | DV40: 12 | DW40: 14 | DX40: 15 | DY40: 16 | DZ40: 17 | EA40: 18 | EB40: 19 | EC40: 20 | FE40: =LOOKUP(FU40,$FE$1:$GC$1,$FE$2:$GC$2) -> 1 | FF40: =LOOKUP(FV40,$FE$1:$GC$1,$FE$2:$GC$2) -> 2 | FG40: =LOOKUP(FW40,$FE$1:$GC$1,$FE$2:$GC$2) -> 3 | FH40: =LOOKUP(FX40,$FE$1:$GC$1,$FE$2:$GC$2) -> 4 | FI40: =LOOKUP(FY40,$FE$1:$GC$1,$FE$2:$GC$2) -> 5 | FJ40: =LOOKUP(FZ40,$FE$1:$GC$1,$FE$2:$GC$2) -> 6 | FK40: =LOOKUP(GA40,$FE$1:$GC$1,$FE$2:$GC$2) -> 7 | FL40: =LOOKUP(GB40,$FE$1:$GC$1,$FE$2:$GC$2) -> 8 | ... FS40: =LOOKUP(GI40,$FE$1:$GC$1,$FE$2:$GC$2) -> 24 | FU40: 1 | FV40: 2 | FW40: 3 | FX40: 4 | FY40: 5 | FZ40: 6 | GA40: 7 | GB40: 8 | GC40: 9 | GD40: 10 | GE40: 11 | GF40: 12 | GG40: 14 | GH40: 18 | GI40: 19 | IS40: =LOOKUP(JI40,$A$3:$Y$3,$A$4:$AE$4) -> 1 | IT40: =LOOKUP(JJ40,$A$3:$Y$3,$A$4:$AE$4) -> 2 | IU40: =LOOKUP(JK40,$A$3:$Y$3,$A$4:$AE$4) -> 3 | IV40: =LOOKUP(JL40,$A$3:$Y$3,$A$4:$AE$4) -> 4 | IW40: =LOOKUP(JM40,$A$3:$Y$3,$A$4:$AE$4) -> 5 | IX40: =LOOKUP(JN40,$A$3:$Y$3,$A$4:$AE$4) -> 6 | IY40: =LOOKUP(JO40,$A$3:$Y$3,$A$4:$AE$4) -> 8 | IZ40: =LOOKUP(JP40,$A$3:$Y$3,$A$4:$AE$4) -> 9 | ... JG40: =LOOKUP(JW40,$A$3:$Y$3,$A$4:$AE$4) -> 19 | JI40: 1 | JJ40: 2 | JK40: 3 | JL40: 4 | JM40: 5 | JN40: 6 | JO40: 8 | JP40: 9 | JQ40: 12 | JR40: 13 | JS40: 14 | JT40: 15 | JU40: 16 | JV40: 17 | JW40: 19
A41: =LOOKUP(Q41,$A$3:$Y$3,$A$4:$Y$4) -> 1 | B41: =LOOKUP(R41,$A$3:$Y$3,$A$4:$Y$4) -> 2 | C41: =LOOKUP(S41,$A$3:$Y$3,$A$4:$Y$4) -> 3 | D41: =LOOKUP(T41,$A$3:$Y$3,$A$4:$Y$4) -> 4 | E41: =LOOKUP(U41,$A$3:$Y$3,$A$4:$Y$4) -> 7 | F41: =LOOKUP(V41,$A$3:$Y$3,$A$4:$Y$4) -> 8 | G41: =LOOKUP(W41,$A$3:$Y$3,$A$4:$Y$4) -> 9 | H41: =LOOKUP(X41,$A$3:$Y$3,$A$4:$Y$4) -> 11 | ... O41: =LOOKUP(AE41,$A$3:$Y$3,$A$4:$Y$4) -> 20 | Q41: 1 | R41: 2 | S41: 3 | T41: 4 | U41: 7 | V41: 8 | W41: 9 | X41: 11 | Y41: 12 | Z41: 13 | AA41: 15 | AB41: 16 | AC41: 18 | AD41: 19 | AE41: 20 | AG41: =LOOKUP(BE41,$AG$1:$BE$1,$AG$2:$BE$2) -> 1 | AH41: =LOOKUP(BF41,$AG$1:$BE$1,$AG$2:$BE$2) -> 2 | AI41: =LOOKUP(BG41,$AG$1:$BE$1,$AG$2:$BE$2) -> 3 | AJ41: =LOOKUP(BH41,$AG$1:$BE$1,$AG$2:$BE$2) -> 4 | AK41: =LOOKUP(BI41,$AG$1:$BE$1,$AG$2:$BE$2) -> 6 | AL41: =LOOKUP(BJ41,$AG$1:$BE$1,$AG$2:$BE$2) -> 7 | AM41: =LOOKUP(BK41,$AG$1:$BE$1,$AG$2:$BE$2) -> 9 | AN41: =LOOKUP(BL41,$AG$1:$BE$1,$AG$2:$BE$2) -> 12 | ... AU41: =LOOKUP(BS41,$AG$1:$BE$1,$AG$2:$BE$2) -> 25 | BE41: 1 | BF41: 2 | BG41: 3 | BH41: 4 | BI41: 6 | BJ41: 7 | BK41: 9 | BL41: 12 | BM41: 14 | BN41: 15 | BO41: 16 | BP41: 17 | BQ41: 18 | BR41: 19 | BS41: 20 | CX41: =LOOKUP(DO41,$CX$1:$DV$1,$CX$2:$DV$2) -> 1 | CY41: =LOOKUP(DP41,$CX$1:$DV$1,$CX$2:$DV$2) -> 2 | CZ41: =LOOKUP(DQ41,$CX$1:$DV$1,$CX$2:$DV$2) -> 5 | DA41: =LOOKUP(DR41,$CX$1:$DV$1,$CX$2:$DV$2) -> 6 | DB41: =LOOKUP(DS41,$CX$1:$DV$1,$CX$2:$DV$2) -> 7 | DC41: =LOOKUP(DT41,$CX$1:$DV$1,$CX$2:$DV$2) -> 8 | DD41: =LOOKUP(DU41,$CX$1:$DV$1,$CX$2:$DV$2) -> 9 | DE41: =LOOKUP(DV41,$CX$1:$DV$1,$CX$2:$DV$2) -> 11 | ... DL41: =LOOKUP(EC41,$CX$1:$DV$1,$CX$2:$DV$2) -> 25 | DO41: 1 | DP41: 2 | DQ41: 5 | DR41: 6 | DS41: 7 | DT41: 8 | DU41: 9 | DV41: 11 | DW41: 12 | DX41: 15 | DY41: 16 | DZ41: 17 | EA41: 18 | EB41: 19 | EC41: 20 | FE41: =LOOKUP(FU41,$FE$1:$GC$1,$FE$2:$GC$2) -> 1 | FF41: =LOOKUP(FV41,$FE$1:$GC$1,$FE$2:$GC$2) -> 2 | FG41: =LOOKUP(FW41,$FE$1:$GC$1,$FE$2:$GC$2) -> 3 | FH41: =LOOKUP(FX41,$FE$1:$GC$1,$FE$2:$GC$2) -> 4 | FI41: =LOOKUP(FY41,$FE$1:$GC$1,$FE$2:$GC$2) -> 5 | FJ41: =LOOKUP(FZ41,$FE$1:$GC$1,$FE$2:$GC$2) -> 6 | FK41: =LOOKUP(GA41,$FE$1:$GC$1,$FE$2:$GC$2) -> 7 | FL41: =LOOKUP(GB41,$FE$1:$GC$1,$FE$2:$GC$2) -> 8 | ... FS41: =LOOKUP(GI41,$FE$1:$GC$1,$FE$2:$GC$2) -> 25 | FU41: 1 | FV41: 2 | FW41: 3 | FX41: 4 | FY41: 5 | FZ41: 6 | GA41: 7 | GB41: 8 | GC41: 9 | GD41: 10 | GE41: 11 | GF41: 12 | GG41: 14 | GH41: 18 | GI41: 20 | HK41: =SMALL($HK2:$HP2,A$3) -> 1 | HL41: =SMALL($HK2:$HP2,B$3) -> 2 | HM41: =SMALL($HK2:$HP2,C$3) -> 3 | HN41: =SMALL($HK2:$HP2,D$3) -> 4 | HO41: =SMALL($HK2:$HP2,E$3) -> 6 | HP41: =SMALL($HK2:$HY2,F$3) -> 9 | HQ41: =SMALL($HK2:$HY2,G$3) -> 10 | HR41: =SMALL($HK2:$HY2,H$3) -> 11 | HS41: =SMALL($HK2:$HY2,I$3) -> 12 | HT41: =SMALL($HK2:$HY2,J$3) -> 14 | HU41: =SMALL($HK2:$HY2,K$3) -> 15 | HV41: =SMALL($HK2:$HY2,L$3) -> 16 | HW41: =SMALL($HK2:$HY2,M$3) -> 17 | ... HY41: =SMALL($HK2:$HY2,O$3) -> 19 | IA41: 1 | IS41: =LOOKUP(JI41,$A$3:$Y$3,$A$4:$AE$4) -> 1 | IT41: =LOOKUP(JJ41,$A$3:$Y$3,$A$4:$AE$4) -> 2 | IU41: =LOOKUP(JK41,$A$3:$Y$3,$A$4:$AE$4) -> 3 | IV41: =LOOKUP(JL41,$A$3:$Y$3,$A$4:$AE$4) -> 4 | IW41: =LOOKUP(JM41,$A$3:$Y$3,$A$4:$AE$4) -> 5 | IX41: =LOOKUP(JN41,$A$3:$Y$3,$A$4:$AE$4) -> 6 | IY41: =LOOKUP(JO41,$A$3:$Y$3,$A$4:$AE$4) -> 8 | IZ41: =LOOKUP(JP41,$A$3:$Y$3,$A$4:$AE$4) -> 10 | ... JG41: =LOOKUP(JW41,$A$3:$Y$3,$A$4:$AE$4) -> 20 | JI41: 1 | JJ41: 2 | JK41: 3 | JL41: 4 | JM41: 5 | JN41: 6 | JO41: 8 | JP41: 10 | JQ41: 11 | JR41: 12 | JS41: 13 | JT41: 14 | JU41: 16 | JV41: 18 | JW41: 20
A42: =LOOKUP(Q42,$A$3:$Y$3,$A$4:$Y$4) -> 1 | B42: =LOOKUP(R42,$A$3:$Y$3,$A$4:$Y$4) -> 2 | C42: =LOOKUP(S42,$A$3:$Y$3,$A$4:$Y$4) -> 3 | D42: =LOOKUP(T42,$A$3:$Y$3,$A$4:$Y$4) -> 4 | E42: =LOOKUP(U42,$A$3:$Y$3,$A$4:$Y$4) -> 7 | F42: =LOOKUP(V42,$A$3:$Y$3,$A$4:$Y$4) -> 8 | G42: =LOOKUP(W42,$A$3:$Y$3,$A$4:$Y$4) -> 10 | H42: =LOOKUP(X42,$A$3:$Y$3,$A$4:$Y$4) -> 12 | ... O42: =LOOKUP(AE42,$A$3:$Y$3,$A$4:$Y$4) -> 19 | Q42: 1 | R42: 2 | S42: 3 | T42: 4 | U42: 7 | V42: 8 | W42: 10 | X42: 12 | Y42: 13 | Z42: 14 | AA42: 15 | AB42: 16 | AC42: 17 | AD42: 18 | AE42: 19 | AG42: =LOOKUP(BE42,$AG$1:$BE$1,$AG$2:$BE$2) -> 1 | AH42: =LOOKUP(BF42,$AG$1:$BE$1,$AG$2:$BE$2) -> 2 | AI42: =LOOKUP(BG42,$AG$1:$BE$1,$AG$2:$BE$2) -> 3 | AJ42: =LOOKUP(BH42,$AG$1:$BE$1,$AG$2:$BE$2) -> 4 | AK42: =LOOKUP(BI42,$AG$1:$BE$1,$AG$2:$BE$2) -> 6 | AL42: =LOOKUP(BJ42,$AG$1:$BE$1,$AG$2:$BE$2) -> 8 | AM42: =LOOKUP(BK42,$AG$1:$BE$1,$AG$2:$BE$2) -> 9 | AN42: =LOOKUP(BL42,$AG$1:$BE$1,$AG$2:$BE$2) -> 10 | ... AU42: =LOOKUP(BS42,$AG$1:$BE$1,$AG$2:$BE$2) -> 25 | BE42: 1 | BF42: 2 | BG42: 3 | BH42: 4 | BI42: 6 | BJ42: 8 | BK42: 9 | BL42: 10 | BM42: 11 | BN42: 12 | BO42: 16 | BP42: 17 | BQ42: 18 | BR42: 19 | BS42: 20 | CX42: =LOOKUP(DO42,$CX$1:$DV$1,$CX$2:$DV$2) -> 1 | CY42: =LOOKUP(DP42,$CX$1:$DV$1,$CX$2:$DV$2) -> 2 | CZ42: =LOOKUP(DQ42,$CX$1:$DV$1,$CX$2:$DV$2) -> 5 | DA42: =LOOKUP(DR42,$CX$1:$DV$1,$CX$2:$DV$2) -> 6 | DB42: =LOOKUP(DS42,$CX$1:$DV$1,$CX$2:$DV$2) -> 7 | DC42: =LOOKUP(DT42,$CX$1:$DV$1,$CX$2:$DV$2) -> 10 | DD42: =LOOKUP(DU42,$CX$1:$DV$1,$CX$2:$DV$2) -> 11 | DE42: =LOOKUP(DV42,$CX$1:$DV$1,$CX$2:$DV$2) -> 12 | ... DL42: =LOOKUP(EC42,$CX$1:$DV$1,$CX$2:$DV$2) -> 25 | DO42: 1 | DP42: 2 | DQ42: 5 | DR42: 6 | DS42: 7 | DT42: 10 | DU42: 11 | DV42: 12 | DW42: 13 | DX42: 15 | DY42: 16 | DZ42: 17 | EA42: 18 | EB42: 19 | EC42: 20 | FE42: =LOOKUP(FU42,$FE$1:$GC$1,$FE$2:$GC$2) -> 1 | FF42: =LOOKUP(FV42,$FE$1:$GC$1,$FE$2:$GC$2) -> 2 | FG42: =LOOKUP(FW42,$FE$1:$GC$1,$FE$2:$GC$2) -> 3 | FH42: =LOOKUP(FX42,$FE$1:$GC$1,$FE$2:$GC$2) -> 4 | FI42: =LOOKUP(FY42,$FE$1:$GC$1,$FE$2:$GC$2) -> 5 | FJ42: =LOOKUP(FZ42,$FE$1:$GC$1,$FE$2:$GC$2) -> 6 | FK42: =LOOKUP(GA42,$FE$1:$GC$1,$FE$2:$GC$2) -> 7 | FL42: =LOOKUP(GB42,$FE$1:$GC$1,$FE$2:$GC$2) -> 8 | ... FS42: =LOOKUP(GI42,$FE$1:$GC$1,$FE$2:$GC$2) -> 25 | FU42: 1 | FV42: 2 | FW42: 3 | FX42: 4 | FY42: 5 | FZ42: 6 | GA42: 7 | GB42: 8 | GC42: 9 | GD42: 10 | GE42: 11 | GF42: 12 | GG42: 14 | GH42: 19 | GI42: 20 | HK42: =SMALL($HK3:$HP3,A$3) -> 1 | HL42: =SMALL($HK3:$HP3,B$3) -> 2 | HM42: =SMALL($HK3:$HP3,C$3) -> 3 | HN42: =SMALL($HK3:$HP3,D$3) -> 4 | HO42: =SMALL($HK3:$HP3,E$3) -> 5 | HP42: =SMALL($HK3:$HY3,F$3) -> 6 | HQ42: =SMALL($HK3:$HY3,G$3) -> 7 | HR42: =SMALL($HK3:$HY3,H$3) -> 8 | HS42: =SMALL($HK3:$HY3,I$3) -> 9 | HT42: =SMALL($HK3:$HY3,J$3) -> 10 | HU42: =SMALL($HK3:$HY3,K$3) -> 11 | HV42: =SMALL($HK3:$HY3,L$3) -> 12 | HW42: =SMALL($HK3:$HY3,M$3) -> 13 | ... HY42: =SMALL($HK3:$HY3,O$3) -> 16 | IA42: 2 | IS42: =LOOKUP(JI42,$A$3:$Y$3,$A$4:$AE$4) -> 1 | IT42: =LOOKUP(JJ42,$A$3:$Y$3,$A$4:$AE$4) -> 2 | IU42: =LOOKUP(JK42,$A$3:$Y$3,$A$4:$AE$4) -> 3 | IV42: =LOOKUP(JL42,$A$3:$Y$3,$A$4:$AE$4) -> 4 | IW42: =LOOKUP(JM42,$A$3:$Y$3,$A$4:$AE$4) -> 5 | IX42: =LOOKUP(JN42,$A$3:$Y$3,$A$4:$AE$4) -> 6 | IY42: =LOOKUP(JO42,$A$3:$Y$3,$A$4:$AE$4) -> 8 | IZ42: =LOOKUP(JP42,$A$3:$Y$3,$A$4:$AE$4) -> 10 | ... JG42: =LOOKUP(JW42,$A$3:$Y$3,$A$4:$AE$4) -> 20 | JI42: 1 | JJ42: 2 | JK42: 3 | JL42: 4 | JM42: 5 | JN42: 6 | JO42: 8 | JP42: 10 | JQ42: 11 | JR42: 13 | JS42: 14 | JT42: 16 | JU42: 18 | JV42: 19 | JW42: 20
A43: =LOOKUP(Q43,$A$3:$Y$3,$A$4:$Y$4) -> 1 | B43: =LOOKUP(R43,$A$3:$Y$3,$A$4:$Y$4) -> 2 | C43: =LOOKUP(S43,$A$3:$Y$3,$A$4:$Y$4) -> 3 | D43: =LOOKUP(T43,$A$3:$Y$3,$A$4:$Y$4) -> 5 | E43: =LOOKUP(U43,$A$3:$Y$3,$A$4:$Y$4) -> 6 | F43: =LOOKUP(V43,$A$3:$Y$3,$A$4:$Y$4) -> 7 | G43: =LOOKUP(W43,$A$3:$Y$3,$A$4:$Y$4) -> 8 | H43: =LOOKUP(X43,$A$3:$Y$3,$A$4:$Y$4) -> 9 | ... O43: =LOOKUP(AE43,$A$3:$Y$3,$A$4:$Y$4) -> 18 | Q43: 1 | R43: 2 | S43: 3 | T43: 5 | U43: 6 | V43: 7 | W43: 8 | X43: 9 | Y43: 10 | Z43: 11 | AA43: 12 | AB43: 14 | AC43: 16 | AD43: 17 | AE43: 18 | AG43: =LOOKUP(BE43,$AG$1:$BE$1,$AG$2:$BE$2) -> 1 | AH43: =LOOKUP(BF43,$AG$1:$BE$1,$AG$2:$BE$2) -> 2 | AI43: =LOOKUP(BG43,$AG$1:$BE$1,$AG$2:$BE$2) -> 3 | AJ43: =LOOKUP(BH43,$AG$1:$BE$1,$AG$2:$BE$2) -> 4 | AK43: =LOOKUP(BI43,$AG$1:$BE$1,$AG$2:$BE$2) -> 6 | AL43: =LOOKUP(BJ43,$AG$1:$BE$1,$AG$2:$BE$2) -> 8 | AM43: =LOOKUP(BK43,$AG$1:$BE$1,$AG$2:$BE$2) -> 9 | AN43: =LOOKUP(BL43,$AG$1:$BE$1,$AG$2:$BE$2) -> 11 | ... AU43: =LOOKUP(BS43,$AG$1:$BE$1,$AG$2:$BE$2) -> 25 | BE43: 1 | BF43: 2 | BG43: 3 | BH43: 4 | BI43: 6 | BJ43: 8 | BK43: 9 | BL43: 11 | BM43: 12 | BN43: 13 | BO43: 14 | BP43: 15 | BQ43: 18 | BR43: 19 | BS43: 20 | CX43: =LOOKUP(DO43,$CX$1:$DV$1,$CX$2:$DV$2) -> 1 | CY43: =LOOKUP(DP43,$CX$1:$DV$1,$CX$2:$DV$2) -> 2 | CZ43: =LOOKUP(DQ43,$CX$1:$DV$1,$CX$2:$DV$2) -> 5 | DA43: =LOOKUP(DR43,$CX$1:$DV$1,$CX$2:$DV$2) -> 6 | DB43: =LOOKUP(DS43,$CX$1:$DV$1,$CX$2:$DV$2) -> 8 | DC43: =LOOKUP(DT43,$CX$1:$DV$1,$CX$2:$DV$2) -> 9 | DD43: =LOOKUP(DU43,$CX$1:$DV$1,$CX$2:$DV$2) -> 10 | DE43: =LOOKUP(DV43,$CX$1:$DV$1,$CX$2:$DV$2) -> 11 | ... DL43: =LOOKUP(EC43,$CX$1:$DV$1,$CX$2:$DV$2) -> 25 | DO43: 1 | DP43: 2 | DQ43: 5 | DR43: 6 | DS43: 8 | DT43: 9 | DU43: 10 | DV43: 11 | DW43: 13 | DX43: 14 | DY43: 16 | DZ43: 17 | EA43: 18 | EB43: 19 | EC43: 20 | FE43: =LOOKUP(FU43,$FE$1:$GC$1,$FE$2:$GC$2) -> 1 | FF43: =LOOKUP(FV43,$FE$1:$GC$1,$FE$2:$GC$2) -> 2 | FG43: =LOOKUP(FW43,$FE$1:$GC$1,$FE$2:$GC$2) -> 3 | FH43: =LOOKUP(FX43,$FE$1:$GC$1,$FE$2:$GC$2) -> 4 | FI43: =LOOKUP(FY43,$FE$1:$GC$1,$FE$2:$GC$2) -> 5 | FJ43: =LOOKUP(FZ43,$FE$1:$GC$1,$FE$2:$GC$2) -> 6 | FK43: =LOOKUP(GA43,$FE$1:$GC$1,$FE$2:$GC$2) -> 7 | FL43: =LOOKUP(GB43,$FE$1:$GC$1,$FE$2:$GC$2) -> 8 | ... FS43: =LOOKUP(GI43,$FE$1:$GC$1,$FE$2:$GC$2) -> 22 | FU43: 1 | FV43: 2 | FW43: 3 | FX43: 4 | FY43: 5 | FZ43: 6 | GA43: 7 | GB43: 8 | GC43: 9 | GD43: 10 | GE43: 11 | GF43: 12 | GG43: 15 | GH43: 16 | GI43: 17 | HK43: =SMALL($HK4:$HP4,A$3) -> 1 | HL43: =SMALL($HK4:$HP4,B$3) -> 2 | HM43: =SMALL($HK4:$HP4,C$3) -> 4 | HN43: =SMALL($HK4:$HP4,D$3) -> 5 | HO43: =SMALL($HK4:$HP4,E$3) -> 6 | HP43: =SMALL($HK4:$HY4,F$3) -> 7 | HQ43: =SMALL($HK4:$HY4,G$3) -> 8 | HR43: =SMALL($HK4:$HY4,H$3) -> 9 | HS43: =SMALL($HK4:$HY4,I$3) -> 12 | HT43: =SMALL($HK4:$HY4,J$3) -> 13 | HU43: =SMALL($HK4:$HY4,K$3) -> 14 | HV43: =SMALL($HK4:$HY4,L$3) -> 15 | HW43: =SMALL($HK4:$HY4,M$3) -> 18 | ... HY43: =SMALL($HK4:$HY4,O$3) -> 20 | IA43: 3 | IS43: =LOOKUP(JI43,$A$3:$Y$3,$A$4:$AE$4) -> 1 | IT43: =LOOKUP(JJ43,$A$3:$Y$3,$A$4:$AE$4) -> 2 | IU43: =LOOKUP(JK43,$A$3:$Y$3,$A$4:$AE$4) -> 3 | IV43: =LOOKUP(JL43,$A$3:$Y$3,$A$4:$AE$4) -> 4 | IW43: =LOOKUP(JM43,$A$3:$Y$3,$A$4:$AE$4) -> 5 | IX43: =LOOKUP(JN43,$A$3:$Y$3,$A$4:$AE$4) -> 6 | IY43: =LOOKUP(JO43,$A$3:$Y$3,$A$4:$AE$4) -> 8 | IZ43: =LOOKUP(JP43,$A$3:$Y$3,$A$4:$AE$4) -> 10 | ... JG43: =LOOKUP(JW43,$A$3:$Y$3,$A$4:$AE$4) -> 20 | JI43: 1 | JJ43: 2 | JK43: 3 | JL43: 4 | JM43: 5 | JN43: 6 | JO43: 8 | JP43: 10 | JQ43: 12 | JR43: 14 | JS43: 15 | JT43: 17 | JU43: 18 | JV43: 19 | JW43: 20
A44: =LOOKUP(Q44,$A$3:$Y$3,$A$4:$Y$4) -> 1 | B44: =LOOKUP(R44,$A$3:$Y$3,$A$4:$Y$4) -> 2 | C44: =LOOKUP(S44,$A$3:$Y$3,$A$4:$Y$4) -> 3 | D44: =LOOKUP(T44,$A$3:$Y$3,$A$4:$Y$4) -> 5 | E44: =LOOKUP(U44,$A$3:$Y$3,$A$4:$Y$4) -> 6 | F44: =LOOKUP(V44,$A$3:$Y$3,$A$4:$Y$4) -> 7 | G44: =LOOKUP(W44,$A$3:$Y$3,$A$4:$Y$4) -> 8 | H44: =LOOKUP(X44,$A$3:$Y$3,$A$4:$Y$4) -> 9 | ... O44: =LOOKUP(AE44,$A$3:$Y$3,$A$4:$Y$4) -> 20 | Q44: 1 | R44: 2 | S44: 3 | T44: 5 | U44: 6 | V44: 7 | W44: 8 | X44: 9 | Y44: 10 | Z44: 11 | AA44: 13 | AB44: 15 | AC44: 17 | AD44: 19 | AE44: 20 | AG44: =LOOKUP(BE44,$AG$1:$BE$1,$AG$2:$BE$2) -> 1 | AH44: =LOOKUP(BF44,$AG$1:$BE$1,$AG$2:$BE$2) -> 2 | AI44: =LOOKUP(BG44,$AG$1:$BE$1,$AG$2:$BE$2) -> 3 | AJ44: =LOOKUP(BH44,$AG$1:$BE$1,$AG$2:$BE$2) -> 4 | AK44: =LOOKUP(BI44,$AG$1:$BE$1,$AG$2:$BE$2) -> 6 | AL44: =LOOKUP(BJ44,$AG$1:$BE$1,$AG$2:$BE$2) -> 8 | AM44: =LOOKUP(BK44,$AG$1:$BE$1,$AG$2:$BE$2) -> 10 | AN44: =LOOKUP(BL44,$AG$1:$BE$1,$AG$2:$BE$2) -> 11 | ... AU44: =LOOKUP(BS44,$AG$1:$BE$1,$AG$2:$BE$2) -> 25 | BE44: 1 | BF44: 2 | BG44: 3 | BH44: 4 | BI44: 6 | BJ44: 8 | BK44: 10 | BL44: 11 | BM44: 13 | BN44: 14 | BO44: 15 | BP44: 17 | BQ44: 18 | BR44: 19 | BS44: 20 | CX44: =LOOKUP(DO44,$CX$1:$DV$1,$CX$2:$DV$2) -> 1 | CY44: =LOOKUP(DP44,$CX$1:$DV$1,$CX$2:$DV$2) -> 2 | CZ44: =LOOKUP(DQ44,$CX$1:$DV$1,$CX$2:$DV$2) -> 5 | DA44: =LOOKUP(DR44,$CX$1:$DV$1,$CX$2:$DV$2) -> 7 | DB44: =LOOKUP(DS44,$CX$1:$DV$1,$CX$2:$DV$2) -> 8 | DC44: =LOOKUP(DT44,$CX$1:$DV$1,$CX$2:$DV$2) -> 10 | DD44: =LOOKUP(DU44,$CX$1:$DV$1,$CX$2:$DV$2) -> 11 | DE44: =LOOKUP(DV44,$CX$1:$DV$1,$CX$2:$DV$2) -> 12 | ... DL44: =LOOKUP(EC44,$CX$1:$DV$1,$CX$2:$DV$2) -> 25 | DO44: 1 | DP44: 2 | DQ44: 5 | DR44: 7 | DS44: 8 | DT44: 10 | DU44: 11 | DV44: 12 | DW44: 14 | DX44: 15 | DY44: 16 | DZ44: 17 | EA44: 18 | EB44: 19 | EC44: 20 | FE44: =LOOKUP(FU44,$FE$1:$GC$1,$FE$2:$GC$2) -> 1 | FF44: =LOOKUP(FV44,$FE$1:$GC$1,$FE$2:$GC$2) -> 2 | FG44: =LOOKUP(FW44,$FE$1:$GC$1,$FE$2:$GC$2) -> 3 | FH44: =LOOKUP(FX44,$FE$1:$GC$1,$FE$2:$GC$2) -> 4 | FI44: =LOOKUP(FY44,$FE$1:$GC$1,$FE$2:$GC$2) -> 5 | FJ44: =LOOKUP(FZ44,$FE$1:$GC$1,$FE$2:$GC$2) -> 6 | FK44: =LOOKUP(GA44,$FE$1:$GC$1,$FE$2:$GC$2) -> 7 | FL44: =LOOKUP(GB44,$FE$1:$GC$1,$FE$2:$GC$2) -> 8 | ... FS44: =LOOKUP(GI44,$FE$1:$GC$1,$FE$2:$GC$2) -> 23 | FU44: 1 | FV44: 2 | FW44: 3 | FX44: 4 | FY44: 5 | FZ44: 6 | GA44: 7 | GB44: 8 | GC44: 9 | GD44: 10 | GE44: 11 | GF44: 12 | GG44: 15 | GH44: 16 | GI44: 18 | HK44: =SMALL($HK5:$HP5,A$3) -> 1 | HL44: =SMALL($HK5:$HP5,B$3) -> 2 | HM44: =SMALL($HK5:$HP5,C$3) -> 3 | HN44: =SMALL($HK5:$HP5,D$3) -> 6 | HO44: =SMALL($HK5:$HP5,E$3) -> 7 | HP44: =SMALL($HK5:$HY5,F$3) -> 9 | HQ44: =SMALL($HK5:$HY5,G$3) -> 10 | HR44: =SMALL($HK5:$HY5,H$3) -> 11 | HS44: =SMALL($HK5:$HY5,I$3) -> 12 | HT44: =SMALL($HK5:$HY5,J$3) -> 13 | HU44: =SMALL($HK5:$HY5,K$3) -> 14 | HV44: =SMALL($HK5:$HY5,L$3) -> 15 | HW44: =SMALL($HK5:$HY5,M$3) -> 16 | ... HY44: =SMALL($HK5:$HY5,O$3) -> 20 | IA44: 4 | IS44: =LOOKUP(JI44,$A$3:$Y$3,$A$4:$AE$4) -> 1 | IT44: =LOOKUP(JJ44,$A$3:$Y$3,$A$4:$AE$4) -> 2 | IU44: =LOOKUP(JK44,$A$3:$Y$3,$A$4:$AE$4) -> 3 | IV44: =LOOKUP(JL44,$A$3:$Y$3,$A$4:$AE$4) -> 4 | IW44: =LOOKUP(JM44,$A$3:$Y$3,$A$4:$AE$4) -> 5 | IX44: =LOOKUP(JN44,$A$3:$Y$3,$A$4:$AE$4) -> 6 | IY44: =LOOKUP(JO44,$A$3:$Y$3,$A$4:$AE$4) -> 8 | IZ44: =LOOKUP(JP44,$A$3:$Y$3,$A$4:$AE$4) -> 11 | ... JG44: =LOOKUP(JW44,$A$3:$Y$3,$A$4:$AE$4) -> 18 | JI44: 1 | JJ44: 2 | JK44: 3 | JL44: 4 | JM44: 5 | JN44: 6 | JO44: 8 | JP44: 11 | JQ44: 12 | JR44: 13 | JS44: 14 | JT44: 15 | JU44: 16 | JV44: 17 | JW44: 18
A45: =LOOKUP(Q45,$A$3:$Y$3,$A$4:$Y$4) -> 1 | B45: =LOOKUP(R45,$A$3:$Y$3,$A$4:$Y$4) -> 2 | C45: =LOOKUP(S45,$A$3:$Y$3,$A$4:$Y$4) -> 3 | D45: =LOOKUP(T45,$A$3:$Y$3,$A$4:$Y$4) -> 5 | E45: =LOOKUP(U45,$A$3:$Y$3,$A$4:$Y$4) -> 6 | F45: =LOOKUP(V45,$A$3:$Y$3,$A$4:$Y$4) -> 7 | G45: =LOOKUP(W45,$A$3:$Y$3,$A$4:$Y$4) -> 8 | H45: =LOOKUP(X45,$A$3:$Y$3,$A$4:$Y$4) -> 9 | ... O45: =LOOKUP(AE45,$A$3:$Y$3,$A$4:$Y$4) -> 19 | Q45: 1 | R45: 2 | S45: 3 | T45: 5 | U45: 6 | V45: 7 | W45: 8 | X45: 9 | Y45: 13 | Z45: 14 | AA45: 15 | AB45: 16 | AC45: 17 | AD45: 18 | AE45: 19 | AG45: =LOOKUP(BE45,$AG$1:$BE$1,$AG$2:$BE$2) -> 1 | AH45: =LOOKUP(BF45,$AG$1:$BE$1,$AG$2:$BE$2) -> 2 | AI45: =LOOKUP(BG45,$AG$1:$BE$1,$AG$2:$BE$2) -> 3 | AJ45: =LOOKUP(BH45,$AG$1:$BE$1,$AG$2:$BE$2) -> 4 | AK45: =LOOKUP(BI45,$AG$1:$BE$1,$AG$2:$BE$2) -> 6 | AL45: =LOOKUP(BJ45,$AG$1:$BE$1,$AG$2:$BE$2) -> 9 | AM45: =LOOKUP(BK45,$AG$1:$BE$1,$AG$2:$BE$2) -> 11 | AN45: =LOOKUP(BL45,$AG$1:$BE$1,$AG$2:$BE$2) -> 13 | ... AU45: =LOOKUP(BS45,$AG$1:$BE$1,$AG$2:$BE$2) -> 25 | BE45: 1 | BF45: 2 | BG45: 3 | BH45: 4 | BI45: 6 | BJ45: 9 | BK45: 11 | BL45: 13 | BM45: 14 | BN45: 15 | BO45: 16 | BP45: 17 | BQ45: 18 | BR45: 19 | BS45: 20 | CX45: =LOOKUP(DO45,$CX$1:$DV$1,$CX$2:$DV$2) -> 1 | CY45: =LOOKUP(DP45,$CX$1:$DV$1,$CX$2:$DV$2) -> 2 | CZ45: =LOOKUP(DQ45,$CX$1:$DV$1,$CX$2:$DV$2) -> 6 | DA45: =LOOKUP(DR45,$CX$1:$DV$1,$CX$2:$DV$2) -> 7 | DB45: =LOOKUP(DS45,$CX$1:$DV$1,$CX$2:$DV$2) -> 9 | DC45: =LOOKUP(DT45,$CX$1:$DV$1,$CX$2:$DV$2) -> 10 | DD45: =LOOKUP(DU45,$CX$1:$DV$1,$CX$2:$DV$2) -> 12 | DE45: =LOOKUP(DV45,$CX$1:$DV$1,$CX$2:$DV$2) -> 13 | ... DL45: =LOOKUP(EC45,$CX$1:$DV$1,$CX$2:$DV$2) -> 25 | DO45: 1 | DP45: 2 | DQ45: 6 | DR45: 7 | DS45: 9 | DT45: 10 | DU45: 12 | DV45: 13 | DW45: 14 | DX45: 15 | DY45: 16 | DZ45: 17 | EA45: 18 | EB45: 19 | EC45: 20 | FE45: =LOOKUP(FU45,$FE$1:$GC$1,$FE$2:$GC$2) -> 1 | FF45: =LOOKUP(FV45,$FE$1:$GC$1,$FE$2:$GC$2) -> 2 | FG45: =LOOKUP(FW45,$FE$1:$GC$1,$FE$2:$GC$2) -> 3 | FH45: =LOOKUP(FX45,$FE$1:$GC$1,$FE$2:$GC$2) -> 4 | FI45: =LOOKUP(FY45,$FE$1:$GC$1,$FE$2:$GC$2) -> 5 | FJ45: =LOOKUP(FZ45,$FE$1:$GC$1,$FE$2:$GC$2) -> 6 | FK45: =LOOKUP(GA45,$FE$1:$GC$1,$FE$2:$GC$2) -> 7 | FL45: =LOOKUP(GB45,$FE$1:$GC$1,$FE$2:$GC$2) -> 8 | ... FS45: =LOOKUP(GI45,$FE$1:$GC$1,$FE$2:$GC$2) -> 24 | FU45: 1 | FV45: 2 | FW45: 3 | FX45: 4 | FY45: 5 | FZ45: 6 | GA45: 7 | GB45: 8 | GC45: 9 | GD45: 10 | GE45: 11 | GF45: 12 | GG45: 15 | GH45: 16 | GI45: 19 | HK45: =SMALL($HK6:$HP6,A$3) -> 1 | HL45: =SMALL($HK6:$HP6,B$3) -> 2 | HM45: =SMALL($HK6:$HP6,C$3) -> 3 | HN45: =SMALL($HK6:$HP6,D$3) -> 6 | HO45: =SMALL($HK6:$HP6,E$3) -> 7 | HP45: =SMALL($HK6:$HY6,F$3) -> 8 | HQ45: =SMALL($HK6:$HY6,G$3) -> 9 | HR45: =SMALL($HK6:$HY6,H$3) -> 10 | HS45: =SMALL($HK6:$HY6,I$3) -> 11 | HT45: =SMALL($HK6:$HY6,J$3) -> 13 | HU45: =SMALL($HK6:$HY6,K$3) -> 15 | HV45: =SMALL($HK6:$HY6,L$3) -> 16 | HW45: =SMALL($HK6:$HY6,M$3) -> 17 | ... HY45: =SMALL($HK6:$HY6,O$3) -> 20 | IA45: 5 | IS45: =LOOKUP(JI45,$A$3:$Y$3,$A$4:$AE$4) -> 1 | IT45: =LOOKUP(JJ45,$A$3:$Y$3,$A$4:$AE$4) -> 2 | IU45: =LOOKUP(JK45,$A$3:$Y$3,$A$4:$AE$4) -> 3 | IV45: =LOOKUP(JL45,$A$3:$Y$3,$A$4:$AE$4) -> 4 | IW45: =LOOKUP(JM45,$A$3:$Y$3,$A$4:$AE$4) -> 5 | IX45: =LOOKUP(JN45,$A$3:$Y$3,$A$4:$AE$4) -> 6 | IY45: =LOOKUP(JO45,$A$3:$Y$3,$A$4:$AE$4) -> 8 | IZ45: =LOOKUP(JP45,$A$3:$Y$3,$A$4:$AE$4) -> 11 | ... JG45: =LOOKUP(JW45,$A$3:$Y$3,$A$4:$AE$4) -> 19 | JI45: 1 | JJ45: 2 | JK45: 3 | JL45: 4 | JM45: 5 | JN45: 6 | JO45: 8 | JP45: 11 | JQ45: 12 | JR45: 13 | JS45: 14 | JT45: 15 | JU45: 16 | JV45: 18 | JW45: 19
A46: =LOOKUP(Q46,$A$3:$Y$3,$A$4:$Y$4) -> 1 | B46: =LOOKUP(R46,$A$3:$Y$3,$A$4:$Y$4) -> 2 | C46: =LOOKUP(S46,$A$3:$Y$3,$A$4:$Y$4) -> 3 | D46: =LOOKUP(T46,$A$3:$Y$3,$A$4:$Y$4) -> 5 | E46: =LOOKUP(U46,$A$3:$Y$3,$A$4:$Y$4) -> 6 | F46: =LOOKUP(V46,$A$3:$Y$3,$A$4:$Y$4) -> 7 | G46: =LOOKUP(W46,$A$3:$Y$3,$A$4:$Y$4) -> 9 | H46: =LOOKUP(X46,$A$3:$Y$3,$A$4:$Y$4) -> 10 | ... O46: =LOOKUP(AE46,$A$3:$Y$3,$A$4:$Y$4) -> 20 | Q46: 1 | R46: 2 | S46: 3 | T46: 5 | U46: 6 | V46: 7 | W46: 9 | X46: 10 | Y46: 12 | Z46: 14 | AA46: 15 | AB46: 17 | AC46: 18 | AD46: 19 | AE46: 20 | AG46: =LOOKUP(BE46,$AG$1:$BE$1,$AG$2:$BE$2) -> 1 | AH46: =LOOKUP(BF46,$AG$1:$BE$1,$AG$2:$BE$2) -> 2 | AI46: =LOOKUP(BG46,$AG$1:$BE$1,$AG$2:$BE$2) -> 3 | AJ46: =LOOKUP(BH46,$AG$1:$BE$1,$AG$2:$BE$2) -> 4 | AK46: =LOOKUP(BI46,$AG$1:$BE$1,$AG$2:$BE$2) -> 7 | AL46: =LOOKUP(BJ46,$AG$1:$BE$1,$AG$2:$BE$2) -> 8 | AM46: =LOOKUP(BK46,$AG$1:$BE$1,$AG$2:$BE$2) -> 9 | AN46: =LOOKUP(BL46,$AG$1:$BE$1,$AG$2:$BE$2) -> 10 | ... AU46: =LOOKUP(BS46,$AG$1:$BE$1,$AG$2:$BE$2) -> 25 | BE46: 1 | BF46: 2 | BG46: 3 | BH46: 4 | BI46: 7 | BJ46: 8 | BK46: 9 | BL46: 10 | BM46: 12 | BN46: 14 | BO46: 15 | BP46: 16 | BQ46: 18 | BR46: 19 | BS46: 20 | CX46: =LOOKUP(DO46,$CX$1:$DV$1,$CX$2:$DV$2) -> 1 | CY46: =LOOKUP(DP46,$CX$1:$DV$1,$CX$2:$DV$2) -> 2 | CZ46: =LOOKUP(DQ46,$CX$1:$DV$1,$CX$2:$DV$2) -> 7 | DA46: =LOOKUP(DR46,$CX$1:$DV$1,$CX$2:$DV$2) -> 8 | DB46: =LOOKUP(DS46,$CX$1:$DV$1,$CX$2:$DV$2) -> 9 | DC46: =LOOKUP(DT46,$CX$1:$DV$1,$CX$2:$DV$2) -> 11 | DD46: =LOOKUP(DU46,$CX$1:$DV$1,$CX$2:$DV$2) -> 12 | DE46: =LOOKUP(DV46,$CX$1:$DV$1,$CX$2:$DV$2) -> 13 | ... DL46: =LOOKUP(EC46,$CX$1:$DV$1,$CX$2:$DV$2) -> 25 | DO46: 1 | DP46: 2 | DQ46: 7 | DR46: 8 | DS46: 9 | DT46: 11 | DU46: 12 | DV46: 13 | DW46: 14 | DX46: 15 | DY46: 16 | DZ46: 17 | EA46: 18 | EB46: 19 | EC46: 20 | FE46: =LOOKUP(FU46,$FE$1:$GC$1,$FE$2:$GC$2) -> 1 | FF46: =LOOKUP(FV46,$FE$1:$GC$1,$FE$2:$GC$2) -> 2 | FG46: =LOOKUP(FW46,$FE$1:$GC$1,$FE$2:$GC$2) -> 3 | FH46: =LOOKUP(FX46,$FE$1:$GC$1,$FE$2:$GC$2) -> 4 | FI46: =LOOKUP(FY46,$FE$1:$GC$1,$FE$2:$GC$2) -> 5 | FJ46: =LOOKUP(FZ46,$FE$1:$GC$1,$FE$2:$GC$2) -> 6 | FK46: =LOOKUP(GA46,$FE$1:$GC$1,$FE$2:$GC$2) -> 7 | FL46: =LOOKUP(GB46,$FE$1:$GC$1,$FE$2:$GC$2) -> 8 | ... FS46: =LOOKUP(GI46,$FE$1:$GC$1,$FE$2:$GC$2) -> 25 | FU46: 1 | FV46: 2 | FW46: 3 | FX46: 4 | FY46: 5 | FZ46: 6 | GA46: 7 | GB46: 8 | GC46: 9 | GD46: 10 | GE46: 11 | GF46: 12 | GG46: 15 | GH46: 16 | GI46: 20 | HK46: =SMALL($HK7:$HP7,A$3) -> 1 | HL46: =SMALL($HK7:$HP7,B$3) -> 2 | HM46: =SMALL($HK7:$HP7,C$3) -> 3 | HN46: =SMALL($HK7:$HP7,D$3) -> 5 | HO46: =SMALL($HK7:$HP7,E$3) -> 7 | HP46: =SMALL($HK7:$HY7,F$3) -> 9 | HQ46: =SMALL($HK7:$HY7,G$3) -> 10 | HR46: =SMALL($HK7:$HY7,H$3) -> 11 | HS46: =SMALL($HK7:$HY7,I$3) -> 12 | HT46: =SMALL($HK7:$HY7,J$3) -> 13 | HU46: =SMALL($HK7:$HY7,K$3) -> 14 | HV46: =SMALL($HK7:$HY7,L$3) -> 15 | HW46: =SMALL($HK7:$HY7,M$3) -> 16 | ... HY46: =SMALL($HK7:$HY7,O$3) -> 20 | IA46: 6 | IS46: =LOOKUP(JI46,$A$3:$Y$3,$A$4:$AE$4) -> 1 | IT46: =LOOKUP(JJ46,$A$3:$Y$3,$A$4:$AE$4) -> 2 | IU46: =LOOKUP(JK46,$A$3:$Y$3,$A$4:$AE$4) -> 3 | IV46: =LOOKUP(JL46,$A$3:$Y$3,$A$4:$AE$4) -> 4 | IW46: =LOOKUP(JM46,$A$3:$Y$3,$A$4:$AE$4) -> 5 | IX46: =LOOKUP(JN46,$A$3:$Y$3,$A$4:$AE$4) -> 6 | IY46: =LOOKUP(JO46,$A$3:$Y$3,$A$4:$AE$4) -> 8 | IZ46: =LOOKUP(JP46,$A$3:$Y$3,$A$4:$AE$4) -> 11 | ... JG46: =LOOKUP(JW46,$A$3:$Y$3,$A$4:$AE$4) -> 19 | JI46: 1 | JJ46: 2 | JK46: 3 | JL46: 4 | JM46: 5 | JN46: 6 | JO46: 8 | JP46: 11 | JQ46: 12 | JR46: 13 | JS46: 14 | JT46: 16 | JU46: 17 | JV46: 18 | JW46: 19
A47: =LOOKUP(Q47,$A$3:$Y$3,$A$4:$Y$4) -> 1 | B47: =LOOKUP(R47,$A$3:$Y$3,$A$4:$Y$4) -> 2 | C47: =LOOKUP(S47,$A$3:$Y$3,$A$4:$Y$4) -> 3 | D47: =LOOKUP(T47,$A$3:$Y$3,$A$4:$Y$4) -> 5 | E47: =LOOKUP(U47,$A$3:$Y$3,$A$4:$Y$4) -> 6 | F47: =LOOKUP(V47,$A$3:$Y$3,$A$4:$Y$4) -> 7 | G47: =LOOKUP(W47,$A$3:$Y$3,$A$4:$Y$4) -> 10 | H47: =LOOKUP(X47,$A$3:$Y$3,$A$4:$Y$4) -> 11 | ... O47: =LOOKUP(AE47,$A$3:$Y$3,$A$4:$Y$4) -> 20 | Q47: 1 | R47: 2 | S47: 3 | T47: 5 | U47: 6 | V47: 7 | W47: 10 | X47: 11 | Y47: 13 | Z47: 14 | AA47: 16 | AB47: 17 | AC47: 18 | AD47: 19 | AE47: 20 | AG47: =LOOKUP(BE47,$AG$1:$BE$1,$AG$2:$BE$2) -> 1 | AH47: =LOOKUP(BF47,$AG$1:$BE$1,$AG$2:$BE$2) -> 2 | AI47: =LOOKUP(BG47,$AG$1:$BE$1,$AG$2:$BE$2) -> 3 | AJ47: =LOOKUP(BH47,$AG$1:$BE$1,$AG$2:$BE$2) -> 4 | AK47: =LOOKUP(BI47,$AG$1:$BE$1,$AG$2:$BE$2) -> 7 | AL47: =LOOKUP(BJ47,$AG$1:$BE$1,$AG$2:$BE$2) -> 8 | AM47: =LOOKUP(BK47,$AG$1:$BE$1,$AG$2:$BE$2) -> 9 | AN47: =LOOKUP(BL47,$AG$1:$BE$1,$AG$2:$BE$2) -> 11 | ... AU47: =LOOKUP(BS47,$AG$1:$BE$1,$AG$2:$BE$2) -> 25 | BE47: 1 | BF47: 2 | BG47: 3 | BH47: 4 | BI47: 7 | BJ47: 8 | BK47: 9 | BL47: 11 | BM47: 14 | BN47: 15 | BO47: 16 | BP47: 17 | BQ47: 18 | BR47: 19 | BS47: 20 | CX47: =LOOKUP(DO47,$CX$1:$DV$1,$CX$2:$DV$2) -> 1 | CY47: =LOOKUP(DP47,$CX$1:$DV$1,$CX$2:$DV$2) -> 3 | CZ47: =LOOKUP(DQ47,$CX$1:$DV$1,$CX$2:$DV$2) -> 4 | DA47: =LOOKUP(DR47,$CX$1:$DV$1,$CX$2:$DV$2) -> 5 | DB47: =LOOKUP(DS47,$CX$1:$DV$1,$CX$2:$DV$2) -> 6 | DC47: =LOOKUP(DT47,$CX$1:$DV$1,$CX$2:$DV$2) -> 7 | DD47: =LOOKUP(DU47,$CX$1:$DV$1,$CX$2:$DV$2) -> 8 | DE47: =LOOKUP(DV47,$CX$1:$DV$1,$CX$2:$DV$2) -> 9 | ... DL47: =LOOKUP(EC47,$CX$1:$DV$1,$CX$2:$DV$2) -> 25 | DO47: 1 | DP47: 3 | DQ47: 4 | DR47: 5 | DS47: 6 | DT47: 7 | DU47: 8 | DV47: 9 | DW47: 10 | DX47: 11 | DY47: 16 | DZ47: 17 | EA47: 18 | EB47: 19 | EC47: 20 | FE47: =LOOKUP(FU47,$FE$1:$GC$1,$FE$2:$GC$2) -> 1 | FF47: =LOOKUP(FV47,$FE$1:$GC$1,$FE$2:$GC$2) -> 2 | FG47: =LOOKUP(FW47,$FE$1:$GC$1,$FE$2:$GC$2) -> 3 | FH47: =LOOKUP(FX47,$FE$1:$GC$1,$FE$2:$GC$2) -> 4 | FI47: =LOOKUP(FY47,$FE$1:$GC$1,$FE$2:$GC$2) -> 5 | FJ47: =LOOKUP(FZ47,$FE$1:$GC$1,$FE$2:$GC$2) -> 6 | FK47: =LOOKUP(GA47,$FE$1:$GC$1,$FE$2:$GC$2) -> 7 | FL47: =LOOKUP(GB47,$FE$1:$GC$1,$FE$2:$GC$2) -> 8 | ... FS47: =LOOKUP(GI47,$FE$1:$GC$1,$FE$2:$GC$2) -> 23 | FU47: 1 | FV47: 2 | FW47: 3 | FX47: 4 | FY47: 5 | FZ47: 6 | GA47: 7 | GB47: 8 | GC47: 9 | GD47: 10 | GE47: 11 | GF47: 12 | GG47: 15 | GH47: 17 | GI47: 18 | HK47: =SMALL($HK8:$HP8,A$3) -> 1 | HL47: =SMALL($HK8:$HP8,B$3) -> 2 | HM47: =SMALL($HK8:$HP8,C$3) -> 3 | HN47: =SMALL($HK8:$HP8,D$3) -> 5 | HO47: =SMALL($HK8:$HP8,E$3) -> 7 | HP47: =SMALL($HK8:$HY8,F$3) -> 8 | HQ47: =SMALL($HK8:$HY8,G$3) -> 9 | HR47: =SMALL($HK8:$HY8,H$3) -> 11 | HS47: =SMALL($HK8:$HY8,I$3) -> 12 | HT47: =SMALL($HK8:$HY8,J$3) -> 13 | HU47: =SMALL($HK8:$HY8,K$3) -> 14 | HV47: =SMALL($HK8:$HY8,L$3) -> 15 | HW47: =SMALL($HK8:$HY8,M$3) -> 16 | ... HY47: =SMALL($HK8:$HY8,O$3) -> 18 | IA47: 7 | IS47: =LOOKUP(JI47,$A$3:$Y$3,$A$4:$AE$4) -> 1 | IT47: =LOOKUP(JJ47,$A$3:$Y$3,$A$4:$AE$4) -> 2 | IU47: =LOOKUP(JK47,$A$3:$Y$3,$A$4:$AE$4) -> 3 | IV47: =LOOKUP(JL47,$A$3:$Y$3,$A$4:$AE$4) -> 4 | IW47: =LOOKUP(JM47,$A$3:$Y$3,$A$4:$AE$4) -> 5 | IX47: =LOOKUP(JN47,$A$3:$Y$3,$A$4:$AE$4) -> 6 | IY47: =LOOKUP(JO47,$A$3:$Y$3,$A$4:$AE$4) -> 9 | IZ47: =LOOKUP(JP47,$A$3:$Y$3,$A$4:$AE$4) -> 10 | ... JG47: =LOOKUP(JW47,$A$3:$Y$3,$A$4:$AE$4) -> 20 | JI47: 1 | JJ47: 2 | JK47: 3 | JL47: 4 | JM47: 5 | JN47: 6 | JO47: 9 | JP47: 10 | JQ47: 12 | JR47: 13 | JS47: 14 | JT47: 15 | JU47: 18 | JV47: 19 | JW47: 20
A48: =LOOKUP(Q48,$A$3:$Y$3,$A$4:$Y$4) -> 1 | B48: =LOOKUP(R48,$A$3:$Y$3,$A$4:$Y$4) -> 2 | C48: =LOOKUP(S48,$A$3:$Y$3,$A$4:$Y$4) -> 3 | D48: =LOOKUP(T48,$A$3:$Y$3,$A$4:$Y$4) -> 5 | E48: =LOOKUP(U48,$A$3:$Y$3,$A$4:$Y$4) -> 6 | F48: =LOOKUP(V48,$A$3:$Y$3,$A$4:$Y$4) -> 8 | G48: =LOOKUP(W48,$A$3:$Y$3,$A$4:$Y$4) -> 9 | H48: =LOOKUP(X48,$A$3:$Y$3,$A$4:$Y$4) -> 10 | ... O48: =LOOKUP(AE48,$A$3:$Y$3,$A$4:$Y$4) -> 20 | Q48: 1 | R48: 2 | S48: 3 | T48: 5 | U48: 6 | V48: 8 | W48: 9 | X48: 10 | Y48: 11 | Z48: 12 | AA48: 13 | AB48: 14 | AC48: 15 | AD48: 18 | AE48: 20 | AG48: =LOOKUP(BE48,$AG$1:$BE$1,$AG$2:$BE$2) -> 1 | AH48: =LOOKUP(BF48,$AG$1:$BE$1,$AG$2:$BE$2) -> 2 | AI48: =LOOKUP(BG48,$AG$1:$BE$1,$AG$2:$BE$2) -> 3 | AJ48: =LOOKUP(BH48,$AG$1:$BE$1,$AG$2:$BE$2) -> 4 | AK48: =LOOKUP(BI48,$AG$1:$BE$1,$AG$2:$BE$2) -> 7 | AL48: =LOOKUP(BJ48,$AG$1:$BE$1,$AG$2:$BE$2) -> 10 | AM48: =LOOKUP(BK48,$AG$1:$BE$1,$AG$2:$BE$2) -> 12 | AN48: =LOOKUP(BL48,$AG$1:$BE$1,$AG$2:$BE$2) -> 13 | ... AU48: =LOOKUP(BS48,$AG$1:$BE$1,$AG$2:$BE$2) -> 25 | BE48: 1 | BF48: 2 | BG48: 3 | BH48: 4 | BI48: 7 | BJ48: 10 | BK48: 12 | BL48: 13 | BM48: 14 | BN48: 15 | BO48: 16 | BP48: 17 | BQ48: 18 | BR48: 19 | BS48: 20 | CX48: =LOOKUP(DO48,$CX$1:$DV$1,$CX$2:$DV$2) -> 1 | CY48: =LOOKUP(DP48,$CX$1:$DV$1,$CX$2:$DV$2) -> 3 | CZ48: =LOOKUP(DQ48,$CX$1:$DV$1,$CX$2:$DV$2) -> 4 | DA48: =LOOKUP(DR48,$CX$1:$DV$1,$CX$2:$DV$2) -> 5 | DB48: =LOOKUP(DS48,$CX$1:$DV$1,$CX$2:$DV$2) -> 6 | DC48: =LOOKUP(DT48,$CX$1:$DV$1,$CX$2:$DV$2) -> 7 | DD48: =LOOKUP(DU48,$CX$1:$DV$1,$CX$2:$DV$2) -> 8 | DE48: =LOOKUP(DV48,$CX$1:$DV$1,$CX$2:$DV$2) -> 11 | ... DL48: =LOOKUP(EC48,$CX$1:$DV$1,$CX$2:$DV$2) -> 25 | DO48: 1 | DP48: 3 | DQ48: 4 | DR48: 5 | DS48: 6 | DT48: 7 | DU48: 8 | DV48: 11 | DW48: 12 | DX48: 14 | DY48: 16 | DZ48: 17 | EA48: 18 | EB48: 19 | EC48: 20 | FE48: =LOOKUP(FU48,$FE$1:$GC$1,$FE$2:$GC$2) -> 1 | FF48: =LOOKUP(FV48,$FE$1:$GC$1,$FE$2:$GC$2) -> 2 | FG48: =LOOKUP(FW48,$FE$1:$GC$1,$FE$2:$GC$2) -> 3 | FH48: =LOOKUP(FX48,$FE$1:$GC$1,$FE$2:$GC$2) -> 4 | FI48: =LOOKUP(FY48,$FE$1:$GC$1,$FE$2:$GC$2) -> 5 | FJ48: =LOOKUP(FZ48,$FE$1:$GC$1,$FE$2:$GC$2) -> 6 | FK48: =LOOKUP(GA48,$FE$1:$GC$1,$FE$2:$GC$2) -> 7 | FL48: =LOOKUP(GB48,$FE$1:$GC$1,$FE$2:$GC$2) -> 8 | ... FS48: =LOOKUP(GI48,$FE$1:$GC$1,$FE$2:$GC$2) -> 24 | FU48: 1 | FV48: 2 | FW48: 3 | FX48: 4 | FY48: 5 | FZ48: 6 | GA48: 7 | GB48: 8 | GC48: 9 | GD48: 10 | GE48: 11 | GF48: 12 | GG48: 15 | GH48: 17 | GI48: 19 | HK48: =SMALL($HK9:$HP9,A$3) -> 1 | HL48: =SMALL($HK9:$HP9,B$3) -> 2 | HM48: =SMALL($HK9:$HP9,C$3) -> 3 | HN48: =SMALL($HK9:$HP9,D$3) -> 5 | HO48: =SMALL($HK9:$HP9,E$3) -> 6 | HP48: =SMALL($HK9:$HY9,F$3) -> 7 | HQ48: =SMALL($HK9:$HY9,G$3) -> 8 | HR48: =SMALL($HK9:$HY9,H$3) -> 9 | HS48: =SMALL($HK9:$HY9,I$3) -> 12 | HT48: =SMALL($HK9:$HY9,J$3) -> 14 | HU48: =SMALL($HK9:$HY9,K$3) -> 16 | HV48: =SMALL($HK9:$HY9,L$3) -> 17 | HW48: =SMALL($HK9:$HY9,M$3) -> 18 | ... HY48: =SMALL($HK9:$HY9,O$3) -> 20 | IA48: 8 | IS48: =LOOKUP(JI48,$A$3:$Y$3,$A$4:$AE$4) -> 1 | IT48: =LOOKUP(JJ48,$A$3:$Y$3,$A$4:$AE$4) -> 2 | IU48: =LOOKUP(JK48,$A$3:$Y$3,$A$4:$AE$4) -> 3 | IV48: =LOOKUP(JL48,$A$3:$Y$3,$A$4:$AE$4) -> 4 | IW48: =LOOKUP(JM48,$A$3:$Y$3,$A$4:$AE$4) -> 5 | IX48: =LOOKUP(JN48,$A$3:$Y$3,$A$4:$AE$4) -> 6 | IY48: =LOOKUP(JO48,$A$3:$Y$3,$A$4:$AE$4) -> 9 | IZ48: =LOOKUP(JP48,$A$3:$Y$3,$A$4:$AE$4) -> 10 | ... JG48: =LOOKUP(JW48,$A$3:$Y$3,$A$4:$AE$4) -> 20 | JI48: 1 | JJ48: 2 | JK48: 3 | JL48: 4 | JM48: 5 | JN48: 6 | JO48: 9 | JP48: 10 | JQ48: 12 | JR48: 13 | JS48: 15 | JT48: 17 | JU48: 18 | JV48: 19 | JW48: 20
A49: =LOOKUP(Q49,$A$3:$Y$3,$A$4:$Y$4) -> 1 | B49: =LOOKUP(R49,$A$3:$Y$3,$A$4:$Y$4) -> 2 | C49: =LOOKUP(S49,$A$3:$Y$3,$A$4:$Y$4) -> 3 | D49: =LOOKUP(T49,$A$3:$Y$3,$A$4:$Y$4) -> 5 | E49: =LOOKUP(U49,$A$3:$Y$3,$A$4:$Y$4) -> 6 | F49: =LOOKUP(V49,$A$3:$Y$3,$A$4:$Y$4) -> 8 | G49: =LOOKUP(W49,$A$3:$Y$3,$A$4:$Y$4) -> 9 | H49: =LOOKUP(X49,$A$3:$Y$3,$A$4:$Y$4) -> 11 | ... O49: =LOOKUP(AE49,$A$3:$Y$3,$A$4:$Y$4) -> 20 | Q49: 1 | R49: 2 | S49: 3 | T49: 5 | U49: 6 | V49: 8 | W49: 9 | X49: 11 | Y49: 12 | Z49: 14 | AA49: 15 | AB49: 16 | AC49: 17 | AD49: 19 | AE49: 20 | AG49: =LOOKUP(BE49,$AG$1:$BE$1,$AG$2:$BE$2) -> 1 | AH49: =LOOKUP(BF49,$AG$1:$BE$1,$AG$2:$BE$2) -> 2 | AI49: =LOOKUP(BG49,$AG$1:$BE$1,$AG$2:$BE$2) -> 3 | AJ49: =LOOKUP(BH49,$AG$1:$BE$1,$AG$2:$BE$2) -> 4 | AK49: =LOOKUP(BI49,$AG$1:$BE$1,$AG$2:$BE$2) -> 8 | AL49: =LOOKUP(BJ49,$AG$1:$BE$1,$AG$2:$BE$2) -> 10 | AM49: =LOOKUP(BK49,$AG$1:$BE$1,$AG$2:$BE$2) -> 11 | AN49: =LOOKUP(BL49,$AG$1:$BE$1,$AG$2:$BE$2) -> 12 | ... AU49: =LOOKUP(BS49,$AG$1:$BE$1,$AG$2:$BE$2) -> 25 | BE49: 1 | BF49: 2 | BG49: 3 | BH49: 4 | BI49: 8 | BJ49: 10 | BK49: 11 | BL49: 12 | BM49: 13 | BN49: 15 | BO49: 16 | BP49: 17 | BQ49: 18 | BR49: 19 | BS49: 20 | CX49: =LOOKUP(DO49,$CX$1:$DV$1,$CX$2:$DV$2) -> 1 | CY49: =LOOKUP(DP49,$CX$1:$DV$1,$CX$2:$DV$2) -> 3 | CZ49: =LOOKUP(DQ49,$CX$1:$DV$1,$CX$2:$DV$2) -> 4 | DA49: =LOOKUP(DR49,$CX$1:$DV$1,$CX$2:$DV$2) -> 5 | DB49: =LOOKUP(DS49,$CX$1:$DV$1,$CX$2:$DV$2) -> 6 | DC49: =LOOKUP(DT49,$CX$1:$DV$1,$CX$2:$DV$2) -> 8 | DD49: =LOOKUP(DU49,$CX$1:$DV$1,$CX$2:$DV$2) -> 9 | DE49: =LOOKUP(DV49,$CX$1:$DV$1,$CX$2:$DV$2) -> 11 | ... DL49: =LOOKUP(EC49,$CX$1:$DV$1,$CX$2:$DV$2) -> 25 | DO49: 1 | DP49: 3 | DQ49: 4 | DR49: 5 | DS49: 6 | DT49: 8 | DU49: 9 | DV49: 11 | DW49: 12 | DX49: 15 | DY49: 16 | DZ49: 17 | EA49: 18 | EB49: 19 | EC49: 20 | FE49: =LOOKUP(FU49,$FE$1:$GC$1,$FE$2:$GC$2) -> 1 | FF49: =LOOKUP(FV49,$FE$1:$GC$1,$FE$2:$GC$2) -> 2 | FG49: =LOOKUP(FW49,$FE$1:$GC$1,$FE$2:$GC$2) -> 3 | FH49: =LOOKUP(FX49,$FE$1:$GC$1,$FE$2:$GC$2) -> 4 | FI49: =LOOKUP(FY49,$FE$1:$GC$1,$FE$2:$GC$2) -> 5 | FJ49: =LOOKUP(FZ49,$FE$1:$GC$1,$FE$2:$GC$2) -> 6 | FK49: =LOOKUP(GA49,$FE$1:$GC$1,$FE$2:$GC$2) -> 7 | FL49: =LOOKUP(GB49,$FE$1:$GC$1,$FE$2:$GC$2) -> 8 | ... FS49: =LOOKUP(GI49,$FE$1:$GC$1,$FE$2:$GC$2) -> 25 | FU49: 1 | FV49: 2 | FW49: 3 | FX49: 4 | FY49: 5 | FZ49: 6 | GA49: 7 | GB49: 8 | GC49: 9 | GD49: 10 | GE49: 11 | GF49: 12 | GG49: 15 | GH49: 17 | GI49: 20 | HK49: =SMALL($HK10:$HP10,A$3) -> 1 | HL49: =SMALL($HK10:$HP10,B$3) -> 2 | HM49: =SMALL($HK10:$HP10,C$3) -> 4 | HN49: =SMALL($HK10:$HP10,D$3) -> 6 | HO49: =SMALL($HK10:$HP10,E$3) -> 7 | HP49: =SMALL($HK10:$HY10,F$3) -> 8 | HQ49: =SMALL($HK10:$HY10,G$3) -> 11 | HR49: =SMALL($HK10:$HY10,H$3) -> 13 | HS49: =SMALL($HK10:$HY10,I$3) -> 14 | HT49: =SMALL($HK10:$HY10,J$3) -> 15 | HU49: =SMALL($HK10:$HY10,K$3) -> 16 | HV49: =SMALL($HK10:$HY10,L$3) -> 17 | HW49: =SMALL($HK10:$HY10,M$3) -> 18 | ... HY49: =SMALL($HK10:$HY10,O$3) -> 20 | IA49: 9 | IS49: =LOOKUP(JI49,$A$3:$Y$3,$A$4:$AE$4) -> 1 | IT49: =LOOKUP(JJ49,$A$3:$Y$3,$A$4:$AE$4) -> 2 | IU49: =LOOKUP(JK49,$A$3:$Y$3,$A$4:$AE$4) -> 3 | IV49: =LOOKUP(JL49,$A$3:$Y$3,$A$4:$AE$4) -> 4 | IW49: =LOOKUP(JM49,$A$3:$Y$3,$A$4:$AE$4) -> 5 | IX49: =LOOKUP(JN49,$A$3:$Y$3,$A$4:$AE$4) -> 6 | IY49: =LOOKUP(JO49,$A$3:$Y$3,$A$4:$AE$4) -> 9 | IZ49: =LOOKUP(JP49,$A$3:$Y$3,$A$4:$AE$4) -> 11 | ... JG49: =LOOKUP(JW49,$A$3:$Y$3,$A$4:$AE$4) -> 20 | JI49: 1 | JJ49: 2 | JK49: 3 | JL49: 4 | JM49: 5 | JN49: 6 | JO49: 9 | JP49: 11 | JQ49: 12 | JR49: 13 | JS49: 14 | JT49: 16 | JU49: 17 | JV49: 18 | JW49: 20
A50: =LOOKUP(Q50,$A$3:$Y$3,$A$4:$Y$4) -> 1 | B50: =LOOKUP(R50,$A$3:$Y$3,$A$4:$Y$4) -> 2 | C50: =LOOKUP(S50,$A$3:$Y$3,$A$4:$Y$4) -> 3 | D50: =LOOKUP(T50,$A$3:$Y$3,$A$4:$Y$4) -> 5 | E50: =LOOKUP(U50,$A$3:$Y$3,$A$4:$Y$4) -> 6 | F50: =LOOKUP(V50,$A$3:$Y$3,$A$4:$Y$4) -> 8 | G50: =LOOKUP(W50,$A$3:$Y$3,$A$4:$Y$4) -> 10 | H50: =LOOKUP(X50,$A$3:$Y$3,$A$4:$Y$4) -> 12 | ... O50: =LOOKUP(AE50,$A$3:$Y$3,$A$4:$Y$4) -> 20 | Q50: 1 | R50: 2 | S50: 3 | T50: 5 | U50: 6 | V50: 8 | W50: 10 | X50: 12 | Y50: 13 | Z50: 14 | AA50: 15 | AB50: 16 | AC50: 17 | AD50: 19 | AE50: 20 | AG50: =LOOKUP(BE50,$AG$1:$BE$1,$AG$2:$BE$2) -> 1 | AH50: =LOOKUP(BF50,$AG$1:$BE$1,$AG$2:$BE$2) -> 2 | AI50: =LOOKUP(BG50,$AG$1:$BE$1,$AG$2:$BE$2) -> 3 | AJ50: =LOOKUP(BH50,$AG$1:$BE$1,$AG$2:$BE$2) -> 5 | AK50: =LOOKUP(BI50,$AG$1:$BE$1,$AG$2:$BE$2) -> 6 | AL50: =LOOKUP(BJ50,$AG$1:$BE$1,$AG$2:$BE$2) -> 7 | AM50: =LOOKUP(BK50,$AG$1:$BE$1,$AG$2:$BE$2) -> 8 | AN50: =LOOKUP(BL50,$AG$1:$BE$1,$AG$2:$BE$2) -> 9 | ... AU50: =LOOKUP(BS50,$AG$1:$BE$1,$AG$2:$BE$2) -> 25 | BE50: 1 | BF50: 2 | BG50: 3 | BH50: 5 | BI50: 6 | BJ50: 7 | BK50: 8 | BL50: 9 | BM50: 10 | BN50: 11 | BO50: 14 | BP50: 15 | BQ50: 18 | BR50: 19 | BS50: 20 | CX50: =LOOKUP(DO50,$CX$1:$DV$1,$CX$2:$DV$2) -> 1 | CY50: =LOOKUP(DP50,$CX$1:$DV$1,$CX$2:$DV$2) -> 3 | CZ50: =LOOKUP(DQ50,$CX$1:$DV$1,$CX$2:$DV$2) -> 4 | DA50: =LOOKUP(DR50,$CX$1:$DV$1,$CX$2:$DV$2) -> 5 | DB50: =LOOKUP(DS50,$CX$1:$DV$1,$CX$2:$DV$2) -> 6 | DC50: =LOOKUP(DT50,$CX$1:$DV$1,$CX$2:$DV$2) -> 9 | DD50: =LOOKUP(DU50,$CX$1:$DV$1,$CX$2:$DV$2) -> 12 | DE50: =LOOKUP(DV50,$CX$1:$DV$1,$CX$2:$DV$2) -> 13 | ... DL50: =LOOKUP(EC50,$CX$1:$DV$1,$CX$2:$DV$2) -> 25 | DO50: 1 | DP50: 3 | DQ50: 4 | DR50: 5 | DS50: 6 | DT50: 9 | DU50: 12 | DV50: 13 | DW50: 14 | DX50: 15 | DY50: 16 | DZ50: 17 | EA50: 18 | EB50: 19 | EC50: 20 | FE50: =LOOKUP(FU50,$FE$1:$GC$1,$FE$2:$GC$2) -> 1 | FF50: =LOOKUP(FV50,$FE$1:$GC$1,$FE$2:$GC$2) -> 2 | FG50: =LOOKUP(FW50,$FE$1:$GC$1,$FE$2:$GC$2) -> 3 | FH50: =LOOKUP(FX50,$FE$1:$GC$1,$FE$2:$GC$2) -> 4 | FI50: =LOOKUP(FY50,$FE$1:$GC$1,$FE$2:$GC$2) -> 5 | FJ50: =LOOKUP(FZ50,$FE$1:$GC$1,$FE$2:$GC$2) -> 6 | FK50: =LOOKUP(GA50,$FE$1:$GC$1,$FE$2:$GC$2) -> 7 | FL50: =LOOKUP(GB50,$FE$1:$GC$1,$FE$2:$GC$2) -> 8 | ... FS50: =LOOKUP(GI50,$FE$1:$GC$1,$FE$2:$GC$2) -> 24 | FU50: 1 | FV50: 2 | FW50: 3 | FX50: 4 | FY50: 5 | FZ50: 6 | GA50: 7 | GB50: 8 | GC50: 9 | GD50: 10 | GE50: 11 | GF50: 12 | GG50: 15 | GH50: 18 | GI50: 19 | HK50: =SMALL($HK11:$HP11,A$3) -> 1 | HL50: =SMALL($HK11:$HP11,B$3) -> 2 | HM50: =SMALL($HK11:$HP11,C$3) -> 3 | HN50: =SMALL($HK11:$HP11,D$3) -> 5 | HO50: =SMALL($HK11:$HP11,E$3) -> 6 | HP50: =SMALL($HK11:$HY11,F$3) -> 7 | HQ50: =SMALL($HK11:$HY11,G$3) -> 8 | HR50: =SMALL($HK11:$HY11,H$3) -> 9 | HS50: =SMALL($HK11:$HY11,I$3) -> 10 | HT50: =SMALL($HK11:$HY11,J$3) -> 11 | HU50: =SMALL($HK11:$HY11,K$3) -> 12 | HV50: =SMALL($HK11:$HY11,L$3) -> 13 | HW50: =SMALL($HK11:$HY11,M$3) -> 16 | ... HY50: =SMALL($HK11:$HY11,O$3) -> 19 | IA50: 10 | IS50: =LOOKUP(JI50,$A$3:$Y$3,$A$4:$AE$4) -> 1 | IT50: =LOOKUP(JJ50,$A$3:$Y$3,$A$4:$AE$4) -> 2 | IU50: =LOOKUP(JK50,$A$3:$Y$3,$A$4:$AE$4) -> 3 | IV50: =LOOKUP(JL50,$A$3:$Y$3,$A$4:$AE$4) -> 4 | IW50: =LOOKUP(JM50,$A$3:$Y$3,$A$4:$AE$4) -> 5 | IX50: =LOOKUP(JN50,$A$3:$Y$3,$A$4:$AE$4) -> 6 | IY50: =LOOKUP(JO50,$A$3:$Y$3,$A$4:$AE$4) -> 9 | IZ50: =LOOKUP(JP50,$A$3:$Y$3,$A$4:$AE$4) -> 11 | ... JG50: =LOOKUP(JW50,$A$3:$Y$3,$A$4:$AE$4) -> 19 | JI50: 1 | JJ50: 2 | JK50: 3 | JL50: 4 | JM50: 5 | JN50: 6 | JO50: 9 | JP50: 11 | JQ50: 12 | JR50: 14 | JS50: 15 | JT50: 16 | JU50: 17 | JV50: 18 | JW50: 19
A51: =LOOKUP(Q51,$A$3:$Y$3,$A$4:$Y$4) -> 1 | B51: =LOOKUP(R51,$A$3:$Y$3,$A$4:$Y$4) -> 2 | C51: =LOOKUP(S51,$A$3:$Y$3,$A$4:$Y$4) -> 3 | D51: =LOOKUP(T51,$A$3:$Y$3,$A$4:$Y$4) -> 5 | E51: =LOOKUP(U51,$A$3:$Y$3,$A$4:$Y$4) -> 7 | F51: =LOOKUP(V51,$A$3:$Y$3,$A$4:$Y$4) -> 8 | G51: =LOOKUP(W51,$A$3:$Y$3,$A$4:$Y$4) -> 9 | H51: =LOOKUP(X51,$A$3:$Y$3,$A$4:$Y$4) -> 10 | ... O51: =LOOKUP(AE51,$A$3:$Y$3,$A$4:$Y$4) -> 20 | Q51: 1 | R51: 2 | S51: 3 | T51: 5 | U51: 7 | V51: 8 | W51: 9 | X51: 10 | Y51: 11 | Z51: 13 | AA51: 14 | AB51: 15 | AC51: 16 | AD51: 17 | AE51: 20 | AG51: =LOOKUP(BE51,$AG$1:$BE$1,$AG$2:$BE$2) -> 1 | AH51: =LOOKUP(BF51,$AG$1:$BE$1,$AG$2:$BE$2) -> 2 | AI51: =LOOKUP(BG51,$AG$1:$BE$1,$AG$2:$BE$2) -> 3 | AJ51: =LOOKUP(BH51,$AG$1:$BE$1,$AG$2:$BE$2) -> 5 | AK51: =LOOKUP(BI51,$AG$1:$BE$1,$AG$2:$BE$2) -> 6 | AL51: =LOOKUP(BJ51,$AG$1:$BE$1,$AG$2:$BE$2) -> 7 | AM51: =LOOKUP(BK51,$AG$1:$BE$1,$AG$2:$BE$2) -> 8 | AN51: =LOOKUP(BL51,$AG$1:$BE$1,$AG$2:$BE$2) -> 10 | ... AU51: =LOOKUP(BS51,$AG$1:$BE$1,$AG$2:$BE$2) -> 25 | BE51: 1 | BF51: 2 | BG51: 3 | BH51: 5 | BI51: 6 | BJ51: 7 | BK51: 8 | BL51: 10 | BM51: 11 | BN51: 12 | BO51: 13 | BP51: 15 | BQ51: 18 | BR51: 19 | BS51: 20 | CX51: =LOOKUP(DO51,$CX$1:$DV$1,$CX$2:$DV$2) -> 1 | CY51: =LOOKUP(DP51,$CX$1:$DV$1,$CX$2:$DV$2) -> 3 | CZ51: =LOOKUP(DQ51,$CX$1:$DV$1,$CX$2:$DV$2) -> 4 | DA51: =LOOKUP(DR51,$CX$1:$DV$1,$CX$2:$DV$2) -> 5 | DB51: =LOOKUP(DS51,$CX$1:$DV$1,$CX$2:$DV$2) -> 6 | DC51: =LOOKUP(DT51,$CX$1:$DV$1,$CX$2:$DV$2) -> 10 | DD51: =LOOKUP(DU51,$CX$1:$DV$1,$CX$2:$DV$2) -> 11 | DE51: =LOOKUP(DV51,$CX$1:$DV$1,$CX$2:$DV$2) -> 12 | ... DL51: =LOOKUP(EC51,$CX$1:$DV$1,$CX$2:$DV$2) -> 25 | DO51: 1 | DP51: 3 | DQ51: 4 | DR51: 5 | DS51: 6 | DT51: 10 | DU51: 11 | DV51: 12 | DW51: 13 | DX51: 15 | DY51: 16 | DZ51: 17 | EA51: 18 | EB51: 19 | EC51: 20 | FE51: =LOOKUP(FU51,$FE$1:$GC$1,$FE$2:$GC$2) -> 1 | FF51: =LOOKUP(FV51,$FE$1:$GC$1,$FE$2:$GC$2) -> 2 | FG51: =LOOKUP(FW51,$FE$1:$GC$1,$FE$2:$GC$2) -> 3 | FH51: =LOOKUP(FX51,$FE$1:$GC$1,$FE$2:$GC$2) -> 4 | FI51: =LOOKUP(FY51,$FE$1:$GC$1,$FE$2:$GC$2) -> 5 | FJ51: =LOOKUP(FZ51,$FE$1:$GC$1,$FE$2:$GC$2) -> 6 | FK51: =LOOKUP(GA51,$FE$1:$GC$1,$FE$2:$GC$2) -> 7 | FL51: =LOOKUP(GB51,$FE$1:$GC$1,$FE$2:$GC$2) -> 8 | ... FS51: =LOOKUP(GI51,$FE$1:$GC$1,$FE$2:$GC$2) -> 25 | FU51: 1 | FV51: 2 | FW51: 3 | FX51: 4 | FY51: 5 | FZ51: 6 | GA51: 7 | GB51: 8 | GC51: 9 | GD51: 10 | GE51: 11 | GF51: 12 | GG51: 15 | GH51: 18 | GI51: 20 | HK51: =SMALL($HK12:$HP12,A$3) -> 1 | HL51: =SMALL($HK12:$HP12,B$3) -> 2 | HM51: =SMALL($HK12:$HP12,C$3) -> 4 | HN51: =SMALL($HK12:$HP12,D$3) -> 7 | HO51: =SMALL($HK12:$HP12,E$3) -> 8 | HP51: =SMALL($HK12:$HY12,F$3) -> 9 | HQ51: =SMALL($HK12:$HY12,G$3) -> 10 | HR51: =SMALL($HK12:$HY12,H$3) -> 11 | HS51: =SMALL($HK12:$HY12,I$3) -> 12 | HT51: =SMALL($HK12:$HY12,J$3) -> 13 | HU51: =SMALL($HK12:$HY12,K$3) -> 14 | HV51: =SMALL($HK12:$HY12,L$3) -> 15 | HW51: =SMALL($HK12:$HY12,M$3) -> 16 | ... HY51: =SMALL($HK12:$HY12,O$3) -> 18 | IA51: 11 | IS51: =LOOKUP(JI51,$A$3:$Y$3,$A$4:$AE$4) -> 1 | IT51: =LOOKUP(JJ51,$A$3:$Y$3,$A$4:$AE$4) -> 2 | IU51: =LOOKUP(JK51,$A$3:$Y$3,$A$4:$AE$4) -> 3 | IV51: =LOOKUP(JL51,$A$3:$Y$3,$A$4:$AE$4) -> 4 | IW51: =LOOKUP(JM51,$A$3:$Y$3,$A$4:$AE$4) -> 5 | IX51: =LOOKUP(JN51,$A$3:$Y$3,$A$4:$AE$4) -> 6 | IY51: =LOOKUP(JO51,$A$3:$Y$3,$A$4:$AE$4) -> 10 | IZ51: =LOOKUP(JP51,$A$3:$Y$3,$A$4:$AE$4) -> 11 | ... JG51: =LOOKUP(JW51,$A$3:$Y$3,$A$4:$AE$4) -> 20 | JI51: 1 | JJ51: 2 | JK51: 3 | JL51: 4 | JM51: 5 | JN51: 6 | JO51: 10 | JP51: 11 | JQ51: 13 | JR51: 14 | JS51: 15 | JT51: 16 | JU51: 17 | JV51: 19 | JW51: 20
A52: =LOOKUP(Q52,$A$3:$Y$3,$A$4:$Y$4) -> 1 | B52: =LOOKUP(R52,$A$3:$Y$3,$A$4:$Y$4) -> 2 | C52: =LOOKUP(S52,$A$3:$Y$3,$A$4:$Y$4) -> 3 | D52: =LOOKUP(T52,$A$3:$Y$3,$A$4:$Y$4) -> 5 | E52: =LOOKUP(U52,$A$3:$Y$3,$A$4:$Y$4) -> 7 | F52: =LOOKUP(V52,$A$3:$Y$3,$A$4:$Y$4) -> 9 | G52: =LOOKUP(W52,$A$3:$Y$3,$A$4:$Y$4) -> 11 | H52: =LOOKUP(X52,$A$3:$Y$3,$A$4:$Y$4) -> 12 | ... O52: =LOOKUP(AE52,$A$3:$Y$3,$A$4:$Y$4) -> 20 | Q52: 1 | R52: 2 | S52: 3 | T52: 5 | U52: 7 | V52: 9 | W52: 11 | X52: 12 | Y52: 13 | Z52: 14 | AA52: 15 | AB52: 16 | AC52: 17 | AD52: 18 | AE52: 20 | AG52: =LOOKUP(BE52,$AG$1:$BE$1,$AG$2:$BE$2) -> 1 | AH52: =LOOKUP(BF52,$AG$1:$BE$1,$AG$2:$BE$2) -> 2 | AI52: =LOOKUP(BG52,$AG$1:$BE$1,$AG$2:$BE$2) -> 3 | AJ52: =LOOKUP(BH52,$AG$1:$BE$1,$AG$2:$BE$2) -> 5 | AK52: =LOOKUP(BI52,$AG$1:$BE$1,$AG$2:$BE$2) -> 6 | AL52: =LOOKUP(BJ52,$AG$1:$BE$1,$AG$2:$BE$2) -> 7 | AM52: =LOOKUP(BK52,$AG$1:$BE$1,$AG$2:$BE$2) -> 8 | AN52: =LOOKUP(BL52,$AG$1:$BE$1,$AG$2:$BE$2) -> 10 | ... AU52: =LOOKUP(BS52,$AG$1:$BE$1,$AG$2:$BE$2) -> 25 | BE52: 1 | BF52: 2 | BG52: 3 | BH52: 5 | BI52: 6 | BJ52: 7 | BK52: 8 | BL52: 10 | BM52: 11 | BN52: 13 | BO52: 16 | BP52: 17 | BQ52: 18 | BR52: 19 | BS52: 20 | CX52: =LOOKUP(DO52,$CX$1:$DV$1,$CX$2:$DV$2) -> 1 | CY52: =LOOKUP(DP52,$CX$1:$DV$1,$CX$2:$DV$2) -> 3 | CZ52: =LOOKUP(DQ52,$CX$1:$DV$1,$CX$2:$DV$2) -> 4 | DA52: =LOOKUP(DR52,$CX$1:$DV$1,$CX$2:$DV$2) -> 5 | DB52: =LOOKUP(DS52,$CX$1:$DV$1,$CX$2:$DV$2) -> 7 | DC52: =LOOKUP(DT52,$CX$1:$DV$1,$CX$2:$DV$2) -> 8 | DD52: =LOOKUP(DU52,$CX$1:$DV$1,$CX$2:$DV$2) -> 9 | DE52: =LOOKUP(DV52,$CX$1:$DV$1,$CX$2:$DV$2) -> 10 | ... DL52: =LOOKUP(EC52,$CX$1:$DV$1,$CX$2:$DV$2) -> 25 | DO52: 1 | DP52: 3 | DQ52: 4 | DR52: 5 | DS52: 7 | DT52: 8 | DU52: 9 | DV52: 10 | DW52: 11 | DX52: 12 | DY52: 16 | DZ52: 17 | EA52: 18 | EB52: 19 | EC52: 20 | FE52: =LOOKUP(FU52,$FE$1:$GC$1,$FE$2:$GC$2) -> 1 | FF52: =LOOKUP(FV52,$FE$1:$GC$1,$FE$2:$GC$2) -> 2 | FG52: =LOOKUP(FW52,$FE$1:$GC$1,$FE$2:$GC$2) -> 3 | FH52: =LOOKUP(FX52,$FE$1:$GC$1,$FE$2:$GC$2) -> 4 | FI52: =LOOKUP(FY52,$FE$1:$GC$1,$FE$2:$GC$2) -> 5 | FJ52: =LOOKUP(FZ52,$FE$1:$GC$1,$FE$2:$GC$2) -> 6 | FK52: =LOOKUP(GA52,$FE$1:$GC$1,$FE$2:$GC$2) -> 7 | FL52: =LOOKUP(GB52,$FE$1:$GC$1,$FE$2:$GC$2) -> 8 | ... FS52: =LOOKUP(GI52,$FE$1:$GC$1,$FE$2:$GC$2) -> 25 | FU52: 1 | FV52: 2 | FW52: 3 | FX52: 4 | FY52: 5 | FZ52: 6 | GA52: 7 | GB52: 8 | GC52: 9 | GD52: 10 | GE52: 11 | GF52: 12 | GG52: 15 | GH52: 19 | GI52: 20 | HK52: =SMALL($HK13:$HP13,A$3) -> 1 | HL52: =SMALL($HK13:$HP13,B$3) -> 2 | HM52: =SMALL($HK13:$HP13,C$3) -> 3 | HN52: =SMALL($HK13:$HP13,D$3) -> 4 | HO52: =SMALL($HK13:$HP13,E$3) -> 6 | HP52: =SMALL($HK13:$HY13,F$3) -> 8 | HQ52: =SMALL($HK13:$HY13,G$3) -> 9 | HR52: =SMALL($HK13:$HY13,H$3) -> 11 | HS52: =SMALL($HK13:$HY13,I$3) -> 12 | HT52: =SMALL($HK13:$HY13,J$3) -> 13 | HU52: =SMALL($HK13:$HY13,K$3) -> 16 | HV52: =SMALL($HK13:$HY13,L$3) -> 17 | HW52: =SMALL($HK13:$HY13,M$3) -> 18 | ... HY52: =SMALL($HK13:$HY13,O$3) -> 20 | IA52: 12 | IS52: =LOOKUP(JI52,$A$3:$Y$3,$A$4:$AE$4) -> 1 | IT52: =LOOKUP(JJ52,$A$3:$Y$3,$A$4:$AE$4) -> 2 | IU52: =LOOKUP(JK52,$A$3:$Y$3,$A$4:$AE$4) -> 3 | IV52: =LOOKUP(JL52,$A$3:$Y$3,$A$4:$AE$4) -> 4 | IW52: =LOOKUP(JM52,$A$3:$Y$3,$A$4:$AE$4) -> 5 | IX52: =LOOKUP(JN52,$A$3:$Y$3,$A$4:$AE$4) -> 7 | IY52: =LOOKUP(JO52,$A$3:$Y$3,$A$4:$AE$4) -> 8 | IZ52: =LOOKUP(JP52,$A$3:$Y$3,$A$4:$AE$4) -> 9 | ... JG52: =LOOKUP(JW52,$A$3:$Y$3,$A$4:$AE$4) -> 18 | JI52: 1 | JJ52: 2 | JK52: 3 | JL52: 4 | JM52: 5 | JN52: 7 | JO52: 8 | JP52: 9 | JQ52: 10 | JR52: 11 | JS52: 12 | JT52: 13 | JU52: 14 | JV52: 17 | JW52: 18
... A62: =LOOKUP(Q62,$A$3:$Y$3,$A$4:$Y$4) -> 1 | B62: =LOOKUP(R62,$A$3:$Y$3,$A$4:$Y$4) -> 2 | C62: =LOOKUP(S62,$A$3:$Y$3,$A$4:$Y$4) -> 4 | D62: =LOOKUP(T62,$A$3:$Y$3,$A$4:$Y$4) -> 5 | E62: =LOOKUP(U62,$A$3:$Y$3,$A$4:$Y$4) -> 6 | F62: =LOOKUP(V62,$A$3:$Y$3,$A$4:$Y$4) -> 8 | G62: =LOOKUP(W62,$A$3:$Y$3,$A$4:$Y$4) -> 10 | H62: =LOOKUP(X62,$A$3:$Y$3,$A$4:$Y$4) -> 11 | ... O62: =LOOKUP(AE62,$A$3:$Y$3,$A$4:$Y$4) -> 18 | Q62: 1 | R62: 2 | S62: 4 | T62: 5 | U62: 6 | V62: 8 | W62: 10 | X62: 11 | Y62: 12 | Z62: 13 | AA62: 14 | AB62: 15 | AC62: 16 | AD62: 17 | AE62: 18 | AG62: =LOOKUP(BE62,$AG$1:$BE$1,$AG$2:$BE$2) -> 1 | AH62: =LOOKUP(BF62,$AG$1:$BE$1,$AG$2:$BE$2) -> 2 | AI62: =LOOKUP(BG62,$AG$1:$BE$1,$AG$2:$BE$2) -> 3 | AJ62: =LOOKUP(BH62,$AG$1:$BE$1,$AG$2:$BE$2) -> 5 | AK62: =LOOKUP(BI62,$AG$1:$BE$1,$AG$2:$BE$2) -> 7 | AL62: =LOOKUP(BJ62,$AG$1:$BE$1,$AG$2:$BE$2) -> 8 | AM62: =LOOKUP(BK62,$AG$1:$BE$1,$AG$2:$BE$2) -> 9 | AN62: =LOOKUP(BL62,$AG$1:$BE$1,$AG$2:$BE$2) -> 10 | ... AU62: =LOOKUP(BS62,$AG$1:$BE$1,$AG$2:$BE$2) -> 25 | BE62: 1 | BF62: 2 | BG62: 3 | BH62: 5 | BI62: 7 | BJ62: 8 | BK62: 9 | BL62: 10 | BM62: 12 | BN62: 13 | BO62: 14 | BP62: 16 | BQ62: 18 | BR62: 19 | BS62: 20 | CX62: =LOOKUP(DO62,$CX$1:$DV$1,$CX$2:$DV$2) -> 1 | CY62: =LOOKUP(DP62,$CX$1:$DV$1,$CX$2:$DV$2) -> 3 | CZ62: =LOOKUP(DQ62,$CX$1:$DV$1,$CX$2:$DV$2) -> 6 | DA62: =LOOKUP(DR62,$CX$1:$DV$1,$CX$2:$DV$2) -> 7 | DB62: =LOOKUP(DS62,$CX$1:$DV$1,$CX$2:$DV$2) -> 8 | DC62: =LOOKUP(DT62,$CX$1:$DV$1,$CX$2:$DV$2) -> 10 | DD62: =LOOKUP(DU62,$CX$1:$DV$1,$CX$2:$DV$2) -> 11 | DE62: =LOOKUP(DV62,$CX$1:$DV$1,$CX$2:$DV$2) -> 12 | ... DL62: =LOOKUP(EC62,$CX$1:$DV$1,$CX$2:$DV$2) -> 25 | DO62: 1 | DP62: 3 | DQ62: 6 | DR62: 7 | DS62: 8 | DT62: 10 | DU62: 11 | DV62: 12 | DW62: 14 | DX62: 15 | DY62: 16 | DZ62: 17 | EA62: 18 | EB62: 19 | EC62: 20 | FE62: =LOOKUP(FU62,$FE$1:$GC$1,$FE$2:$GC$2) -> 1 | FF62: =LOOKUP(FV62,$FE$1:$GC$1,$FE$2:$GC$2) -> 2 | FG62: =LOOKUP(FW62,$FE$1:$GC$1,$FE$2:$GC$2) -> 3 | FH62: =LOOKUP(FX62,$FE$1:$GC$1,$FE$2:$GC$2) -> 4 | FI62: =LOOKUP(FY62,$FE$1:$GC$1,$FE$2:$GC$2) -> 5 | FJ62: =LOOKUP(FZ62,$FE$1:$GC$1,$FE$2:$GC$2) -> 6 | FK62: =LOOKUP(GA62,$FE$1:$GC$1,$FE$2:$GC$2) -> 7 | FL62: =LOOKUP(GB62,$FE$1:$GC$1,$FE$2:$GC$2) -> 8 | ... FS62: =LOOKUP(GI62,$FE$1:$GC$1,$FE$2:$GC$2) -> 25 | FU62: 1 | FV62: 2 | FW62: 3 | FX62: 4 | FY62: 5 | FZ62: 6 | GA62: 7 | GB62: 8 | GC62: 9 | GD62: 10 | GE62: 11 | GF62: 12 | GG62: 18 | GH62: 19 | GI62: 20 | HK62: =SMALL($HK23:$HP23,A$3) -> 1 | HL62: =SMALL($HK23:$HP23,B$3) -> 3 | HM62: =SMALL($HK23:$HP23,C$3) -> 4 | HN62: =SMALL($HK23:$HP23,D$3) -> 5 | HO62: =SMALL($HK23:$HP23,E$3) -> 6 | HP62: =SMALL($HK23:$HY23,F$3) -> 7 | HQ62: =SMALL($HK23:$HY23,G$3) -> 8 | HR62: =SMALL($HK23:$HY23,H$3) -> 9 | HS62: =SMALL($HK23:$HY23,I$3) -> 11 | HT62: =SMALL($HK23:$HY23,J$3) -> 12 | HU62: =SMALL($HK23:$HY23,K$3) -> 13 | HV62: =SMALL($HK23:$HY23,L$3) -> 14 | HW62: =SMALL($HK23:$HY23,M$3) -> 16 | ... HY62: =SMALL($HK23:$HY23,O$3) -> 20 | IA62: 22 | IS62: =LOOKUP(JI62,$A$3:$Y$3,$A$4:$AE$4) -> 1 | IT62: =LOOKUP(JJ62,$A$3:$Y$3,$A$4:$AE$4) -> 2 | IU62: =LOOKUP(JK62,$A$3:$Y$3,$A$4:$AE$4) -> 3 | IV62: =LOOKUP(JL62,$A$3:$Y$3,$A$4:$AE$4) -> 4 | IW62: =LOOKUP(JM62,$A$3:$Y$3,$A$4:$AE$4) -> 5 | IX62: =LOOKUP(JN62,$A$3:$Y$3,$A$4:$AE$4) -> 7 | IY62: =LOOKUP(JO62,$A$3:$Y$3,$A$4:$AE$4) -> 8 | IZ62: =LOOKUP(JP62,$A$3:$Y$3,$A$4:$AE$4) -> 10 | ... JG62: =LOOKUP(JW62,$A$3:$Y$3,$A$4:$AE$4) -> 19 | JI62: 1 | JJ62: 2 | JK62: 3 | JL62: 4 | JM62: 5 | JN62: 7 | JO62: 8 | JP62: 10 | JQ62: 11 | JR62: 13 | JS62: 14 | JT62: 15 | JU62: 17 | JV62: 18 | JW62: 19
A63: =LOOKUP(Q63,$A$3:$Y$3,$A$4:$Y$4) -> 1 | B63: =LOOKUP(R63,$A$3:$Y$3,$A$4:$Y$4) -> 2 | C63: =LOOKUP(S63,$A$3:$Y$3,$A$4:$Y$4) -> 4 | D63: =LOOKUP(T63,$A$3:$Y$3,$A$4:$Y$4) -> 5 | E63: =LOOKUP(U63,$A$3:$Y$3,$A$4:$Y$4) -> 6 | F63: =LOOKUP(V63,$A$3:$Y$3,$A$4:$Y$4) -> 9 | G63: =LOOKUP(W63,$A$3:$Y$3,$A$4:$Y$4) -> 12 | H63: =LOOKUP(X63,$A$3:$Y$3,$A$4:$Y$4) -> 13 | ... O63: =LOOKUP(AE63,$A$3:$Y$3,$A$4:$Y$4) -> 20 | Q63: 1 | R63: 2 | S63: 4 | T63: 5 | U63: 6 | V63: 9 | W63: 12 | X63: 13 | Y63: 14 | Z63: 15 | AA63: 16 | AB63: 17 | AC63: 18 | AD63: 19 | AE63: 20 | AG63: =LOOKUP(BE63,$AG$1:$BE$1,$AG$2:$BE$2) -> 1 | AH63: =LOOKUP(BF63,$AG$1:$BE$1,$AG$2:$BE$2) -> 2 | AI63: =LOOKUP(BG63,$AG$1:$BE$1,$AG$2:$BE$2) -> 3 | AJ63: =LOOKUP(BH63,$AG$1:$BE$1,$AG$2:$BE$2) -> 5 | AK63: =LOOKUP(BI63,$AG$1:$BE$1,$AG$2:$BE$2) -> 7 | AL63: =LOOKUP(BJ63,$AG$1:$BE$1,$AG$2:$BE$2) -> 8 | AM63: =LOOKUP(BK63,$AG$1:$BE$1,$AG$2:$BE$2) -> 9 | AN63: =LOOKUP(BL63,$AG$1:$BE$1,$AG$2:$BE$2) -> 10 | ... AU63: =LOOKUP(BS63,$AG$1:$BE$1,$AG$2:$BE$2) -> 25 | BE63: 1 | BF63: 2 | BG63: 3 | BH63: 5 | BI63: 7 | BJ63: 8 | BK63: 9 | BL63: 10 | BM63: 14 | BN63: 15 | BO63: 16 | BP63: 17 | BQ63: 18 | BR63: 19 | BS63: 20 | CX63: =LOOKUP(DO63,$CX$1:$DV$1,$CX$2:$DV$2) -> 1 | CY63: =LOOKUP(DP63,$CX$1:$DV$1,$CX$2:$DV$2) -> 4 | CZ63: =LOOKUP(DQ63,$CX$1:$DV$1,$CX$2:$DV$2) -> 5 | DA63: =LOOKUP(DR63,$CX$1:$DV$1,$CX$2:$DV$2) -> 6 | DB63: =LOOKUP(DS63,$CX$1:$DV$1,$CX$2:$DV$2) -> 7 | DC63: =LOOKUP(DT63,$CX$1:$DV$1,$CX$2:$DV$2) -> 8 | DD63: =LOOKUP(DU63,$CX$1:$DV$1,$CX$2:$DV$2) -> 10 | DE63: =LOOKUP(DV63,$CX$1:$DV$1,$CX$2:$DV$2) -> 11 | ... DL63: =LOOKUP(EC63,$CX$1:$DV$1,$CX$2:$DV$2) -> 25 | DO63: 1 | DP63: 4 | DQ63: 5 | DR63: 6 | DS63: 7 | DT63: 8 | DU63: 10 | DV63: 11 | DW63: 13 | DX63: 15 | DY63: 16 | DZ63: 17 | EA63: 18 | EB63: 19 | EC63: 20 | HK63: =SMALL($HK24:$HP24,A$3) -> 1 | HL63: =SMALL($HK24:$HP24,B$3) -> 3 | HM63: =SMALL($HK24:$HP24,C$3) -> 4 | HN63: =SMALL($HK24:$HP24,D$3) -> 5 | HO63: =SMALL($HK24:$HP24,E$3) -> 6 | HP63: =SMALL($HK24:$HY24,F$3) -> 8 | HQ63: =SMALL($HK24:$HY24,G$3) -> 10 | HR63: =SMALL($HK24:$HY24,H$3) -> 12 | HS63: =SMALL($HK24:$HY24,I$3) -> 13 | HT63: =SMALL($HK24:$HY24,J$3) -> 14 | HU63: =SMALL($HK24:$HY24,K$3) -> 15 | HV63: =SMALL($HK24:$HY24,L$3) -> 16 | HW63: =SMALL($HK24:$HY24,M$3) -> 18 | ... HY63: =SMALL($HK24:$HY24,O$3) -> 20 | IA63: 23 | IS63: =LOOKUP(JI63,$A$3:$Y$3,$A$4:$AE$4) -> 1 | IT63: =LOOKUP(JJ63,$A$3:$Y$3,$A$4:$AE$4) -> 2 | IU63: =LOOKUP(JK63,$A$3:$Y$3,$A$4:$AE$4) -> 3 | IV63: =LOOKUP(JL63,$A$3:$Y$3,$A$4:$AE$4) -> 4 | IW63: =LOOKUP(JM63,$A$3:$Y$3,$A$4:$AE$4) -> 5 | IX63: =LOOKUP(JN63,$A$3:$Y$3,$A$4:$AE$4) -> 7 | IY63: =LOOKUP(JO63,$A$3:$Y$3,$A$4:$AE$4) -> 8 | IZ63: =LOOKUP(JP63,$A$3:$Y$3,$A$4:$AE$4) -> 11 | ... JG63: =LOOKUP(JW63,$A$3:$Y$3,$A$4:$AE$4) -> 20 | JI63: 1 | JJ63: 2 | JK63: 3 | JL63: 4 | JM63: 5 | JN63: 7 | JO63: 8 | JP63: 11 | JQ63: 12 | JR63: 13 | JS63: 14 | JT63: 15 | JU63: 16 | JV63: 19 | JW63: 20
A64: =LOOKUP(Q64,$A$3:$Y$3,$A$4:$Y$4) -> 1 | B64: =LOOKUP(R64,$A$3:$Y$3,$A$4:$Y$4) -> 2 | C64: =LOOKUP(S64,$A$3:$Y$3,$A$4:$Y$4) -> 4 | D64: =LOOKUP(T64,$A$3:$Y$3,$A$4:$Y$4) -> 5 | E64: =LOOKUP(U64,$A$3:$Y$3,$A$4:$Y$4) -> 7 | F64: =LOOKUP(V64,$A$3:$Y$3,$A$4:$Y$4) -> 8 | G64: =LOOKUP(W64,$A$3:$Y$3,$A$4:$Y$4) -> 9 | H64: =LOOKUP(X64,$A$3:$Y$3,$A$4:$Y$4) -> 10 | ... O64: =LOOKUP(AE64,$A$3:$Y$3,$A$4:$Y$4) -> 19 | Q64: 1 | R64: 2 | S64: 4 | T64: 5 | U64: 7 | V64: 8 | W64: 9 | X64: 10 | Y64: 11 | Z64: 12 | AA64: 13 | AB64: 14 | AC64: 15 | AD64: 18 | AE64: 19 | AG64: =LOOKUP(BE64,$AG$1:$BE$1,$AG$2:$BE$2) -> 1 | AH64: =LOOKUP(BF64,$AG$1:$BE$1,$AG$2:$BE$2) -> 2 | AI64: =LOOKUP(BG64,$AG$1:$BE$1,$AG$2:$BE$2) -> 3 | AJ64: =LOOKUP(BH64,$AG$1:$BE$1,$AG$2:$BE$2) -> 5 | AK64: =LOOKUP(BI64,$AG$1:$BE$1,$AG$2:$BE$2) -> 7 | AL64: =LOOKUP(BJ64,$AG$1:$BE$1,$AG$2:$BE$2) -> 8 | AM64: =LOOKUP(BK64,$AG$1:$BE$1,$AG$2:$BE$2) -> 11 | AN64: =LOOKUP(BL64,$AG$1:$BE$1,$AG$2:$BE$2) -> 12 | ... AU64: =LOOKUP(BS64,$AG$1:$BE$1,$AG$2:$BE$2) -> 25 | BE64: 1 | BF64: 2 | BG64: 3 | BH64: 5 | BI64: 7 | BJ64: 8 | BK64: 11 | BL64: 12 | BM64: 13 | BN64: 14 | BO64: 15 | BP64: 17 | BQ64: 18 | BR64: 19 | BS64: 20 | CX64: =LOOKUP(DO64,$CX$1:$DV$1,$CX$2:$DV$2) -> 1 | CY64: =LOOKUP(DP64,$CX$1:$DV$1,$CX$2:$DV$2) -> 4 | CZ64: =LOOKUP(DQ64,$CX$1:$DV$1,$CX$2:$DV$2) -> 5 | DA64: =LOOKUP(DR64,$CX$1:$DV$1,$CX$2:$DV$2) -> 6 | DB64: =LOOKUP(DS64,$CX$1:$DV$1,$CX$2:$DV$2) -> 7 | DC64: =LOOKUP(DT64,$CX$1:$DV$1,$CX$2:$DV$2) -> 9 | DD64: =LOOKUP(DU64,$CX$1:$DV$1,$CX$2:$DV$2) -> 10 | DE64: =LOOKUP(DV64,$CX$1:$DV$1,$CX$2:$DV$2) -> 11 | ... DL64: =LOOKUP(EC64,$CX$1:$DV$1,$CX$2:$DV$2) -> 25 | DO64: 1 | DP64: 4 | DQ64: 5 | DR64: 6 | DS64: 7 | DT64: 9 | DU64: 10 | DV64: 11 | DW64: 13 | DX64: 15 | DY64: 16 | DZ64: 17 | EA64: 18 | EB64: 19 | EC64: 20 | HK64: =SMALL($HK25:$HP25,A$3) -> 1 | HL64: =SMALL($HK25:$HP25,B$3) -> 3 | HM64: =SMALL($HK25:$HP25,C$3) -> 4 | HN64: =SMALL($HK25:$HP25,D$3) -> 5 | HO64: =SMALL($HK25:$HP25,E$3) -> 6 | HP64: =SMALL($HK25:$HY25,F$3) -> 9 | HQ64: =SMALL($HK25:$HY25,G$3) -> 11 | HR64: =SMALL($HK25:$HY25,H$3) -> 12 | HS64: =SMALL($HK25:$HY25,I$3) -> 13 | HT64: =SMALL($HK25:$HY25,J$3) -> 14 | HU64: =SMALL($HK25:$HY25,K$3) -> 15 | HV64: =SMALL($HK25:$HY25,L$3) -> 16 | HW64: =SMALL($HK25:$HY25,M$3) -> 17 | ... HY64: =SMALL($HK25:$HY25,O$3) -> 19 | IA64: 24 | IS64: =LOOKUP(JI64,$A$3:$Y$3,$A$4:$AE$4) -> 1 | IT64: =LOOKUP(JJ64,$A$3:$Y$3,$A$4:$AE$4) -> 2 | IU64: =LOOKUP(JK64,$A$3:$Y$3,$A$4:$AE$4) -> 3 | IV64: =LOOKUP(JL64,$A$3:$Y$3,$A$4:$AE$4) -> 4 | IW64: =LOOKUP(JM64,$A$3:$Y$3,$A$4:$AE$4) -> 5 | IX64: =LOOKUP(JN64,$A$3:$Y$3,$A$4:$AE$4) -> 7 | IY64: =LOOKUP(JO64,$A$3:$Y$3,$A$4:$AE$4) -> 8 | IZ64: =LOOKUP(JP64,$A$3:$Y$3,$A$4:$AE$4) -> 13 | ... JG64: =LOOKUP(JW64,$A$3:$Y$3,$A$4:$AE$4) -> 20 | JI64: 1 | JJ64: 2 | JK64: 3 | JL64: 4 | JM64: 5 | JN64: 7 | JO64: 8 | JP64: 13 | JQ64: 14 | JR64: 15 | JS64: 16 | JT64: 17 | JU64: 18 | JV64: 19 | JW64: 20
