Workbook

Sheet Início
A1: Sua Logo Aqui | AA1: ="V"&X5 -> V1
E2: Desdobramento Lotofácil com 21 Números
X5: 1 | Y5: 10
W7: Opção 1: Se você acertar os 14 números fixos dos 21 escolhidos garante ao menos 1 cartela com 12 pontos. ( 58 volantes ) Opção 2: Se você acertar o número fixos escolhidos e não sair nenhum dos 4 excluídos garante no mínimo uma cartela com 12 pontos. ( 20 volantes ) Opção 3: Se você acertar os 3 números fixos escolhidos e não sair nenhum dos 4 excluídos garante no mínimo uma cartela com 11 pontos. ( 15 volantes ) Opção 4: Se você acertar os 9 números fixos escolhidos e não sair nenhum dos 4 excluídos possui 99% chance de uma cartela com 14 pontos. ( 38 volantes ) Opção 5: Se os 15 números estiverem entre os 21 escolhidos. Há garantia mínima de retorno do investimento com premiações de 11, 12 e 13 pontos. E também maior chance de acertar 14 e 15 pontos. ( 52 volantes ) Opção 6: Se você acertar os 15 números fixos dos 21 escolhidos garante ao menos 1 cartela com 11 pontos. ( 4 volantes ) Opção 7: Se você acertar os 15 números fixos dos 21 escolhidos garante ao menos 1 cartela com 12 pontos. ( 14 volantes ) Opção 8: Se você acertar os 15 números fixos dos 21 escolhidos garante ao menos 1 cartela com 13 pontos. ( 104 volantes )
B16: Digite 21 Números Fixo | K16: ( Qualquer Ordem)
B17: 1 | C17: 2 | D17: 3 | E17: 4 | F17: 5 | G17: 6 | H17: 7 | I17: 8 | J17: 9 | K17: 10 | L17: 11 | M17: 12 | N17: 13 | O17: 14 | P17: 15 | Q17: 16 | R17: 17 | S17: 18 | T17: 19 | U17: 20 | V17: 21
B24: Opção 2:
B25: Digite 1 Números Fixo | K25: ( Qualquer Ordem)
B26: 1
B27: Digite 4 Números Para Excluir
B28: 17 | C28: 18 | D28: 19 | E28: 20
B30: Opção 3:
B31: Digite 3 Números Fixo | K31: ( Qualquer Ordem)
B32: 1 | C32: 2 | D32: 3
B33: Digite 4 Números Para Excluir
B34: 17 | C34: 18 | D34: 19 | E34: 20
B36: Opção 4:
B37: Digite 9 Números Fixo | K37: ( Qualquer Ordem)
B38: 1 | C38: 2 | D38: 3 | E38: 4 | F38: 5 | G38: 6 | H38: 7 | I38: 8 | J38: 9
B39: Digite 4 Números Para Excluir
B40: 17 | C40: 18 | D40: 19 | E40: 20

Sheet Opcao1
AA1: ="V"&X5 -> V1
A2: Opção 1 ( 21 fixos )
X5: 1 | Y5: 10
B16: Total de 58 volantes
B18: =Apoio!A68 -> 1 | C18: =Apoio!B68 -> 2 | D18: =Apoio!C68 -> 3 | E18: =Apoio!D68 -> 4 | F18: =Apoio!E68 -> 5 | G18: =Apoio!F68 -> 6 | H18: =Apoio!G68 -> 7 | I18: =Apoio!H68 -> 8 | ... P18: =Apoio!O68 -> 21 | R18: 1
B19: =Apoio!A69 -> 1 | C19: =Apoio!B69 -> 2 | D19: =Apoio!C69 -> 3 | E19: =Apoio!D69 -> 4 | F19: =Apoio!E69 -> 5 | G19: =Apoio!F69 -> 6 | H19: =Apoio!G69 -> 7 | I19: =Apoio!H69 -> 8 | ... P19: =Apoio!O69 -> 21 | R19: 2
B20: =Apoio!A70 -> 1 | C20: =Apoio!B70 -> 2 | D20: =Apoio!C70 -> 3 | E20: =Apoio!D70 -> 4 | F20: =Apoio!E70 -> 5 | G20: =Apoio!F70 -> 6 | H20: =Apoio!G70 -> 7 | I20: =Apoio!H70 -> 10 | ... P20: =Apoio!O70 -> 20 | R20: 3
B21: =Apoio!A71 -> 1 | C21: =Apoio!B71 -> 2 | D21: =Apoio!C71 -> 3 | E21: =Apoio!D71 -> 4 | F21: =Apoio!E71 -> 5 | G21: =Apoio!F71 -> 6 | H21: =Apoio!G71 -> 8 | I21: =Apoio!H71 -> 10 | ... P21: =Apoio!O71 -> 18 | R21: 4
B22: =Apoio!A72 -> 1 | C22: =Apoio!B72 -> 2 | D22: =Apoio!C72 -> 3 | E22: =Apoio!D72 -> 4 | F22: =Apoio!E72 -> 5 | G22: =Apoio!F72 -> 6 | H22: =Apoio!G72 -> 8 | I22: =Apoio!H72 -> 10 | ... P22: =Apoio!O72 -> 21 | R22: 5
B23: =Apoio!A73 -> 1 | C23: =Apoio!B73 -> 2 | D23: =Apoio!C73 -> 3 | E23: =Apoio!D73 -> 4 | F23: =Apoio!E73 -> 5 | G23: =Apoio!F73 -> 6 | H23: =Apoio!G73 -> 9 | I23: =Apoio!H73 -> 10 | ... P23: =Apoio!O73 -> 21 | R23: 6
B24: =Apoio!A74 -> 1 | C24: =Apoio!B74 -> 2 | D24: =Apoio!C74 -> 3 | E24: =Apoio!D74 -> 4 | F24: =Apoio!E74 -> 5 | G24: =Apoio!F74 -> 7 | H24: =Apoio!G74 -> 9 | I24: =Apoio!H74 -> 11 | ... P24: =Apoio!O74 -> 21 | R24: 7
B25: =Apoio!A75 -> 1 | C25: =Apoio!B75 -> 2 | D25: =Apoio!C75 -> 3 | E25: =Apoio!D75 -> 4 | F25: =Apoio!E75 -> 5 | G25: =Apoio!F75 -> 7 | H25: =Apoio!G75 -> 9 | I25: =Apoio!H75 -> 11 | ... P25: =Apoio!O75 -> 20 | R25: 8
B26: =Apoio!A76 -> 1 | C26: =Apoio!B76 -> 2 | D26: =Apoio!C76 -> 3 | E26: =Apoio!D76 -> 4 | F26: =Apoio!E76 -> 5 | G26: =Apoio!F76 -> 8 | H26: =Apoio!G76 -> 9 | I26: =Apoio!H76 -> 10 | ... P26: =Apoio!O76 -> 20 | R26: 9
B27: =Apoio!A77 -> 1 | C27: =Apoio!B77 -> 2 | D27: =Apoio!C77 -> 3 | E27: =Apoio!D77 -> 4 | F27: =Apoio!E77 -> 5 | G27: =Apoio!F77 -> 8 | H27: =Apoio!G77 -> 10 | I27: =Apoio!H77 -> 12 | ... P27: =Apoio!O77 -> 21 | R27: 10
B28: =Apoio!A78 -> 1 | C28: =Apoio!B78 -> 2 | D28: =Apoio!C78 -> 3 | E28: =Apoio!D78 -> 4 | F28: =Apoio!E78 -> 6 | G28: =Apoio!F78 -> 7 | H28: =Apoio!G78 -> 8 | I28: =Apoio!H78 -> 10 | ... P28: =Apoio!O78 -> 20 | R28: 11
B29: =Apoio!A79 -> 1 | C29: =Apoio!B79 -> 2 | D29: =Apoio!C79 -> 3 | E29: =Apoio!D79 -> 4 | F29: =Apoio!E79 -> 6 | G29: =Apoio!F79 -> 8 | H29: =Apoio!G79 -> 9 | I29: =Apoio!H79 -> 10 | ... P29: =Apoio!O79 -> 20 | R29: 12
... B75: =Apoio!A125 -> 5 | C75: =Apoio!B125 -> 6 | D75: =Apoio!C125 -> 7 | E75: =Apoio!D125 -> 8 | F75: =Apoio!E125 -> 9 | G75: =Apoio!F125 -> 10 | H75: =Apoio!G125 -> 12 | I75: =Apoio!H125 -> 13 | ... P75: =Apoio!O125 -> 21 | R75: 58

Sheet Opcao2
AA1: ="V"&X5 -> V1
A2: Opção 2 ( 1 fixos e 4 Excluídos )
X5: 1 | Y5: 10
B16: Total de 20 volantes
B18: =Apoio!AG33 -> 1 | C18: =Apoio!AH33 -> 2 | D18: =Apoio!AI33 -> 3 | E18: =Apoio!AJ33 -> 4 | F18: =Apoio!AK33 -> 5 | G18: =Apoio!AL33 -> 6 | H18: =Apoio!AM33 -> 10 | I18: =Apoio!AN33 -> 11 | ... P18: =Apoio!AU33 -> 25 | R18: 1
B19: =Apoio!AG34 -> 1 | C19: =Apoio!AH34 -> 2 | D19: =Apoio!AI34 -> 3 | E19: =Apoio!AJ34 -> 4 | F19: =Apoio!AK34 -> 5 | G19: =Apoio!AL34 -> 7 | H19: =Apoio!AM34 -> 10 | I19: =Apoio!AN34 -> 11 | ... P19: =Apoio!AU34 -> 25 | R19: 2
B20: =Apoio!AG35 -> 1 | C20: =Apoio!AH35 -> 2 | D20: =Apoio!AI35 -> 3 | E20: =Apoio!AJ35 -> 4 | F20: =Apoio!AK35 -> 5 | G20: =Apoio!AL35 -> 8 | H20: =Apoio!AM35 -> 10 | I20: =Apoio!AN35 -> 11 | ... P20: =Apoio!AU35 -> 25 | R20: 3
B21: =Apoio!AG36 -> 1 | C21: =Apoio!AH36 -> 2 | D21: =Apoio!AI36 -> 3 | E21: =Apoio!AJ36 -> 4 | F21: =Apoio!AK36 -> 5 | G21: =Apoio!AL36 -> 9 | H21: =Apoio!AM36 -> 10 | I21: =Apoio!AN36 -> 11 | ... P21: =Apoio!AU36 -> 25 | R21: 4
B22: =Apoio!AG37 -> 1 | C22: =Apoio!AH37 -> 2 | D22: =Apoio!AI37 -> 3 | E22: =Apoio!AJ37 -> 4 | F22: =Apoio!AK37 -> 6 | G22: =Apoio!AL37 -> 7 | H22: =Apoio!AM37 -> 10 | I22: =Apoio!AN37 -> 11 | ... P22: =Apoio!AU37 -> 25 | R22: 5
B23: =Apoio!AG38 -> 1 | C23: =Apoio!AH38 -> 2 | D23: =Apoio!AI38 -> 3 | E23: =Apoio!AJ38 -> 4 | F23: =Apoio!AK38 -> 6 | G23: =Apoio!AL38 -> 8 | H23: =Apoio!AM38 -> 10 | I23: =Apoio!AN38 -> 11 | ... P23: =Apoio!AU38 -> 25 | R23: 6
B24: =Apoio!AG39 -> 1 | C24: =Apoio!AH39 -> 2 | D24: =Apoio!AI39 -> 3 | E24: =Apoio!AJ39 -> 4 | F24: =Apoio!AK39 -> 6 | G24: =Apoio!AL39 -> 9 | H24: =Apoio!AM39 -> 10 | I24: =Apoio!AN39 -> 11 | ... P24: =Apoio!AU39 -> 25 | R24: 7
B25: =Apoio!AG40 -> 1 | C25: =Apoio!AH40 -> 2 | D25: =Apoio!AI40 -> 3 | E25: =Apoio!AJ40 -> 4 | F25: =Apoio!AK40 -> 7 | G25: =Apoio!AL40 -> 8 | H25: =Apoio!AM40 -> 10 | I25: =Apoio!AN40 -> 11 | ... P25: =Apoio!AU40 -> 25 | R25: 8
B26: =Apoio!AG41 -> 1 | C26: =Apoio!AH41 -> 2 | D26: =Apoio!AI41 -> 3 | E26: =Apoio!AJ41 -> 4 | F26: =Apoio!AK41 -> 7 | G26: =Apoio!AL41 -> 9 | H26: =Apoio!AM41 -> 10 | I26: =Apoio!AN41 -> 11 | ... P26: =Apoio!AU41 -> 25 | R26: 9
B27: =Apoio!AG42 -> 1 | C27: =Apoio!AH42 -> 2 | D27: =Apoio!AI42 -> 3 | E27: =Apoio!AJ42 -> 4 | F27: =Apoio!AK42 -> 8 | G27: =Apoio!AL42 -> 9 | H27: =Apoio!AM42 -> 10 | I27: =Apoio!AN42 -> 11 | ... P27: =Apoio!AU42 -> 25 | R27: 10
B28: =Apoio!AG43 -> 1 | C28: =Apoio!AH43 -> 2 | D28: =Apoio!AI43 -> 3 | E28: =Apoio!AJ43 -> 5 | F28: =Apoio!AK43 -> 6 | G28: =Apoio!AL43 -> 7 | H28: =Apoio!AM43 -> 8 | I28: =Apoio!AN43 -> 9 | ... P28: =Apoio!AU43 -> 23 | R28: 11
B29: =Apoio!AG44 -> 1 | C29: =Apoio!AH44 -> 2 | D29: =Apoio!AI44 -> 4 | E29: =Apoio!AJ44 -> 5 | F29: =Apoio!AK44 -> 6 | G29: =Apoio!AL44 -> 7 | H29: =Apoio!AM44 -> 8 | I29: =Apoio!AN44 -> 9 | ... P29: =Apoio!AU44 -> 23 | R29: 12
... B37: =Apoio!AG52 -> 1 | C37: =Apoio!AH52 -> 5 | D37: =Apoio!AI52 -> 6 | E37: =Apoio!AJ52 -> 7 | F37: =Apoio!AK52 -> 8 | G37: =Apoio!AL52 -> 9 | H37: =Apoio!AM52 -> 10 | I37: =Apoio!AN52 -> 11 | ... P37: =Apoio!AU52 -> 25 | R37: 20

Sheet Opcao3
AA1: ="V"&X5 -> V1
A2: Opção 3 ( 3 fixos e 4 Excluídos )
X5: 1 | Y5: 10
B16: Total de 15 volantes
B18: =Apoio!AG79 -> 1 | C18: =Apoio!AH79 -> 2 | D18: =Apoio!AI79 -> 3 | E18: =Apoio!AJ79 -> 4 | F18: =Apoio!AK79 -> 8 | G18: =Apoio!AL79 -> 9 | H18: =Apoio!AM79 -> 10 | I18: =Apoio!AN79 -> 12 | ... P18: =Apoio!AU79 -> 25 | R18: 1
B19: =Apoio!AG80 -> 1 | C19: =Apoio!AH80 -> 2 | D19: =Apoio!AI80 -> 3 | E19: =Apoio!AJ80 -> 4 | F19: =Apoio!AK80 -> 5 | G19: =Apoio!AL80 -> 6 | H19: =Apoio!AM80 -> 7 | I19: =Apoio!AN80 -> 8 | ... P19: =Apoio!AU80 -> 22 | R19: 2
B20: =Apoio!AG81 -> 1 | C20: =Apoio!AH81 -> 2 | D20: =Apoio!AI81 -> 3 | E20: =Apoio!AJ81 -> 4 | F20: =Apoio!AK81 -> 8 | G20: =Apoio!AL81 -> 9 | H20: =Apoio!AM81 -> 10 | I20: =Apoio!AN81 -> 11 | ... P20: =Apoio!AU81 -> 22 | R20: 3
B21: =Apoio!AG82 -> 1 | C21: =Apoio!AH82 -> 2 | D21: =Apoio!AI82 -> 3 | E21: =Apoio!AJ82 -> 4 | F21: =Apoio!AK82 -> 5 | G21: =Apoio!AL82 -> 6 | H21: =Apoio!AM82 -> 7 | I21: =Apoio!AN82 -> 8 | ... P21: =Apoio!AU82 -> 25 | R21: 4
B22: =Apoio!AG83 -> 1 | C22: =Apoio!AH83 -> 2 | D22: =Apoio!AI83 -> 3 | E22: =Apoio!AJ83 -> 4 | F22: =Apoio!AK83 -> 8 | G22: =Apoio!AL83 -> 9 | H22: =Apoio!AM83 -> 10 | I22: =Apoio!AN83 -> 11 | ... P22: =Apoio!AU83 -> 25 | R22: 5
B23: =Apoio!AG84 -> 1 | C23: =Apoio!AH84 -> 2 | D23: =Apoio!AI84 -> 3 | E23: =Apoio!AJ84 -> 4 | F23: =Apoio!AK84 -> 5 | G23: =Apoio!AL84 -> 6 | H23: =Apoio!AM84 -> 7 | I23: =Apoio!AN84 -> 8 | ... P23: =Apoio!AU84 -> 21 | R23: 6
B24: =Apoio!AG85 -> 1 | C24: =Apoio!AH85 -> 2 | D24: =Apoio!AI85 -> 3 | E24: =Apoio!AJ85 -> 4 | F24: =Apoio!AK85 -> 5 | G24: =Apoio!AL85 -> 6 | H24: =Apoio!AM85 -> 7 | I24: =Apoio!AN85 -> 8 | ... P24: =Apoio!AU85 -> 25 | R24: 7
B25: =Apoio!AG86 -> 1 | C25: =Apoio!AH86 -> 2 | D25: =Apoio!AI86 -> 3 | E25: =Apoio!AJ86 -> 4 | F25: =Apoio!AK86 -> 8 | G25: =Apoio!AL86 -> 9 | H25: =Apoio!AM86 -> 11 | I25: =Apoio!AN86 -> 13 | ... P25: =Apoio!AU86 -> 25 | R25: 8
B26: =Apoio!AG87 -> 1 | C26: =Apoio!AH87 -> 2 | D26: =Apoio!AI87 -> 3 | E26: =Apoio!AJ87 -> 4 | F26: =Apoio!AK87 -> 5 | G26: =Apoio!AL87 -> 6 | H26: =Apoio!AM87 -> 7 | I26: =Apoio!AN87 -> 8 | ... P26: =Apoio!AU87 -> 22 | R26: 9
B27: =Apoio!AG88 -> 1 | C27: =Apoio!AH88 -> 2 | D27: =Apoio!AI88 -> 3 | E27: =Apoio!AJ88 -> 4 | F27: =Apoio!AK88 -> 5 | G27: =Apoio!AL88 -> 6 | H27: =Apoio!AM88 -> 7 | I27: =Apoio!AN88 -> 8 | ... P27: =Apoio!AU88 -> 25 | R27: 10
B28: =Apoio!AG89 -> 1 | C28: =Apoio!AH89 -> 2 | D28: =Apoio!AI89 -> 3 | E28: =Apoio!AJ89 -> 5 | F28: =Apoio!AK89 -> 6 | G28: =Apoio!AL89 -> 7 | H28: =Apoio!AM89 -> 10 | I28: =Apoio!AN89 -> 12 | ... P28: =Apoio!AU89 -> 25 | R28: 11
B29: =Apoio!AG90 -> 1 | C29: =Apoio!AH90 -> 2 | D29: =Apoio!AI90 -> 3 | E29: =Apoio!AJ90 -> 10 | F29: =Apoio!AK90 -> 11 | G29: =Apoio!AL90 -> 12 | H29: =Apoio!AM90 -> 13 | I29: =Apoio!AN90 -> 14 | ... P29: =Apoio!AU90 -> 25 | R29: 12
... B32: =Apoio!AG93 -> 1 | C32: =Apoio!AH93 -> 2 | D32: =Apoio!AI93 -> 3 | E32: =Apoio!AJ93 -> 5 | F32: =Apoio!AK93 -> 6 | G32: =Apoio!AL93 -> 7 | H32: =Apoio!AM93 -> 11 | I32: =Apoio!AN93 -> 13 | ... P32: =Apoio!AU93 -> 25 | R32: 15

Sheet Opcao4
AA1: ="V"&X5 -> V1
A2: Opção 4 ( 9 fixos e 4 Excluídos )
X5: 1 | Y5: 10
B16: Total de 38 volantes
B18: =Apoio!AG145 -> 1 | C18: =Apoio!AH145 -> 2 | D18: =Apoio!AI145 -> 3 | E18: =Apoio!AJ145 -> 4 | F18: =Apoio!AK145 -> 5 | G18: =Apoio!AL145 -> 6 | H18: =Apoio!AM145 -> 7 | I18: =Apoio!AN145 -> 8 | ... P18: =Apoio!AU145 -> 25 | R18: 1
B19: =Apoio!AG146 -> 1 | C19: =Apoio!AH146 -> 2 | D19: =Apoio!AI146 -> 3 | E19: =Apoio!AJ146 -> 4 | F19: =Apoio!AK146 -> 5 | G19: =Apoio!AL146 -> 6 | H19: =Apoio!AM146 -> 7 | I19: =Apoio!AN146 -> 8 | ... P19: =Apoio!AU146 -> 21 | R19: 2
B20: =Apoio!AG147 -> 1 | C20: =Apoio!AH147 -> 2 | D20: =Apoio!AI147 -> 3 | E20: =Apoio!AJ147 -> 4 | F20: =Apoio!AK147 -> 5 | G20: =Apoio!AL147 -> 6 | H20: =Apoio!AM147 -> 7 | I20: =Apoio!AN147 -> 8 | ... P20: =Apoio!AU147 -> 24 | R20: 3
B21: =Apoio!AG148 -> 1 | C21: =Apoio!AH148 -> 2 | D21: =Apoio!AI148 -> 3 | E21: =Apoio!AJ148 -> 4 | F21: =Apoio!AK148 -> 5 | G21: =Apoio!AL148 -> 6 | H21: =Apoio!AM148 -> 7 | I21: =Apoio!AN148 -> 8 | ... P21: =Apoio!AU148 -> 23 | R21: 4
B22: =Apoio!AG149 -> 1 | C22: =Apoio!AH149 -> 2 | D22: =Apoio!AI149 -> 3 | E22: =Apoio!AJ149 -> 4 | F22: =Apoio!AK149 -> 5 | G22: =Apoio!AL149 -> 6 | H22: =Apoio!AM149 -> 7 | I22: =Apoio!AN149 -> 8 | ... P22: =Apoio!AU149 -> 24 | R22: 5
B23: =Apoio!AG150 -> 1 | C23: =Apoio!AH150 -> 2 | D23: =Apoio!AI150 -> 3 | E23: =Apoio!AJ150 -> 4 | F23: =Apoio!AK150 -> 5 | G23: =Apoio!AL150 -> 6 | H23: =Apoio!AM150 -> 7 | I23: =Apoio!AN150 -> 8 | ... P23: =Apoio!AU150 -> 25 | R23: 6
B24: =Apoio!AG151 -> 1 | C24: =Apoio!AH151 -> 2 | D24: =Apoio!AI151 -> 3 | E24: =Apoio!AJ151 -> 4 | F24: =Apoio!AK151 -> 5 | G24: =Apoio!AL151 -> 6 | H24: =Apoio!AM151 -> 7 | I24: =Apoio!AN151 -> 8 | ... P24: =Apoio!AU151 -> 21 | R24: 7
B25: =Apoio!AG152 -> 1 | C25: =Apoio!AH152 -> 2 | D25: =Apoio!AI152 -> 3 | E25: =Apoio!AJ152 -> 4 | F25: =Apoio!AK152 -> 5 | G25: =Apoio!AL152 -> 6 | H25: =Apoio!AM152 -> 7 | I25: =Apoio!AN152 -> 8 | ... P25: =Apoio!AU152 -> 22 | R25: 8
B26: =Apoio!AG153 -> 1 | C26: =Apoio!AH153 -> 2 | D26: =Apoio!AI153 -> 3 | E26: =Apoio!AJ153 -> 4 | F26: =Apoio!AK153 -> 5 | G26: =Apoio!AL153 -> 6 | H26: =Apoio!AM153 -> 7 | I26: =Apoio!AN153 -> 8 | ... P26: =Apoio!AU153 -> 25 | R26: 9
B27: =Apoio!AG154 -> 1 | C27: =Apoio!AH154 -> 2 | D27: =Apoio!AI154 -> 3 | E27: =Apoio!AJ154 -> 4 | F27: =Apoio!AK154 -> 5 | G27: =Apoio!AL154 -> 6 | H27: =Apoio!AM154 -> 7 | I27: =Apoio!AN154 -> 8 | ... P27: =Apoio!AU154 -> 25 | R27: 10
B28: =Apoio!AG155 -> 1 | C28: =Apoio!AH155 -> 2 | D28: =Apoio!AI155 -> 3 | E28: =Apoio!AJ155 -> 4 | F28: =Apoio!AK155 -> 5 | G28: =Apoio!AL155 -> 6 | H28: =Apoio!AM155 -> 7 | I28: =Apoio!AN155 -> 8 | ... P28: =Apoio!AU155 -> 24 | R28: 11
B29: =Apoio!AG156 -> 1 | C29: =Apoio!AH156 -> 2 | D29: =Apoio!AI156 -> 3 | E29: =Apoio!AJ156 -> 4 | F29: =Apoio!AK156 -> 5 | G29: =Apoio!AL156 -> 6 | H29: =Apoio!AM156 -> 7 | I29: =Apoio!AN156 -> 8 | ... P29: =Apoio!AU156 -> 25 | R29: 12
... B55: =Apoio!AG182 -> 1 | C55: =Apoio!AH182 -> 2 | D55: =Apoio!AI182 -> 3 | E55: =Apoio!AJ182 -> 4 | F55: =Apoio!AK182 -> 5 | G55: =Apoio!AL182 -> 6 | H55: =Apoio!AM182 -> 7 | I55: =Apoio!AN182 -> 8 | ... P55: =Apoio!AU182 -> 24 | R55: 38

Sheet Opcao5
AA1: ="V"&X5 -> V1
A2: Opção 5 ( 21 fixos )
X5: 1 | Y5: 10
B16: Total de 52 volantes
B18: =Apoio!CM57 -> 1 | C18: =Apoio!CN57 -> 2 | D18: =Apoio!CO57 -> 3 | E18: =Apoio!CP57 -> 4 | F18: =Apoio!CQ57 -> 5 | G18: =Apoio!CR57 -> 6 | H18: =Apoio!CS57 -> 7 | I18: =Apoio!CT57 -> 8 | ... P18: =Apoio!DA57 -> 15 | R18: 1
B19: =Apoio!CM58 -> 1 | C19: =Apoio!CN58 -> 2 | D19: =Apoio!CO58 -> 3 | E19: =Apoio!CP58 -> 4 | F19: =Apoio!CQ58 -> 5 | G19: =Apoio!CR58 -> 6 | H19: =Apoio!CS58 -> 7 | I19: =Apoio!CT58 -> 8 | ... P19: =Apoio!DA58 -> 17 | R19: 2
B20: =Apoio!CM59 -> 1 | C20: =Apoio!CN59 -> 2 | D20: =Apoio!CO59 -> 3 | E20: =Apoio!CP59 -> 4 | F20: =Apoio!CQ59 -> 5 | G20: =Apoio!CR59 -> 6 | H20: =Apoio!CS59 -> 7 | I20: =Apoio!CT59 -> 8 | ... P20: =Apoio!DA59 -> 19 | R20: 3
B21: =Apoio!CM60 -> 1 | C21: =Apoio!CN60 -> 2 | D21: =Apoio!CO60 -> 3 | E21: =Apoio!CP60 -> 4 | F21: =Apoio!CQ60 -> 5 | G21: =Apoio!CR60 -> 6 | H21: =Apoio!CS60 -> 7 | I21: =Apoio!CT60 -> 8 | ... P21: =Apoio!DA60 -> 21 | R21: 4
B22: =Apoio!CM61 -> 1 | C22: =Apoio!CN61 -> 2 | D22: =Apoio!CO61 -> 3 | E22: =Apoio!CP61 -> 4 | F22: =Apoio!CQ61 -> 5 | G22: =Apoio!CR61 -> 6 | H22: =Apoio!CS61 -> 7 | I22: =Apoio!CT61 -> 8 | ... P22: =Apoio!DA61 -> 17 | R22: 5
B23: =Apoio!CM62 -> 1 | C23: =Apoio!CN62 -> 2 | D23: =Apoio!CO62 -> 3 | E23: =Apoio!CP62 -> 4 | F23: =Apoio!CQ62 -> 5 | G23: =Apoio!CR62 -> 6 | H23: =Apoio!CS62 -> 7 | I23: =Apoio!CT62 -> 8 | ... P23: =Apoio!DA62 -> 19 | R23: 6
B24: =Apoio!CM63 -> 1 | C24: =Apoio!CN63 -> 2 | D24: =Apoio!CO63 -> 3 | E24: =Apoio!CP63 -> 4 | F24: =Apoio!CQ63 -> 5 | G24: =Apoio!CR63 -> 6 | H24: =Apoio!CS63 -> 7 | I24: =Apoio!CT63 -> 8 | ... P24: =Apoio!DA63 -> 21 | R24: 7
B25: =Apoio!CM64 -> 1 | C25: =Apoio!CN64 -> 2 | D25: =Apoio!CO64 -> 3 | E25: =Apoio!CP64 -> 4 | F25: =Apoio!CQ64 -> 5 | G25: =Apoio!CR64 -> 6 | H25: =Apoio!CS64 -> 7 | I25: =Apoio!CT64 -> 8 | ... P25: =Apoio!DA64 -> 19 | R25: 8
B26: =Apoio!CM65 -> 1 | C26: =Apoio!CN65 -> 2 | D26: =Apoio!CO65 -> 3 | E26: =Apoio!CP65 -> 4 | F26: =Apoio!CQ65 -> 5 | G26: =Apoio!CR65 -> 6 | H26: =Apoio!CS65 -> 7 | I26: =Apoio!CT65 -> 8 | ... P26: =Apoio!DA65 -> 21 | R26: 9
B27: =Apoio!CM66 -> 1 | C27: =Apoio!CN66 -> 2 | D27: =Apoio!CO66 -> 3 | E27: =Apoio!CP66 -> 4 | F27: =Apoio!CQ66 -> 5 | G27: =Apoio!CR66 -> 6 | H27: =Apoio!CS66 -> 7 | I27: =Apoio!CT66 -> 8 | ... P27: =Apoio!DA66 -> 21 | R27: 10
B28: =Apoio!CM67 -> 1 | C28: =Apoio!CN67 -> 2 | D28: =Apoio!CO67 -> 3 | E28: =Apoio!CP67 -> 4 | F28: =Apoio!CQ67 -> 5 | G28: =Apoio!CR67 -> 6 | H28: =Apoio!CS67 -> 7 | I28: =Apoio!CT67 -> 8 | ... P28: =Apoio!DA67 -> 17 | R28: 11
B29: =Apoio!CM68 -> 1 | C29: =Apoio!CN68 -> 2 | D29: =Apoio!CO68 -> 3 | E29: =Apoio!CP68 -> 4 | F29: =Apoio!CQ68 -> 5 | G29: =Apoio!CR68 -> 6 | H29: =Apoio!CS68 -> 7 | I29: =Apoio!CT68 -> 8 | ... P29: =Apoio!DA68 -> 19 | R29: 12
... B69: =Apoio!CM108 -> 3 | C69: =Apoio!CN108 -> 4 | D69: =Apoio!CO108 -> 5 | E69: =Apoio!CP108 -> 10 | F69: =Apoio!CQ108 -> 11 | G69: =Apoio!CR108 -> 12 | H69: =Apoio!CS108 -> 13 | I69: =Apoio!CT108 -> 14 | ... P69: =Apoio!DA108 -> 21 | R69: 52

Sheet Opcao6
AA1: ="V"&X5 -> V1
A2: Opção 6 ( 21 fixos )
X5: 1 | Y5: 10
B16: Total de 4 volantes
B18: =Apoio!A135 -> 1 | C18: =Apoio!B135 -> 2 | D18: =Apoio!C135 -> 4 | E18: =Apoio!D135 -> 5 | F18: =Apoio!E135 -> 6 | G18: =Apoio!F135 -> 7 | H18: =Apoio!G135 -> 8 | I18: =Apoio!H135 -> 13 | ... P18: =Apoio!O135 -> 21 | R18: 1
B19: =Apoio!A136 -> 1 | C19: =Apoio!B136 -> 2 | D19: =Apoio!C136 -> 3 | E19: =Apoio!D136 -> 4 | F19: =Apoio!E136 -> 5 | G19: =Apoio!F136 -> 6 | H19: =Apoio!G136 -> 7 | I19: =Apoio!H136 -> 8 | ... P19: =Apoio!O136 -> 21 | R19: 2
B20: =Apoio!A137 -> 2 | C20: =Apoio!B137 -> 3 | D20: =Apoio!C137 -> 4 | E20: =Apoio!D137 -> 5 | F20: =Apoio!E137 -> 9 | G20: =Apoio!F137 -> 10 | H20: =Apoio!G137 -> 12 | I20: =Apoio!H137 -> 14 | ... P20: =Apoio!O137 -> 21 | R20: 3
B21: =Apoio!A138 -> 3 | C21: =Apoio!B138 -> 6 | D21: =Apoio!C138 -> 7 | E21: =Apoio!D138 -> 8 | F21: =Apoio!E138 -> 9 | G21: =Apoio!F138 -> 10 | H21: =Apoio!G138 -> 11 | I21: =Apoio!H138 -> 13 | ... P21: =Apoio!O138 -> 21 | R21: 4

Sheet Opcao7
AA1: ="V"&X5 -> V1
A2: Opção 7 ( 21 fixos )
X5: 1 | Y5: 10
B16: Total de 14 volantes
B18: =Apoio!A157 -> 1 | C18: =Apoio!B157 -> 5 | D18: =Apoio!C157 -> 6 | E18: =Apoio!D157 -> 7 | F18: =Apoio!E157 -> 8 | G18: =Apoio!F157 -> 9 | H18: =Apoio!G157 -> 10 | I18: =Apoio!H157 -> 14 | ... P18: =Apoio!O157 -> 21 | R18: 1
B19: =Apoio!A158 -> 1 | C19: =Apoio!B158 -> 3 | D19: =Apoio!C158 -> 4 | E19: =Apoio!D158 -> 6 | F19: =Apoio!E158 -> 9 | G19: =Apoio!F158 -> 11 | H19: =Apoio!G158 -> 12 | I19: =Apoio!H158 -> 13 | ... P19: =Apoio!O158 -> 21 | R19: 2
B20: =Apoio!A159 -> 1 | C20: =Apoio!B159 -> 3 | D20: =Apoio!C159 -> 4 | E20: =Apoio!D159 -> 5 | F20: =Apoio!E159 -> 6 | G20: =Apoio!F159 -> 7 | H20: =Apoio!G159 -> 8 | I20: =Apoio!H159 -> 10 | ... P20: =Apoio!O159 -> 19 | R20: 3
B21: =Apoio!A160 -> 1 | C21: =Apoio!B160 -> 2 | D21: =Apoio!C160 -> 4 | E21: =Apoio!D160 -> 5 | F21: =Apoio!E160 -> 7 | G21: =Apoio!F160 -> 9 | H21: =Apoio!G160 -> 10 | I21: =Apoio!H160 -> 12 | ... P21: =Apoio!O160 -> 21 | R21: 4
B22: =Apoio!A161 -> 1 | C22: =Apoio!B161 -> 2 | D22: =Apoio!C161 -> 4 | E22: =Apoio!D161 -> 5 | F22: =Apoio!E161 -> 6 | G22: =Apoio!F161 -> 7 | H22: =Apoio!G161 -> 8 | I22: =Apoio!H161 -> 12 | ... P22: =Apoio!O161 -> 21 | R22: 5
B23: =Apoio!A162 -> 1 | C23: =Apoio!B162 -> 2 | D23: =Apoio!C162 -> 3 | E23: =Apoio!D162 -> 6 | F23: =Apoio!E162 -> 7 | G23: =Apoio!F162 -> 8 | H23: =Apoio!G162 -> 9 | I23: =Apoio!H162 -> 10 | ... P23: =Apoio!O162 -> 21 | R23: 6
B24: =Apoio!A163 -> 1 | C24: =Apoio!B163 -> 2 | D24: =Apoio!C163 -> 3 | E24: =Apoio!D163 -> 5 | F24: =Apoio!E163 -> 6 | G24: =Apoio!F163 -> 9 | H24: =Apoio!G163 -> 10 | I24: =Apoio!H163 -> 11 | ... P24: =Apoio!O163 -> 20 | R24: 7
B25: =Apoio!A164 -> 1 | C25: =Apoio!B164 -> 2 | D25: =Apoio!C164 -> 3 | E25: =Apoio!D164 -> 4 | F25: =Apoio!E164 -> 5 | G25: =Apoio!F164 -> 8 | H25: =Apoio!G164 -> 10 | I25: =Apoio!H164 -> 11 | ... P25: =Apoio!O164 -> 21 | R25: 8
B26: =Apoio!A165 -> 1 | C26: =Apoio!B165 -> 2 | D26: =Apoio!C165 -> 3 | E26: =Apoio!D165 -> 4 | F26: =Apoio!E165 -> 5 | G26: =Apoio!F165 -> 7 | H26: =Apoio!G165 -> 8 | I26: =Apoio!H165 -> 9 | ... P26: =Apoio!O165 -> 20 | R26: 9
B27: =Apoio!A166 -> 1 | C27: =Apoio!B166 -> 2 | D27: =Apoio!C166 -> 3 | E27: =Apoio!D166 -> 4 | F27: =Apoio!E166 -> 5 | G27: =Apoio!F166 -> 6 | H27: =Apoio!G166 -> 8 | I27: =Apoio!H166 -> 9 | ... P27: =Apoio!O166 -> 21 | R27: 10
B28: =Apoio!A167 -> 2 | C28: =Apoio!B167 -> 4 | D28: =Apoio!C167 -> 6 | E28: =Apoio!D167 -> 7 | F28: =Apoio!E167 -> 8 | G28: =Apoio!F167 -> 9 | H28: =Apoio!G167 -> 10 | I28: =Apoio!H167 -> 12 | ... P28: =Apoio!O167 -> 20 | R28: 11
B29: =Apoio!A168 -> 2 | C29: =Apoio!B168 -> 3 | D29: =Apoio!C168 -> 5 | E29: =Apoio!D168 -> 6 | F29: =Apoio!E168 -> 7 | G29: =Apoio!F168 -> 8 | H29: =Apoio!G168 -> 9 | I29: =Apoio!H168 -> 11 | ... P29: =Apoio!O168 -> 21 | R29: 12
... B31: =Apoio!A170 -> 3 | C31: =Apoio!B170 -> 4 | D31: =Apoio!C170 -> 5 | E31: =Apoio!D170 -> 7 | F31: =Apoio!E170 -> 8 | G31: =Apoio!F170 -> 9 | H31: =Apoio!G170 -> 10 | I31: =Apoio!H170 -> 11 | ... P31: =Apoio!O170 -> 21 | R31: 14

Sheet Opcao8
AA1: ="V"&X5 -> V1
A2: Opção 8 ( 21 fixos )
X5: 1 | Y5: 10
B16: Total de 104 volantes
B18: =Apoio!DS110 -> 1 | C18: =Apoio!DT110 -> 2 | D18: =Apoio!DU110 -> 4 | E18: =Apoio!DV110 -> 5 | F18: =Apoio!DW110 -> 6 | G18: =Apoio!DX110 -> 7 | H18: =Apoio!DY110 -> 8 | I18: =Apoio!DZ110 -> 11 | ... P18: =Apoio!EG110 -> 21 | R18: 1
B19: =Apoio!DS111 -> 1 | C19: =Apoio!DT111 -> 2 | D19: =Apoio!DU111 -> 5 | E19: =Apoio!DV111 -> 6 | F19: =Apoio!DW111 -> 7 | G19: =Apoio!DX111 -> 9 | H19: =Apoio!DY111 -> 10 | I19: =Apoio!DZ111 -> 11 | ... P19: =Apoio!EG111 -> 21 | R19: 2
B20: =Apoio!DS112 -> 1 | C20: =Apoio!DT112 -> 2 | D20: =Apoio!DU112 -> 3 | E20: =Apoio!DV112 -> 5 | F20: =Apoio!DW112 -> 6 | G20: =Apoio!DX112 -> 7 | H20: =Apoio!DY112 -> 8 | I20: =Apoio!DZ112 -> 10 | ... P20: =Apoio!EG112 -> 21 | R20: 3
B21: =Apoio!DS113 -> 1 | C21: =Apoio!DT113 -> 2 | D21: =Apoio!DU113 -> 3 | E21: =Apoio!DV113 -> 5 | F21: =Apoio!DW113 -> 6 | G21: =Apoio!DX113 -> 7 | H21: =Apoio!DY113 -> 8 | I21: =Apoio!DZ113 -> 10 | ... P21: =Apoio!EG113 -> 19 | R21: 4
B22: =Apoio!DS114 -> 1 | C22: =Apoio!DT114 -> 2 | D22: =Apoio!DU114 -> 3 | E22: =Apoio!DV114 -> 5 | F22: =Apoio!DW114 -> 6 | G22: =Apoio!DX114 -> 7 | H22: =Apoio!DY114 -> 9 | I22: =Apoio!DZ114 -> 11 | ... P22: =Apoio!EG114 -> 21 | R22: 5
B23: =Apoio!DS115 -> 1 | C23: =Apoio!DT115 -> 2 | D23: =Apoio!DU115 -> 3 | E23: =Apoio!DV115 -> 5 | F23: =Apoio!DW115 -> 6 | G23: =Apoio!DX115 -> 8 | H23: =Apoio!DY115 -> 9 | I23: =Apoio!DZ115 -> 10 | ... P23: =Apoio!EG115 -> 21 | R23: 6
B24: =Apoio!DS116 -> 1 | C24: =Apoio!DT116 -> 2 | D24: =Apoio!DU116 -> 3 | E24: =Apoio!DV116 -> 5 | F24: =Apoio!DW116 -> 6 | G24: =Apoio!DX116 -> 10 | H24: =Apoio!DY116 -> 11 | I24: =Apoio!DZ116 -> 13 | ... P24: =Apoio!EG116 -> 21 | R24: 7
B25: =Apoio!DS117 -> 1 | C25: =Apoio!DT117 -> 2 | D25: =Apoio!DU117 -> 3 | E25: =Apoio!DV117 -> 5 | F25: =Apoio!DW117 -> 7 | G25: =Apoio!DX117 -> 9 | H25: =Apoio!DY117 -> 10 | I25: =Apoio!DZ117 -> 12 | ... P25: =Apoio!EG117 -> 21 | R25: 8
B26: =Apoio!DS118 -> 1 | C26: =Apoio!DT118 -> 2 | D26: =Apoio!DU118 -> 3 | E26: =Apoio!DV118 -> 6 | F26: =Apoio!DW118 -> 7 | G26: =Apoio!DX118 -> 8 | H26: =Apoio!DY118 -> 9 | I26: =Apoio!DZ118 -> 10 | ... P26: =Apoio!EG118 -> 20 | R26: 9
B27: =Apoio!DS119 -> 1 | C27: =Apoio!DT119 -> 2 | D27: =Apoio!DU119 -> 3 | E27: =Apoio!DV119 -> 6 | F27: =Apoio!DW119 -> 7 | G27: =Apoio!DX119 -> 8 | H27: =Apoio!DY119 -> 11 | I27: =Apoio!DZ119 -> 12 | ... P27: =Apoio!EG119 -> 21 | R27: 10
B28: =Apoio!DS120 -> 1 | C28: =Apoio!DT120 -> 2 | D28: =Apoio!DU120 -> 3 | E28: =Apoio!DV120 -> 6 | F28: =Apoio!DW120 -> 8 | G28: =Apoio!DX120 -> 9 | H28: =Apoio!DY120 -> 10 | I28: =Apoio!DZ120 -> 11 | ... P28: =Apoio!EG120 -> 21 | R28: 11
B29: =Apoio!DS121 -> 1 | C29: =Apoio!DT121 -> 2 | D29: =Apoio!DU121 -> 3 | E29: =Apoio!DV121 -> 4 | F29: =Apoio!DW121 -> 7 | G29: =Apoio!DX121 -> 8 | H29: =Apoio!DY121 -> 10 | I29: =Apoio!DZ121 -> 13 | ... P29: =Apoio!EG121 -> 20 | R29: 12
... B121: =Apoio!DS213 -> 5 | C121: =Apoio!DT213 -> 6 | D121: =Apoio!DU213 -> 8 | E121: =Apoio!DV213 -> 9 | F121: =Apoio!DW213 -> 10 | G121: =Apoio!DX213 -> 11 | H121: =Apoio!DY213 -> 12 | I121: =Apoio!DZ213 -> 13 | ... P121: =Apoio!EG213 -> 21 | R121: 104

Sheet Apoio
AG1: 1 | AH1: 2 | AI1: 3 | AJ1: 4 | AK1: 5 | AL1: 6 | AM1: 7 | AN1: 8 | AO1: 9 | AP1: 10 | AQ1: 11 | AR1: 12 | AS1: 13 | AT1: 14 | AU1: 15 | AV1: 16 | AW1: 17 | AX1: 18 | AY1: 19 | AZ1: 20 | BA1: 21 | BB1: 22 | BC1: 23 | BD1: 24 | BE1: 25
AG2: =AG30 -> 1 | AH2: =BM18 -> 2 | AI2: =BN18 -> 3 | AJ2: =BO18 -> 4 | AK2: =BP18 -> 5 | AL2: =BQ18 -> 6 | AM2: =BR18 -> 7 | AN2: =BS18 -> 8 | AO2: =BT18 -> 9 | ... BA2: =CF18 -> 25 | BB2: =AG31 -> 17 | BC2: =AH31 -> 18 | BD2: =AI31 -> 19 | BE2: =AJ31 -> 20
A3: 1 | B3: 2 | C3: 3 | D3: 4 | E3: 5 | F3: 6 | G3: 7 | H3: 8 | I3: 9 | J3: 10 | K3: 11 | L3: 12 | M3: 13 | N3: 14 | O3: 15 | P3: 16 | Q3: 17 | R3: 18 | S3: 19 | T3: 20 | U3: 21 | V3: 22 | CM3: =LOOKUP(DC3,$A$3:$U$3,$A$4:$U$4) -> 1 | CN3: =LOOKUP(DD3,$A$3:$U$3,$A$4:$U$4) -> 2 | CO3: =LOOKUP(DE3,$A$3:$U$3,$A$4:$U$4) -> 3 | CP3: =LOOKUP(DF3,$A$3:$U$3,$A$4:$U$4) -> 4 | CQ3: =LOOKUP(DG3,$A$3:$U$3,$A$4:$U$4) -> 5 | CR3: =LOOKUP(DH3,$A$3:$U$3,$A$4:$U$4) -> 6 | CS3: =LOOKUP(DI3,$A$3:$U$3,$A$4:$U$4) -> 7 | CT3: =LOOKUP(DJ3,$A$3:$U$3,$A$4:$U$4) -> 8 | ... DA3: =LOOKUP(DQ3,$A$3:$U$3,$A$4:$U$4) -> 15 | DC3: 1 | DD3: 2 | DE3: 3 | DF3: 4 | DG3: 5 | DH3: 6 | DI3: 7 | DJ3: 8 | DK3: 9 | DL3: 10 | DM3: 11 | DN3: 12 | DO3: 13 | DP3: 14 | DQ3: 15 | DS3: =LOOKUP(EI3,$A$3:$U$3,$A$4:$U$4) -> 1 | DT3: =LOOKUP(EJ3,$A$3:$U$3,$A$4:$U$4) -> 2 | DU3: =LOOKUP(EK3,$A$3:$U$3,$A$4:$U$4) -> 4 | DV3: =LOOKUP(EL3,$A$3:$U$3,$A$4:$U$4) -> 5 | DW3: =LOOKUP(EM3,$A$3:$U$3,$A$4:$U$4) -> 6 | DX3: =LOOKUP(EN3,$A$3:$U$3,$A$4:$U$4) -> 7 | DY3: =LOOKUP(EO3,$A$3:$U$3,$A$4:$U$4) -> 8 | DZ3: =LOOKUP(EP3,$A$3:$U$3,$A$4:$U$4) -> 11 | ... EG3: =LOOKUP(EW3,$A$3:$U$3,$A$4:$U$4) -> 21 | EI3: 1 | EJ3: 2 | EK3: 4 | EL3: 5 | EM3: 6 | EN3: 7 | EO3: 8 | EP3: 11 | EQ3: 13 | ER3: 16 | ES3: 17 | ET3: 18 | EU3: 19 | EV3: 20 | EW3: 21
A4: =Início!B17 -> 1 | B4: =Início!C17 -> 2 | C4: =Início!D17 -> 3 | D4: =Início!E17 -> 4 | E4: =Início!F17 -> 5 | F4: =Início!G17 -> 6 | G4: =Início!H17 -> 7 | H4: =Início!I17 -> 8 | ... U4: =Início!V17 -> 21 | CM4: =LOOKUP(DC4,$A$3:$U$3,$A$4:$U$4) -> 1 | CN4: =LOOKUP(DD4,$A$3:$U$3,$A$4:$U$4) -> 2 | CO4: =LOOKUP(DE4,$A$3:$U$3,$A$4:$U$4) -> 3 | CP4: =LOOKUP(DF4,$A$3:$U$3,$A$4:$U$4) -> 4 | CQ4: =LOOKUP(DG4,$A$3:$U$3,$A$4:$U$4) -> 5 | CR4: =LOOKUP(DH4,$A$3:$U$3,$A$4:$U$4) -> 6 | CS4: =LOOKUP(DI4,$A$3:$U$3,$A$4:$U$4) -> 7 | CT4: =LOOKUP(DJ4,$A$3:$U$3,$A$4:$U$4) -> 8 | ... DA4: =LOOKUP(DQ4,$A$3:$U$3,$A$4:$U$4) -> 17 | DC4: 1 | DD4: 2 | DE4: 3 | DF4: 4 | DG4: 5 | DH4: 6 | DI4: 7 | DJ4: 8 | DK4: 9 | DL4: 10 | DM4: 11 | DN4: 12 | DO4: 13 | DP4: 16 | DQ4: 17 | DS4: =LOOKUP(EI4,$A$3:$U$3,$A$4:$U$4) -> 1 | DT4: =LOOKUP(EJ4,$A$3:$U$3,$A$4:$U$4) -> 2 | DU4: =LOOKUP(EK4,$A$3:$U$3,$A$4:$U$4) -> 5 | DV4: =LOOKUP(EL4,$A$3:$U$3,$A$4:$U$4) -> 6 | DW4: =LOOKUP(EM4,$A$3:$U$3,$A$4:$U$4) -> 7 | DX4: =LOOKUP(EN4,$A$3:$U$3,$A$4:$U$4) -> 9 | DY4: =LOOKUP(EO4,$A$3:$U$3,$A$4:$U$4) -> 10 | DZ4: =LOOKUP(EP4,$A$3:$U$3,$A$4:$U$4) -> 11 | ... EG4: =LOOKUP(EW4,$A$3:$U$3,$A$4:$U$4) -> 21 | EI4: 1 | EJ4: 2 | EK4: 5 | EL4: 6 | EM4: 7 | EN4: 9 | EO4: 10 | EP4: 11 | EQ4: 12 | ER4: 13 | ES4: 15 | ET4: 16 | EU4: 19 | EV4: 20 | EW4: 21
CM5: =LOOKUP(DC5,$A$3:$U$3,$A$4:$U$4) -> 1 | CN5: =LOOKUP(DD5,$A$3:$U$3,$A$4:$U$4) -> 2 | CO5: =LOOKUP(DE5,$A$3:$U$3,$A$4:$U$4) -> 3 | CP5: =LOOKUP(DF5,$A$3:$U$3,$A$4:$U$4) -> 4 | CQ5: =LOOKUP(DG5,$A$3:$U$3,$A$4:$U$4) -> 5 | CR5: =LOOKUP(DH5,$A$3:$U$3,$A$4:$U$4) -> 6 | CS5: =LOOKUP(DI5,$A$3:$U$3,$A$4:$U$4) -> 7 | CT5: =LOOKUP(DJ5,$A$3:$U$3,$A$4:$U$4) -> 8 | ... DA5: =LOOKUP(DQ5,$A$3:$U$3,$A$4:$U$4) -> 19 | DC5: 1 | DD5: 2 | DE5: 3 | DF5: 4 | DG5: 5 | DH5: 6 | DI5: 7 | DJ5: 8 | DK5: 9 | DL5: 10 | DM5: 11 | DN5: 12 | DO5: 13 | DP5: 18 | DQ5: 19 | DS5: =LOOKUP(EI5,$A$3:$U$3,$A$4:$U$4) -> 1 | DT5: =LOOKUP(EJ5,$A$3:$U$3,$A$4:$U$4) -> 2 | DU5: =LOOKUP(EK5,$A$3:$U$3,$A$4:$U$4) -> 3 | DV5: =LOOKUP(EL5,$A$3:$U$3,$A$4:$U$4) -> 5 | DW5: =LOOKUP(EM5,$A$3:$U$3,$A$4:$U$4) -> 6 | DX5: =LOOKUP(EN5,$A$3:$U$3,$A$4:$U$4) -> 7 | DY5: =LOOKUP(EO5,$A$3:$U$3,$A$4:$U$4) -> 8 | DZ5: =LOOKUP(EP5,$A$3:$U$3,$A$4:$U$4) -> 10 | ... EG5: =LOOKUP(EW5,$A$3:$U$3,$A$4:$U$4) -> 21 | EI5: 1 | EJ5: 2 | EK5: 3 | EL5: 5 | EM5: 6 | EN5: 7 | EO5: 8 | EP5: 10 | EQ5: 11 | ER5: 12 | ES5: 14 | ET5: 16 | EU5: 17 | EV5: 20 | EW5: 21
CM6: =LOOKUP(DC6,$A$3:$U$3,$A$4:$U$4) -> 1 | CN6: =LOOKUP(DD6,$A$3:$U$3,$A$4:$U$4) -> 2 | CO6: =LOOKUP(DE6,$A$3:$U$3,$A$4:$U$4) -> 3 | CP6: =LOOKUP(DF6,$A$3:$U$3,$A$4:$U$4) -> 4 | CQ6: =LOOKUP(DG6,$A$3:$U$3,$A$4:$U$4) -> 5 | CR6: =LOOKUP(DH6,$A$3:$U$3,$A$4:$U$4) -> 6 | CS6: =LOOKUP(DI6,$A$3:$U$3,$A$4:$U$4) -> 7 | CT6: =LOOKUP(DJ6,$A$3:$U$3,$A$4:$U$4) -> 8 | ... DA6: =LOOKUP(DQ6,$A$3:$U$3,$A$4:$U$4) -> 21 | DC6: 1 | DD6: 2 | DE6: 3 | DF6: 4 | DG6: 5 | DH6: 6 | DI6: 7 | DJ6: 8 | DK6: 9 | DL6: 10 | DM6: 11 | DN6: 12 | DO6: 13 | DP6: 20 | DQ6: 21 | DS6: =LOOKUP(EI6,$A$3:$U$3,$A$4:$U$4) -> 1 | DT6: =LOOKUP(EJ6,$A$3:$U$3,$A$4:$U$4) -> 2 | DU6: =LOOKUP(EK6,$A$3:$U$3,$A$4:$U$4) -> 3 | DV6: =LOOKUP(EL6,$A$3:$U$3,$A$4:$U$4) -> 5 | DW6: =LOOKUP(EM6,$A$3:$U$3,$A$4:$U$4) -> 6 | DX6: =LOOKUP(EN6,$A$3:$U$3,$A$4:$U$4) -> 7 | DY6: =LOOKUP(EO6,$A$3:$U$3,$A$4:$U$4) -> 8 | DZ6: =LOOKUP(EP6,$A$3:$U$3,$A$4:$U$4) -> 10 | ... EG6: =LOOKUP(EW6,$A$3:$U$3,$A$4:$U$4) -> 19 | EI6: 1 | EJ6: 2 | EK6: 3 | EL6: 5 | EM6: 6 | EN6: 7 | EO6: 8 | EP6: 10 | EQ6: 12 | ER6: 13 | ES6: 14 | ET6: 16 | EU6: 17 | EV6: 18 | EW6: 19
AG7: =LOOKUP(AW7,$AG$1:$BE$1,$AG$2:$BE$2) -> 1 | AH7: =LOOKUP(AX7,$AG$1:$BE$1,$AG$2:$BE$2) -> 2 | AI7: =LOOKUP(AY7,$AG$1:$BE$1,$AG$2:$BE$2) -> 3 | AJ7: =LOOKUP(AZ7,$AG$1:$BE$1,$AG$2:$BE$2) -> 4 | AK7: =LOOKUP(BA7,$AG$1:$BE$1,$AG$2:$BE$2) -> 5 | AL7: =LOOKUP(BB7,$AG$1:$BE$1,$AG$2:$BE$2) -> 6 | AM7: =LOOKUP(BC7,$AG$1:$BE$1,$AG$2:$BE$2) -> 10 | AN7: =LOOKUP(BD7,$AG$1:$BE$1,$AG$2:$BE$2) -> 11 | ... AU7: =LOOKUP(BK7,$AG$1:$BE$1,$AG$2:$BE$2) -> 25 | AW7: 1 | AX7: 2 | AY7: 3 | AZ7: 4 | BA7: 5 | BB7: 6 | BC7: 10 | BD7: 11 | BE7: 12 | BF7: 13 | BG7: 14 | BH7: 15 | BI7: 16 | BJ7: 20 | BK7: 21 | BM7: 1 | BN7: 2 | BO7: 3 | BP7: 4 | BQ7: 5 | BR7: 6 | BS7: 7 | BT7: 8 | BU7: 9 | BV7: 10 | BW7: 11 | BX7: 12 | BY7: 13 | BZ7: 14 | CA7: 15 | CB7: 16 | CC7: 17 | CD7: 18 | CE7: 19 | CF7: 20 | CG7: 21 | CH7: 22 | CI7: 23 | CJ7: 24 | CK7: 25 | CM7: =LOOKUP(DC7,$A$3:$U$3,$A$4:$U$4) -> 1 | CN7: =LOOKUP(DD7,$A$3:$U$3,$A$4:$U$4) -> 2 | CO7: =LOOKUP(DE7,$A$3:$U$3,$A$4:$U$4) -> 3 | CP7: =LOOKUP(DF7,$A$3:$U$3,$A$4:$U$4) -> 4 | CQ7: =LOOKUP(DG7,$A$3:$U$3,$A$4:$U$4) -> 5 | CR7: =LOOKUP(DH7,$A$3:$U$3,$A$4:$U$4) -> 6 | CS7: =LOOKUP(DI7,$A$3:$U$3,$A$4:$U$4) -> 7 | CT7: =LOOKUP(DJ7,$A$3:$U$3,$A$4:$U$4) -> 8 | ... DA7: =LOOKUP(DQ7,$A$3:$U$3,$A$4:$U$4) -> 17 | DC7: 1 | DD7: 2 | DE7: 3 | DF7: 4 | DG7: 5 | DH7: 6 | DI7: 7 | DJ7: 8 | DK7: 9 | DL7: 10 | DM7: 11 | DN7: 14 | DO7: 15 | DP7: 16 | DQ7: 17 | DS7: =LOOKUP(EI7,$A$3:$U$3,$A$4:$U$4) -> 1 | DT7: =LOOKUP(EJ7,$A$3:$U$3,$A$4:$U$4) -> 2 | DU7: =LOOKUP(EK7,$A$3:$U$3,$A$4:$U$4) -> 3 | DV7: =LOOKUP(EL7,$A$3:$U$3,$A$4:$U$4) -> 5 | DW7: =LOOKUP(EM7,$A$3:$U$3,$A$4:$U$4) -> 6 | DX7: =LOOKUP(EN7,$A$3:$U$3,$A$4:$U$4) -> 7 | DY7: =LOOKUP(EO7,$A$3:$U$3,$A$4:$U$4) -> 9 | DZ7: =LOOKUP(EP7,$A$3:$U$3,$A$4:$U$4) -> 11 | ... EG7: =LOOKUP(EW7,$A$3:$U$3,$A$4:$U$4) -> 21 | EI7: 1 | EJ7: 2 | EK7: 3 | EL7: 5 | EM7: 6 | EN7: 7 | EO7: 9 | EP7: 11 | EQ7: 12 | ER7: 14 | ES7: 16 | ET7: 17 | EU7: 18 | EV7: 20 | EW7: 21
AG8: =LOOKUP(AW8,$AG$1:$BE$1,$AG$2:$BE$2) -> 1 | AH8: =LOOKUP(AX8,$AG$1:$BE$1,$AG$2:$BE$2) -> 2 | AI8: =LOOKUP(AY8,$AG$1:$BE$1,$AG$2:$BE$2) -> 3 | AJ8: =LOOKUP(AZ8,$AG$1:$BE$1,$AG$2:$BE$2) -> 4 | AK8: =LOOKUP(BA8,$AG$1:$BE$1,$AG$2:$BE$2) -> 5 | AL8: =LOOKUP(BB8,$AG$1:$BE$1,$AG$2:$BE$2) -> 7 | AM8: =LOOKUP(BC8,$AG$1:$BE$1,$AG$2:$BE$2) -> 10 | AN8: =LOOKUP(BD8,$AG$1:$BE$1,$AG$2:$BE$2) -> 11 | ... AU8: =LOOKUP(BK8,$AG$1:$BE$1,$AG$2:$BE$2) -> 25 | AW8: 1 | AX8: 2 | AY8: 3 | AZ8: 4 | BA8: 5 | BB8: 7 | BC8: 10 | BD8: 11 | BE8: 12 | BF8: 13 | BG8: 14 | BH8: 15 | BI8: 17 | BJ8: 20 | BK8: 21 | BM8: =AG30 -> 1 | CM8: =LOOKUP(DC8,$A$3:$U$3,$A$4:$U$4) -> 1 | CN8: =LOOKUP(DD8,$A$3:$U$3,$A$4:$U$4) -> 2 | CO8: =LOOKUP(DE8,$A$3:$U$3,$A$4:$U$4) -> 3 | CP8: =LOOKUP(DF8,$A$3:$U$3,$A$4:$U$4) -> 4 | CQ8: =LOOKUP(DG8,$A$3:$U$3,$A$4:$U$4) -> 5 | CR8: =LOOKUP(DH8,$A$3:$U$3,$A$4:$U$4) -> 6 | CS8: =LOOKUP(DI8,$A$3:$U$3,$A$4:$U$4) -> 7 | CT8: =LOOKUP(DJ8,$A$3:$U$3,$A$4:$U$4) -> 8 | ... DA8: =LOOKUP(DQ8,$A$3:$U$3,$A$4:$U$4) -> 19 | DC8: 1 | DD8: 2 | DE8: 3 | DF8: 4 | DG8: 5 | DH8: 6 | DI8: 7 | DJ8: 8 | DK8: 9 | DL8: 10 | DM8: 11 | DN8: 14 | DO8: 15 | DP8: 18 | DQ8: 19 | DS8: =LOOKUP(EI8,$A$3:$U$3,$A$4:$U$4) -> 1 | DT8: =LOOKUP(EJ8,$A$3:$U$3,$A$4:$U$4) -> 2 | DU8: =LOOKUP(EK8,$A$3:$U$3,$A$4:$U$4) -> 3 | DV8: =LOOKUP(EL8,$A$3:$U$3,$A$4:$U$4) -> 5 | DW8: =LOOKUP(EM8,$A$3:$U$3,$A$4:$U$4) -> 6 | DX8: =LOOKUP(EN8,$A$3:$U$3,$A$4:$U$4) -> 8 | DY8: =LOOKUP(EO8,$A$3:$U$3,$A$4:$U$4) -> 9 | DZ8: =LOOKUP(EP8,$A$3:$U$3,$A$4:$U$4) -> 10 | ... EG8: =LOOKUP(EW8,$A$3:$U$3,$A$4:$U$4) -> 21 | EI8: 1 | EJ8: 2 | EK8: 3 | EL8: 5 | EM8: 6 | EN8: 8 | EO8: 9 | EP8: 10 | EQ8: 11 | ER8: 13 | ES8: 14 | ET8: 15 | EU8: 16 | EV8: 18 | EW8: 21
A9: =LOOKUP(Q9,$A$3:$Y$3,$A$4:$Y$4) -> 1 | B9: =LOOKUP(R9,$A$3:$Y$3,$A$4:$Y$4) -> 2 | C9: =LOOKUP(S9,$A$3:$Y$3,$A$4:$Y$4) -> 3 | D9: =LOOKUP(T9,$A$3:$Y$3,$A$4:$Y$4) -> 4 | E9: =LOOKUP(U9,$A$3:$Y$3,$A$4:$Y$4) -> 5 | F9: =LOOKUP(V9,$A$3:$Y$3,$A$4:$Y$4) -> 6 | G9: =LOOKUP(W9,$A$3:$Y$3,$A$4:$Y$4) -> 7 | H9: =LOOKUP(X9,$A$3:$Y$3,$A$4:$Y$4) -> 8 | ... O9: =LOOKUP(AE9,$A$3:$Y$3,$A$4:$Y$4) -> 21 | Q9: 1 | R9: 2 | S9: 3 | T9: 4 | U9: 5 | V9: 6 | W9: 7 | X9: 8 | Y9: 9 | Z9: 10 | AA9: 13 | AB9: 16 | AC9: 17 | AD9: 19 | AE9: 21 | AG9: =LOOKUP(AW9,$AG$1:$BE$1,$AG$2:$BE$2) -> 1 | AH9: =LOOKUP(AX9,$AG$1:$BE$1,$AG$2:$BE$2) -> 2 | AI9: =LOOKUP(AY9,$AG$1:$BE$1,$AG$2:$BE$2) -> 3 | AJ9: =LOOKUP(AZ9,$AG$1:$BE$1,$AG$2:$BE$2) -> 4 | AK9: =LOOKUP(BA9,$AG$1:$BE$1,$AG$2:$BE$2) -> 5 | AL9: =LOOKUP(BB9,$AG$1:$BE$1,$AG$2:$BE$2) -> 8 | AM9: =LOOKUP(BC9,$AG$1:$BE$1,$AG$2:$BE$2) -> 10 | AN9: =LOOKUP(BD9,$AG$1:$BE$1,$AG$2:$BE$2) -> 11 | ... AU9: =LOOKUP(BK9,$AG$1:$BE$1,$AG$2:$BE$2) -> 25 | AW9: 1 | AX9: 2 | AY9: 3 | AZ9: 4 | BA9: 5 | BB9: 8 | BC9: 10 | BD9: 11 | BE9: 12 | BF9: 13 | BG9: 14 | BH9: 15 | BI9: 18 | BJ9: 20 | BK9: 21 | BM9: =AG2 -> 1 | BN9: =AH2 -> 2 | BO9: =AI2 -> 3 | BP9: =AJ2 -> 4 | BQ9: =AK2 -> 5 | BR9: =AL2 -> 6 | BS9: =AM2 -> 7 | BT9: =AN2 -> 8 | ... BV9: =AP2 -> 10 | CM9: =LOOKUP(DC9,$A$3:$U$3,$A$4:$U$4) -> 1 | CN9: =LOOKUP(DD9,$A$3:$U$3,$A$4:$U$4) -> 2 | CO9: =LOOKUP(DE9,$A$3:$U$3,$A$4:$U$4) -> 3 | CP9: =LOOKUP(DF9,$A$3:$U$3,$A$4:$U$4) -> 4 | CQ9: =LOOKUP(DG9,$A$3:$U$3,$A$4:$U$4) -> 5 | CR9: =LOOKUP(DH9,$A$3:$U$3,$A$4:$U$4) -> 6 | CS9: =LOOKUP(DI9,$A$3:$U$3,$A$4:$U$4) -> 7 | CT9: =LOOKUP(DJ9,$A$3:$U$3,$A$4:$U$4) -> 8 | ... DA9: =LOOKUP(DQ9,$A$3:$U$3,$A$4:$U$4) -> 21 | DC9: 1 | DD9: 2 | DE9: 3 | DF9: 4 | DG9: 5 | DH9: 6 | DI9: 7 | DJ9: 8 | DK9: 9 | DL9: 10 | DM9: 11 | DN9: 14 | DO9: 15 | DP9: 20 | DQ9: 21 | DS9: =LOOKUP(EI9,$A$3:$U$3,$A$4:$U$4) -> 1 | DT9: =LOOKUP(EJ9,$A$3:$U$3,$A$4:$U$4) -> 2 | DU9: =LOOKUP(EK9,$A$3:$U$3,$A$4:$U$4) -> 3 | DV9: =LOOKUP(EL9,$A$3:$U$3,$A$4:$U$4) -> 5 | DW9: =LOOKUP(EM9,$A$3:$U$3,$A$4:$U$4) -> 6 | DX9: =LOOKUP(EN9,$A$3:$U$3,$A$4:$U$4) -> 10 | DY9: =LOOKUP(EO9,$A$3:$U$3,$A$4:$U$4) -> 11 | DZ9: =LOOKUP(EP9,$A$3:$U$3,$A$4:$U$4) -> 13 | ... EG9: =LOOKUP(EW9,$A$3:$U$3,$A$4:$U$4) -> 21 | EI9: 1 | EJ9: 2 | EK9: 3 | EL9: 5 | EM9: 6 | EN9: 10 | EO9: 11 | EP9: 13 | EQ9: 14 | ER9: 15 | ES9: 16 | ET9: 17 | EU9: 19 | EV9: 20 | EW9: 21
A10: =LOOKUP(Q10,$A$3:$Y$3,$A$4:$Y$4) -> 1 | B10: =LOOKUP(R10,$A$3:$Y$3,$A$4:$Y$4) -> 2 | C10: =LOOKUP(S10,$A$3:$Y$3,$A$4:$Y$4) -> 3 | D10: =LOOKUP(T10,$A$3:$Y$3,$A$4:$Y$4) -> 4 | E10: =LOOKUP(U10,$A$3:$Y$3,$A$4:$Y$4) -> 5 | F10: =LOOKUP(V10,$A$3:$Y$3,$A$4:$Y$4) -> 6 | G10: =LOOKUP(W10,$A$3:$Y$3,$A$4:$Y$4) -> 7 | H10: =LOOKUP(X10,$A$3:$Y$3,$A$4:$Y$4) -> 8 | ... O10: =LOOKUP(AE10,$A$3:$Y$3,$A$4:$Y$4) -> 21 | Q10: 1 | R10: 2 | S10: 3 | T10: 4 | U10: 5 | V10: 6 | W10: 7 | X10: 8 | Y10: 9 | Z10: 12 | AA10: 15 | AB10: 18 | AC10: 19 | AD10: 20 | AE10: 21 | AG10: =LOOKUP(AW10,$AG$1:$BE$1,$AG$2:$BE$2) -> 1 | AH10: =LOOKUP(AX10,$AG$1:$BE$1,$AG$2:$BE$2) -> 2 | AI10: =LOOKUP(AY10,$AG$1:$BE$1,$AG$2:$BE$2) -> 3 | AJ10: =LOOKUP(AZ10,$AG$1:$BE$1,$AG$2:$BE$2) -> 4 | AK10: =LOOKUP(BA10,$AG$1:$BE$1,$AG$2:$BE$2) -> 5 | AL10: =LOOKUP(BB10,$AG$1:$BE$1,$AG$2:$BE$2) -> 9 | AM10: =LOOKUP(BC10,$AG$1:$BE$1,$AG$2:$BE$2) -> 10 | AN10: =LOOKUP(BD10,$AG$1:$BE$1,$AG$2:$BE$2) -> 11 | ... AU10: =LOOKUP(BK10,$AG$1:$BE$1,$AG$2:$BE$2) -> 25 | AW10: 1 | AX10: 2 | AY10: 3 | AZ10: 4 | BA10: 5 | BB10: 9 | BC10: 10 | BD10: 11 | BE10: 12 | BF10: 13 | BG10: 14 | BH10: 15 | BI10: 19 | BJ10: 20 | BK10: 21 | BM10: =COUNTIF($BM$7:$CK$8,BM7) -> 2 | BN10: =COUNTIF($BM$7:$CK$8,BN7) -> 1 | BO10: =COUNTIF($BM$7:$CK$8,BO7) -> 1 | BP10: =COUNTIF($BM$7:$CK$8,BP7) -> 1 | BQ10: =COUNTIF($BM$7:$CK$8,BQ7) -> 1 | BR10: =COUNTIF($BM$7:$CK$8,BR7) -> 1 | BS10: =COUNTIF($BM$7:$CK$8,BS7) -> 1 | BT10: =COUNTIF($BM$7:$CK$8,BT7) -> 1 | ... CK10: =COUNTIF($BM$7:$CK$8,CK7) -> 1 | CM10: =LOOKUP(DC10,$A$3:$U$3,$A$4:$U$4) -> 1 | CN10: =LOOKUP(DD10,$A$3:$U$3,$A$4:$U$4) -> 2 | CO10: =LOOKUP(DE10,$A$3:$U$3,$A$4:$U$4) -> 3 | CP10: =LOOKUP(DF10,$A$3:$U$3,$A$4:$U$4) -> 4 | CQ10: =LOOKUP(DG10,$A$3:$U$3,$A$4:$U$4) -> 5 | CR10: =LOOKUP(DH10,$A$3:$U$3,$A$4:$U$4) -> 6 | CS10: =LOOKUP(DI10,$A$3:$U$3,$A$4:$U$4) -> 7 | CT10: =LOOKUP(DJ10,$A$3:$U$3,$A$4:$U$4) -> 8 | ... DA10: =LOOKUP(DQ10,$A$3:$U$3,$A$4:$U$4) -> 19 | DC10: 1 | DD10: 2 | DE10: 3 | DF10: 4 | DG10: 5 | DH10: 6 | DI10: 7 | DJ10: 8 | DK10: 9 | DL10: 10 | DM10: 11 | DN10: 16 | DO10: 17 | DP10: 18 | DQ10: 19 | DS10: =LOOKUP(EI10,$A$3:$U$3,$A$4:$U$4) -> 1 | DT10: =LOOKUP(EJ10,$A$3:$U$3,$A$4:$U$4) -> 2 | DU10: =LOOKUP(EK10,$A$3:$U$3,$A$4:$U$4) -> 3 | DV10: =LOOKUP(EL10,$A$3:$U$3,$A$4:$U$4) -> 5 | DW10: =LOOKUP(EM10,$A$3:$U$3,$A$4:$U$4) -> 7 | DX10: =LOOKUP(EN10,$A$3:$U$3,$A$4:$U$4) -> 9 | DY10: =LOOKUP(EO10,$A$3:$U$3,$A$4:$U$4) -> 10 | DZ10: =LOOKUP(EP10,$A$3:$U$3,$A$4:$U$4) -> 12 | ... EG10: =LOOKUP(EW10,$A$3:$U$3,$A$4:$U$4) -> 21 | EI10: 1 | EJ10: 2 | EK10: 3 | EL10: 5 | EM10: 7 | EN10: 9 | EO10: 10 | EP10: 12 | EQ10: 13 | ER10: 15 | ES10: 16 | ET10: 18 | EU10: 19 | EV10: 20 | EW10: 21
A11: =LOOKUP(Q11,$A$3:$Y$3,$A$4:$Y$4) -> 1 | B11: =LOOKUP(R11,$A$3:$Y$3,$A$4:$Y$4) -> 2 | C11: =LOOKUP(S11,$A$3:$Y$3,$A$4:$Y$4) -> 3 | D11: =LOOKUP(T11,$A$3:$Y$3,$A$4:$Y$4) -> 4 | E11: =LOOKUP(U11,$A$3:$Y$3,$A$4:$Y$4) -> 5 | F11: =LOOKUP(V11,$A$3:$Y$3,$A$4:$Y$4) -> 6 | G11: =LOOKUP(W11,$A$3:$Y$3,$A$4:$Y$4) -> 7 | H11: =LOOKUP(X11,$A$3:$Y$3,$A$4:$Y$4) -> 10 | ... O11: =LOOKUP(AE11,$A$3:$Y$3,$A$4:$Y$4) -> 20 | Q11: 1 | R11: 2 | S11: 3 | T11: 4 | U11: 5 | V11: 6 | W11: 7 | X11: 10 | Y11: 11 | Z11: 12 | AA11: 13 | AB11: 17 | AC11: 18 | AD11: 19 | AE11: 20 | AG11: =LOOKUP(AW11,$AG$1:$BE$1,$AG$2:$BE$2) -> 1 | AH11: =LOOKUP(AX11,$AG$1:$BE$1,$AG$2:$BE$2) -> 2 | AI11: =LOOKUP(AY11,$AG$1:$BE$1,$AG$2:$BE$2) -> 3 | AJ11: =LOOKUP(AZ11,$AG$1:$BE$1,$AG$2:$BE$2) -> 4 | AK11: =LOOKUP(BA11,$AG$1:$BE$1,$AG$2:$BE$2) -> 6 | AL11: =LOOKUP(BB11,$AG$1:$BE$1,$AG$2:$BE$2) -> 7 | AM11: =LOOKUP(BC11,$AG$1:$BE$1,$AG$2:$BE$2) -> 10 | AN11: =LOOKUP(BD11,$AG$1:$BE$1,$AG$2:$BE$2) -> 11 | ... AU11: =LOOKUP(BK11,$AG$1:$BE$1,$AG$2:$BE$2) -> 25 | AW11: 1 | AX11: 2 | AY11: 3 | AZ11: 4 | BA11: 6 | BB11: 7 | BC11: 10 | BD11: 11 | BE11: 12 | BF11: 13 | BG11: 14 | BH11: 16 | BI11: 17 | BJ11: 20 | BK11: 21 | BM11: =IF(BM10=1,BM7,0) -> 0 | BN11: =IF(BN10=1,BN7,0) -> 2 | BO11: =IF(BO10=1,BO7,0) -> 3 | BP11: =IF(BP10=1,BP7,0) -> 4 | BQ11: =IF(BQ10=1,BQ7,0) -> 5 | BR11: =IF(BR10=1,BR7,0) -> 6 | BS11: =IF(BS10=1,BS7,0) -> 7 | BT11: =IF(BT10=1,BT7,0) -> 8 | ... CK11: =IF(CK10=1,CK7,0) -> 25 | CM11: =LOOKUP(DC11,$A$3:$U$3,$A$4:$U$4) -> 1 | CN11: =LOOKUP(DD11,$A$3:$U$3,$A$4:$U$4) -> 2 | CO11: =LOOKUP(DE11,$A$3:$U$3,$A$4:$U$4) -> 3 | CP11: =LOOKUP(DF11,$A$3:$U$3,$A$4:$U$4) -> 4 | CQ11: =LOOKUP(DG11,$A$3:$U$3,$A$4:$U$4) -> 5 | CR11: =LOOKUP(DH11,$A$3:$U$3,$A$4:$U$4) -> 6 | CS11: =LOOKUP(DI11,$A$3:$U$3,$A$4:$U$4) -> 7 | CT11: =LOOKUP(DJ11,$A$3:$U$3,$A$4:$U$4) -> 8 | ... DA11: =LOOKUP(DQ11,$A$3:$U$3,$A$4:$U$4) -> 21 | DC11: 1 | DD11: 2 | DE11: 3 | DF11: 4 | DG11: 5 | DH11: 6 | DI11: 7 | DJ11: 8 | DK11: 9 | DL11: 10 | DM11: 11 | DN11: 16 | DO11: 17 | DP11: 20 | DQ11: 21 | DS11: =LOOKUP(EI11,$A$3:$U$3,$A$4:$U$4) -> 1 | DT11: =LOOKUP(EJ11,$A$3:$U$3,$A$4:$U$4) -> 2 | DU11: =LOOKUP(EK11,$A$3:$U$3,$A$4:$U$4) -> 3 | DV11: =LOOKUP(EL11,$A$3:$U$3,$A$4:$U$4) -> 6 | DW11: =LOOKUP(EM11,$A$3:$U$3,$A$4:$U$4) -> 7 | DX11: =LOOKUP(EN11,$A$3:$U$3,$A$4:$U$4) -> 8 | DY11: =LOOKUP(EO11,$A$3:$U$3,$A$4:$U$4) -> 9 | DZ11: =LOOKUP(EP11,$A$3:$U$3,$A$4:$U$4) -> 10 | ... EG11: =LOOKUP(EW11,$A$3:$U$3,$A$4:$U$4) -> 20 | EI11: 1 | EJ11: 2 | EK11: 3 | EL11: 6 | EM11: 7 | EN11: 8 | EO11: 9 | EP11: 10 | EQ11: 11 | ER11: 12 | ES11: 14 | ET11: 15 | EU11: 18 | EV11: 19 | EW11: 20
A12: =LOOKUP(Q12,$A$3:$Y$3,$A$4:$Y$4) -> 1 | B12: =LOOKUP(R12,$A$3:$Y$3,$A$4:$Y$4) -> 2 | C12: =LOOKUP(S12,$A$3:$Y$3,$A$4:$Y$4) -> 3 | D12: =LOOKUP(T12,$A$3:$Y$3,$A$4:$Y$4) -> 4 | E12: =LOOKUP(U12,$A$3:$Y$3,$A$4:$Y$4) -> 5 | F12: =LOOKUP(V12,$A$3:$Y$3,$A$4:$Y$4) -> 6 | G12: =LOOKUP(W12,$A$3:$Y$3,$A$4:$Y$4) -> 8 | H12: =LOOKUP(X12,$A$3:$Y$3,$A$4:$Y$4) -> 10 | ... O12: =LOOKUP(AE12,$A$3:$Y$3,$A$4:$Y$4) -> 18 | Q12: 1 | R12: 2 | S12: 3 | T12: 4 | U12: 5 | V12: 6 | W12: 8 | X12: 10 | Y12: 11 | Z12: 12 | AA12: 13 | AB12: 15 | AC12: 16 | AD12: 17 | AE12: 18 | AG12: =LOOKUP(AW12,$AG$1:$BE$1,$AG$2:$BE$2) -> 1 | AH12: =LOOKUP(AX12,$AG$1:$BE$1,$AG$2:$BE$2) -> 2 | AI12: =LOOKUP(AY12,$AG$1:$BE$1,$AG$2:$BE$2) -> 3 | AJ12: =LOOKUP(AZ12,$AG$1:$BE$1,$AG$2:$BE$2) -> 4 | AK12: =LOOKUP(BA12,$AG$1:$BE$1,$AG$2:$BE$2) -> 6 | AL12: =LOOKUP(BB12,$AG$1:$BE$1,$AG$2:$BE$2) -> 8 | AM12: =LOOKUP(BC12,$AG$1:$BE$1,$AG$2:$BE$2) -> 10 | AN12: =LOOKUP(BD12,$AG$1:$BE$1,$AG$2:$BE$2) -> 11 | ... AU12: =LOOKUP(BK12,$AG$1:$BE$1,$AG$2:$BE$2) -> 25 | AW12: 1 | AX12: 2 | AY12: 3 | AZ12: 4 | BA12: 6 | BB12: 8 | BC12: 10 | BD12: 11 | BE12: 12 | BF12: 13 | BG12: 14 | BH12: 16 | BI12: 18 | BJ12: 20 | BK12: 21 | BM12: =LARGE($BM$11:$CK$11,BM7) -> 25 | BN12: =LARGE($BM$11:$CK$11,BN7) -> 24 | BO12: =LARGE($BM$11:$CK$11,BO7) -> 23 | BP12: =LARGE($BM$11:$CK$11,BP7) -> 22 | BQ12: =LARGE($BM$11:$CK$11,BQ7) -> 21 | BR12: =LARGE($BM$11:$CK$11,BR7) -> 20 | BS12: =LARGE($BM$11:$CK$11,BS7) -> 19 | BT12: =LARGE($BM$11:$CK$11,BT7) -> 18 | ... CK12: =LARGE($BM$11:$CK$11,CK7) -> 0 | CM12: =LOOKUP(DC12,$A$3:$U$3,$A$4:$U$4) -> 1 | CN12: =LOOKUP(DD12,$A$3:$U$3,$A$4:$U$4) -> 2 | CO12: =LOOKUP(DE12,$A$3:$U$3,$A$4:$U$4) -> 3 | CP12: =LOOKUP(DF12,$A$3:$U$3,$A$4:$U$4) -> 4 | CQ12: =LOOKUP(DG12,$A$3:$U$3,$A$4:$U$4) -> 5 | CR12: =LOOKUP(DH12,$A$3:$U$3,$A$4:$U$4) -> 6 | CS12: =LOOKUP(DI12,$A$3:$U$3,$A$4:$U$4) -> 7 | CT12: =LOOKUP(DJ12,$A$3:$U$3,$A$4:$U$4) -> 8 | ... DA12: =LOOKUP(DQ12,$A$3:$U$3,$A$4:$U$4) -> 21 | DC12: 1 | DD12: 2 | DE12: 3 | DF12: 4 | DG12: 5 | DH12: 6 | DI12: 7 | DJ12: 8 | DK12: 9 | DL12: 10 | DM12: 11 | DN12: 18 | DO12: 19 | DP12: 20 | DQ12: 21 | DS12: =LOOKUP(EI12,$A$3:$U$3,$A$4:$U$4) -> 1 | DT12: =LOOKUP(EJ12,$A$3:$U$3,$A$4:$U$4) -> 2 | DU12: =LOOKUP(EK12,$A$3:$U$3,$A$4:$U$4) -> 3 | DV12: =LOOKUP(EL12,$A$3:$U$3,$A$4:$U$4) -> 6 | DW12: =LOOKUP(EM12,$A$3:$U$3,$A$4:$U$4) -> 7 | DX12: =LOOKUP(EN12,$A$3:$U$3,$A$4:$U$4) -> 8 | DY12: =LOOKUP(EO12,$A$3:$U$3,$A$4:$U$4) -> 11 | DZ12: =LOOKUP(EP12,$A$3:$U$3,$A$4:$U$4) -> 12 | ... EG12: =LOOKUP(EW12,$A$3:$U$3,$A$4:$U$4) -> 21 | EI12: 1 | EJ12: 2 | EK12: 3 | EL12: 6 | EM12: 7 | EN12: 8 | EO12: 11 | EP12: 12 | EQ12: 13 | ER12: 15 | ES12: 16 | ET12: 17 | EU12: 18 | EV12: 19 | EW12: 21
A13: =LOOKUP(Q13,$A$3:$Y$3,$A$4:$Y$4) -> 1 | B13: =LOOKUP(R13,$A$3:$Y$3,$A$4:$Y$4) -> 2 | C13: =LOOKUP(S13,$A$3:$Y$3,$A$4:$Y$4) -> 3 | D13: =LOOKUP(T13,$A$3:$Y$3,$A$4:$Y$4) -> 4 | E13: =LOOKUP(U13,$A$3:$Y$3,$A$4:$Y$4) -> 5 | F13: =LOOKUP(V13,$A$3:$Y$3,$A$4:$Y$4) -> 6 | G13: =LOOKUP(W13,$A$3:$Y$3,$A$4:$Y$4) -> 8 | H13: =LOOKUP(X13,$A$3:$Y$3,$A$4:$Y$4) -> 10 | ... O13: =LOOKUP(AE13,$A$3:$Y$3,$A$4:$Y$4) -> 21 | Q13: 1 | R13: 2 | S13: 3 | T13: 4 | U13: 5 | V13: 6 | W13: 8 | X13: 10 | Y13: 11 | Z13: 12 | AA13: 14 | AB13: 16 | AC13: 18 | AD13: 19 | AE13: 21 | AG13: =LOOKUP(AW13,$AG$1:$BE$1,$AG$2:$BE$2) -> 1 | AH13: =LOOKUP(AX13,$AG$1:$BE$1,$AG$2:$BE$2) -> 2 | AI13: =LOOKUP(AY13,$AG$1:$BE$1,$AG$2:$BE$2) -> 3 | AJ13: =LOOKUP(AZ13,$AG$1:$BE$1,$AG$2:$BE$2) -> 4 | AK13: =LOOKUP(BA13,$AG$1:$BE$1,$AG$2:$BE$2) -> 6 | AL13: =LOOKUP(BB13,$AG$1:$BE$1,$AG$2:$BE$2) -> 9 | AM13: =LOOKUP(BC13,$AG$1:$BE$1,$AG$2:$BE$2) -> 10 | AN13: =LOOKUP(BD13,$AG$1:$BE$1,$AG$2:$BE$2) -> 11 | ... AU13: =LOOKUP(BK13,$AG$1:$BE$1,$AG$2:$BE$2) -> 25 | AW13: 1 | AX13: 2 | AY13: 3 | AZ13: 4 | BA13: 6 | BB13: 9 | BC13: 10 | BD13: 11 | BE13: 12 | BF13: 13 | BG13: 14 | BH13: 16 | BI13: 19 | BJ13: 20 | BK13: 21 | BM13: =SMALL($BM$12:$CJ$12,BM7) -> 2 | BN13: =SMALL($BM$12:$CJ$12,BN7) -> 3 | BO13: =SMALL($BM$12:$CJ$12,BO7) -> 4 | BP13: =SMALL($BM$12:$CJ$12,BP7) -> 5 | BQ13: =SMALL($BM$12:$CJ$12,BQ7) -> 6 | BR13: =SMALL($BM$12:$CJ$12,BR7) -> 7 | BS13: =SMALL($BM$12:$CJ$12,BS7) -> 8 | BT13: =SMALL($BM$12:$CJ$12,BT7) -> 9 | ... CJ13: =SMALL($BM$12:$CJ$12,CJ7) -> 25 | CM13: =LOOKUP(DC13,$A$3:$U$3,$A$4:$U$4) -> 1 | CN13: =LOOKUP(DD13,$A$3:$U$3,$A$4:$U$4) -> 2 | CO13: =LOOKUP(DE13,$A$3:$U$3,$A$4:$U$4) -> 3 | CP13: =LOOKUP(DF13,$A$3:$U$3,$A$4:$U$4) -> 4 | CQ13: =LOOKUP(DG13,$A$3:$U$3,$A$4:$U$4) -> 5 | CR13: =LOOKUP(DH13,$A$3:$U$3,$A$4:$U$4) -> 6 | CS13: =LOOKUP(DI13,$A$3:$U$3,$A$4:$U$4) -> 7 | CT13: =LOOKUP(DJ13,$A$3:$U$3,$A$4:$U$4) -> 8 | ... DA13: =LOOKUP(DQ13,$A$3:$U$3,$A$4:$U$4) -> 17 | DC13: 1 | DD13: 2 | DE13: 3 | DF13: 4 | DG13: 5 | DH13: 6 | DI13: 7 | DJ13: 8 | DK13: 9 | DL13: 12 | DM13: 13 | DN13: 14 | DO13: 15 | DP13: 16 | DQ13: 17 | DS13: =LOOKUP(EI13,$A$3:$U$3,$A$4:$U$4) -> 1 | DT13: =LOOKUP(EJ13,$A$3:$U$3,$A$4:$U$4) -> 2 | DU13: =LOOKUP(EK13,$A$3:$U$3,$A$4:$U$4) -> 3 | DV13: =LOOKUP(EL13,$A$3:$U$3,$A$4:$U$4) -> 6 | DW13: =LOOKUP(EM13,$A$3:$U$3,$A$4:$U$4) -> 8 | DX13: =LOOKUP(EN13,$A$3:$U$3,$A$4:$U$4) -> 9 | DY13: =LOOKUP(EO13,$A$3:$U$3,$A$4:$U$4) -> 10 | DZ13: =LOOKUP(EP13,$A$3:$U$3,$A$4:$U$4) -> 11 | ... EG13: =LOOKUP(EW13,$A$3:$U$3,$A$4:$U$4) -> 21 | EI13: 1 | EJ13: 2 | EK13: 3 | EL13: 6 | EM13: 8 | EN13: 9 | EO13: 10 | EP13: 11 | EQ13: 13 | ER13: 15 | ES13: 16 | ET13: 18 | EU13: 19 | EV13: 20 | EW13: 21
A14: =LOOKUP(Q14,$A$3:$Y$3,$A$4:$Y$4) -> 1 | B14: =LOOKUP(R14,$A$3:$Y$3,$A$4:$Y$4) -> 2 | C14: =LOOKUP(S14,$A$3:$Y$3,$A$4:$Y$4) -> 3 | D14: =LOOKUP(T14,$A$3:$Y$3,$A$4:$Y$4) -> 4 | E14: =LOOKUP(U14,$A$3:$Y$3,$A$4:$Y$4) -> 5 | F14: =LOOKUP(V14,$A$3:$Y$3,$A$4:$Y$4) -> 6 | G14: =LOOKUP(W14,$A$3:$Y$3,$A$4:$Y$4) -> 9 | H14: =LOOKUP(X14,$A$3:$Y$3,$A$4:$Y$4) -> 10 | ... O14: =LOOKUP(AE14,$A$3:$Y$3,$A$4:$Y$4) -> 21 | Q14: 1 | R14: 2 | S14: 3 | T14: 4 | U14: 5 | V14: 6 | W14: 9 | X14: 10 | Y14: 14 | Z14: 15 | AA14: 16 | AB14: 17 | AC14: 18 | AD14: 20 | AE14: 21 | AG14: =LOOKUP(AW14,$AG$1:$BE$1,$AG$2:$BE$2) -> 1 | AH14: =LOOKUP(AX14,$AG$1:$BE$1,$AG$2:$BE$2) -> 2 | AI14: =LOOKUP(AY14,$AG$1:$BE$1,$AG$2:$BE$2) -> 3 | AJ14: =LOOKUP(AZ14,$AG$1:$BE$1,$AG$2:$BE$2) -> 4 | AK14: =LOOKUP(BA14,$AG$1:$BE$1,$AG$2:$BE$2) -> 7 | AL14: =LOOKUP(BB14,$AG$1:$BE$1,$AG$2:$BE$2) -> 8 | AM14: =LOOKUP(BC14,$AG$1:$BE$1,$AG$2:$BE$2) -> 10 | AN14: =LOOKUP(BD14,$AG$1:$BE$1,$AG$2:$BE$2) -> 11 | ... AU14: =LOOKUP(BK14,$AG$1:$BE$1,$AG$2:$BE$2) -> 25 | AW14: 1 | AX14: 2 | AY14: 3 | AZ14: 4 | BA14: 7 | BB14: 8 | BC14: 10 | BD14: 11 | BE14: 12 | BF14: 13 | BG14: 14 | BH14: 17 | BI14: 18 | BJ14: 20 | BK14: 21 | BM14: =BB2 -> 17 | BN14: =BC2 -> 18 | BO14: =BD2 -> 19 | BP14: =BE2 -> 20 | CM14: =LOOKUP(DC14,$A$3:$U$3,$A$4:$U$4) -> 1 | CN14: =LOOKUP(DD14,$A$3:$U$3,$A$4:$U$4) -> 2 | CO14: =LOOKUP(DE14,$A$3:$U$3,$A$4:$U$4) -> 3 | CP14: =LOOKUP(DF14,$A$3:$U$3,$A$4:$U$4) -> 4 | CQ14: =LOOKUP(DG14,$A$3:$U$3,$A$4:$U$4) -> 5 | CR14: =LOOKUP(DH14,$A$3:$U$3,$A$4:$U$4) -> 6 | CS14: =LOOKUP(DI14,$A$3:$U$3,$A$4:$U$4) -> 7 | CT14: =LOOKUP(DJ14,$A$3:$U$3,$A$4:$U$4) -> 8 | ... DA14: =LOOKUP(DQ14,$A$3:$U$3,$A$4:$U$4) -> 19 | DC14: 1 | DD14: 2 | DE14: 3 | DF14: 4 | DG14: 5 | DH14: 6 | DI14: 7 | DJ14: 8 | DK14: 9 | DL14: 12 | DM14: 13 | DN14: 14 | DO14: 15 | DP14: 18 | DQ14: 19 | DS14: =LOOKUP(EI14,$A$3:$U$3,$A$4:$U$4) -> 1 | DT14: =LOOKUP(EJ14,$A$3:$U$3,$A$4:$U$4) -> 2 | DU14: =LOOKUP(EK14,$A$3:$U$3,$A$4:$U$4) -> 3 | DV14: =LOOKUP(EL14,$A$3:$U$3,$A$4:$U$4) -> 4 | DW14: =LOOKUP(EM14,$A$3:$U$3,$A$4:$U$4) -> 7 | DX14: =LOOKUP(EN14,$A$3:$U$3,$A$4:$U$4) -> 8 | DY14: =LOOKUP(EO14,$A$3:$U$3,$A$4:$U$4) -> 10 | DZ14: =LOOKUP(EP14,$A$3:$U$3,$A$4:$U$4) -> 13 | ... EG14: =LOOKUP(EW14,$A$3:$U$3,$A$4:$U$4) -> 20 | EI14: 1 | EJ14: 2 | EK14: 3 | EL14: 4 | EM14: 7 | EN14: 8 | EO14: 10 | EP14: 13 | EQ14: 14 | ER14: 15 | ES14: 16 | ET14: 17 | EU14: 18 | EV14: 19 | EW14: 20
A15: =LOOKUP(Q15,$A$3:$Y$3,$A$4:$Y$4) -> 1 | B15: =LOOKUP(R15,$A$3:$Y$3,$A$4:$Y$4) -> 2 | C15: =LOOKUP(S15,$A$3:$Y$3,$A$4:$Y$4) -> 3 | D15: =LOOKUP(T15,$A$3:$Y$3,$A$4:$Y$4) -> 4 | E15: =LOOKUP(U15,$A$3:$Y$3,$A$4:$Y$4) -> 5 | F15: =LOOKUP(V15,$A$3:$Y$3,$A$4:$Y$4) -> 7 | G15: =LOOKUP(W15,$A$3:$Y$3,$A$4:$Y$4) -> 9 | H15: =LOOKUP(X15,$A$3:$Y$3,$A$4:$Y$4) -> 11 | ... O15: =LOOKUP(AE15,$A$3:$Y$3,$A$4:$Y$4) -> 21 | Q15: 1 | R15: 2 | S15: 3 | T15: 4 | U15: 5 | V15: 7 | W15: 9 | X15: 11 | Y15: 12 | Z15: 13 | AA15: 14 | AB15: 15 | AC15: 17 | AD15: 18 | AE15: 21 | AG15: =LOOKUP(AW15,$AG$1:$BE$1,$AG$2:$BE$2) -> 1 | AH15: =LOOKUP(AX15,$AG$1:$BE$1,$AG$2:$BE$2) -> 2 | AI15: =LOOKUP(AY15,$AG$1:$BE$1,$AG$2:$BE$2) -> 3 | AJ15: =LOOKUP(AZ15,$AG$1:$BE$1,$AG$2:$BE$2) -> 4 | AK15: =LOOKUP(BA15,$AG$1:$BE$1,$AG$2:$BE$2) -> 7 | AL15: =LOOKUP(BB15,$AG$1:$BE$1,$AG$2:$BE$2) -> 9 | AM15: =LOOKUP(BC15,$AG$1:$BE$1,$AG$2:$BE$2) -> 10 | AN15: =LOOKUP(BD15,$AG$1:$BE$1,$AG$2:$BE$2) -> 11 | ... AU15: =LOOKUP(BK15,$AG$1:$BE$1,$AG$2:$BE$2) -> 25 | AW15: 1 | AX15: 2 | AY15: 3 | AZ15: 4 | BA15: 7 | BB15: 9 | BC15: 10 | BD15: 11 | BE15: 12 | BF15: 13 | BG15: 14 | BH15: 17 | BI15: 19 | BJ15: 20 | BK15: 21 | BM15: =COUNTIF($BM$13:$CK$14,BM13) -> 1 | BN15: =COUNTIF($BM$13:$CK$14,BN13) -> 1 | BO15: =COUNTIF($BM$13:$CK$14,BO13) -> 1 | BP15: =COUNTIF($BM$13:$CK$14,BP13) -> 1 | BQ15: =COUNTIF($BM$13:$CK$14,BQ13) -> 1 | BR15: =COUNTIF($BM$13:$CK$14,BR13) -> 1 | BS15: =COUNTIF($BM$13:$CK$14,BS13) -> 1 | BT15: =COUNTIF($BM$13:$CK$14,BT13) -> 1 | ... CJ15: =COUNTIF($BM$13:$CK$14,CJ13) -> 1 | CM15: =LOOKUP(DC15,$A$3:$U$3,$A$4:$U$4) -> 1 | CN15: =LOOKUP(DD15,$A$3:$U$3,$A$4:$U$4) -> 2 | CO15: =LOOKUP(DE15,$A$3:$U$3,$A$4:$U$4) -> 3 | CP15: =LOOKUP(DF15,$A$3:$U$3,$A$4:$U$4) -> 4 | CQ15: =LOOKUP(DG15,$A$3:$U$3,$A$4:$U$4) -> 5 | CR15: =LOOKUP(DH15,$A$3:$U$3,$A$4:$U$4) -> 6 | CS15: =LOOKUP(DI15,$A$3:$U$3,$A$4:$U$4) -> 7 | CT15: =LOOKUP(DJ15,$A$3:$U$3,$A$4:$U$4) -> 8 | ... DA15: =LOOKUP(DQ15,$A$3:$U$3,$A$4:$U$4) -> 21 | DC15: 1 | DD15: 2 | DE15: 3 | DF15: 4 | DG15: 5 | DH15: 6 | DI15: 7 | DJ15: 8 | DK15: 9 | DL15: 12 | DM15: 13 | DN15: 14 | DO15: 15 | DP15: 20 | DQ15: 21 | DS15: =LOOKUP(EI15,$A$3:$U$3,$A$4:$U$4) -> 1 | DT15: =LOOKUP(EJ15,$A$3:$U$3,$A$4:$U$4) -> 2 | DU15: =LOOKUP(EK15,$A$3:$U$3,$A$4:$U$4) -> 4 | DV15: =LOOKUP(EL15,$A$3:$U$3,$A$4:$U$4) -> 5 | DW15: =LOOKUP(EM15,$A$3:$U$3,$A$4:$U$4) -> 6 | DX15: =LOOKUP(EN15,$A$3:$U$3,$A$4:$U$4) -> 7 | DY15: =LOOKUP(EO15,$A$3:$U$3,$A$4:$U$4) -> 8 | DZ15: =LOOKUP(EP15,$A$3:$U$3,$A$4:$U$4) -> 9 | ... EG15: =LOOKUP(EW15,$A$3:$U$3,$A$4:$U$4) -> 20 | EI15: 1 | EJ15: 2 | EK15: 4 | EL15: 5 | EM15: 6 | EN15: 7 | EO15: 8 | EP15: 9 | EQ15: 10 | ER15: 13 | ES15: 14 | ET15: 15 | EU15: 17 | EV15: 19 | EW15: 20
A16: =LOOKUP(Q16,$A$3:$Y$3,$A$4:$Y$4) -> 1 | B16: =LOOKUP(R16,$A$3:$Y$3,$A$4:$Y$4) -> 2 | C16: =LOOKUP(S16,$A$3:$Y$3,$A$4:$Y$4) -> 3 | D16: =LOOKUP(T16,$A$3:$Y$3,$A$4:$Y$4) -> 4 | E16: =LOOKUP(U16,$A$3:$Y$3,$A$4:$Y$4) -> 5 | F16: =LOOKUP(V16,$A$3:$Y$3,$A$4:$Y$4) -> 7 | G16: =LOOKUP(W16,$A$3:$Y$3,$A$4:$Y$4) -> 9 | H16: =LOOKUP(X16,$A$3:$Y$3,$A$4:$Y$4) -> 11 | ... O16: =LOOKUP(AE16,$A$3:$Y$3,$A$4:$Y$4) -> 20 | Q16: 1 | R16: 2 | S16: 3 | T16: 4 | U16: 5 | V16: 7 | W16: 9 | X16: 11 | Y16: 12 | Z16: 14 | AA16: 15 | AB16: 16 | AC16: 18 | AD16: 19 | AE16: 20 | AG16: =LOOKUP(AW16,$AG$1:$BE$1,$AG$2:$BE$2) -> 1 | AH16: =LOOKUP(AX16,$AG$1:$BE$1,$AG$2:$BE$2) -> 2 | AI16: =LOOKUP(AY16,$AG$1:$BE$1,$AG$2:$BE$2) -> 3 | AJ16: =LOOKUP(AZ16,$AG$1:$BE$1,$AG$2:$BE$2) -> 4 | AK16: =LOOKUP(BA16,$AG$1:$BE$1,$AG$2:$BE$2) -> 8 | AL16: =LOOKUP(BB16,$AG$1:$BE$1,$AG$2:$BE$2) -> 9 | AM16: =LOOKUP(BC16,$AG$1:$BE$1,$AG$2:$BE$2) -> 10 | AN16: =LOOKUP(BD16,$AG$1:$BE$1,$AG$2:$BE$2) -> 11 | ... AU16: =LOOKUP(BK16,$AG$1:$BE$1,$AG$2:$BE$2) -> 25 | AW16: 1 | AX16: 2 | AY16: 3 | AZ16: 4 | BA16: 8 | BB16: 9 | BC16: 10 | BD16: 11 | BE16: 12 | BF16: 13 | BG16: 14 | BH16: 18 | BI16: 19 | BJ16: 20 | BK16: 21 | BM16: =IF(BM15=1,BM13,0) -> 2 | BN16: =IF(BN15=1,BN13,0) -> 3 | BO16: =IF(BO15=1,BO13,0) -> 4 | BP16: =IF(BP15=1,BP13,0) -> 5 | BQ16: =IF(BQ15=1,BQ13,0) -> 6 | BR16: =IF(BR15=1,BR13,0) -> 7 | BS16: =IF(BS15=1,BS13,0) -> 8 | BT16: =IF(BT15=1,BT13,0) -> 9 | ... CK16: =IF(CK15=1,CK13,0) -> 0 | CM16: =LOOKUP(DC16,$A$3:$U$3,$A$4:$U$4) -> 1 | CN16: =LOOKUP(DD16,$A$3:$U$3,$A$4:$U$4) -> 2 | CO16: =LOOKUP(DE16,$A$3:$U$3,$A$4:$U$4) -> 3 | CP16: =LOOKUP(DF16,$A$3:$U$3,$A$4:$U$4) -> 4 | CQ16: =LOOKUP(DG16,$A$3:$U$3,$A$4:$U$4) -> 5 | CR16: =LOOKUP(DH16,$A$3:$U$3,$A$4:$U$4) -> 6 | CS16: =LOOKUP(DI16,$A$3:$U$3,$A$4:$U$4) -> 7 | CT16: =LOOKUP(DJ16,$A$3:$U$3,$A$4:$U$4) -> 8 | ... DA16: =LOOKUP(DQ16,$A$3:$U$3,$A$4:$U$4) -> 19 | DC16: 1 | DD16: 2 | DE16: 3 | DF16: 4 | DG16: 5 | DH16: 6 | DI16: 7 | DJ16: 8 | DK16: 9 | DL16: 12 | DM16: 13 | DN16: 16 | DO16: 17 | DP16: 18 | DQ16: 19 | DS16: =LOOKUP(EI16,$A$3:$U$3,$A$4:$U$4) -> 1 | DT16: =LOOKUP(EJ16,$A$3:$U$3,$A$4:$U$4) -> 2 | DU16: =LOOKUP(EK16,$A$3:$U$3,$A$4:$U$4) -> 3 | DV16: =LOOKUP(EL16,$A$3:$U$3,$A$4:$U$4) -> 4 | DW16: =LOOKUP(EM16,$A$3:$U$3,$A$4:$U$4) -> 7 | DX16: =LOOKUP(EN16,$A$3:$U$3,$A$4:$U$4) -> 8 | DY16: =LOOKUP(EO16,$A$3:$U$3,$A$4:$U$4) -> 9 | DZ16: =LOOKUP(EP16,$A$3:$U$3,$A$4:$U$4) -> 11 | ... EG16: =LOOKUP(EW16,$A$3:$U$3,$A$4:$U$4) -> 21 | EI16: 1 | EJ16: 2 | EK16: 3 | EL16: 4 | EM16: 7 | EN16: 8 | EO16: 9 | EP16: 11 | EQ16: 12 | ER16: 14 | ES16: 17 | ET16: 18 | EU16: 19 | EV16: 20 | EW16: 21
A17: =LOOKUP(Q17,$A$3:$Y$3,$A$4:$Y$4) -> 1 | B17: =LOOKUP(R17,$A$3:$Y$3,$A$4:$Y$4) -> 2 | C17: =LOOKUP(S17,$A$3:$Y$3,$A$4:$Y$4) -> 3 | D17: =LOOKUP(T17,$A$3:$Y$3,$A$4:$Y$4) -> 4 | E17: =LOOKUP(U17,$A$3:$Y$3,$A$4:$Y$4) -> 5 | F17: =LOOKUP(V17,$A$3:$Y$3,$A$4:$Y$4) -> 8 | G17: =LOOKUP(W17,$A$3:$Y$3,$A$4:$Y$4) -> 9 | H17: =LOOKUP(X17,$A$3:$Y$3,$A$4:$Y$4) -> 10 | ... O17: =LOOKUP(AE17,$A$3:$Y$3,$A$4:$Y$4) -> 20 | Q17: 1 | R17: 2 | S17: 3 | T17: 4 | U17: 5 | V17: 8 | W17: 9 | X17: 10 | Y17: 11 | Z17: 12 | AA17: 13 | AB17: 14 | AC17: 16 | AD17: 17 | AE17: 20 | AG17: =LOOKUP(AW17,$AG$1:$BE$1,$AG$2:$BE$2) -> 1 | AH17: =LOOKUP(AX17,$AG$1:$BE$1,$AG$2:$BE$2) -> 2 | AI17: =LOOKUP(AY17,$AG$1:$BE$1,$AG$2:$BE$2) -> 3 | AJ17: =LOOKUP(AZ17,$AG$1:$BE$1,$AG$2:$BE$2) -> 5 | AK17: =LOOKUP(BA17,$AG$1:$BE$1,$AG$2:$BE$2) -> 6 | AL17: =LOOKUP(BB17,$AG$1:$BE$1,$AG$2:$BE$2) -> 7 | AM17: =LOOKUP(BC17,$AG$1:$BE$1,$AG$2:$BE$2) -> 8 | AN17: =LOOKUP(BD17,$AG$1:$BE$1,$AG$2:$BE$2) -> 9 | ... AU17: =LOOKUP(BK17,$AG$1:$BE$1,$AG$2:$BE$2) -> 23 | AW17: 1 | AX17: 2 | AY17: 3 | AZ17: 5 | BA17: 6 | BB17: 7 | BC17: 8 | BD17: 9 | BE17: 12 | BF17: 13 | BG17: 15 | BH17: 16 | BI17: 17 | BJ17: 18 | BK17: 19 | BM17: =LARGE($BM$16:$CK$16,BM7) -> 25 | BN17: =LARGE($BM$16:$CK$16,BN7) -> 24 | BO17: =LARGE($BM$16:$CK$16,BO7) -> 23 | BP17: =LARGE($BM$16:$CK$16,BP7) -> 22 | BQ17: =LARGE($BM$16:$CK$16,BQ7) -> 21 | BR17: =LARGE($BM$16:$CK$16,BR7) -> 16 | BS17: =LARGE($BM$16:$CK$16,BS7) -> 15 | BT17: =LARGE($BM$16:$CK$16,BT7) -> 14 | ... CH17: =LARGE($BM$16:$CK$16,CH7) -> 0 | CM17: =LOOKUP(DC17,$A$3:$U$3,$A$4:$U$4) -> 1 | CN17: =LOOKUP(DD17,$A$3:$U$3,$A$4:$U$4) -> 2 | CO17: =LOOKUP(DE17,$A$3:$U$3,$A$4:$U$4) -> 3 | CP17: =LOOKUP(DF17,$A$3:$U$3,$A$4:$U$4) -> 4 | CQ17: =LOOKUP(DG17,$A$3:$U$3,$A$4:$U$4) -> 5 | CR17: =LOOKUP(DH17,$A$3:$U$3,$A$4:$U$4) -> 6 | CS17: =LOOKUP(DI17,$A$3:$U$3,$A$4:$U$4) -> 7 | CT17: =LOOKUP(DJ17,$A$3:$U$3,$A$4:$U$4) -> 8 | ... DA17: =LOOKUP(DQ17,$A$3:$U$3,$A$4:$U$4) -> 21 | DC17: 1 | DD17: 2 | DE17: 3 | DF17: 4 | DG17: 5 | DH17: 6 | DI17: 7 | DJ17: 8 | DK17: 9 | DL17: 12 | DM17: 13 | DN17: 16 | DO17: 17 | DP17: 20 | DQ17: 21 | DS17: =LOOKUP(EI17,$A$3:$U$3,$A$4:$U$4) -> 1 | DT17: =LOOKUP(EJ17,$A$3:$U$3,$A$4:$U$4) -> 2 | DU17: =LOOKUP(EK17,$A$3:$U$3,$A$4:$U$4) -> 4 | DV17: =LOOKUP(EL17,$A$3:$U$3,$A$4:$U$4) -> 5 | DW17: =LOOKUP(EM17,$A$3:$U$3,$A$4:$U$4) -> 6 | DX17: =LOOKUP(EN17,$A$3:$U$3,$A$4:$U$4) -> 7 | DY17: =LOOKUP(EO17,$A$3:$U$3,$A$4:$U$4) -> 9 | DZ17: =LOOKUP(EP17,$A$3:$U$3,$A$4:$U$4) -> 10 | ... EG17: =LOOKUP(EW17,$A$3:$U$3,$A$4:$U$4) -> 19 | EI17: 1 | EJ17: 2 | EK17: 4 | EL17: 5 | EM17: 6 | EN17: 7 | EO17: 9 | EP17: 10 | EQ17: 11 | ER17: 13 | ES17: 14 | ET17: 15 | EU17: 16 | EV17: 18 | EW17: 19
A18: =LOOKUP(Q18,$A$3:$Y$3,$A$4:$Y$4) -> 1 | B18: =LOOKUP(R18,$A$3:$Y$3,$A$4:$Y$4) -> 2 | C18: =LOOKUP(S18,$A$3:$Y$3,$A$4:$Y$4) -> 3 | D18: =LOOKUP(T18,$A$3:$Y$3,$A$4:$Y$4) -> 4 | E18: =LOOKUP(U18,$A$3:$Y$3,$A$4:$Y$4) -> 5 | F18: =LOOKUP(V18,$A$3:$Y$3,$A$4:$Y$4) -> 8 | G18: =LOOKUP(W18,$A$3:$Y$3,$A$4:$Y$4) -> 10 | H18: =LOOKUP(X18,$A$3:$Y$3,$A$4:$Y$4) -> 12 | ... O18: =LOOKUP(AE18,$A$3:$Y$3,$A$4:$Y$4) -> 21 | Q18: 1 | R18: 2 | S18: 3 | T18: 4 | U18: 5 | V18: 8 | W18: 10 | X18: 12 | Y18: 13 | Z18: 14 | AA18: 15 | AB18: 16 | AC18: 19 | AD18: 20 | AE18: 21 | AG18: =LOOKUP(AW18,$AG$1:$BE$1,$AG$2:$BE$2) -> 1 | AH18: =LOOKUP(AX18,$AG$1:$BE$1,$AG$2:$BE$2) -> 2 | AI18: =LOOKUP(AY18,$AG$1:$BE$1,$AG$2:$BE$2) -> 4 | AJ18: =LOOKUP(AZ18,$AG$1:$BE$1,$AG$2:$BE$2) -> 5 | AK18: =LOOKUP(BA18,$AG$1:$BE$1,$AG$2:$BE$2) -> 6 | AL18: =LOOKUP(BB18,$AG$1:$BE$1,$AG$2:$BE$2) -> 7 | AM18: =LOOKUP(BC18,$AG$1:$BE$1,$AG$2:$BE$2) -> 8 | AN18: =LOOKUP(BD18,$AG$1:$BE$1,$AG$2:$BE$2) -> 9 | ... AU18: =LOOKUP(BK18,$AG$1:$BE$1,$AG$2:$BE$2) -> 23 | AW18: 1 | AX18: 2 | AY18: 4 | AZ18: 5 | BA18: 6 | BB18: 7 | BC18: 8 | BD18: 9 | BE18: 12 | BF18: 14 | BG18: 15 | BH18: 16 | BI18: 17 | BJ18: 18 | BK18: 19 | BM18: =SMALL($BM$17:$CF$17,BM7) -> 2 | BN18: =SMALL($BM$17:$CF$17,BN7) -> 3 | BO18: =SMALL($BM$17:$CF$17,BO7) -> 4 | BP18: =SMALL($BM$17:$CF$17,BP7) -> 5 | BQ18: =SMALL($BM$17:$CF$17,BQ7) -> 6 | BR18: =SMALL($BM$17:$CF$17,BR7) -> 7 | BS18: =SMALL($BM$17:$CF$17,BS7) -> 8 | BT18: =SMALL($BM$17:$CF$17,BT7) -> 9 | ... CF18: =SMALL($BM$17:$CF$17,CF7) -> 25 | CM18: =LOOKUP(DC18,$A$3:$U$3,$A$4:$U$4) -> 1 | CN18: =LOOKUP(DD18,$A$3:$U$3,$A$4:$U$4) -> 2 | CO18: =LOOKUP(DE18,$A$3:$U$3,$A$4:$U$4) -> 3 | CP18: =LOOKUP(DF18,$A$3:$U$3,$A$4:$U$4) -> 4 | CQ18: =LOOKUP(DG18,$A$3:$U$3,$A$4:$U$4) -> 5 | CR18: =LOOKUP(DH18,$A$3:$U$3,$A$4:$U$4) -> 6 | CS18: =LOOKUP(DI18,$A$3:$U$3,$A$4:$U$4) -> 7 | CT18: =LOOKUP(DJ18,$A$3:$U$3,$A$4:$U$4) -> 8 | ... DA18: =LOOKUP(DQ18,$A$3:$U$3,$A$4:$U$4) -> 21 | DC18: 1 | DD18: 2 | DE18: 3 | DF18: 4 | DG18: 5 | DH18: 6 | DI18: 7 | DJ18: 8 | DK18: 9 | DL18: 12 | DM18: 13 | DN18: 18 | DO18: 19 | DP18: 20 | DQ18: 21 | DS18: =LOOKUP(EI18,$A$3:$U$3,$A$4:$U$4) -> 1 | DT18: =LOOKUP(EJ18,$A$3:$U$3,$A$4:$U$4) -> 2 | DU18: =LOOKUP(EK18,$A$3:$U$3,$A$4:$U$4) -> 4 | DV18: =LOOKUP(EL18,$A$3:$U$3,$A$4:$U$4) -> 5 | DW18: =LOOKUP(EM18,$A$3:$U$3,$A$4:$U$4) -> 6 | DX18: =LOOKUP(EN18,$A$3:$U$3,$A$4:$U$4) -> 8 | DY18: =LOOKUP(EO18,$A$3:$U$3,$A$4:$U$4) -> 9 | DZ18: =LOOKUP(EP18,$A$3:$U$3,$A$4:$U$4) -> 10 | ... EG18: =LOOKUP(EW18,$A$3:$U$3,$A$4:$U$4) -> 20 | EI18: 1 | EJ18: 2 | EK18: 4 | EL18: 5 | EM18: 6 | EN18: 8 | EO18: 9 | EP18: 10 | EQ18: 11 | ER18: 12 | ES18: 13 | ET18: 14 | EU18: 17 | EV18: 18 | EW18: 20
A19: =LOOKUP(Q19,$A$3:$Y$3,$A$4:$Y$4) -> 1 | B19: =LOOKUP(R19,$A$3:$Y$3,$A$4:$Y$4) -> 2 | C19: =LOOKUP(S19,$A$3:$Y$3,$A$4:$Y$4) -> 3 | D19: =LOOKUP(T19,$A$3:$Y$3,$A$4:$Y$4) -> 4 | E19: =LOOKUP(U19,$A$3:$Y$3,$A$4:$Y$4) -> 6 | F19: =LOOKUP(V19,$A$3:$Y$3,$A$4:$Y$4) -> 7 | G19: =LOOKUP(W19,$A$3:$Y$3,$A$4:$Y$4) -> 8 | H19: =LOOKUP(X19,$A$3:$Y$3,$A$4:$Y$4) -> 10 | ... O19: =LOOKUP(AE19,$A$3:$Y$3,$A$4:$Y$4) -> 20 | Q19: 1 | R19: 2 | S19: 3 | T19: 4 | U19: 6 | V19: 7 | W19: 8 | X19: 10 | Y19: 13 | Z19: 14 | AA19: 15 | AB19: 16 | AC19: 17 | AD19: 19 | AE19: 20 | AG19: =LOOKUP(AW19,$AG$1:$BE$1,$AG$2:$BE$2) -> 1 | AH19: =LOOKUP(AX19,$AG$1:$BE$1,$AG$2:$BE$2) -> 2 | AI19: =LOOKUP(AY19,$AG$1:$BE$1,$AG$2:$BE$2) -> 5 | AJ19: =LOOKUP(AZ19,$AG$1:$BE$1,$AG$2:$BE$2) -> 6 | AK19: =LOOKUP(BA19,$AG$1:$BE$1,$AG$2:$BE$2) -> 7 | AL19: =LOOKUP(BB19,$AG$1:$BE$1,$AG$2:$BE$2) -> 8 | AM19: =LOOKUP(BC19,$AG$1:$BE$1,$AG$2:$BE$2) -> 9 | AN19: =LOOKUP(BD19,$AG$1:$BE$1,$AG$2:$BE$2) -> 10 | ... AU19: =LOOKUP(BK19,$AG$1:$BE$1,$AG$2:$BE$2) -> 24 | AW19: 1 | AX19: 2 | AY19: 5 | AZ19: 6 | BA19: 7 | BB19: 8 | BC19: 9 | BD19: 10 | BE19: 12 | BF19: 15 | BG19: 16 | BH19: 17 | BI19: 18 | BJ19: 19 | BK19: 20 | CM19: =LOOKUP(DC19,$A$3:$U$3,$A$4:$U$4) -> 1 | CN19: =LOOKUP(DD19,$A$3:$U$3,$A$4:$U$4) -> 2 | CO19: =LOOKUP(DE19,$A$3:$U$3,$A$4:$U$4) -> 3 | CP19: =LOOKUP(DF19,$A$3:$U$3,$A$4:$U$4) -> 4 | CQ19: =LOOKUP(DG19,$A$3:$U$3,$A$4:$U$4) -> 5 | CR19: =LOOKUP(DH19,$A$3:$U$3,$A$4:$U$4) -> 6 | CS19: =LOOKUP(DI19,$A$3:$U$3,$A$4:$U$4) -> 7 | CT19: =LOOKUP(DJ19,$A$3:$U$3,$A$4:$U$4) -> 8 | ... DA19: =LOOKUP(DQ19,$A$3:$U$3,$A$4:$U$4) -> 19 | DC19: 1 | DD19: 2 | DE19: 3 | DF19: 4 | DG19: 5 | DH19: 6 | DI19: 7 | DJ19: 8 | DK19: 9 | DL19: 14 | DM19: 15 | DN19: 16 | DO19: 17 | DP19: 18 | DQ19: 19 | DS19: =LOOKUP(EI19,$A$3:$U$3,$A$4:$U$4) -> 1 | DT19: =LOOKUP(EJ19,$A$3:$U$3,$A$4:$U$4) -> 2 | DU19: =LOOKUP(EK19,$A$3:$U$3,$A$4:$U$4) -> 4 | DV19: =LOOKUP(EL19,$A$3:$U$3,$A$4:$U$4) -> 5 | DW19: =LOOKUP(EM19,$A$3:$U$3,$A$4:$U$4) -> 6 | DX19: =LOOKUP(EN19,$A$3:$U$3,$A$4:$U$4) -> 8 | DY19: =LOOKUP(EO19,$A$3:$U$3,$A$4:$U$4) -> 10 | DZ19: =LOOKUP(EP19,$A$3:$U$3,$A$4:$U$4) -> 11 | ... EG19: =LOOKUP(EW19,$A$3:$U$3,$A$4:$U$4) -> 19 | EI19: 1 | EJ19: 2 | EK19: 4 | EL19: 5 | EM19: 6 | EN19: 8 | EO19: 10 | EP19: 11 | EQ19: 12 | ER19: 14 | ES19: 15 | ET19: 16 | EU19: 17 | EV19: 18 | EW19: 19
A20: =LOOKUP(Q20,$A$3:$Y$3,$A$4:$Y$4) -> 1 | B20: =LOOKUP(R20,$A$3:$Y$3,$A$4:$Y$4) -> 2 | C20: =LOOKUP(S20,$A$3:$Y$3,$A$4:$Y$4) -> 3 | D20: =LOOKUP(T20,$A$3:$Y$3,$A$4:$Y$4) -> 4 | E20: =LOOKUP(U20,$A$3:$Y$3,$A$4:$Y$4) -> 6 | F20: =LOOKUP(V20,$A$3:$Y$3,$A$4:$Y$4) -> 8 | G20: =LOOKUP(W20,$A$3:$Y$3,$A$4:$Y$4) -> 9 | H20: =LOOKUP(X20,$A$3:$Y$3,$A$4:$Y$4) -> 10 | ... O20: =LOOKUP(AE20,$A$3:$Y$3,$A$4:$Y$4) -> 20 | Q20: 1 | R20: 2 | S20: 3 | T20: 4 | U20: 6 | V20: 8 | W20: 9 | X20: 10 | Y20: 11 | Z20: 12 | AA20: 13 | AB20: 14 | AC20: 18 | AD20: 19 | AE20: 20 | AG20: =LOOKUP(AW20,$AG$1:$BE$1,$AG$2:$BE$2) -> 1 | AH20: =LOOKUP(AX20,$AG$1:$BE$1,$AG$2:$BE$2) -> 2 | AI20: =LOOKUP(AY20,$AG$1:$BE$1,$AG$2:$BE$2) -> 5 | AJ20: =LOOKUP(AZ20,$AG$1:$BE$1,$AG$2:$BE$2) -> 6 | AK20: =LOOKUP(BA20,$AG$1:$BE$1,$AG$2:$BE$2) -> 7 | AL20: =LOOKUP(BB20,$AG$1:$BE$1,$AG$2:$BE$2) -> 8 | AM20: =LOOKUP(BC20,$AG$1:$BE$1,$AG$2:$BE$2) -> 9 | AN20: =LOOKUP(BD20,$AG$1:$BE$1,$AG$2:$BE$2) -> 11 | ... AU20: =LOOKUP(BK20,$AG$1:$BE$1,$AG$2:$BE$2) -> 25 | AW20: 1 | AX20: 2 | AY20: 5 | AZ20: 6 | BA20: 7 | BB20: 8 | BC20: 9 | BD20: 11 | BE20: 12 | BF20: 15 | BG20: 16 | BH20: 17 | BI20: 18 | BJ20: 19 | BK20: 21 | CM20: =LOOKUP(DC20,$A$3:$U$3,$A$4:$U$4) -> 1 | CN20: =LOOKUP(DD20,$A$3:$U$3,$A$4:$U$4) -> 2 | CO20: =LOOKUP(DE20,$A$3:$U$3,$A$4:$U$4) -> 3 | CP20: =LOOKUP(DF20,$A$3:$U$3,$A$4:$U$4) -> 4 | CQ20: =LOOKUP(DG20,$A$3:$U$3,$A$4:$U$4) -> 5 | CR20: =LOOKUP(DH20,$A$3:$U$3,$A$4:$U$4) -> 6 | CS20: =LOOKUP(DI20,$A$3:$U$3,$A$4:$U$4) -> 7 | CT20: =LOOKUP(DJ20,$A$3:$U$3,$A$4:$U$4) -> 8 | ... DA20: =LOOKUP(DQ20,$A$3:$U$3,$A$4:$U$4) -> 21 | DC20: 1 | DD20: 2 | DE20: 3 | DF20: 4 | DG20: 5 | DH20: 6 | DI20: 7 | DJ20: 8 | DK20: 9 | DL20: 14 | DM20: 15 | DN20: 16 | DO20: 17 | DP20: 20 | DQ20: 21 | DS20: =LOOKUP(EI20,$A$3:$U$3,$A$4:$U$4) -> 1 | DT20: =LOOKUP(EJ20,$A$3:$U$3,$A$4:$U$4) -> 2 | DU20: =LOOKUP(EK20,$A$3:$U$3,$A$4:$U$4) -> 4 | DV20: =LOOKUP(EL20,$A$3:$U$3,$A$4:$U$4) -> 5 | DW20: =LOOKUP(EM20,$A$3:$U$3,$A$4:$U$4) -> 7 | DX20: =LOOKUP(EN20,$A$3:$U$3,$A$4:$U$4) -> 8 | DY20: =LOOKUP(EO20,$A$3:$U$3,$A$4:$U$4) -> 10 | DZ20: =LOOKUP(EP20,$A$3:$U$3,$A$4:$U$4) -> 11 | ... EG20: =LOOKUP(EW20,$A$3:$U$3,$A$4:$U$4) -> 20 | EI20: 1 | EJ20: 2 | EK20: 4 | EL20: 5 | EM20: 7 | EN20: 8 | EO20: 10 | EP20: 11 | EQ20: 12 | ER20: 14 | ES20: 15 | ET20: 16 | EU20: 17 | EV20: 19 | EW20: 20
A21: =LOOKUP(Q21,$A$3:$Y$3,$A$4:$Y$4) -> 1 | B21: =LOOKUP(R21,$A$3:$Y$3,$A$4:$Y$4) -> 2 | C21: =LOOKUP(S21,$A$3:$Y$3,$A$4:$Y$4) -> 3 | D21: =LOOKUP(T21,$A$3:$Y$3,$A$4:$Y$4) -> 4 | E21: =LOOKUP(U21,$A$3:$Y$3,$A$4:$Y$4) -> 7 | F21: =LOOKUP(V21,$A$3:$Y$3,$A$4:$Y$4) -> 8 | G21: =LOOKUP(W21,$A$3:$Y$3,$A$4:$Y$4) -> 9 | H21: =LOOKUP(X21,$A$3:$Y$3,$A$4:$Y$4) -> 13 | ... O21: =LOOKUP(AE21,$A$3:$Y$3,$A$4:$Y$4) -> 21 | Q21: 1 | R21: 2 | S21: 3 | T21: 4 | U21: 7 | V21: 8 | W21: 9 | X21: 13 | Y21: 14 | Z21: 15 | AA21: 16 | AB21: 17 | AC21: 18 | AD21: 19 | AE21: 21 | AG21: =LOOKUP(AW21,$AG$1:$BE$1,$AG$2:$BE$2) -> 1 | AH21: =LOOKUP(AX21,$AG$1:$BE$1,$AG$2:$BE$2) -> 3 | AI21: =LOOKUP(AY21,$AG$1:$BE$1,$AG$2:$BE$2) -> 4 | AJ21: =LOOKUP(AZ21,$AG$1:$BE$1,$AG$2:$BE$2) -> 5 | AK21: =LOOKUP(BA21,$AG$1:$BE$1,$AG$2:$BE$2) -> 6 | AL21: =LOOKUP(BB21,$AG$1:$BE$1,$AG$2:$BE$2) -> 7 | AM21: =LOOKUP(BC21,$AG$1:$BE$1,$AG$2:$BE$2) -> 8 | AN21: =LOOKUP(BD21,$AG$1:$BE$1,$AG$2:$BE$2) -> 9 | ... AU21: =LOOKUP(BK21,$AG$1:$BE$1,$AG$2:$BE$2) -> 23 | AW21: 1 | AX21: 3 | AY21: 4 | AZ21: 5 | BA21: 6 | BB21: 7 | BC21: 8 | BD21: 9 | BE21: 13 | BF21: 14 | BG21: 15 | BH21: 16 | BI21: 17 | BJ21: 18 | BK21: 19 | CM21: =LOOKUP(DC21,$A$3:$U$3,$A$4:$U$4) -> 1 | CN21: =LOOKUP(DD21,$A$3:$U$3,$A$4:$U$4) -> 2 | CO21: =LOOKUP(DE21,$A$3:$U$3,$A$4:$U$4) -> 3 | CP21: =LOOKUP(DF21,$A$3:$U$3,$A$4:$U$4) -> 4 | CQ21: =LOOKUP(DG21,$A$3:$U$3,$A$4:$U$4) -> 5 | CR21: =LOOKUP(DH21,$A$3:$U$3,$A$4:$U$4) -> 6 | CS21: =LOOKUP(DI21,$A$3:$U$3,$A$4:$U$4) -> 7 | CT21: =LOOKUP(DJ21,$A$3:$U$3,$A$4:$U$4) -> 8 | ... DA21: =LOOKUP(DQ21,$A$3:$U$3,$A$4:$U$4) -> 21 | DC21: 1 | DD21: 2 | DE21: 3 | DF21: 4 | DG21: 5 | DH21: 6 | DI21: 7 | DJ21: 8 | DK21: 9 | DL21: 14 | DM21: 15 | DN21: 18 | DO21: 19 | DP21: 20 | DQ21: 21 | DS21: =LOOKUP(EI21,$A$3:$U$3,$A$4:$U$4) -> 1 | DT21: =LOOKUP(EJ21,$A$3:$U$3,$A$4:$U$4) -> 2 | DU21: =LOOKUP(EK21,$A$3:$U$3,$A$4:$U$4) -> 4 | DV21: =LOOKUP(EL21,$A$3:$U$3,$A$4:$U$4) -> 5 | DW21: =LOOKUP(EM21,$A$3:$U$3,$A$4:$U$4) -> 8 | DX21: =LOOKUP(EN21,$A$3:$U$3,$A$4:$U$4) -> 9 | DY21: =LOOKUP(EO21,$A$3:$U$3,$A$4:$U$4) -> 11 | DZ21: =LOOKUP(EP21,$A$3:$U$3,$A$4:$U$4) -> 12 | ... EG21: =LOOKUP(EW21,$A$3:$U$3,$A$4:$U$4) -> 21 | EI21: 1 | EJ21: 2 | EK21: 4 | EL21: 5 | EM21: 8 | EN21: 9 | EO21: 11 | EP21: 12 | EQ21: 13 | ER21: 14 | ES21: 15 | ET21: 16 | EU21: 17 | EV21: 20 | EW21: 21
A22: =LOOKUP(Q22,$A$3:$Y$3,$A$4:$Y$4) -> 1 | B22: =LOOKUP(R22,$A$3:$Y$3,$A$4:$Y$4) -> 2 | C22: =LOOKUP(S22,$A$3:$Y$3,$A$4:$Y$4) -> 3 | D22: =LOOKUP(T22,$A$3:$Y$3,$A$4:$Y$4) -> 4 | E22: =LOOKUP(U22,$A$3:$Y$3,$A$4:$Y$4) -> 7 | F22: =LOOKUP(V22,$A$3:$Y$3,$A$4:$Y$4) -> 8 | G22: =LOOKUP(W22,$A$3:$Y$3,$A$4:$Y$4) -> 10 | H22: =LOOKUP(X22,$A$3:$Y$3,$A$4:$Y$4) -> 11 | ... O22: =LOOKUP(AE22,$A$3:$Y$3,$A$4:$Y$4) -> 21 | Q22: 1 | R22: 2 | S22: 3 | T22: 4 | U22: 7 | V22: 8 | W22: 10 | X22: 11 | Y22: 13 | Z22: 16 | AA22: 17 | AB22: 18 | AC22: 19 | AD22: 20 | AE22: 21 | AG22: =LOOKUP(AW22,$AG$1:$BE$1,$AG$2:$BE$2) -> 1 | AH22: =LOOKUP(AX22,$AG$1:$BE$1,$AG$2:$BE$2) -> 3 | AI22: =LOOKUP(AY22,$AG$1:$BE$1,$AG$2:$BE$2) -> 5 | AJ22: =LOOKUP(AZ22,$AG$1:$BE$1,$AG$2:$BE$2) -> 6 | AK22: =LOOKUP(BA22,$AG$1:$BE$1,$AG$2:$BE$2) -> 7 | AL22: =LOOKUP(BB22,$AG$1:$BE$1,$AG$2:$BE$2) -> 8 | AM22: =LOOKUP(BC22,$AG$1:$BE$1,$AG$2:$BE$2) -> 9 | AN22: =LOOKUP(BD22,$AG$1:$BE$1,$AG$2:$BE$2) -> 10 | ... AU22: =LOOKUP(BK22,$AG$1:$BE$1,$AG$2:$BE$2) -> 24 | AW22: 1 | AX22: 3 | AY22: 5 | AZ22: 6 | BA22: 7 | BB22: 8 | BC22: 9 | BD22: 10 | BE22: 13 | BF22: 15 | BG22: 16 | BH22: 17 | BI22: 18 | BJ22: 19 | BK22: 20 | CM22: =LOOKUP(DC22,$A$3:$U$3,$A$4:$U$4) -> 1 | CN22: =LOOKUP(DD22,$A$3:$U$3,$A$4:$U$4) -> 2 | CO22: =LOOKUP(DE22,$A$3:$U$3,$A$4:$U$4) -> 3 | CP22: =LOOKUP(DF22,$A$3:$U$3,$A$4:$U$4) -> 4 | CQ22: =LOOKUP(DG22,$A$3:$U$3,$A$4:$U$4) -> 5 | CR22: =LOOKUP(DH22,$A$3:$U$3,$A$4:$U$4) -> 6 | CS22: =LOOKUP(DI22,$A$3:$U$3,$A$4:$U$4) -> 7 | CT22: =LOOKUP(DJ22,$A$3:$U$3,$A$4:$U$4) -> 8 | ... DA22: =LOOKUP(DQ22,$A$3:$U$3,$A$4:$U$4) -> 21 | DC22: 1 | DD22: 2 | DE22: 3 | DF22: 4 | DG22: 5 | DH22: 6 | DI22: 7 | DJ22: 8 | DK22: 9 | DL22: 16 | DM22: 17 | DN22: 18 | DO22: 19 | DP22: 20 | DQ22: 21 | DS22: =LOOKUP(EI22,$A$3:$U$3,$A$4:$U$4) -> 1 | DT22: =LOOKUP(EJ22,$A$3:$U$3,$A$4:$U$4) -> 2 | DU22: =LOOKUP(EK22,$A$3:$U$3,$A$4:$U$4) -> 4 | DV22: =LOOKUP(EL22,$A$3:$U$3,$A$4:$U$4) -> 6 | DW22: =LOOKUP(EM22,$A$3:$U$3,$A$4:$U$4) -> 7 | DX22: =LOOKUP(EN22,$A$3:$U$3,$A$4:$U$4) -> 8 | DY22: =LOOKUP(EO22,$A$3:$U$3,$A$4:$U$4) -> 9 | DZ22: =LOOKUP(EP22,$A$3:$U$3,$A$4:$U$4) -> 11 | ... EG22: =LOOKUP(EW22,$A$3:$U$3,$A$4:$U$4) -> 21 | EI22: 1 | EJ22: 2 | EK22: 4 | EL22: 6 | EM22: 7 | EN22: 8 | EO22: 9 | EP22: 11 | EQ22: 14 | ER22: 15 | ES22: 16 | ET22: 17 | EU22: 18 | EV22: 19 | EW22: 21
A23: =LOOKUP(Q23,$A$3:$Y$3,$A$4:$Y$4) -> 1 | B23: =LOOKUP(R23,$A$3:$Y$3,$A$4:$Y$4) -> 2 | C23: =LOOKUP(S23,$A$3:$Y$3,$A$4:$Y$4) -> 3 | D23: =LOOKUP(T23,$A$3:$Y$3,$A$4:$Y$4) -> 5 | E23: =LOOKUP(U23,$A$3:$Y$3,$A$4:$Y$4) -> 6 | F23: =LOOKUP(V23,$A$3:$Y$3,$A$4:$Y$4) -> 7 | G23: =LOOKUP(W23,$A$3:$Y$3,$A$4:$Y$4) -> 8 | H23: =LOOKUP(X23,$A$3:$Y$3,$A$4:$Y$4) -> 9 | ... O23: =LOOKUP(AE23,$A$3:$Y$3,$A$4:$Y$4) -> 21 | Q23: 1 | R23: 2 | S23: 3 | T23: 5 | U23: 6 | V23: 7 | W23: 8 | X23: 9 | Y23: 11 | Z23: 12 | AA23: 14 | AB23: 16 | AC23: 17 | AD23: 20 | AE23: 21 | AG23: =LOOKUP(AW23,$AG$1:$BE$1,$AG$2:$BE$2) -> 1 | AH23: =LOOKUP(AX23,$AG$1:$BE$1,$AG$2:$BE$2) -> 3 | AI23: =LOOKUP(AY23,$AG$1:$BE$1,$AG$2:$BE$2) -> 5 | AJ23: =LOOKUP(AZ23,$AG$1:$BE$1,$AG$2:$BE$2) -> 6 | AK23: =LOOKUP(BA23,$AG$1:$BE$1,$AG$2:$BE$2) -> 7 | AL23: =LOOKUP(BB23,$AG$1:$BE$1,$AG$2:$BE$2) -> 8 | AM23: =LOOKUP(BC23,$AG$1:$BE$1,$AG$2:$BE$2) -> 9 | AN23: =LOOKUP(BD23,$AG$1:$BE$1,$AG$2:$BE$2) -> 11 | ... AU23: =LOOKUP(BK23,$AG$1:$BE$1,$AG$2:$BE$2) -> 25 | AW23: 1 | AX23: 3 | AY23: 5 | AZ23: 6 | BA23: 7 | BB23: 8 | BC23: 9 | BD23: 11 | BE23: 13 | BF23: 15 | BG23: 16 | BH23: 17 | BI23: 18 | BJ23: 19 | BK23: 21 | CM23: =LOOKUP(DC23,$A$3:$U$3,$A$4:$U$4) -> 1 | CN23: =LOOKUP(DD23,$A$3:$U$3,$A$4:$U$4) -> 2 | CO23: =LOOKUP(DE23,$A$3:$U$3,$A$4:$U$4) -> 3 | CP23: =LOOKUP(DF23,$A$3:$U$3,$A$4:$U$4) -> 4 | CQ23: =LOOKUP(DG23,$A$3:$U$3,$A$4:$U$4) -> 5 | CR23: =LOOKUP(DH23,$A$3:$U$3,$A$4:$U$4) -> 10 | CS23: =LOOKUP(DI23,$A$3:$U$3,$A$4:$U$4) -> 11 | CT23: =LOOKUP(DJ23,$A$3:$U$3,$A$4:$U$4) -> 12 | ... DA23: =LOOKUP(DQ23,$A$3:$U$3,$A$4:$U$4) -> 19 | DC23: 1 | DD23: 2 | DE23: 3 | DF23: 4 | DG23: 5 | DH23: 10 | DI23: 11 | DJ23: 12 | DK23: 13 | DL23: 14 | DM23: 15 | DN23: 16 | DO23: 17 | DP23: 18 | DQ23: 19 | DS23: =LOOKUP(EI23,$A$3:$U$3,$A$4:$U$4) -> 1 | DT23: =LOOKUP(EJ23,$A$3:$U$3,$A$4:$U$4) -> 2 | DU23: =LOOKUP(EK23,$A$3:$U$3,$A$4:$U$4) -> 4 | DV23: =LOOKUP(EL23,$A$3:$U$3,$A$4:$U$4) -> 6 | DW23: =LOOKUP(EM23,$A$3:$U$3,$A$4:$U$4) -> 7 | DX23: =LOOKUP(EN23,$A$3:$U$3,$A$4:$U$4) -> 8 | DY23: =LOOKUP(EO23,$A$3:$U$3,$A$4:$U$4) -> 10 | DZ23: =LOOKUP(EP23,$A$3:$U$3,$A$4:$U$4) -> 11 | ... EG23: =LOOKUP(EW23,$A$3:$U$3,$A$4:$U$4) -> 21 | EI23: 1 | EJ23: 2 | EK23: 4 | EL23: 6 | EM23: 7 | EN23: 8 | EO23: 10 | EP23: 11 | EQ23: 12 | ER23: 13 | ES23: 15 | ET23: 17 | EU23: 19 | EV23: 20 | EW23: 21
A24: =LOOKUP(Q24,$A$3:$Y$3,$A$4:$Y$4) -> 1 | B24: =LOOKUP(R24,$A$3:$Y$3,$A$4:$Y$4) -> 2 | C24: =LOOKUP(S24,$A$3:$Y$3,$A$4:$Y$4) -> 3 | D24: =LOOKUP(T24,$A$3:$Y$3,$A$4:$Y$4) -> 5 | E24: =LOOKUP(U24,$A$3:$Y$3,$A$4:$Y$4) -> 6 | F24: =LOOKUP(V24,$A$3:$Y$3,$A$4:$Y$4) -> 7 | G24: =LOOKUP(W24,$A$3:$Y$3,$A$4:$Y$4) -> 8 | H24: =LOOKUP(X24,$A$3:$Y$3,$A$4:$Y$4) -> 10 | ... O24: =LOOKUP(AE24,$A$3:$Y$3,$A$4:$Y$4) -> 21 | Q24: 1 | R24: 2 | S24: 3 | T24: 5 | U24: 6 | V24: 7 | W24: 8 | X24: 10 | Y24: 11 | Z24: 12 | AA24: 13 | AB24: 14 | AC24: 15 | AD24: 19 | AE24: 21 | AG24: =LOOKUP(AW24,$AG$1:$BE$1,$AG$2:$BE$2) -> 1 | AH24: =LOOKUP(AX24,$AG$1:$BE$1,$AG$2:$BE$2) -> 4 | AI24: =LOOKUP(AY24,$AG$1:$BE$1,$AG$2:$BE$2) -> 5 | AJ24: =LOOKUP(AZ24,$AG$1:$BE$1,$AG$2:$BE$2) -> 6 | AK24: =LOOKUP(BA24,$AG$1:$BE$1,$AG$2:$BE$2) -> 7 | AL24: =LOOKUP(BB24,$AG$1:$BE$1,$AG$2:$BE$2) -> 8 | AM24: =LOOKUP(BC24,$AG$1:$BE$1,$AG$2:$BE$2) -> 9 | AN24: =LOOKUP(BD24,$AG$1:$BE$1,$AG$2:$BE$2) -> 10 | ... AU24: =LOOKUP(BK24,$AG$1:$BE$1,$AG$2:$BE$2) -> 24 | AW24: 1 | AX24: 4 | AY24: 5 | AZ24: 6 | BA24: 7 | BB24: 8 | BC24: 9 | BD24: 10 | BE24: 14 | BF24: 15 | BG24: 16 | BH24: 17 | BI24: 18 | BJ24: 19 | BK24: 20 | CM24: =LOOKUP(DC24,$A$3:$U$3,$A$4:$U$4) -> 1 | CN24: =LOOKUP(DD24,$A$3:$U$3,$A$4:$U$4) -> 2 | CO24: =LOOKUP(DE24,$A$3:$U$3,$A$4:$U$4) -> 3 | CP24: =LOOKUP(DF24,$A$3:$U$3,$A$4:$U$4) -> 4 | CQ24: =LOOKUP(DG24,$A$3:$U$3,$A$4:$U$4) -> 5 | CR24: =LOOKUP(DH24,$A$3:$U$3,$A$4:$U$4) -> 10 | CS24: =LOOKUP(DI24,$A$3:$U$3,$A$4:$U$4) -> 11 | CT24: =LOOKUP(DJ24,$A$3:$U$3,$A$4:$U$4) -> 12 | ... DA24: =LOOKUP(DQ24,$A$3:$U$3,$A$4:$U$4) -> 21 | DC24: 1 | DD24: 2 | DE24: 3 | DF24: 4 | DG24: 5 | DH24: 10 | DI24: 11 | DJ24: 12 | DK24: 13 | DL24: 14 | DM24: 15 | DN24: 16 | DO24: 17 | DP24: 20 | DQ24: 21 | DS24: =LOOKUP(EI24,$A$3:$U$3,$A$4:$U$4) -> 1 | DT24: =LOOKUP(EJ24,$A$3:$U$3,$A$4:$U$4) -> 2 | DU24: =LOOKUP(EK24,$A$3:$U$3,$A$4:$U$4) -> 4 | DV24: =LOOKUP(EL24,$A$3:$U$3,$A$4:$U$4) -> 6 | DW24: =LOOKUP(EM24,$A$3:$U$3,$A$4:$U$4) -> 7 | DX24: =LOOKUP(EN24,$A$3:$U$3,$A$4:$U$4) -> 9 | DY24: =LOOKUP(EO24,$A$3:$U$3,$A$4:$U$4) -> 10 | DZ24: =LOOKUP(EP24,$A$3:$U$3,$A$4:$U$4) -> 12 | ... EG24: =LOOKUP(EW24,$A$3:$U$3,$A$4:$U$4) -> 21 | EI24: 1 | EJ24: 2 | EK24: 4 | EL24: 6 | EM24: 7 | EN24: 9 | EO24: 10 | EP24: 12 | EQ24: 13 | ER24: 14 | ES24: 17 | ET24: 18 | EU24: 19 | EV24: 20 | EW24: 21
A25: =LOOKUP(Q25,$A$3:$Y$3,$A$4:$Y$4) -> 1 | B25: =LOOKUP(R25,$A$3:$Y$3,$A$4:$Y$4) -> 2 | C25: =LOOKUP(S25,$A$3:$Y$3,$A$4:$Y$4) -> 3 | D25: =LOOKUP(T25,$A$3:$Y$3,$A$4:$Y$4) -> 5 | E25: =LOOKUP(U25,$A$3:$Y$3,$A$4:$Y$4) -> 6 | F25: =LOOKUP(V25,$A$3:$Y$3,$A$4:$Y$4) -> 9 | G25: =LOOKUP(W25,$A$3:$Y$3,$A$4:$Y$4) -> 11 | H25: =LOOKUP(X25,$A$3:$Y$3,$A$4:$Y$4) -> 12 | ... O25: =LOOKUP(AE25,$A$3:$Y$3,$A$4:$Y$4) -> 20 | Q25: 1 | R25: 2 | S25: 3 | T25: 5 | U25: 6 | V25: 9 | W25: 11 | X25: 12 | Y25: 13 | Z25: 15 | AA25: 16 | AB25: 17 | AC25: 18 | AD25: 19 | AE25: 20 | AG25: =LOOKUP(AW25,$AG$1:$BE$1,$AG$2:$BE$2) -> 1 | AH25: =LOOKUP(AX25,$AG$1:$BE$1,$AG$2:$BE$2) -> 4 | AI25: =LOOKUP(AY25,$AG$1:$BE$1,$AG$2:$BE$2) -> 5 | AJ25: =LOOKUP(AZ25,$AG$1:$BE$1,$AG$2:$BE$2) -> 6 | AK25: =LOOKUP(BA25,$AG$1:$BE$1,$AG$2:$BE$2) -> 7 | AL25: =LOOKUP(BB25,$AG$1:$BE$1,$AG$2:$BE$2) -> 8 | AM25: =LOOKUP(BC25,$AG$1:$BE$1,$AG$2:$BE$2) -> 9 | AN25: =LOOKUP(BD25,$AG$1:$BE$1,$AG$2:$BE$2) -> 11 | ... AU25: =LOOKUP(BK25,$AG$1:$BE$1,$AG$2:$BE$2) -> 25 | AW25: 1 | AX25: 4 | AY25: 5 | AZ25: 6 | BA25: 7 | BB25: 8 | BC25: 9 | BD25: 11 | BE25: 14 | BF25: 15 | BG25: 16 | BH25: 17 | BI25: 18 | BJ25: 19 | BK25: 21 | CM25: =LOOKUP(DC25,$A$3:$U$3,$A$4:$U$4) -> 1 | CN25: =LOOKUP(DD25,$A$3:$U$3,$A$4:$U$4) -> 2 | CO25: =LOOKUP(DE25,$A$3:$U$3,$A$4:$U$4) -> 3 | CP25: =LOOKUP(DF25,$A$3:$U$3,$A$4:$U$4) -> 4 | CQ25: =LOOKUP(DG25,$A$3:$U$3,$A$4:$U$4) -> 5 | CR25: =LOOKUP(DH25,$A$3:$U$3,$A$4:$U$4) -> 10 | CS25: =LOOKUP(DI25,$A$3:$U$3,$A$4:$U$4) -> 11 | CT25: =LOOKUP(DJ25,$A$3:$U$3,$A$4:$U$4) -> 12 | ... DA25: =LOOKUP(DQ25,$A$3:$U$3,$A$4:$U$4) -> 21 | DC25: 1 | DD25: 2 | DE25: 3 | DF25: 4 | DG25: 5 | DH25: 10 | DI25: 11 | DJ25: 12 | DK25: 13 | DL25: 14 | DM25: 15 | DN25: 18 | DO25: 19 | DP25: 20 | DQ25: 21 | DS25: =LOOKUP(EI25,$A$3:$U$3,$A$4:$U$4) -> 1 | DT25: =LOOKUP(EJ25,$A$3:$U$3,$A$4:$U$4) -> 2 | DU25: =LOOKUP(EK25,$A$3:$U$3,$A$4:$U$4) -> 4 | DV25: =LOOKUP(EL25,$A$3:$U$3,$A$4:$U$4) -> 7 | DW25: =LOOKUP(EM25,$A$3:$U$3,$A$4:$U$4) -> 8 | DX25: =LOOKUP(EN25,$A$3:$U$3,$A$4:$U$4) -> 9 | DY25: =LOOKUP(EO25,$A$3:$U$3,$A$4:$U$4) -> 10 | DZ25: =LOOKUP(EP25,$A$3:$U$3,$A$4:$U$4) -> 12 | ... EG25: =LOOKUP(EW25,$A$3:$U$3,$A$4:$U$4) -> 21 | EI25: 1 | EJ25: 2 | EK25: 4 | EL25: 7 | EM25: 8 | EN25: 9 | EO25: 10 | EP25: 12 | EQ25: 13 | ER25: 14 | ES25: 15 | ET25: 16 | EU25: 18 | EV25: 19 | EW25: 21
A26: =LOOKUP(Q26,$A$3:$Y$3,$A$4:$Y$4) -> 1 | B26: =LOOKUP(R26,$A$3:$Y$3,$A$4:$Y$4) -> 2 | C26: =LOOKUP(S26,$A$3:$Y$3,$A$4:$Y$4) -> 3 | D26: =LOOKUP(T26,$A$3:$Y$3,$A$4:$Y$4) -> 5 | E26: =LOOKUP(U26,$A$3:$Y$3,$A$4:$Y$4) -> 7 | F26: =LOOKUP(V26,$A$3:$Y$3,$A$4:$Y$4) -> 8 | G26: =LOOKUP(W26,$A$3:$Y$3,$A$4:$Y$4) -> 10 | H26: =LOOKUP(X26,$A$3:$Y$3,$A$4:$Y$4) -> 12 | ... O26: =LOOKUP(AE26,$A$3:$Y$3,$A$4:$Y$4) -> 21 | Q26: 1 | R26: 2 | S26: 3 | T26: 5 | U26: 7 | V26: 8 | W26: 10 | X26: 12 | Y26: 14 | Z26: 15 | AA26: 17 | AB26: 18 | AC26: 19 | AD26: 20 | AE26: 21 | AG26: =LOOKUP(AW26,$AG$1:$BE$1,$AG$2:$BE$2) -> 1 | AH26: =LOOKUP(AX26,$AG$1:$BE$1,$AG$2:$BE$2) -> 5 | AI26: =LOOKUP(AY26,$AG$1:$BE$1,$AG$2:$BE$2) -> 6 | AJ26: =LOOKUP(AZ26,$AG$1:$BE$1,$AG$2:$BE$2) -> 7 | AK26: =LOOKUP(BA26,$AG$1:$BE$1,$AG$2:$BE$2) -> 8 | AL26: =LOOKUP(BB26,$AG$1:$BE$1,$AG$2:$BE$2) -> 9 | AM26: =LOOKUP(BC26,$AG$1:$BE$1,$AG$2:$BE$2) -> 10 | AN26: =LOOKUP(BD26,$AG$1:$BE$1,$AG$2:$BE$2) -> 11 | ... AU26: =LOOKUP(BK26,$AG$1:$BE$1,$AG$2:$BE$2) -> 25 | AW26: 1 | AX26: 5 | AY26: 6 | AZ26: 7 | BA26: 8 | BB26: 9 | BC26: 10 | BD26: 11 | BE26: 15 | BF26: 16 | BG26: 17 | BH26: 18 | BI26: 19 | BJ26: 20 | BK26: 21 | CM26: =LOOKUP(DC26,$A$3:$U$3,$A$4:$U$4) -> 1 | CN26: =LOOKUP(DD26,$A$3:$U$3,$A$4:$U$4) -> 2 | CO26: =LOOKUP(DE26,$A$3:$U$3,$A$4:$U$4) -> 3 | CP26: =LOOKUP(DF26,$A$3:$U$3,$A$4:$U$4) -> 4 | CQ26: =LOOKUP(DG26,$A$3:$U$3,$A$4:$U$4) -> 5 | CR26: =LOOKUP(DH26,$A$3:$U$3,$A$4:$U$4) -> 10 | CS26: =LOOKUP(DI26,$A$3:$U$3,$A$4:$U$4) -> 11 | CT26: =LOOKUP(DJ26,$A$3:$U$3,$A$4:$U$4) -> 12 | ... DA26: =LOOKUP(DQ26,$A$3:$U$3,$A$4:$U$4) -> 21 | DC26: 1 | DD26: 2 | DE26: 3 | DF26: 4 | DG26: 5 | DH26: 10 | DI26: 11 | DJ26: 12 | DK26: 13 | DL26: 16 | DM26: 17 | DN26: 18 | DO26: 19 | DP26: 20 | DQ26: 21 | DS26: =LOOKUP(EI26,$A$3:$U$3,$A$4:$U$4) -> 1 | DT26: =LOOKUP(EJ26,$A$3:$U$3,$A$4:$U$4) -> 2 | DU26: =LOOKUP(EK26,$A$3:$U$3,$A$4:$U$4) -> 5 | DV26: =LOOKUP(EL26,$A$3:$U$3,$A$4:$U$4) -> 6 | DW26: =LOOKUP(EM26,$A$3:$U$3,$A$4:$U$4) -> 7 | DX26: =LOOKUP(EN26,$A$3:$U$3,$A$4:$U$4) -> 8 | DY26: =LOOKUP(EO26,$A$3:$U$3,$A$4:$U$4) -> 9 | DZ26: =LOOKUP(EP26,$A$3:$U$3,$A$4:$U$4) -> 10 | ... EG26: =LOOKUP(EW26,$A$3:$U$3,$A$4:$U$4) -> 21 | EI26: 1 | EJ26: 2 | EK26: 5 | EL26: 6 | EM26: 7 | EN26: 8 | EO26: 9 | EP26: 10 | EQ26: 12 | ER26: 14 | ES26: 16 | ET26: 18 | EU26: 19 | EV26: 20 | EW26: 21
A27: =LOOKUP(Q27,$A$3:$Y$3,$A$4:$Y$4) -> 1 | B27: =LOOKUP(R27,$A$3:$Y$3,$A$4:$Y$4) -> 2 | C27: =LOOKUP(S27,$A$3:$Y$3,$A$4:$Y$4) -> 3 | D27: =LOOKUP(T27,$A$3:$Y$3,$A$4:$Y$4) -> 5 | E27: =LOOKUP(U27,$A$3:$Y$3,$A$4:$Y$4) -> 7 | F27: =LOOKUP(V27,$A$3:$Y$3,$A$4:$Y$4) -> 9 | G27: =LOOKUP(W27,$A$3:$Y$3,$A$4:$Y$4) -> 10 | H27: =LOOKUP(X27,$A$3:$Y$3,$A$4:$Y$4) -> 11 | ... O27: =LOOKUP(AE27,$A$3:$Y$3,$A$4:$Y$4) -> 21 | Q27: 1 | R27: 2 | S27: 3 | T27: 5 | U27: 7 | V27: 9 | W27: 10 | X27: 11 | Y27: 12 | Z27: 13 | AA27: 16 | AB27: 17 | AC27: 18 | AD27: 20 | AE27: 21 | CM27: =LOOKUP(DC27,$A$3:$U$3,$A$4:$U$4) -> 1 | CN27: =LOOKUP(DD27,$A$3:$U$3,$A$4:$U$4) -> 2 | CO27: =LOOKUP(DE27,$A$3:$U$3,$A$4:$U$4) -> 3 | CP27: =LOOKUP(DF27,$A$3:$U$3,$A$4:$U$4) -> 4 | CQ27: =LOOKUP(DG27,$A$3:$U$3,$A$4:$U$4) -> 5 | CR27: =LOOKUP(DH27,$A$3:$U$3,$A$4:$U$4) -> 10 | CS27: =LOOKUP(DI27,$A$3:$U$3,$A$4:$U$4) -> 11 | CT27: =LOOKUP(DJ27,$A$3:$U$3,$A$4:$U$4) -> 14 | ... DA27: =LOOKUP(DQ27,$A$3:$U$3,$A$4:$U$4) -> 21 | DC27: 1 | DD27: 2 | DE27: 3 | DF27: 4 | DG27: 5 | DH27: 10 | DI27: 11 | DJ27: 14 | DK27: 15 | DL27: 16 | DM27: 17 | DN27: 18 | DO27: 19 | DP27: 20 | DQ27: 21 | DS27: =LOOKUP(EI27,$A$3:$U$3,$A$4:$U$4) -> 1 | DT27: =LOOKUP(EJ27,$A$3:$U$3,$A$4:$U$4) -> 2 | DU27: =LOOKUP(EK27,$A$3:$U$3,$A$4:$U$4) -> 3 | DV27: =LOOKUP(EL27,$A$3:$U$3,$A$4:$U$4) -> 4 | DW27: =LOOKUP(EM27,$A$3:$U$3,$A$4:$U$4) -> 5 | DX27: =LOOKUP(EN27,$A$3:$U$3,$A$4:$U$4) -> 6 | DY27: =LOOKUP(EO27,$A$3:$U$3,$A$4:$U$4) -> 7 | DZ27: =LOOKUP(EP27,$A$3:$U$3,$A$4:$U$4) -> 8 | ... EG27: =LOOKUP(EW27,$A$3:$U$3,$A$4:$U$4) -> 20 | EI27: 1 | EJ27: 2 | EK27: 3 | EL27: 4 | EM27: 5 | EN27: 6 | EO27: 7 | EP27: 8 | EQ27: 11 | ER27: 12 | ES27: 14 | ET27: 15 | EU27: 17 | EV27: 18 | EW27: 20
A28: =LOOKUP(Q28,$A$3:$Y$3,$A$4:$Y$4) -> 1 | B28: =LOOKUP(R28,$A$3:$Y$3,$A$4:$Y$4) -> 2 | C28: =LOOKUP(S28,$A$3:$Y$3,$A$4:$Y$4) -> 3 | D28: =LOOKUP(T28,$A$3:$Y$3,$A$4:$Y$4) -> 6 | E28: =LOOKUP(U28,$A$3:$Y$3,$A$4:$Y$4) -> 7 | F28: =LOOKUP(V28,$A$3:$Y$3,$A$4:$Y$4) -> 9 | G28: =LOOKUP(W28,$A$3:$Y$3,$A$4:$Y$4) -> 10 | H28: =LOOKUP(X28,$A$3:$Y$3,$A$4:$Y$4) -> 11 | ... O28: =LOOKUP(AE28,$A$3:$Y$3,$A$4:$Y$4) -> 21 | Q28: 1 | R28: 2 | S28: 3 | T28: 6 | U28: 7 | V28: 9 | W28: 10 | X28: 11 | Y28: 14 | Z28: 15 | AA28: 16 | AB28: 17 | AC28: 18 | AD28: 19 | AE28: 21 | CM28: =LOOKUP(DC28,$A$3:$U$3,$A$4:$U$4) -> 1 | CN28: =LOOKUP(DD28,$A$3:$U$3,$A$4:$U$4) -> 2 | CO28: =LOOKUP(DE28,$A$3:$U$3,$A$4:$U$4) -> 3 | CP28: =LOOKUP(DF28,$A$3:$U$3,$A$4:$U$4) -> 4 | CQ28: =LOOKUP(DG28,$A$3:$U$3,$A$4:$U$4) -> 5 | CR28: =LOOKUP(DH28,$A$3:$U$3,$A$4:$U$4) -> 12 | CS28: =LOOKUP(DI28,$A$3:$U$3,$A$4:$U$4) -> 13 | CT28: =LOOKUP(DJ28,$A$3:$U$3,$A$4:$U$4) -> 14 | ... DA28: =LOOKUP(DQ28,$A$3:$U$3,$A$4:$U$4) -> 21 | DC28: 1 | DD28: 2 | DE28: 3 | DF28: 4 | DG28: 5 | DH28: 12 | DI28: 13 | DJ28: 14 | DK28: 15 | DL28: 16 | DM28: 17 | DN28: 18 | DO28: 19 | DP28: 20 | DQ28: 21 | DS28: =LOOKUP(EI28,$A$3:$U$3,$A$4:$U$4) -> 1 | DT28: =LOOKUP(EJ28,$A$3:$U$3,$A$4:$U$4) -> 2 | DU28: =LOOKUP(EK28,$A$3:$U$3,$A$4:$U$4) -> 3 | DV28: =LOOKUP(EL28,$A$3:$U$3,$A$4:$U$4) -> 8 | DW28: =LOOKUP(EM28,$A$3:$U$3,$A$4:$U$4) -> 9 | DX28: =LOOKUP(EN28,$A$3:$U$3,$A$4:$U$4) -> 10 | DY28: =LOOKUP(EO28,$A$3:$U$3,$A$4:$U$4) -> 11 | DZ28: =LOOKUP(EP28,$A$3:$U$3,$A$4:$U$4) -> 12 | ... EG28: =LOOKUP(EW28,$A$3:$U$3,$A$4:$U$4) -> 21 | EI28: 1 | EJ28: 2 | EK28: 3 | EL28: 8 | EM28: 9 | EN28: 10 | EO28: 11 | EP28: 12 | EQ28: 13 | ER28: 14 | ES28: 16 | ET28: 17 | EU28: 18 | EV28: 19 | EW28: 21
A29: =LOOKUP(Q29,$A$3:$Y$3,$A$4:$Y$4) -> 1 | B29: =LOOKUP(R29,$A$3:$Y$3,$A$4:$Y$4) -> 2 | C29: =LOOKUP(S29,$A$3:$Y$3,$A$4:$Y$4) -> 4 | D29: =LOOKUP(T29,$A$3:$Y$3,$A$4:$Y$4) -> 5 | E29: =LOOKUP(U29,$A$3:$Y$3,$A$4:$Y$4) -> 6 | F29: =LOOKUP(V29,$A$3:$Y$3,$A$4:$Y$4) -> 7 | G29: =LOOKUP(W29,$A$3:$Y$3,$A$4:$Y$4) -> 8 | H29: =LOOKUP(X29,$A$3:$Y$3,$A$4:$Y$4) -> 10 | ... O29: =LOOKUP(AE29,$A$3:$Y$3,$A$4:$Y$4) -> 21 | Q29: 1 | R29: 2 | S29: 4 | T29: 5 | U29: 6 | V29: 7 | W29: 8 | X29: 10 | Y29: 11 | Z29: 13 | AA29: 14 | AB29: 15 | AC29: 16 | AD29: 18 | AE29: 21 | CM29: =LOOKUP(DC29,$A$3:$U$3,$A$4:$U$4) -> 6 | CN29: =LOOKUP(DD29,$A$3:$U$3,$A$4:$U$4) -> 7 | CO29: =LOOKUP(DE29,$A$3:$U$3,$A$4:$U$4) -> 8 | CP29: =LOOKUP(DF29,$A$3:$U$3,$A$4:$U$4) -> 9 | CQ29: =LOOKUP(DG29,$A$3:$U$3,$A$4:$U$4) -> 10 | CR29: =LOOKUP(DH29,$A$3:$U$3,$A$4:$U$4) -> 11 | CS29: =LOOKUP(DI29,$A$3:$U$3,$A$4:$U$4) -> 12 | CT29: =LOOKUP(DJ29,$A$3:$U$3,$A$4:$U$4) -> 13 | ... DA29: =LOOKUP(DQ29,$A$3:$U$3,$A$4:$U$4) -> 20 | DC29: 6 | DD29: 7 | DE29: 8 | DF29: 9 | DG29: 10 | DH29: 11 | DI29: 12 | DJ29: 13 | DK29: 14 | DL29: 15 | DM29: 16 | DN29: 17 | DO29: 18 | DP29: 19 | DQ29: 20 | DS29: =LOOKUP(EI29,$A$3:$U$3,$A$4:$U$4) -> 1 | DT29: =LOOKUP(EJ29,$A$3:$U$3,$A$4:$U$4) -> 2 | DU29: =LOOKUP(EK29,$A$3:$U$3,$A$4:$U$4) -> 3 | DV29: =LOOKUP(EL29,$A$3:$U$3,$A$4:$U$4) -> 4 | DW29: =LOOKUP(EM29,$A$3:$U$3,$A$4:$U$4) -> 5 | DX29: =LOOKUP(EN29,$A$3:$U$3,$A$4:$U$4) -> 7 | DY29: =LOOKUP(EO29,$A$3:$U$3,$A$4:$U$4) -> 9 | DZ29: =LOOKUP(EP29,$A$3:$U$3,$A$4:$U$4) -> 10 | ... EG29: =LOOKUP(EW29,$A$3:$U$3,$A$4:$U$4) -> 20 | EI29: 1 | EJ29: 2 | EK29: 3 | EL29: 4 | EM29: 5 | EN29: 7 | EO29: 9 | EP29: 10 | EQ29: 11 | ER29: 14 | ES29: 16 | ET29: 17 | EU29: 18 | EV29: 19 | EW29: 20
A30: =LOOKUP(Q30,$A$3:$Y$3,$A$4:$Y$4) -> 1 | B30: =LOOKUP(R30,$A$3:$Y$3,$A$4:$Y$4) -> 2 | C30: =LOOKUP(S30,$A$3:$Y$3,$A$4:$Y$4) -> 4 | D30: =LOOKUP(T30,$A$3:$Y$3,$A$4:$Y$4) -> 5 | E30: =LOOKUP(U30,$A$3:$Y$3,$A$4:$Y$4) -> 6 | F30: =LOOKUP(V30,$A$3:$Y$3,$A$4:$Y$4) -> 7 | G30: =LOOKUP(W30,$A$3:$Y$3,$A$4:$Y$4) -> 9 | H30: =LOOKUP(X30,$A$3:$Y$3,$A$4:$Y$4) -> 10 | ... O30: =LOOKUP(AE30,$A$3:$Y$3,$A$4:$Y$4) -> 20 | Q30: 1 | R30: 2 | S30: 4 | T30: 5 | U30: 6 | V30: 7 | W30: 9 | X30: 10 | Y30: 12 | Z30: 13 | AA30: 14 | AB30: 16 | AC30: 17 | AD30: 19 | AE30: 20 | AG30: =Início!B26 -> 1 | CM30: =LOOKUP(DC30,$A$3:$U$3,$A$4:$U$4) -> 6 | CN30: =LOOKUP(DD30,$A$3:$U$3,$A$4:$U$4) -> 7 | CO30: =LOOKUP(DE30,$A$3:$U$3,$A$4:$U$4) -> 8 | CP30: =LOOKUP(DF30,$A$3:$U$3,$A$4:$U$4) -> 9 | CQ30: =LOOKUP(DG30,$A$3:$U$3,$A$4:$U$4) -> 10 | CR30: =LOOKUP(DH30,$A$3:$U$3,$A$4:$U$4) -> 11 | CS30: =LOOKUP(DI30,$A$3:$U$3,$A$4:$U$4) -> 12 | CT30: =LOOKUP(DJ30,$A$3:$U$3,$A$4:$U$4) -> 13 | ... DA30: =LOOKUP(DQ30,$A$3:$U$3,$A$4:$U$4) -> 21 | DC30: 6 | DD30: 7 | DE30: 8 | DF30: 9 | DG30: 10 | DH30: 11 | DI30: 12 | DJ30: 13 | DK30: 14 | DL30: 15 | DM30: 16 | DN30: 17 | DO30: 18 | DP30: 19 | DQ30: 21 | DS30: =LOOKUP(EI30,$A$3:$U$3,$A$4:$U$4) -> 1 | DT30: =LOOKUP(EJ30,$A$3:$U$3,$A$4:$U$4) -> 2 | DU30: =LOOKUP(EK30,$A$3:$U$3,$A$4:$U$4) -> 3 | DV30: =LOOKUP(EL30,$A$3:$U$3,$A$4:$U$4) -> 4 | DW30: =LOOKUP(EM30,$A$3:$U$3,$A$4:$U$4) -> 5 | DX30: =LOOKUP(EN30,$A$3:$U$3,$A$4:$U$4) -> 6 | DY30: =LOOKUP(EO30,$A$3:$U$3,$A$4:$U$4) -> 7 | DZ30: =LOOKUP(EP30,$A$3:$U$3,$A$4:$U$4) -> 8 | ... EG30: =LOOKUP(EW30,$A$3:$U$3,$A$4:$U$4) -> 21 | EI30: 1 | EJ30: 2 | EK30: 3 | EL30: 4 | EM30: 5 | EN30: 6 | EO30: 7 | EP30: 8 | EQ30: 12 | ER30: 13 | ES30: 15 | ET30: 16 | EU30: 18 | EV30: 19 | EW30: 21
A31: =LOOKUP(Q31,$A$3:$Y$3,$A$4:$Y$4) -> 1 | B31: =LOOKUP(R31,$A$3:$Y$3,$A$4:$Y$4) -> 2 | C31: =LOOKUP(S31,$A$3:$Y$3,$A$4:$Y$4) -> 4 | D31: =LOOKUP(T31,$A$3:$Y$3,$A$4:$Y$4) -> 5 | E31: =LOOKUP(U31,$A$3:$Y$3,$A$4:$Y$4) -> 6 | F31: =LOOKUP(V31,$A$3:$Y$3,$A$4:$Y$4) -> 8 | G31: =LOOKUP(W31,$A$3:$Y$3,$A$4:$Y$4) -> 11 | H31: =LOOKUP(X31,$A$3:$Y$3,$A$4:$Y$4) -> 12 | ... O31: =LOOKUP(AE31,$A$3:$Y$3,$A$4:$Y$4) -> 20 | Q31: 1 | R31: 2 | S31: 4 | T31: 5 | U31: 6 | V31: 8 | W31: 11 | X31: 12 | Y31: 14 | Z31: 15 | AA31: 16 | AB31: 17 | AC31: 18 | AD31: 19 | AE31: 20 | AG31: =Início!B28 -> 17 | AH31: =Início!C28 -> 18 | AI31: =Início!D28 -> 19 | AJ31: =Início!E28 -> 20 | CM31: =LOOKUP(DC31,$A$3:$U$3,$A$4:$U$4) -> 6 | CN31: =LOOKUP(DD31,$A$3:$U$3,$A$4:$U$4) -> 7 | CO31: =LOOKUP(DE31,$A$3:$U$3,$A$4:$U$4) -> 8 | CP31: =LOOKUP(DF31,$A$3:$U$3,$A$4:$U$4) -> 9 | CQ31: =LOOKUP(DG31,$A$3:$U$3,$A$4:$U$4) -> 10 | CR31: =LOOKUP(DH31,$A$3:$U$3,$A$4:$U$4) -> 11 | CS31: =LOOKUP(DI31,$A$3:$U$3,$A$4:$U$4) -> 12 | CT31: =LOOKUP(DJ31,$A$3:$U$3,$A$4:$U$4) -> 13 | ... DA31: =LOOKUP(DQ31,$A$3:$U$3,$A$4:$U$4) -> 18 | DC31: 6 | DD31: 7 | DE31: 8 | DF31: 9 | DG31: 10 | DH31: 11 | DI31: 12 | DJ31: 13 | DK31: 14 | DL31: 15 | DM31: 16 | DN31: 17 | DO31: 20 | DP31: 21 | DQ31: 18 | DS31: =LOOKUP(EI31,$A$3:$U$3,$A$4:$U$4) -> 1 | DT31: =LOOKUP(EJ31,$A$3:$U$3,$A$4:$U$4) -> 2 | DU31: =LOOKUP(EK31,$A$3:$U$3,$A$4:$U$4) -> 3 | DV31: =LOOKUP(EL31,$A$3:$U$3,$A$4:$U$4) -> 4 | DW31: =LOOKUP(EM31,$A$3:$U$3,$A$4:$U$4) -> 5 | DX31: =LOOKUP(EN31,$A$3:$U$3,$A$4:$U$4) -> 6 | DY31: =LOOKUP(EO31,$A$3:$U$3,$A$4:$U$4) -> 7 | DZ31: =LOOKUP(EP31,$A$3:$U$3,$A$4:$U$4) -> 9 | ... EG31: =LOOKUP(EW31,$A$3:$U$3,$A$4:$U$4) -> 20 | EI31: 1 | EJ31: 2 | EK31: 3 | EL31: 4 | EM31: 5 | EN31: 6 | EO31: 7 | EP31: 9 | EQ31: 10 | ER31: 12 | ES31: 13 | ET31: 15 | EU31: 16 | EV31: 18 | EW31: 20
A32: =LOOKUP(Q32,$A$3:$Y$3,$A$4:$Y$4) -> 1 | B32: =LOOKUP(R32,$A$3:$Y$3,$A$4:$Y$4) -> 2 | C32: =LOOKUP(S32,$A$3:$Y$3,$A$4:$Y$4) -> 4 | D32: =LOOKUP(T32,$A$3:$Y$3,$A$4:$Y$4) -> 6 | E32: =LOOKUP(U32,$A$3:$Y$3,$A$4:$Y$4) -> 7 | F32: =LOOKUP(V32,$A$3:$Y$3,$A$4:$Y$4) -> 8 | G32: =LOOKUP(W32,$A$3:$Y$3,$A$4:$Y$4) -> 9 | H32: =LOOKUP(X32,$A$3:$Y$3,$A$4:$Y$4) -> 10 | ... O32: =LOOKUP(AE32,$A$3:$Y$3,$A$4:$Y$4) -> 21 | Q32: 1 | R32: 2 | S32: 4 | T32: 6 | U32: 7 | V32: 8 | W32: 9 | X32: 10 | Y32: 11 | Z32: 12 | AA32: 13 | AB32: 15 | AC32: 16 | AD32: 20 | AE32: 21 | CM32: =LOOKUP(DC32,$A$3:$U$3,$A$4:$U$4) -> 6 | CN32: =LOOKUP(DD32,$A$3:$U$3,$A$4:$U$4) -> 7 | CO32: =LOOKUP(DE32,$A$3:$U$3,$A$4:$U$4) -> 8 | CP32: =LOOKUP(DF32,$A$3:$U$3,$A$4:$U$4) -> 9 | CQ32: =LOOKUP(DG32,$A$3:$U$3,$A$4:$U$4) -> 10 | CR32: =LOOKUP(DH32,$A$3:$U$3,$A$4:$U$4) -> 11 | CS32: =LOOKUP(DI32,$A$3:$U$3,$A$4:$U$4) -> 12 | CT32: =LOOKUP(DJ32,$A$3:$U$3,$A$4:$U$4) -> 13 | ... DA32: =LOOKUP(DQ32,$A$3:$U$3,$A$4:$U$4) -> 19 | DC32: 6 | DD32: 7 | DE32: 8 | DF32: 9 | DG32: 10 | DH32: 11 | DI32: 12 | DJ32: 13 | DK32: 14 | DL32: 15 | DM32: 16 | DN32: 17 | DO32: 20 | DP32: 21 | DQ32: 19 | DS32: =LOOKUP(EI32,$A$3:$U$3,$A$4:$U$4) -> 1 | DT32: =LOOKUP(EJ32,$A$3:$U$3,$A$4:$U$4) -> 2 | DU32: =LOOKUP(EK32,$A$3:$U$3,$A$4:$U$4) -> 3 | DV32: =LOOKUP(EL32,$A$3:$U$3,$A$4:$U$4) -> 4 | DW32: =LOOKUP(EM32,$A$3:$U$3,$A$4:$U$4) -> 5 | DX32: =LOOKUP(EN32,$A$3:$U$3,$A$4:$U$4) -> 6 | DY32: =LOOKUP(EO32,$A$3:$U$3,$A$4:$U$4) -> 7 | DZ32: =LOOKUP(EP32,$A$3:$U$3,$A$4:$U$4) -> 9 | ... EG32: =LOOKUP(EW32,$A$3:$U$3,$A$4:$U$4) -> 21 | EI32: 1 | EJ32: 2 | EK32: 3 | EL32: 4 | EM32: 5 | EN32: 6 | EO32: 7 | EP32: 9 | EQ32: 11 | ER32: 13 | ES32: 15 | ET32: 17 | EU32: 18 | EV32: 20 | EW32: 21
A33: =LOOKUP(Q33,$A$3:$Y$3,$A$4:$Y$4) -> 1 | B33: =LOOKUP(R33,$A$3:$Y$3,$A$4:$Y$4) -> 2 | C33: =LOOKUP(S33,$A$3:$Y$3,$A$4:$Y$4) -> 4 | D33: =LOOKUP(T33,$A$3:$Y$3,$A$4:$Y$4) -> 6 | E33: =LOOKUP(U33,$A$3:$Y$3,$A$4:$Y$4) -> 7 | F33: =LOOKUP(V33,$A$3:$Y$3,$A$4:$Y$4) -> 8 | G33: =LOOKUP(W33,$A$3:$Y$3,$A$4:$Y$4) -> 9 | H33: =LOOKUP(X33,$A$3:$Y$3,$A$4:$Y$4) -> 11 | ... O33: =LOOKUP(AE33,$A$3:$Y$3,$A$4:$Y$4) -> 21 | Q33: 1 | R33: 2 | S33: 4 | T33: 6 | U33: 7 | V33: 8 | W33: 9 | X33: 11 | Y33: 13 | Z33: 14 | AA33: 17 | AB33: 18 | AC33: 19 | AD33: 20 | AE33: 21 | AG33: =SMALL($AG7:$AU7,AG$1) -> 1 | AH33: =SMALL($AG7:$AU7,AH$1) -> 2 | AI33: =SMALL($AG7:$AU7,AI$1) -> 3 | AJ33: =SMALL($AG7:$AU7,AJ$1) -> 4 | AK33: =SMALL($AG7:$AU7,AK$1) -> 5 | AL33: =SMALL($AG7:$AU7,AL$1) -> 6 | AM33: =SMALL($AG7:$AU7,AM$1) -> 10 | AN33: =SMALL($AG7:$AU7,AN$1) -> 11 | ... AU33: =SMALL($AG7:$AU7,AU$1) -> 25 | AW33: 1 | CM33: =LOOKUP(DC33,$A$3:$U$3,$A$4:$U$4) -> 6 | CN33: =LOOKUP(DD33,$A$3:$U$3,$A$4:$U$4) -> 7 | CO33: =LOOKUP(DE33,$A$3:$U$3,$A$4:$U$4) -> 8 | CP33: =LOOKUP(DF33,$A$3:$U$3,$A$4:$U$4) -> 9 | CQ33: =LOOKUP(DG33,$A$3:$U$3,$A$4:$U$4) -> 10 | CR33: =LOOKUP(DH33,$A$3:$U$3,$A$4:$U$4) -> 11 | CS33: =LOOKUP(DI33,$A$3:$U$3,$A$4:$U$4) -> 12 | CT33: =LOOKUP(DJ33,$A$3:$U$3,$A$4:$U$4) -> 13 | ... DA33: =LOOKUP(DQ33,$A$3:$U$3,$A$4:$U$4) -> 16 | DC33: 6 | DD33: 7 | DE33: 8 | DF33: 9 | DG33: 10 | DH33: 11 | DI33: 12 | DJ33: 13 | DK33: 14 | DL33: 15 | DM33: 18 | DN33: 19 | DO33: 20 | DP33: 21 | DQ33: 16 | DS33: =LOOKUP(EI33,$A$3:$U$3,$A$4:$U$4) -> 1 | DT33: =LOOKUP(EJ33,$A$3:$U$3,$A$4:$U$4) -> 2 | DU33: =LOOKUP(EK33,$A$3:$U$3,$A$4:$U$4) -> 3 | DV33: =LOOKUP(EL33,$A$3:$U$3,$A$4:$U$4) -> 4 | DW33: =LOOKUP(EM33,$A$3:$U$3,$A$4:$U$4) -> 5 | DX33: =LOOKUP(EN33,$A$3:$U$3,$A$4:$U$4) -> 6 | DY33: =LOOKUP(EO33,$A$3:$U$3,$A$4:$U$4) -> 7 | DZ33: =LOOKUP(EP33,$A$3:$U$3,$A$4:$U$4) -> 10 | ... EG33: =LOOKUP(EW33,$A$3:$U$3,$A$4:$U$4) -> 21 | EI33: 1 | EJ33: 2 | EK33: 3 | EL33: 4 | EM33: 5 | EN33: 6 | EO33: 7 | EP33: 10 | EQ33: 11 | ER33: 12 | ES33: 16 | ET33: 17 | EU33: 18 | EV33: 19 | EW33: 21
A34: =LOOKUP(Q34,$A$3:$Y$3,$A$4:$Y$4) -> 1 | B34: =LOOKUP(R34,$A$3:$Y$3,$A$4:$Y$4) -> 2 | C34: =LOOKUP(S34,$A$3:$Y$3,$A$4:$Y$4) -> 4 | D34: =LOOKUP(T34,$A$3:$Y$3,$A$4:$Y$4) -> 6 | E34: =LOOKUP(U34,$A$3:$Y$3,$A$4:$Y$4) -> 7 | F34: =LOOKUP(V34,$A$3:$Y$3,$A$4:$Y$4) -> 9 | G34: =LOOKUP(W34,$A$3:$Y$3,$A$4:$Y$4) -> 10 | H34: =LOOKUP(X34,$A$3:$Y$3,$A$4:$Y$4) -> 11 | ... O34: =LOOKUP(AE34,$A$3:$Y$3,$A$4:$Y$4) -> 18 | Q34: 1 | R34: 2 | S34: 4 | T34: 6 | U34: 7 | V34: 9 | W34: 10 | X34: 11 | Y34: 12 | Z34: 13 | AA34: 14 | AB34: 15 | AC34: 16 | AD34: 17 | AE34: 18 | AG34: =SMALL($AG8:$AU8,AG$1) -> 1 | AH34: =SMALL($AG8:$AU8,AH$1) -> 2 | AI34: =SMALL($AG8:$AU8,AI$1) -> 3 | AJ34: =SMALL($AG8:$AU8,AJ$1) -> 4 | AK34: =SMALL($AG8:$AU8,AK$1) -> 5 | AL34: =SMALL($AG8:$AU8,AL$1) -> 7 | AM34: =SMALL($AG8:$AU8,AM$1) -> 10 | AN34: =SMALL($AG8:$AU8,AN$1) -> 11 | ... AU34: =SMALL($AG8:$AU8,AU$1) -> 25 | AW34: 2 | CM34: =LOOKUP(DC34,$A$3:$U$3,$A$4:$U$4) -> 6 | CN34: =LOOKUP(DD34,$A$3:$U$3,$A$4:$U$4) -> 7 | CO34: =LOOKUP(DE34,$A$3:$U$3,$A$4:$U$4) -> 8 | CP34: =LOOKUP(DF34,$A$3:$U$3,$A$4:$U$4) -> 9 | CQ34: =LOOKUP(DG34,$A$3:$U$3,$A$4:$U$4) -> 10 | CR34: =LOOKUP(DH34,$A$3:$U$3,$A$4:$U$4) -> 11 | CS34: =LOOKUP(DI34,$A$3:$U$3,$A$4:$U$4) -> 12 | CT34: =LOOKUP(DJ34,$A$3:$U$3,$A$4:$U$4) -> 13 | ... DA34: =LOOKUP(DQ34,$A$3:$U$3,$A$4:$U$4) -> 17 | DC34: 6 | DD34: 7 | DE34: 8 | DF34: 9 | DG34: 10 | DH34: 11 | DI34: 12 | DJ34: 13 | DK34: 14 | DL34: 15 | DM34: 18 | DN34: 19 | DO34: 20 | DP34: 21 | DQ34: 17 | DS34: =LOOKUP(EI34,$A$3:$U$3,$A$4:$U$4) -> 1 | DT34: =LOOKUP(EJ34,$A$3:$U$3,$A$4:$U$4) -> 2 | DU34: =LOOKUP(EK34,$A$3:$U$3,$A$4:$U$4) -> 3 | DV34: =LOOKUP(EL34,$A$3:$U$3,$A$4:$U$4) -> 4 | DW34: =LOOKUP(EM34,$A$3:$U$3,$A$4:$U$4) -> 5 | DX34: =LOOKUP(EN34,$A$3:$U$3,$A$4:$U$4) -> 6 | DY34: =LOOKUP(EO34,$A$3:$U$3,$A$4:$U$4) -> 7 | DZ34: =LOOKUP(EP34,$A$3:$U$3,$A$4:$U$4) -> 10 | ... EG34: =LOOKUP(EW34,$A$3:$U$3,$A$4:$U$4) -> 21 | EI34: 1 | EJ34: 2 | EK34: 3 | EL34: 4 | EM34: 5 | EN34: 6 | EO34: 7 | EP34: 10 | EQ34: 11 | ER34: 14 | ES34: 15 | ET34: 18 | EU34: 19 | EV34: 20 | EW34: 21
A35: =LOOKUP(Q35,$A$3:$Y$3,$A$4:$Y$4) -> 1 | B35: =LOOKUP(R35,$A$3:$Y$3,$A$4:$Y$4) -> 2 | C35: =LOOKUP(S35,$A$3:$Y$3,$A$4:$Y$4) -> 5 | D35: =LOOKUP(T35,$A$3:$Y$3,$A$4:$Y$4) -> 6 | E35: =LOOKUP(U35,$A$3:$Y$3,$A$4:$Y$4) -> 8 | F35: =LOOKUP(V35,$A$3:$Y$3,$A$4:$Y$4) -> 9 | G35: =LOOKUP(W35,$A$3:$Y$3,$A$4:$Y$4) -> 10 | H35: =LOOKUP(X35,$A$3:$Y$3,$A$4:$Y$4) -> 12 | ... O35: =LOOKUP(AE35,$A$3:$Y$3,$A$4:$Y$4) -> 21 | Q35: 1 | R35: 2 | S35: 5 | T35: 6 | U35: 8 | V35: 9 | W35: 10 | X35: 12 | Y35: 13 | Z35: 14 | AA35: 15 | AB35: 17 | AC35: 18 | AD35: 20 | AE35: 21 | AG35: =SMALL($AG9:$AU9,AG$1) -> 1 | AH35: =SMALL($AG9:$AU9,AH$1) -> 2 | AI35: =SMALL($AG9:$AU9,AI$1) -> 3 | AJ35: =SMALL($AG9:$AU9,AJ$1) -> 4 | AK35: =SMALL($AG9:$AU9,AK$1) -> 5 | AL35: =SMALL($AG9:$AU9,AL$1) -> 8 | AM35: =SMALL($AG9:$AU9,AM$1) -> 10 | AN35: =SMALL($AG9:$AU9,AN$1) -> 11 | ... AU35: =SMALL($AG9:$AU9,AU$1) -> 25 | AW35: 3 | CM35: =LOOKUP(DC35,$A$3:$U$3,$A$4:$U$4) -> 6 | CN35: =LOOKUP(DD35,$A$3:$U$3,$A$4:$U$4) -> 7 | CO35: =LOOKUP(DE35,$A$3:$U$3,$A$4:$U$4) -> 8 | CP35: =LOOKUP(DF35,$A$3:$U$3,$A$4:$U$4) -> 9 | CQ35: =LOOKUP(DG35,$A$3:$U$3,$A$4:$U$4) -> 10 | CR35: =LOOKUP(DH35,$A$3:$U$3,$A$4:$U$4) -> 11 | CS35: =LOOKUP(DI35,$A$3:$U$3,$A$4:$U$4) -> 12 | CT35: =LOOKUP(DJ35,$A$3:$U$3,$A$4:$U$4) -> 13 | ... DA35: =LOOKUP(DQ35,$A$3:$U$3,$A$4:$U$4) -> 14 | DC35: 6 | DD35: 7 | DE35: 8 | DF35: 9 | DG35: 10 | DH35: 11 | DI35: 12 | DJ35: 13 | DK35: 16 | DL35: 17 | DM35: 18 | DN35: 19 | DO35: 20 | DP35: 21 | DQ35: 14 | DS35: =LOOKUP(EI35,$A$3:$U$3,$A$4:$U$4) -> 1 | DT35: =LOOKUP(EJ35,$A$3:$U$3,$A$4:$U$4) -> 2 | DU35: =LOOKUP(EK35,$A$3:$U$3,$A$4:$U$4) -> 3 | DV35: =LOOKUP(EL35,$A$3:$U$3,$A$4:$U$4) -> 4 | DW35: =LOOKUP(EM35,$A$3:$U$3,$A$4:$U$4) -> 5 | DX35: =LOOKUP(EN35,$A$3:$U$3,$A$4:$U$4) -> 6 | DY35: =LOOKUP(EO35,$A$3:$U$3,$A$4:$U$4) -> 8 | DZ35: =LOOKUP(EP35,$A$3:$U$3,$A$4:$U$4) -> 9 | ... EG35: =LOOKUP(EW35,$A$3:$U$3,$A$4:$U$4) -> 19 | EI35: 1 | EJ35: 2 | EK35: 3 | EL35: 4 | EM35: 5 | EN35: 6 | EO35: 8 | EP35: 9 | EQ35: 10 | ER35: 11 | ES35: 13 | ET35: 15 | EU35: 16 | EV35: 17 | EW35: 19
A36: =LOOKUP(Q36,$A$3:$Y$3,$A$4:$Y$4) -> 1 | B36: =LOOKUP(R36,$A$3:$Y$3,$A$4:$Y$4) -> 2 | C36: =LOOKUP(S36,$A$3:$Y$3,$A$4:$Y$4) -> 5 | D36: =LOOKUP(T36,$A$3:$Y$3,$A$4:$Y$4) -> 7 | E36: =LOOKUP(U36,$A$3:$Y$3,$A$4:$Y$4) -> 8 | F36: =LOOKUP(V36,$A$3:$Y$3,$A$4:$Y$4) -> 9 | G36: =LOOKUP(W36,$A$3:$Y$3,$A$4:$Y$4) -> 10 | H36: =LOOKUP(X36,$A$3:$Y$3,$A$4:$Y$4) -> 11 | ... O36: =LOOKUP(AE36,$A$3:$Y$3,$A$4:$Y$4) -> 21 | Q36: 1 | R36: 2 | S36: 5 | T36: 7 | U36: 8 | V36: 9 | W36: 10 | X36: 11 | Y36: 12 | Z36: 13 | AA36: 14 | AB36: 18 | AC36: 19 | AD36: 20 | AE36: 21 | AG36: =SMALL($AG10:$AU10,AG$1) -> 1 | AH36: =SMALL($AG10:$AU10,AH$1) -> 2 | AI36: =SMALL($AG10:$AU10,AI$1) -> 3 | AJ36: =SMALL($AG10:$AU10,AJ$1) -> 4 | AK36: =SMALL($AG10:$AU10,AK$1) -> 5 | AL36: =SMALL($AG10:$AU10,AL$1) -> 9 | AM36: =SMALL($AG10:$AU10,AM$1) -> 10 | AN36: =SMALL($AG10:$AU10,AN$1) -> 11 | ... AU36: =SMALL($AG10:$AU10,AU$1) -> 25 | AW36: 4 | CM36: =LOOKUP(DC36,$A$3:$U$3,$A$4:$U$4) -> 6 | CN36: =LOOKUP(DD36,$A$3:$U$3,$A$4:$U$4) -> 7 | CO36: =LOOKUP(DE36,$A$3:$U$3,$A$4:$U$4) -> 8 | CP36: =LOOKUP(DF36,$A$3:$U$3,$A$4:$U$4) -> 9 | CQ36: =LOOKUP(DG36,$A$3:$U$3,$A$4:$U$4) -> 10 | CR36: =LOOKUP(DH36,$A$3:$U$3,$A$4:$U$4) -> 11 | CS36: =LOOKUP(DI36,$A$3:$U$3,$A$4:$U$4) -> 12 | CT36: =LOOKUP(DJ36,$A$3:$U$3,$A$4:$U$4) -> 13 | ... DA36: =LOOKUP(DQ36,$A$3:$U$3,$A$4:$U$4) -> 15 | DC36: 6 | DD36: 7 | DE36: 8 | DF36: 9 | DG36: 10 | DH36: 11 | DI36: 12 | DJ36: 13 | DK36: 16 | DL36: 17 | DM36: 18 | DN36: 19 | DO36: 20 | DP36: 21 | DQ36: 15 | DS36: =LOOKUP(EI36,$A$3:$U$3,$A$4:$U$4) -> 1 | DT36: =LOOKUP(EJ36,$A$3:$U$3,$A$4:$U$4) -> 2 | DU36: =LOOKUP(EK36,$A$3:$U$3,$A$4:$U$4) -> 3 | DV36: =LOOKUP(EL36,$A$3:$U$3,$A$4:$U$4) -> 4 | DW36: =LOOKUP(EM36,$A$3:$U$3,$A$4:$U$4) -> 5 | DX36: =LOOKUP(EN36,$A$3:$U$3,$A$4:$U$4) -> 6 | DY36: =LOOKUP(EO36,$A$3:$U$3,$A$4:$U$4) -> 8 | DZ36: =LOOKUP(EP36,$A$3:$U$3,$A$4:$U$4) -> 9 | ... EG36: =LOOKUP(EW36,$A$3:$U$3,$A$4:$U$4) -> 21 | EI36: 1 | EJ36: 2 | EK36: 3 | EL36: 4 | EM36: 5 | EN36: 6 | EO36: 8 | EP36: 9 | EQ36: 10 | ER36: 14 | ES36: 15 | ET36: 16 | EU36: 19 | EV36: 20 | EW36: 21
A37: =LOOKUP(Q37,$A$3:$Y$3,$A$4:$Y$4) -> 1 | B37: =LOOKUP(R37,$A$3:$Y$3,$A$4:$Y$4) -> 2 | C37: =LOOKUP(S37,$A$3:$Y$3,$A$4:$Y$4) -> 5 | D37: =LOOKUP(T37,$A$3:$Y$3,$A$4:$Y$4) -> 7 | E37: =LOOKUP(U37,$A$3:$Y$3,$A$4:$Y$4) -> 9 | F37: =LOOKUP(V37,$A$3:$Y$3,$A$4:$Y$4) -> 10 | G37: =LOOKUP(W37,$A$3:$Y$3,$A$4:$Y$4) -> 11 | H37: =LOOKUP(X37,$A$3:$Y$3,$A$4:$Y$4) -> 13 | ... O37: =LOOKUP(AE37,$A$3:$Y$3,$A$4:$Y$4) -> 21 | Q37: 1 | R37: 2 | S37: 5 | T37: 7 | U37: 9 | V37: 10 | W37: 11 | X37: 13 | Y37: 14 | Z37: 15 | AA37: 16 | AB37: 17 | AC37: 19 | AD37: 20 | AE37: 21 | AG37: =SMALL($AG11:$AU11,AG$1) -> 1 | AH37: =SMALL($AG11:$AU11,AH$1) -> 2 | AI37: =SMALL($AG11:$AU11,AI$1) -> 3 | AJ37: =SMALL($AG11:$AU11,AJ$1) -> 4 | AK37: =SMALL($AG11:$AU11,AK$1) -> 6 | AL37: =SMALL($AG11:$AU11,AL$1) -> 7 | AM37: =SMALL($AG11:$AU11,AM$1) -> 10 | AN37: =SMALL($AG11:$AU11,AN$1) -> 11 | ... AU37: =SMALL($AG11:$AU11,AU$1) -> 25 | AW37: 5 | CM37: =LOOKUP(DC37,$A$3:$U$3,$A$4:$U$4) -> 6 | CN37: =LOOKUP(DD37,$A$3:$U$3,$A$4:$U$4) -> 7 | CO37: =LOOKUP(DE37,$A$3:$U$3,$A$4:$U$4) -> 8 | CP37: =LOOKUP(DF37,$A$3:$U$3,$A$4:$U$4) -> 9 | CQ37: =LOOKUP(DG37,$A$3:$U$3,$A$4:$U$4) -> 10 | CR37: =LOOKUP(DH37,$A$3:$U$3,$A$4:$U$4) -> 11 | CS37: =LOOKUP(DI37,$A$3:$U$3,$A$4:$U$4) -> 14 | CT37: =LOOKUP(DJ37,$A$3:$U$3,$A$4:$U$4) -> 15 | ... DA37: =LOOKUP(DQ37,$A$3:$U$3,$A$4:$U$4) -> 12 | DC37: 6 | DD37: 7 | DE37: 8 | DF37: 9 | DG37: 10 | DH37: 11 | DI37: 14 | DJ37: 15 | DK37: 16 | DL37: 17 | DM37: 18 | DN37: 19 | DO37: 20 | DP37: 21 | DQ37: 12 | DS37: =LOOKUP(EI37,$A$3:$U$3,$A$4:$U$4) -> 1 | DT37: =LOOKUP(EJ37,$A$3:$U$3,$A$4:$U$4) -> 2 | DU37: =LOOKUP(EK37,$A$3:$U$3,$A$4:$U$4) -> 3 | DV37: =LOOKUP(EL37,$A$3:$U$3,$A$4:$U$4) -> 4 | DW37: =LOOKUP(EM37,$A$3:$U$3,$A$4:$U$4) -> 5 | DX37: =LOOKUP(EN37,$A$3:$U$3,$A$4:$U$4) -> 6 | DY37: =LOOKUP(EO37,$A$3:$U$3,$A$4:$U$4) -> 8 | DZ37: =LOOKUP(EP37,$A$3:$U$3,$A$4:$U$4) -> 12 | ... EG37: =LOOKUP(EW37,$A$3:$U$3,$A$4:$U$4) -> 21 | EI37: 1 | EJ37: 2 | EK37: 3 | EL37: 4 | EM37: 5 | EN37: 6 | EO37: 8 | EP37: 12 | EQ37: 13 | ER37: 14 | ES37: 16 | ET37: 17 | EU37: 19 | EV37: 20 | EW37: 21
A38: =LOOKUP(Q38,$A$3:$Y$3,$A$4:$Y$4) -> 1 | B38: =LOOKUP(R38,$A$3:$Y$3,$A$4:$Y$4) -> 3 | C38: =LOOKUP(S38,$A$3:$Y$3,$A$4:$Y$4) -> 4 | D38: =LOOKUP(T38,$A$3:$Y$3,$A$4:$Y$4) -> 5 | E38: =LOOKUP(U38,$A$3:$Y$3,$A$4:$Y$4) -> 6 | F38: =LOOKUP(V38,$A$3:$Y$3,$A$4:$Y$4) -> 7 | G38: =LOOKUP(W38,$A$3:$Y$3,$A$4:$Y$4) -> 8 | H38: =LOOKUP(X38,$A$3:$Y$3,$A$4:$Y$4) -> 9 | ... O38: =LOOKUP(AE38,$A$3:$Y$3,$A$4:$Y$4) -> 19 | Q38: 1 | R38: 3 | S38: 4 | T38: 5 | U38: 6 | V38: 7 | W38: 8 | X38: 9 | Y38: 11 | Z38: 12 | AA38: 13 | AB38: 14 | AC38: 16 | AD38: 18 | AE38: 19 | AG38: =SMALL($AG12:$AU12,AG$1) -> 1 | AH38: =SMALL($AG12:$AU12,AH$1) -> 2 | AI38: =SMALL($AG12:$AU12,AI$1) -> 3 | AJ38: =SMALL($AG12:$AU12,AJ$1) -> 4 | AK38: =SMALL($AG12:$AU12,AK$1) -> 6 | AL38: =SMALL($AG12:$AU12,AL$1) -> 8 | AM38: =SMALL($AG12:$AU12,AM$1) -> 10 | AN38: =SMALL($AG12:$AU12,AN$1) -> 11 | ... AU38: =SMALL($AG12:$AU12,AU$1) -> 25 | AW38: 6 | CM38: =LOOKUP(DC38,$A$3:$U$3,$A$4:$U$4) -> 6 | CN38: =LOOKUP(DD38,$A$3:$U$3,$A$4:$U$4) -> 7 | CO38: =LOOKUP(DE38,$A$3:$U$3,$A$4:$U$4) -> 8 | CP38: =LOOKUP(DF38,$A$3:$U$3,$A$4:$U$4) -> 9 | CQ38: =LOOKUP(DG38,$A$3:$U$3,$A$4:$U$4) -> 10 | CR38: =LOOKUP(DH38,$A$3:$U$3,$A$4:$U$4) -> 11 | CS38: =LOOKUP(DI38,$A$3:$U$3,$A$4:$U$4) -> 14 | CT38: =LOOKUP(DJ38,$A$3:$U$3,$A$4:$U$4) -> 15 | ... DA38: =LOOKUP(DQ38,$A$3:$U$3,$A$4:$U$4) -> 13 | DC38: 6 | DD38: 7 | DE38: 8 | DF38: 9 | DG38: 10 | DH38: 11 | DI38: 14 | DJ38: 15 | DK38: 16 | DL38: 17 | DM38: 18 | DN38: 19 | DO38: 20 | DP38: 21 | DQ38: 13 | DS38: =LOOKUP(EI38,$A$3:$U$3,$A$4:$U$4) -> 1 | DT38: =LOOKUP(EJ38,$A$3:$U$3,$A$4:$U$4) -> 2 | DU38: =LOOKUP(EK38,$A$3:$U$3,$A$4:$U$4) -> 3 | DV38: =LOOKUP(EL38,$A$3:$U$3,$A$4:$U$4) -> 4 | DW38: =LOOKUP(EM38,$A$3:$U$3,$A$4:$U$4) -> 5 | DX38: =LOOKUP(EN38,$A$3:$U$3,$A$4:$U$4) -> 6 | DY38: =LOOKUP(EO38,$A$3:$U$3,$A$4:$U$4) -> 9 | DZ38: =LOOKUP(EP38,$A$3:$U$3,$A$4:$U$4) -> 10 | ... EG38: =LOOKUP(EW38,$A$3:$U$3,$A$4:$U$4) -> 21 | EI38: 1 | EJ38: 2 | EK38: 3 | EL38: 4 | EM38: 5 | EN38: 6 | EO38: 9 | EP38: 10 | EQ38: 11 | ER38: 12 | ES38: 13 | ET38: 16 | EU38: 18 | EV38: 19 | EW38: 21
A39: =LOOKUP(Q39,$A$3:$Y$3,$A$4:$Y$4) -> 1 | B39: =LOOKUP(R39,$A$3:$Y$3,$A$4:$Y$4) -> 3 | C39: =LOOKUP(S39,$A$3:$Y$3,$A$4:$Y$4) -> 4 | D39: =LOOKUP(T39,$A$3:$Y$3,$A$4:$Y$4) -> 5 | E39: =LOOKUP(U39,$A$3:$Y$3,$A$4:$Y$4) -> 6 | F39: =LOOKUP(V39,$A$3:$Y$3,$A$4:$Y$4) -> 7 | G39: =LOOKUP(W39,$A$3:$Y$3,$A$4:$Y$4) -> 9 | H39: =LOOKUP(X39,$A$3:$Y$3,$A$4:$Y$4) -> 10 | ... O39: =LOOKUP(AE39,$A$3:$Y$3,$A$4:$Y$4) -> 21 | Q39: 1 | R39: 3 | S39: 4 | T39: 5 | U39: 6 | V39: 7 | W39: 9 | X39: 10 | Y39: 11 | Z39: 12 | AA39: 14 | AB39: 17 | AC39: 18 | AD39: 20 | AE39: 21 | AG39: =SMALL($AG13:$AU13,AG$1) -> 1 | AH39: =SMALL($AG13:$AU13,AH$1) -> 2 | AI39: =SMALL($AG13:$AU13,AI$1) -> 3 | AJ39: =SMALL($AG13:$AU13,AJ$1) -> 4 | AK39: =SMALL($AG13:$AU13,AK$1) -> 6 | AL39: =SMALL($AG13:$AU13,AL$1) -> 9 | AM39: =SMALL($AG13:$AU13,AM$1) -> 10 | AN39: =SMALL($AG13:$AU13,AN$1) -> 11 | ... AU39: =SMALL($AG13:$AU13,AU$1) -> 25 | AW39: 7 | CM39: =LOOKUP(DC39,$A$3:$U$3,$A$4:$U$4) -> 6 | CN39: =LOOKUP(DD39,$A$3:$U$3,$A$4:$U$4) -> 7 | CO39: =LOOKUP(DE39,$A$3:$U$3,$A$4:$U$4) -> 8 | CP39: =LOOKUP(DF39,$A$3:$U$3,$A$4:$U$4) -> 9 | CQ39: =LOOKUP(DG39,$A$3:$U$3,$A$4:$U$4) -> 12 | CR39: =LOOKUP(DH39,$A$3:$U$3,$A$4:$U$4) -> 13 | CS39: =LOOKUP(DI39,$A$3:$U$3,$A$4:$U$4) -> 14 | CT39: =LOOKUP(DJ39,$A$3:$U$3,$A$4:$U$4) -> 15 | ... DA39: =LOOKUP(DQ39,$A$3:$U$3,$A$4:$U$4) -> 10 | DC39: 6 | DD39: 7 | DE39: 8 | DF39: 9 | DG39: 12 | DH39: 13 | DI39: 14 | DJ39: 15 | DK39: 16 | DL39: 17 | DM39: 18 | DN39: 19 | DO39: 20 | DP39: 21 | DQ39: 10 | DS39: =LOOKUP(EI39,$A$3:$U$3,$A$4:$U$4) -> 1 | DT39: =LOOKUP(EJ39,$A$3:$U$3,$A$4:$U$4) -> 2 | DU39: =LOOKUP(EK39,$A$3:$U$3,$A$4:$U$4) -> 3 | DV39: =LOOKUP(EL39,$A$3:$U$3,$A$4:$U$4) -> 4 | DW39: =LOOKUP(EM39,$A$3:$U$3,$A$4:$U$4) -> 5 | DX39: =LOOKUP(EN39,$A$3:$U$3,$A$4:$U$4) -> 7 | DY39: =LOOKUP(EO39,$A$3:$U$3,$A$4:$U$4) -> 8 | DZ39: =LOOKUP(EP39,$A$3:$U$3,$A$4:$U$4) -> 9 | ... EG39: =LOOKUP(EW39,$A$3:$U$3,$A$4:$U$4) -> 21 | EI39: 1 | EJ39: 2 | EK39: 3 | EL39: 4 | EM39: 5 | EN39: 7 | EO39: 8 | EP39: 9 | EQ39: 10 | ER39: 11 | ES39: 13 | ET39: 14 | EU39: 17 | EV39: 19 | EW39: 21
A40: =LOOKUP(Q40,$A$3:$Y$3,$A$4:$Y$4) -> 1 | B40: =LOOKUP(R40,$A$3:$Y$3,$A$4:$Y$4) -> 3 | C40: =LOOKUP(S40,$A$3:$Y$3,$A$4:$Y$4) -> 4 | D40: =LOOKUP(T40,$A$3:$Y$3,$A$4:$Y$4) -> 5 | E40: =LOOKUP(U40,$A$3:$Y$3,$A$4:$Y$4) -> 7 | F40: =LOOKUP(V40,$A$3:$Y$3,$A$4:$Y$4) -> 8 | G40: =LOOKUP(W40,$A$3:$Y$3,$A$4:$Y$4) -> 9 | H40: =LOOKUP(X40,$A$3:$Y$3,$A$4:$Y$4) -> 12 | ... O40: =LOOKUP(AE40,$A$3:$Y$3,$A$4:$Y$4) -> 21 | Q40: 1 | R40: 3 | S40: 4 | T40: 5 | U40: 7 | V40: 8 | W40: 9 | X40: 12 | Y40: 13 | Z40: 16 | AA40: 17 | AB40: 18 | AC40: 19 | AD40: 20 | AE40: 21 | AG40: =SMALL($AG14:$AU14,AG$1) -> 1 | AH40: =SMALL($AG14:$AU14,AH$1) -> 2 | AI40: =SMALL($AG14:$AU14,AI$1) -> 3 | AJ40: =SMALL($AG14:$AU14,AJ$1) -> 4 | AK40: =SMALL($AG14:$AU14,AK$1) -> 7 | AL40: =SMALL($AG14:$AU14,AL$1) -> 8 | AM40: =SMALL($AG14:$AU14,AM$1) -> 10 | AN40: =SMALL($AG14:$AU14,AN$1) -> 11 | ... AU40: =SMALL($AG14:$AU14,AU$1) -> 25 | AW40: 8 | CM40: =LOOKUP(DC40,$A$3:$U$3,$A$4:$U$4) -> 6 | CN40: =LOOKUP(DD40,$A$3:$U$3,$A$4:$U$4) -> 7 | CO40: =LOOKUP(DE40,$A$3:$U$3,$A$4:$U$4) -> 8 | CP40: =LOOKUP(DF40,$A$3:$U$3,$A$4:$U$4) -> 9 | CQ40: =LOOKUP(DG40,$A$3:$U$3,$A$4:$U$4) -> 12 | CR40: =LOOKUP(DH40,$A$3:$U$3,$A$4:$U$4) -> 13 | CS40: =LOOKUP(DI40,$A$3:$U$3,$A$4:$U$4) -> 14 | CT40: =LOOKUP(DJ40,$A$3:$U$3,$A$4:$U$4) -> 15 | ... DA40: =LOOKUP(DQ40,$A$3:$U$3,$A$4:$U$4) -> 11 | DC40: 6 | DD40: 7 | DE40: 8 | DF40: 9 | DG40: 12 | DH40: 13 | DI40: 14 | DJ40: 15 | DK40: 16 | DL40: 17 | DM40: 18 | DN40: 19 | DO40: 20 | DP40: 21 | DQ40: 11 | DS40: =LOOKUP(EI40,$A$3:$U$3,$A$4:$U$4) -> 1 | DT40: =LOOKUP(EJ40,$A$3:$U$3,$A$4:$U$4) -> 2 | DU40: =LOOKUP(EK40,$A$3:$U$3,$A$4:$U$4) -> 3 | DV40: =LOOKUP(EL40,$A$3:$U$3,$A$4:$U$4) -> 5 | DW40: =LOOKUP(EM40,$A$3:$U$3,$A$4:$U$4) -> 6 | DX40: =LOOKUP(EN40,$A$3:$U$3,$A$4:$U$4) -> 7 | DY40: =LOOKUP(EO40,$A$3:$U$3,$A$4:$U$4) -> 8 | DZ40: =LOOKUP(EP40,$A$3:$U$3,$A$4:$U$4) -> 9 | ... EG40: =LOOKUP(EW40,$A$3:$U$3,$A$4:$U$4) -> 21 | EI40: 1 | EJ40: 2 | EK40: 3 | EL40: 5 | EM40: 6 | EN40: 7 | EO40: 8 | EP40: 9 | EQ40: 12 | ER40: 13 | ES40: 15 | ET40: 16 | EU40: 17 | EV40: 19 | EW40: 21
A41: =LOOKUP(Q41,$A$3:$Y$3,$A$4:$Y$4) -> 1 | B41: =LOOKUP(R41,$A$3:$Y$3,$A$4:$Y$4) -> 3 | C41: =LOOKUP(S41,$A$3:$Y$3,$A$4:$Y$4) -> 4 | D41: =LOOKUP(T41,$A$3:$Y$3,$A$4:$Y$4) -> 5 | E41: =LOOKUP(U41,$A$3:$Y$3,$A$4:$Y$4) -> 8 | F41: =LOOKUP(V41,$A$3:$Y$3,$A$4:$Y$4) -> 9 | G41: =LOOKUP(W41,$A$3:$Y$3,$A$4:$Y$4) -> 11 | H41: =LOOKUP(X41,$A$3:$Y$3,$A$4:$Y$4) -> 12 | ... O41: =LOOKUP(AE41,$A$3:$Y$3,$A$4:$Y$4) -> 21 | Q41: 1 | R41: 3 | S41: 4 | T41: 5 | U41: 8 | V41: 9 | W41: 11 | X41: 12 | Y41: 13 | Z41: 14 | AA41: 15 | AB41: 17 | AC41: 18 | AD41: 20 | AE41: 21 | AG41: =SMALL($AG15:$AU15,AG$1) -> 1 | AH41: =SMALL($AG15:$AU15,AH$1) -> 2 | AI41: =SMALL($AG15:$AU15,AI$1) -> 3 | AJ41: =SMALL($AG15:$AU15,AJ$1) -> 4 | AK41: =SMALL($AG15:$AU15,AK$1) -> 7 | AL41: =SMALL($AG15:$AU15,AL$1) -> 9 | AM41: =SMALL($AG15:$AU15,AM$1) -> 10 | AN41: =SMALL($AG15:$AU15,AN$1) -> 11 | ... AU41: =SMALL($AG15:$AU15,AU$1) -> 25 | AW41: 9 | CM41: =LOOKUP(DC41,$A$3:$U$3,$A$4:$U$4) -> 6 | CN41: =LOOKUP(DD41,$A$3:$U$3,$A$4:$U$4) -> 7 | CO41: =LOOKUP(DE41,$A$3:$U$3,$A$4:$U$4) -> 8 | CP41: =LOOKUP(DF41,$A$3:$U$3,$A$4:$U$4) -> 10 | CQ41: =LOOKUP(DG41,$A$3:$U$3,$A$4:$U$4) -> 11 | CR41: =LOOKUP(DH41,$A$3:$U$3,$A$4:$U$4) -> 12 | CS41: =LOOKUP(DI41,$A$3:$U$3,$A$4:$U$4) -> 13 | CT41: =LOOKUP(DJ41,$A$3:$U$3,$A$4:$U$4) -> 14 | ... DA41: =LOOKUP(DQ41,$A$3:$U$3,$A$4:$U$4) -> 21 | DC41: 6 | DD41: 7 | DE41: 8 | DF41: 10 | DG41: 11 | DH41: 12 | DI41: 13 | DJ41: 14 | DK41: 15 | DL41: 16 | DM41: 17 | DN41: 18 | DO41: 19 | DP41: 20 | DQ41: 21 | DS41: =LOOKUP(EI41,$A$3:$U$3,$A$4:$U$4) -> 1 | DT41: =LOOKUP(EJ41,$A$3:$U$3,$A$4:$U$4) -> 2 | DU41: =LOOKUP(EK41,$A$3:$U$3,$A$4:$U$4) -> 3 | DV41: =LOOKUP(EL41,$A$3:$U$3,$A$4:$U$4) -> 4 | DW41: =LOOKUP(EM41,$A$3:$U$3,$A$4:$U$4) -> 5 | DX41: =LOOKUP(EN41,$A$3:$U$3,$A$4:$U$4) -> 7 | DY41: =LOOKUP(EO41,$A$3:$U$3,$A$4:$U$4) -> 8 | DZ41: =LOOKUP(EP41,$A$3:$U$3,$A$4:$U$4) -> 9 | ... EG41: =LOOKUP(EW41,$A$3:$U$3,$A$4:$U$4) -> 21 | EI41: 1 | EJ41: 2 | EK41: 3 | EL41: 4 | EM41: 5 | EN41: 7 | EO41: 8 | EP41: 9 | EQ41: 11 | ER41: 12 | ES41: 13 | ET41: 15 | EU41: 18 | EV41: 19 | EW41: 21
A42: =LOOKUP(Q42,$A$3:$Y$3,$A$4:$Y$4) -> 1 | B42: =LOOKUP(R42,$A$3:$Y$3,$A$4:$Y$4) -> 3 | C42: =LOOKUP(S42,$A$3:$Y$3,$A$4:$Y$4) -> 4 | D42: =LOOKUP(T42,$A$3:$Y$3,$A$4:$Y$4) -> 6 | E42: =LOOKUP(U42,$A$3:$Y$3,$A$4:$Y$4) -> 7 | F42: =LOOKUP(V42,$A$3:$Y$3,$A$4:$Y$4) -> 8 | G42: =LOOKUP(W42,$A$3:$Y$3,$A$4:$Y$4) -> 9 | H42: =LOOKUP(X42,$A$3:$Y$3,$A$4:$Y$4) -> 10 | ... O42: =LOOKUP(AE42,$A$3:$Y$3,$A$4:$Y$4) -> 20 | Q42: 1 | R42: 3 | S42: 4 | T42: 6 | U42: 7 | V42: 8 | W42: 9 | X42: 10 | Y42: 11 | Z42: 13 | AA42: 14 | AB42: 15 | AC42: 17 | AD42: 19 | AE42: 20 | AG42: =SMALL($AG16:$AU16,AG$1) -> 1 | AH42: =SMALL($AG16:$AU16,AH$1) -> 2 | AI42: =SMALL($AG16:$AU16,AI$1) -> 3 | AJ42: =SMALL($AG16:$AU16,AJ$1) -> 4 | AK42: =SMALL($AG16:$AU16,AK$1) -> 8 | AL42: =SMALL($AG16:$AU16,AL$1) -> 9 | AM42: =SMALL($AG16:$AU16,AM$1) -> 10 | AN42: =SMALL($AG16:$AU16,AN$1) -> 11 | ... AU42: =SMALL($AG16:$AU16,AU$1) -> 25 | AW42: 10 | CM42: =LOOKUP(DC42,$A$3:$U$3,$A$4:$U$4) -> 6 | CN42: =LOOKUP(DD42,$A$3:$U$3,$A$4:$U$4) -> 7 | CO42: =LOOKUP(DE42,$A$3:$U$3,$A$4:$U$4) -> 8 | CP42: =LOOKUP(DF42,$A$3:$U$3,$A$4:$U$4) -> 10 | CQ42: =LOOKUP(DG42,$A$3:$U$3,$A$4:$U$4) -> 11 | CR42: =LOOKUP(DH42,$A$3:$U$3,$A$4:$U$4) -> 12 | CS42: =LOOKUP(DI42,$A$3:$U$3,$A$4:$U$4) -> 13 | CT42: =LOOKUP(DJ42,$A$3:$U$3,$A$4:$U$4) -> 14 | ... DA42: =LOOKUP(DQ42,$A$3:$U$3,$A$4:$U$4) -> 21 | DC42: 6 | DD42: 7 | DE42: 8 | DF42: 10 | DG42: 11 | DH42: 12 | DI42: 13 | DJ42: 14 | DK42: 15 | DL42: 16 | DM42: 17 | DN42: 18 | DO42: 19 | DP42: 20 | DQ42: 21 | DS42: =LOOKUP(EI42,$A$3:$U$3,$A$4:$U$4) -> 1 | DT42: =LOOKUP(EJ42,$A$3:$U$3,$A$4:$U$4) -> 2 | DU42: =LOOKUP(EK42,$A$3:$U$3,$A$4:$U$4) -> 5 | DV42: =LOOKUP(EL42,$A$3:$U$3,$A$4:$U$4) -> 7 | DW42: =LOOKUP(EM42,$A$3:$U$3,$A$4:$U$4) -> 8 | DX42: =LOOKUP(EN42,$A$3:$U$3,$A$4:$U$4) -> 10 | DY42: =LOOKUP(EO42,$A$3:$U$3,$A$4:$U$4) -> 11 | DZ42: =LOOKUP(EP42,$A$3:$U$3,$A$4:$U$4) -> 12 | ... EG42: =LOOKUP(EW42,$A$3:$U$3,$A$4:$U$4) -> 21 | EI42: 1 | EJ42: 2 | EK42: 5 | EL42: 7 | EM42: 8 | EN42: 10 | EO42: 11 | EP42: 12 | EQ42: 13 | ER42: 14 | ES42: 15 | ET42: 17 | EU42: 18 | EV42: 19 | EW42: 21
A43: =LOOKUP(Q43,$A$3:$Y$3,$A$4:$Y$4) -> 1 | B43: =LOOKUP(R43,$A$3:$Y$3,$A$4:$Y$4) -> 3 | C43: =LOOKUP(S43,$A$3:$Y$3,$A$4:$Y$4) -> 4 | D43: =LOOKUP(T43,$A$3:$Y$3,$A$4:$Y$4) -> 6 | E43: =LOOKUP(U43,$A$3:$Y$3,$A$4:$Y$4) -> 7 | F43: =LOOKUP(V43,$A$3:$Y$3,$A$4:$Y$4) -> 8 | G43: =LOOKUP(W43,$A$3:$Y$3,$A$4:$Y$4) -> 9 | H43: =LOOKUP(X43,$A$3:$Y$3,$A$4:$Y$4) -> 10 | ... O43: =LOOKUP(AE43,$A$3:$Y$3,$A$4:$Y$4) -> 19 | Q43: 1 | R43: 3 | S43: 4 | T43: 6 | U43: 7 | V43: 8 | W43: 9 | X43: 10 | Y43: 12 | Z43: 14 | AA43: 15 | AB43: 16 | AC43: 17 | AD43: 18 | AE43: 19 | AG43: =SMALL($AG17:$AU17,AG$1) -> 1 | AH43: =SMALL($AG17:$AU17,AH$1) -> 2 | AI43: =SMALL($AG17:$AU17,AI$1) -> 3 | AJ43: =SMALL($AG17:$AU17,AJ$1) -> 5 | AK43: =SMALL($AG17:$AU17,AK$1) -> 6 | AL43: =SMALL($AG17:$AU17,AL$1) -> 7 | AM43: =SMALL($AG17:$AU17,AM$1) -> 8 | AN43: =SMALL($AG17:$AU17,AN$1) -> 9 | ... AU43: =SMALL($AG17:$AU17,AU$1) -> 23 | AW43: 11 | CM43: =LOOKUP(DC43,$A$3:$U$3,$A$4:$U$4) -> 6 | CN43: =LOOKUP(DD43,$A$3:$U$3,$A$4:$U$4) -> 8 | CO43: =LOOKUP(DE43,$A$3:$U$3,$A$4:$U$4) -> 9 | CP43: =LOOKUP(DF43,$A$3:$U$3,$A$4:$U$4) -> 10 | CQ43: =LOOKUP(DG43,$A$3:$U$3,$A$4:$U$4) -> 11 | CR43: =LOOKUP(DH43,$A$3:$U$3,$A$4:$U$4) -> 12 | CS43: =LOOKUP(DI43,$A$3:$U$3,$A$4:$U$4) -> 13 | CT43: =LOOKUP(DJ43,$A$3:$U$3,$A$4:$U$4) -> 14 | ... DA43: =LOOKUP(DQ43,$A$3:$U$3,$A$4:$U$4) -> 21 | DC43: 6 | DD43: 8 | DE43: 9 | DF43: 10 | DG43: 11 | DH43: 12 | DI43: 13 | DJ43: 14 | DK43: 15 | DL43: 16 | DM43: 17 | DN43: 18 | DO43: 19 | DP43: 20 | DQ43: 21 | DS43: =LOOKUP(EI43,$A$3:$U$3,$A$4:$U$4) -> 1 | DT43: =LOOKUP(EJ43,$A$3:$U$3,$A$4:$U$4) -> 2 | DU43: =LOOKUP(EK43,$A$3:$U$3,$A$4:$U$4) -> 3 | DV43: =LOOKUP(EL43,$A$3:$U$3,$A$4:$U$4) -> 4 | DW43: =LOOKUP(EM43,$A$3:$U$3,$A$4:$U$4) -> 5 | DX43: =LOOKUP(EN43,$A$3:$U$3,$A$4:$U$4) -> 8 | DY43: =LOOKUP(EO43,$A$3:$U$3,$A$4:$U$4) -> 9 | DZ43: =LOOKUP(EP43,$A$3:$U$3,$A$4:$U$4) -> 10 | ... EG43: =LOOKUP(EW43,$A$3:$U$3,$A$4:$U$4) -> 20 | EI43: 1 | EJ43: 2 | EK43: 3 | EL43: 4 | EM43: 5 | EN43: 8 | EO43: 9 | EP43: 10 | EQ43: 11 | ER43: 13 | ES43: 14 | ET43: 15 | EU43: 18 | EV43: 19 | EW43: 20
A44: =LOOKUP(Q44,$A$3:$Y$3,$A$4:$Y$4) -> 1 | B44: =LOOKUP(R44,$A$3:$Y$3,$A$4:$Y$4) -> 3 | C44: =LOOKUP(S44,$A$3:$Y$3,$A$4:$Y$4) -> 4 | D44: =LOOKUP(T44,$A$3:$Y$3,$A$4:$Y$4) -> 7 | E44: =LOOKUP(U44,$A$3:$Y$3,$A$4:$Y$4) -> 9 | F44: =LOOKUP(V44,$A$3:$Y$3,$A$4:$Y$4) -> 10 | G44: =LOOKUP(W44,$A$3:$Y$3,$A$4:$Y$4) -> 11 | H44: =LOOKUP(X44,$A$3:$Y$3,$A$4:$Y$4) -> 12 | ... O44: =LOOKUP(AE44,$A$3:$Y$3,$A$4:$Y$4) -> 21 | Q44: 1 | R44: 3 | S44: 4 | T44: 7 | U44: 9 | V44: 10 | W44: 11 | X44: 12 | Y44: 13 | Z44: 14 | AA44: 15 | AB44: 16 | AC44: 17 | AD44: 19 | AE44: 21 | AG44: =SMALL($AG18:$AU18,AG$1) -> 1 | AH44: =SMALL($AG18:$AU18,AH$1) -> 2 | AI44: =SMALL($AG18:$AU18,AI$1) -> 4 | AJ44: =SMALL($AG18:$AU18,AJ$1) -> 5 | AK44: =SMALL($AG18:$AU18,AK$1) -> 6 | AL44: =SMALL($AG18:$AU18,AL$1) -> 7 | AM44: =SMALL($AG18:$AU18,AM$1) -> 8 | AN44: =SMALL($AG18:$AU18,AN$1) -> 9 | ... AU44: =SMALL($AG18:$AU18,AU$1) -> 23 | AW44: 12 | CM44: =LOOKUP(DC44,$A$3:$U$3,$A$4:$U$4) -> 7 | CN44: =LOOKUP(DD44,$A$3:$U$3,$A$4:$U$4) -> 8 | CO44: =LOOKUP(DE44,$A$3:$U$3,$A$4:$U$4) -> 9 | CP44: =LOOKUP(DF44,$A$3:$U$3,$A$4:$U$4) -> 10 | CQ44: =LOOKUP(DG44,$A$3:$U$3,$A$4:$U$4) -> 11 | CR44: =LOOKUP(DH44,$A$3:$U$3,$A$4:$U$4) -> 12 | CS44: =LOOKUP(DI44,$A$3:$U$3,$A$4:$U$4) -> 13 | CT44: =LOOKUP(DJ44,$A$3:$U$3,$A$4:$U$4) -> 14 | ... DA44: =LOOKUP(DQ44,$A$3:$U$3,$A$4:$U$4) -> 21 | DC44: 7 | DD44: 8 | DE44: 9 | DF44: 10 | DG44: 11 | DH44: 12 | DI44: 13 | DJ44: 14 | DK44: 15 | DL44: 16 | DM44: 17 | DN44: 18 | DO44: 19 | DP44: 20 | DQ44: 21 | DS44: =LOOKUP(EI44,$A$3:$U$3,$A$4:$U$4) -> 1 | DT44: =LOOKUP(EJ44,$A$3:$U$3,$A$4:$U$4) -> 2 | DU44: =LOOKUP(EK44,$A$3:$U$3,$A$4:$U$4) -> 3 | DV44: =LOOKUP(EL44,$A$3:$U$3,$A$4:$U$4) -> 4 | DW44: =LOOKUP(EM44,$A$3:$U$3,$A$4:$U$4) -> 5 | DX44: =LOOKUP(EN44,$A$3:$U$3,$A$4:$U$4) -> 8 | DY44: =LOOKUP(EO44,$A$3:$U$3,$A$4:$U$4) -> 10 | DZ44: =LOOKUP(EP44,$A$3:$U$3,$A$4:$U$4) -> 11 | ... EG44: =LOOKUP(EW44,$A$3:$U$3,$A$4:$U$4) -> 21 | EI44: 1 | EJ44: 2 | EK44: 3 | EL44: 4 | EM44: 5 | EN44: 8 | EO44: 10 | EP44: 11 | EQ44: 13 | ER44: 15 | ES44: 16 | ET44: 17 | EU44: 18 | EV44: 20 | EW44: 21
... A52: =LOOKUP(Q52,$A$3:$Y$3,$A$4:$Y$4) -> 2 | B52: =LOOKUP(R52,$A$3:$Y$3,$A$4:$Y$4) -> 3 | C52: =LOOKUP(S52,$A$3:$Y$3,$A$4:$Y$4) -> 4 | D52: =LOOKUP(T52,$A$3:$Y$3,$A$4:$Y$4) -> 5 | E52: =LOOKUP(U52,$A$3:$Y$3,$A$4:$Y$4) -> 6 | F52: =LOOKUP(V52,$A$3:$Y$3,$A$4:$Y$4) -> 7 | G52: =LOOKUP(W52,$A$3:$Y$3,$A$4:$Y$4) -> 8 | H52: =LOOKUP(X52,$A$3:$Y$3,$A$4:$Y$4) -> 12 | ... O52: =LOOKUP(AE52,$A$3:$Y$3,$A$4:$Y$4) -> 21 | Q52: 2 | R52: 3 | S52: 4 | T52: 5 | U52: 6 | V52: 7 | W52: 8 | X52: 12 | Y52: 13 | Z52: 14 | AA52: 16 | AB52: 17 | AC52: 18 | AD52: 20 | AE52: 21 | AG52: =SMALL($AG26:$AU26,AG$1) -> 1 | AH52: =SMALL($AG26:$AU26,AH$1) -> 5 | AI52: =SMALL($AG26:$AU26,AI$1) -> 6 | AJ52: =SMALL($AG26:$AU26,AJ$1) -> 7 | AK52: =SMALL($AG26:$AU26,AK$1) -> 8 | AL52: =SMALL($AG26:$AU26,AL$1) -> 9 | AM52: =SMALL($AG26:$AU26,AM$1) -> 10 | AN52: =SMALL($AG26:$AU26,AN$1) -> 11 | ... AU52: =SMALL($AG26:$AU26,AU$1) -> 25 | AW52: 20 | CM52: =LOOKUP(DC52,$A$3:$U$3,$A$4:$U$4) -> 2 | CN52: =LOOKUP(DD52,$A$3:$U$3,$A$4:$U$4) -> 3 | CO52: =LOOKUP(DE52,$A$3:$U$3,$A$4:$U$4) -> 5 | CP52: =LOOKUP(DF52,$A$3:$U$3,$A$4:$U$4) -> 10 | CQ52: =LOOKUP(DG52,$A$3:$U$3,$A$4:$U$4) -> 11 | CR52: =LOOKUP(DH52,$A$3:$U$3,$A$4:$U$4) -> 12 | CS52: =LOOKUP(DI52,$A$3:$U$3,$A$4:$U$4) -> 13 | CT52: =LOOKUP(DJ52,$A$3:$U$3,$A$4:$U$4) -> 14 | ... DA52: =LOOKUP(DQ52,$A$3:$U$3,$A$4:$U$4) -> 21 | DC52: 2 | DD52: 3 | DE52: 5 | DF52: 10 | DG52: 11 | DH52: 12 | DI52: 13 | DJ52: 14 | DK52: 15 | DL52: 16 | DM52: 17 | DN52: 18 | DO52: 19 | DP52: 20 | DQ52: 21 | DS52: =LOOKUP(EI52,$A$3:$U$3,$A$4:$U$4) -> 1 | DT52: =LOOKUP(EJ52,$A$3:$U$3,$A$4:$U$4) -> 2 | DU52: =LOOKUP(EK52,$A$3:$U$3,$A$4:$U$4) -> 3 | DV52: =LOOKUP(EL52,$A$3:$U$3,$A$4:$U$4) -> 4 | DW52: =LOOKUP(EM52,$A$3:$U$3,$A$4:$U$4) -> 6 | DX52: =LOOKUP(EN52,$A$3:$U$3,$A$4:$U$4) -> 11 | DY52: =LOOKUP(EO52,$A$3:$U$3,$A$4:$U$4) -> 12 | DZ52: =LOOKUP(EP52,$A$3:$U$3,$A$4:$U$4) -> 13 | ... EG52: =LOOKUP(EW52,$A$3:$U$3,$A$4:$U$4) -> 20 | EI52: 1 | EJ52: 2 | EK52: 3 | EL52: 4 | EM52: 6 | EN52: 11 | EO52: 12 | EP52: 13 | EQ52: 14 | ER52: 15 | ES52: 16 | ET52: 17 | EU52: 18 | EV52: 19 | EW52: 20
A53: =LOOKUP(Q53,$A$3:$Y$3,$A$4:$Y$4) -> 2 | B53: =LOOKUP(R53,$A$3:$Y$3,$A$4:$Y$4) -> 3 | C53: =LOOKUP(S53,$A$3:$Y$3,$A$4:$Y$4) -> 4 | D53: =LOOKUP(T53,$A$3:$Y$3,$A$4:$Y$4) -> 5 | E53: =LOOKUP(U53,$A$3:$Y$3,$A$4:$Y$4) -> 6 | F53: =LOOKUP(V53,$A$3:$Y$3,$A$4:$Y$4) -> 7 | G53: =LOOKUP(W53,$A$3:$Y$3,$A$4:$Y$4) -> 11 | H53: =LOOKUP(X53,$A$3:$Y$3,$A$4:$Y$4) -> 13 | ... O53: =LOOKUP(AE53,$A$3:$Y$3,$A$4:$Y$4) -> 21 | Q53: 2 | R53: 3 | S53: 4 | T53: 5 | U53: 6 | V53: 7 | W53: 11 | X53: 13 | Y53: 14 | Z53: 15 | AA53: 16 | AB53: 17 | AC53: 19 | AD53: 20 | AE53: 21 | CM53: =LOOKUP(DC53,$A$3:$U$3,$A$4:$U$4) -> 2 | CN53: =LOOKUP(DD53,$A$3:$U$3,$A$4:$U$4) -> 4 | CO53: =LOOKUP(DE53,$A$3:$U$3,$A$4:$U$4) -> 5 | CP53: =LOOKUP(DF53,$A$3:$U$3,$A$4:$U$4) -> 10 | CQ53: =LOOKUP(DG53,$A$3:$U$3,$A$4:$U$4) -> 11 | CR53: =LOOKUP(DH53,$A$3:$U$3,$A$4:$U$4) -> 12 | CS53: =LOOKUP(DI53,$A$3:$U$3,$A$4:$U$4) -> 13 | CT53: =LOOKUP(DJ53,$A$3:$U$3,$A$4:$U$4) -> 14 | ... DA53: =LOOKUP(DQ53,$A$3:$U$3,$A$4:$U$4) -> 21 | DC53: 2 | DD53: 4 | DE53: 5 | DF53: 10 | DG53: 11 | DH53: 12 | DI53: 13 | DJ53: 14 | DK53: 15 | DL53: 16 | DM53: 17 | DN53: 18 | DO53: 19 | DP53: 20 | DQ53: 21 | DS53: =LOOKUP(EI53,$A$3:$U$3,$A$4:$U$4) -> 1 | DT53: =LOOKUP(EJ53,$A$3:$U$3,$A$4:$U$4) -> 2 | DU53: =LOOKUP(EK53,$A$3:$U$3,$A$4:$U$4) -> 3 | DV53: =LOOKUP(EL53,$A$3:$U$3,$A$4:$U$4) -> 4 | DW53: =LOOKUP(EM53,$A$3:$U$3,$A$4:$U$4) -> 7 | DX53: =LOOKUP(EN53,$A$3:$U$3,$A$4:$U$4) -> 8 | DY53: =LOOKUP(EO53,$A$3:$U$3,$A$4:$U$4) -> 9 | DZ53: =LOOKUP(EP53,$A$3:$U$3,$A$4:$U$4) -> 11 | ... EG53: =LOOKUP(EW53,$A$3:$U$3,$A$4:$U$4) -> 21 | EI53: 1 | EJ53: 2 | EK53: 3 | EL53: 4 | EM53: 7 | EN53: 8 | EO53: 9 | EP53: 11 | EQ53: 12 | ER53: 13 | ES53: 16 | ET53: 17 | EU53: 19 | EV53: 20 | EW53: 21
A54: =LOOKUP(Q54,$A$3:$Y$3,$A$4:$Y$4) -> 2 | B54: =LOOKUP(R54,$A$3:$Y$3,$A$4:$Y$4) -> 3 | C54: =LOOKUP(S54,$A$3:$Y$3,$A$4:$Y$4) -> 4 | D54: =LOOKUP(T54,$A$3:$Y$3,$A$4:$Y$4) -> 5 | E54: =LOOKUP(U54,$A$3:$Y$3,$A$4:$Y$4) -> 7 | F54: =LOOKUP(V54,$A$3:$Y$3,$A$4:$Y$4) -> 8 | G54: =LOOKUP(W54,$A$3:$Y$3,$A$4:$Y$4) -> 9 | H54: =LOOKUP(X54,$A$3:$Y$3,$A$4:$Y$4) -> 10 | ... O54: =LOOKUP(AE54,$A$3:$Y$3,$A$4:$Y$4) -> 18 | Q54: 2 | R54: 3 | S54: 4 | T54: 5 | U54: 7 | V54: 8 | W54: 9 | X54: 10 | Y54: 11 | Z54: 12 | AA54: 13 | AB54: 14 | AC54: 15 | AD54: 17 | AE54: 18 | CM54: =LOOKUP(DC54,$A$3:$U$3,$A$4:$U$4) -> 3 | CN54: =LOOKUP(DD54,$A$3:$U$3,$A$4:$U$4) -> 4 | CO54: =LOOKUP(DE54,$A$3:$U$3,$A$4:$U$4) -> 5 | CP54: =LOOKUP(DF54,$A$3:$U$3,$A$4:$U$4) -> 10 | CQ54: =LOOKUP(DG54,$A$3:$U$3,$A$4:$U$4) -> 11 | CR54: =LOOKUP(DH54,$A$3:$U$3,$A$4:$U$4) -> 12 | CS54: =LOOKUP(DI54,$A$3:$U$3,$A$4:$U$4) -> 13 | CT54: =LOOKUP(DJ54,$A$3:$U$3,$A$4:$U$4) -> 14 | ... DA54: =LOOKUP(DQ54,$A$3:$U$3,$A$4:$U$4) -> 21 | DC54: 3 | DD54: 4 | DE54: 5 | DF54: 10 | DG54: 11 | DH54: 12 | DI54: 13 | DJ54: 14 | DK54: 15 | DL54: 16 | DM54: 17 | DN54: 18 | DO54: 19 | DP54: 20 | DQ54: 21 | DS54: =LOOKUP(EI54,$A$3:$U$3,$A$4:$U$4) -> 1 | DT54: =LOOKUP(EJ54,$A$3:$U$3,$A$4:$U$4) -> 2 | DU54: =LOOKUP(EK54,$A$3:$U$3,$A$4:$U$4) -> 3 | DV54: =LOOKUP(EL54,$A$3:$U$3,$A$4:$U$4) -> 4 | DW54: =LOOKUP(EM54,$A$3:$U$3,$A$4:$U$4) -> 5 | DX54: =LOOKUP(EN54,$A$3:$U$3,$A$4:$U$4) -> 7 | DY54: =LOOKUP(EO54,$A$3:$U$3,$A$4:$U$4) -> 8 | DZ54: =LOOKUP(EP54,$A$3:$U$3,$A$4:$U$4) -> 9 | ... EG54: =LOOKUP(EW54,$A$3:$U$3,$A$4:$U$4) -> 20 | EI54: 1 | EJ54: 2 | EK54: 3 | EL54: 4 | EM54: 5 | EN54: 7 | EO54: 8 | EP54: 9 | EQ54: 10 | ER54: 12 | ES54: 15 | ET54: 16 | EU54: 17 | EV54: 18 | EW54: 20
A55: =LOOKUP(Q55,$A$3:$Y$3,$A$4:$Y$4) -> 2 | B55: =LOOKUP(R55,$A$3:$Y$3,$A$4:$Y$4) -> 3 | C55: =LOOKUP(S55,$A$3:$Y$3,$A$4:$Y$4) -> 4 | D55: =LOOKUP(T55,$A$3:$Y$3,$A$4:$Y$4) -> 5 | E55: =LOOKUP(U55,$A$3:$Y$3,$A$4:$Y$4) -> 9 | F55: =LOOKUP(V55,$A$3:$Y$3,$A$4:$Y$4) -> 10 | G55: =LOOKUP(W55,$A$3:$Y$3,$A$4:$Y$4) -> 11 | H55: =LOOKUP(X55,$A$3:$Y$3,$A$4:$Y$4) -> 12 | ... O55: =LOOKUP(AE55,$A$3:$Y$3,$A$4:$Y$4) -> 21 | Q55: 2 | R55: 3 | S55: 4 | T55: 5 | U55: 9 | V55: 10 | W55: 11 | X55: 12 | Y55: 13 | Z55: 14 | AA55: 15 | AB55: 17 | AC55: 18 | AD55: 19 | AE55: 21 | AG55: 1 | AH55: 2 | AI55: 3 | AJ55: 4 | AK55: 5 | AL55: 6 | AM55: 7 | AN55: 8 | AO55: 9 | AP55: 10 | AQ55: 11 | AR55: 12 | AS55: 13 | AT55: 14 | AU55: 15 | AV55: 16 | AW55: 17 | AX55: 18 | AY55: 19 | AZ55: 20 | BA55: 21 | BB55: 22 | BC55: 23 | BD55: 24 | BE55: 25 | DS55: =LOOKUP(EI55,$A$3:$U$3,$A$4:$U$4) -> 1 | DT55: =LOOKUP(EJ55,$A$3:$U$3,$A$4:$U$4) -> 3 | DU55: =LOOKUP(EK55,$A$3:$U$3,$A$4:$U$4) -> 5 | DV55: =LOOKUP(EL55,$A$3:$U$3,$A$4:$U$4) -> 8 | DW55: =LOOKUP(EM55,$A$3:$U$3,$A$4:$U$4) -> 9 | DX55: =LOOKUP(EN55,$A$3:$U$3,$A$4:$U$4) -> 11 | DY55: =LOOKUP(EO55,$A$3:$U$3,$A$4:$U$4) -> 12 | DZ55: =LOOKUP(EP55,$A$3:$U$3,$A$4:$U$4) -> 14 | ... EG55: =LOOKUP(EW55,$A$3:$U$3,$A$4:$U$4) -> 21 | EI55: 1 | EJ55: 3 | EK55: 5 | EL55: 8 | EM55: 9 | EN55: 11 | EO55: 12 | EP55: 14 | EQ55: 15 | ER55: 16 | ES55: 17 | ET55: 18 | EU55: 19 | EV55: 20 | EW55: 21
A56: =LOOKUP(Q56,$A$3:$Y$3,$A$4:$Y$4) -> 2 | B56: =LOOKUP(R56,$A$3:$Y$3,$A$4:$Y$4) -> 3 | C56: =LOOKUP(S56,$A$3:$Y$3,$A$4:$Y$4) -> 4 | D56: =LOOKUP(T56,$A$3:$Y$3,$A$4:$Y$4) -> 6 | E56: =LOOKUP(U56,$A$3:$Y$3,$A$4:$Y$4) -> 7 | F56: =LOOKUP(V56,$A$3:$Y$3,$A$4:$Y$4) -> 8 | G56: =LOOKUP(W56,$A$3:$Y$3,$A$4:$Y$4) -> 9 | H56: =LOOKUP(X56,$A$3:$Y$3,$A$4:$Y$4) -> 10 | ... O56: =LOOKUP(AE56,$A$3:$Y$3,$A$4:$Y$4) -> 21 | Q56: 2 | R56: 3 | S56: 4 | T56: 6 | U56: 7 | V56: 8 | W56: 9 | X56: 10 | Y56: 11 | Z56: 12 | AA56: 15 | AB56: 16 | AC56: 18 | AD56: 20 | AE56: 21 | AG56: =AG76 -> 1 | AH56: =AH76 -> 2 | AI56: =AI76 -> 3 | AJ56: =BM68 -> 4 | AK56: =BN68 -> 5 | AL56: =BO68 -> 6 | AM56: =BP68 -> 7 | AN56: =BQ68 -> 8 | AO56: =BR68 -> 9 | AP56: =BS68 -> 10 | AQ56: =BT68 -> 11 | ... BA56: =CD68 -> 25 | BB56: =AG77 -> 17 | BC56: =AH77 -> 18 | BD56: =AI77 -> 19 | BE56: =AJ77 -> 20 | DS56: =LOOKUP(EI56,$A$3:$U$3,$A$4:$U$4) -> 1 | DT56: =LOOKUP(EJ56,$A$3:$U$3,$A$4:$U$4) -> 2 | DU56: =LOOKUP(EK56,$A$3:$U$3,$A$4:$U$4) -> 5 | DV56: =LOOKUP(EL56,$A$3:$U$3,$A$4:$U$4) -> 6 | DW56: =LOOKUP(EM56,$A$3:$U$3,$A$4:$U$4) -> 7 | DX56: =LOOKUP(EN56,$A$3:$U$3,$A$4:$U$4) -> 8 | DY56: =LOOKUP(EO56,$A$3:$U$3,$A$4:$U$4) -> 9 | DZ56: =LOOKUP(EP56,$A$3:$U$3,$A$4:$U$4) -> 11 | ... EG56: =LOOKUP(EW56,$A$3:$U$3,$A$4:$U$4) -> 20 | EI56: 1 | EJ56: 2 | EK56: 5 | EL56: 6 | EM56: 7 | EN56: 8 | EO56: 9 | EP56: 11 | EQ56: 13 | ER56: 14 | ES56: 15 | ET56: 16 | EU56: 18 | EV56: 19 | EW56: 20
A57: =LOOKUP(Q57,$A$3:$Y$3,$A$4:$Y$4) -> 2 | B57: =LOOKUP(R57,$A$3:$Y$3,$A$4:$Y$4) -> 3 | C57: =LOOKUP(S57,$A$3:$Y$3,$A$4:$Y$4) -> 4 | D57: =LOOKUP(T57,$A$3:$Y$3,$A$4:$Y$4) -> 6 | E57: =LOOKUP(U57,$A$3:$Y$3,$A$4:$Y$4) -> 8 | F57: =LOOKUP(V57,$A$3:$Y$3,$A$4:$Y$4) -> 9 | G57: =LOOKUP(W57,$A$3:$Y$3,$A$4:$Y$4) -> 11 | H57: =LOOKUP(X57,$A$3:$Y$3,$A$4:$Y$4) -> 12 | ... O57: =LOOKUP(AE57,$A$3:$Y$3,$A$4:$Y$4) -> 21 | Q57: 2 | R57: 3 | S57: 4 | T57: 6 | U57: 8 | V57: 9 | W57: 11 | X57: 12 | Y57: 13 | Z57: 14 | AA57: 15 | AB57: 17 | AC57: 19 | AD57: 20 | AE57: 21 | BM57: 1 | BN57: 2 | BO57: 3 | BP57: 4 | BQ57: 5 | BR57: 6 | BS57: 7 | BT57: 8 | BU57: 9 | BV57: 10 | BW57: 11 | BX57: 12 | BY57: 13 | BZ57: 14 | CA57: 15 | CB57: 16 | CC57: 17 | CD57: 18 | CE57: 19 | CF57: 20 | CG57: 21 | CH57: 22 | CI57: 23 | CJ57: 24 | CK57: 25 | CM57: =SMALL($CM3:$DA3,A$3) -> 1 | CN57: =SMALL($CM3:$DA3,B$3) -> 2 | CO57: =SMALL($CM3:$DA3,C$3) -> 3 | CP57: =SMALL($CM3:$DA3,D$3) -> 4 | CQ57: =SMALL($CM3:$DA3,E$3) -> 5 | CR57: =SMALL($CM3:$DA3,F$3) -> 6 | CS57: =SMALL($CM3:$DA3,G$3) -> 7 | CT57: =SMALL($CM3:$DA3,H$3) -> 8 | ... DA57: =SMALL($CM3:$DA3,O$3) -> 15 | DC57: 1 | DS57: =LOOKUP(EI57,$A$3:$U$3,$A$4:$U$4) -> 1 | DT57: =LOOKUP(EJ57,$A$3:$U$3,$A$4:$U$4) -> 4 | DU57: =LOOKUP(EK57,$A$3:$U$3,$A$4:$U$4) -> 6 | DV57: =LOOKUP(EL57,$A$3:$U$3,$A$4:$U$4) -> 7 | DW57: =LOOKUP(EM57,$A$3:$U$3,$A$4:$U$4) -> 8 | DX57: =LOOKUP(EN57,$A$3:$U$3,$A$4:$U$4) -> 10 | DY57: =LOOKUP(EO57,$A$3:$U$3,$A$4:$U$4) -> 11 | DZ57: =LOOKUP(EP57,$A$3:$U$3,$A$4:$U$4) -> 12 | ... EG57: =LOOKUP(EW57,$A$3:$U$3,$A$4:$U$4) -> 21 | EI57: 1 | EJ57: 4 | EK57: 6 | EL57: 7 | EM57: 8 | EN57: 10 | EO57: 11 | EP57: 12 | EQ57: 13 | ER57: 16 | ES57: 17 | ET57: 18 | EU57: 19 | EV57: 20 | EW57: 21
A58: =LOOKUP(Q58,$A$3:$Y$3,$A$4:$Y$4) -> 2 | B58: =LOOKUP(R58,$A$3:$Y$3,$A$4:$Y$4) -> 3 | C58: =LOOKUP(S58,$A$3:$Y$3,$A$4:$Y$4) -> 5 | D58: =LOOKUP(T58,$A$3:$Y$3,$A$4:$Y$4) -> 6 | E58: =LOOKUP(U58,$A$3:$Y$3,$A$4:$Y$4) -> 7 | F58: =LOOKUP(V58,$A$3:$Y$3,$A$4:$Y$4) -> 9 | G58: =LOOKUP(W58,$A$3:$Y$3,$A$4:$Y$4) -> 10 | H58: =LOOKUP(X58,$A$3:$Y$3,$A$4:$Y$4) -> 12 | ... O58: =LOOKUP(AE58,$A$3:$Y$3,$A$4:$Y$4) -> 21 | Q58: 2 | R58: 3 | S58: 5 | T58: 6 | U58: 7 | V58: 9 | W58: 10 | X58: 12 | Y58: 13 | Z58: 15 | AA58: 16 | AB58: 18 | AC58: 19 | AD58: 20 | AE58: 21 | BM58: =SMALL($BM59:$BO59,BM57) -> 1 | BN58: =SMALL($BM59:$BO59,BN57) -> 2 | BO58: =SMALL($BM59:$BO59,BO57) -> 3 | CM58: =SMALL($CM4:$DA4,A$3) -> 1 | CN58: =SMALL($CM4:$DA4,B$3) -> 2 | CO58: =SMALL($CM4:$DA4,C$3) -> 3 | CP58: =SMALL($CM4:$DA4,D$3) -> 4 | CQ58: =SMALL($CM4:$DA4,E$3) -> 5 | CR58: =SMALL($CM4:$DA4,F$3) -> 6 | CS58: =SMALL($CM4:$DA4,G$3) -> 7 | CT58: =SMALL($CM4:$DA4,H$3) -> 8 | ... DA58: =SMALL($CM4:$DA4,O$3) -> 17 | DC58: 2 | DS58: =LOOKUP(EI58,$A$3:$U$3,$A$4:$U$4) -> 1 | DT58: =LOOKUP(EJ58,$A$3:$U$3,$A$4:$U$4) -> 4 | DU58: =LOOKUP(EK58,$A$3:$U$3,$A$4:$U$4) -> 5 | DV58: =LOOKUP(EL58,$A$3:$U$3,$A$4:$U$4) -> 7 | DW58: =LOOKUP(EM58,$A$3:$U$3,$A$4:$U$4) -> 8 | DX58: =LOOKUP(EN58,$A$3:$U$3,$A$4:$U$4) -> 9 | DY58: =LOOKUP(EO58,$A$3:$U$3,$A$4:$U$4) -> 10 | DZ58: =LOOKUP(EP58,$A$3:$U$3,$A$4:$U$4) -> 13 | ... EG58: =LOOKUP(EW58,$A$3:$U$3,$A$4:$U$4) -> 21 | EI58: 1 | EJ58: 4 | EK58: 5 | EL58: 7 | EM58: 8 | EN58: 9 | EO58: 10 | EP58: 13 | EQ58: 14 | ER58: 16 | ES58: 17 | ET58: 18 | EU58: 19 | EV58: 20 | EW58: 21
A59: =LOOKUP(Q59,$A$3:$Y$3,$A$4:$Y$4) -> 2 | B59: =LOOKUP(R59,$A$3:$Y$3,$A$4:$Y$4) -> 3 | C59: =LOOKUP(S59,$A$3:$Y$3,$A$4:$Y$4) -> 5 | D59: =LOOKUP(T59,$A$3:$Y$3,$A$4:$Y$4) -> 6 | E59: =LOOKUP(U59,$A$3:$Y$3,$A$4:$Y$4) -> 8 | F59: =LOOKUP(V59,$A$3:$Y$3,$A$4:$Y$4) -> 9 | G59: =LOOKUP(W59,$A$3:$Y$3,$A$4:$Y$4) -> 10 | H59: =LOOKUP(X59,$A$3:$Y$3,$A$4:$Y$4) -> 11 | ... O59: =LOOKUP(AE59,$A$3:$Y$3,$A$4:$Y$4) -> 21 | Q59: 2 | R59: 3 | S59: 5 | T59: 6 | U59: 8 | V59: 9 | W59: 10 | X59: 11 | Y59: 13 | Z59: 16 | AA59: 17 | AB59: 18 | AC59: 19 | AD59: 20 | AE59: 21 | AG59: =LOOKUP(AW59,$AG$55:$BE$55,$AG$56:$BE$56) -> 1 | AH59: =LOOKUP(AX59,$AG$55:$BE$55,$AG$56:$BE$56) -> 2 | AI59: =LOOKUP(AY59,$AG$55:$BE$55,$AG$56:$BE$56) -> 3 | AJ59: =LOOKUP(AZ59,$AG$55:$BE$55,$AG$56:$BE$56) -> 4 | AK59: =LOOKUP(BA59,$AG$55:$BE$55,$AG$56:$BE$56) -> 8 | AL59: =LOOKUP(BB59,$AG$55:$BE$55,$AG$56:$BE$56) -> 9 | AM59: =LOOKUP(BC59,$AG$55:$BE$55,$AG$56:$BE$56) -> 10 | AN59: =LOOKUP(BD59,$AG$55:$BE$55,$AG$56:$BE$56) -> 12 | ... AU59: =LOOKUP(BK59,$AG$55:$BE$55,$AG$56:$BE$56) -> 25 | AW59: 1 | AX59: 2 | AY59: 3 | AZ59: 4 | BA59: 8 | BB59: 9 | BC59: 10 | BD59: 12 | BE59: 14 | BF59: 15 | BG59: 16 | BH59: 18 | BI59: 19 | BJ59: 20 | BK59: 21 | BM59: =AG56 -> 1 | BN59: =AH56 -> 2 | BO59: =AI56 -> 3 | CM59: =SMALL($CM5:$DA5,A$3) -> 1 | CN59: =SMALL($CM5:$DA5,B$3) -> 2 | CO59: =SMALL($CM5:$DA5,C$3) -> 3 | CP59: =SMALL($CM5:$DA5,D$3) -> 4 | CQ59: =SMALL($CM5:$DA5,E$3) -> 5 | CR59: =SMALL($CM5:$DA5,F$3) -> 6 | CS59: =SMALL($CM5:$DA5,G$3) -> 7 | CT59: =SMALL($CM5:$DA5,H$3) -> 8 | ... DA59: =SMALL($CM5:$DA5,O$3) -> 19 | DC59: 3 | DS59: =LOOKUP(EI59,$A$3:$U$3,$A$4:$U$4) -> 1 | DT59: =LOOKUP(EJ59,$A$3:$U$3,$A$4:$U$4) -> 4 | DU59: =LOOKUP(EK59,$A$3:$U$3,$A$4:$U$4) -> 5 | DV59: =LOOKUP(EL59,$A$3:$U$3,$A$4:$U$4) -> 6 | DW59: =LOOKUP(EM59,$A$3:$U$3,$A$4:$U$4) -> 8 | DX59: =LOOKUP(EN59,$A$3:$U$3,$A$4:$U$4) -> 9 | DY59: =LOOKUP(EO59,$A$3:$U$3,$A$4:$U$4) -> 10 | DZ59: =LOOKUP(EP59,$A$3:$U$3,$A$4:$U$4) -> 11 | ... EG59: =LOOKUP(EW59,$A$3:$U$3,$A$4:$U$4) -> 21 | EI59: 1 | EJ59: 4 | EK59: 5 | EL59: 6 | EM59: 8 | EN59: 9 | EO59: 10 | EP59: 11 | EQ59: 12 | ER59: 13 | ES59: 14 | ET59: 15 | EU59: 19 | EV59: 20 | EW59: 21
A60: =LOOKUP(Q60,$A$3:$Y$3,$A$4:$Y$4) -> 2 | B60: =LOOKUP(R60,$A$3:$Y$3,$A$4:$Y$4) -> 4 | C60: =LOOKUP(S60,$A$3:$Y$3,$A$4:$Y$4) -> 5 | D60: =LOOKUP(T60,$A$3:$Y$3,$A$4:$Y$4) -> 6 | E60: =LOOKUP(U60,$A$3:$Y$3,$A$4:$Y$4) -> 7 | F60: =LOOKUP(V60,$A$3:$Y$3,$A$4:$Y$4) -> 8 | G60: =LOOKUP(W60,$A$3:$Y$3,$A$4:$Y$4) -> 11 | H60: =LOOKUP(X60,$A$3:$Y$3,$A$4:$Y$4) -> 12 | ... O60: =LOOKUP(AE60,$A$3:$Y$3,$A$4:$Y$4) -> 21 | Q60: 2 | R60: 4 | S60: 5 | T60: 6 | U60: 7 | V60: 8 | W60: 11 | X60: 12 | Y60: 13 | Z60: 15 | AA60: 16 | AB60: 17 | AC60: 18 | AD60: 19 | AE60: 21 | AG60: =LOOKUP(AW60,$AG$55:$BE$55,$AG$56:$BE$56) -> 1 | AH60: =LOOKUP(AX60,$AG$55:$BE$55,$AG$56:$BE$56) -> 2 | AI60: =LOOKUP(AY60,$AG$55:$BE$55,$AG$56:$BE$56) -> 3 | AJ60: =LOOKUP(AZ60,$AG$55:$BE$55,$AG$56:$BE$56) -> 4 | AK60: =LOOKUP(BA60,$AG$55:$BE$55,$AG$56:$BE$56) -> 5 | AL60: =LOOKUP(BB60,$AG$55:$BE$55,$AG$56:$BE$56) -> 6 | AM60: =LOOKUP(BC60,$AG$55:$BE$55,$AG$56:$BE$56) -> 7 | AN60: =LOOKUP(BD60,$AG$55:$BE$55,$AG$56:$BE$56) -> 8 | ... AU60: =LOOKUP(BK60,$AG$55:$BE$55,$AG$56:$BE$56) -> 22 | AW60: 1 | AX60: 2 | AY60: 3 | AZ60: 4 | BA60: 5 | BB60: 6 | BC60: 7 | BD60: 8 | BE60: 9 | BF60: 10 | BG60: 12 | BH60: 14 | BI60: 15 | BJ60: 16 | BK60: 18 | BM60: =COUNTIF($BM$57:$CK$58,BM57) -> 2 | BN60: =COUNTIF($BM$57:$CK$58,BN57) -> 2 | BO60: =COUNTIF($BM$57:$CK$58,BO57) -> 2 | BP60: =COUNTIF($BM$57:$CK$58,BP57) -> 1 | BQ60: =COUNTIF($BM$57:$CK$58,BQ57) -> 1 | BR60: =COUNTIF($BM$57:$CK$58,BR57) -> 1 | BS60: =COUNTIF($BM$57:$CK$58,BS57) -> 1 | BT60: =COUNTIF($BM$57:$CK$58,BT57) -> 1 | ... CK60: =COUNTIF($BM$57:$CK$58,CK57) -> 1 | CM60: =SMALL($CM6:$DA6,A$3) -> 1 | CN60: =SMALL($CM6:$DA6,B$3) -> 2 | CO60: =SMALL($CM6:$DA6,C$3) -> 3 | CP60: =SMALL($CM6:$DA6,D$3) -> 4 | CQ60: =SMALL($CM6:$DA6,E$3) -> 5 | CR60: =SMALL($CM6:$DA6,F$3) -> 6 | CS60: =SMALL($CM6:$DA6,G$3) -> 7 | CT60: =SMALL($CM6:$DA6,H$3) -> 8 | ... DA60: =SMALL($CM6:$DA6,O$3) -> 21 | DC60: 4 | DS60: =LOOKUP(EI60,$A$3:$U$3,$A$4:$U$4) -> 1 | DT60: =LOOKUP(EJ60,$A$3:$U$3,$A$4:$U$4) -> 4 | DU60: =LOOKUP(EK60,$A$3:$U$3,$A$4:$U$4) -> 5 | DV60: =LOOKUP(EL60,$A$3:$U$3,$A$4:$U$4) -> 6 | DW60: =LOOKUP(EM60,$A$3:$U$3,$A$4:$U$4) -> 7 | DX60: =LOOKUP(EN60,$A$3:$U$3,$A$4:$U$4) -> 9 | DY60: =LOOKUP(EO60,$A$3:$U$3,$A$4:$U$4) -> 12 | DZ60: =LOOKUP(EP60,$A$3:$U$3,$A$4:$U$4) -> 13 | ... EG60: =LOOKUP(EW60,$A$3:$U$3,$A$4:$U$4) -> 21 | EI60: 1 | EJ60: 4 | EK60: 5 | EL60: 6 | EM60: 7 | EN60: 9 | EO60: 12 | EP60: 13 | EQ60: 14 | ER60: 15 | ES60: 16 | ET60: 17 | EU60: 18 | EV60: 19 | EW60: 21
A61: =LOOKUP(Q61,$A$3:$Y$3,$A$4:$Y$4) -> 2 | B61: =LOOKUP(R61,$A$3:$Y$3,$A$4:$Y$4) -> 4 | C61: =LOOKUP(S61,$A$3:$Y$3,$A$4:$Y$4) -> 7 | D61: =LOOKUP(T61,$A$3:$Y$3,$A$4:$Y$4) -> 8 | E61: =LOOKUP(U61,$A$3:$Y$3,$A$4:$Y$4) -> 9 | F61: =LOOKUP(V61,$A$3:$Y$3,$A$4:$Y$4) -> 10 | G61: =LOOKUP(W61,$A$3:$Y$3,$A$4:$Y$4) -> 12 | H61: =LOOKUP(X61,$A$3:$Y$3,$A$4:$Y$4) -> 14 | ... O61: =LOOKUP(AE61,$A$3:$Y$3,$A$4:$Y$4) -> 21 | Q61: 2 | R61: 4 | S61: 7 | T61: 8 | U61: 9 | V61: 10 | W61: 12 | X61: 14 | Y61: 15 | Z61: 16 | AA61: 17 | AB61: 18 | AC61: 19 | AD61: 20 | AE61: 21 | AG61: =LOOKUP(AW61,$AG$55:$BE$55,$AG$56:$BE$56) -> 1 | AH61: =LOOKUP(AX61,$AG$55:$BE$55,$AG$56:$BE$56) -> 2 | AI61: =LOOKUP(AY61,$AG$55:$BE$55,$AG$56:$BE$56) -> 3 | AJ61: =LOOKUP(AZ61,$AG$55:$BE$55,$AG$56:$BE$56) -> 4 | AK61: =LOOKUP(BA61,$AG$55:$BE$55,$AG$56:$BE$56) -> 8 | AL61: =LOOKUP(BB61,$AG$55:$BE$55,$AG$56:$BE$56) -> 9 | AM61: =LOOKUP(BC61,$AG$55:$BE$55,$AG$56:$BE$56) -> 10 | AN61: =LOOKUP(BD61,$AG$55:$BE$55,$AG$56:$BE$56) -> 11 | ... AU61: =LOOKUP(BK61,$AG$55:$BE$55,$AG$56:$BE$56) -> 22 | AW61: 1 | AX61: 2 | AY61: 3 | AZ61: 4 | BA61: 8 | BB61: 9 | BC61: 10 | BD61: 11 | BE61: 12 | BF61: 13 | BG61: 14 | BH61: 15 | BI61: 16 | BJ61: 17 | BK61: 18 | BM61: =IF(BM60=1,BM57,0) -> 0 | BN61: =IF(BN60=1,BN57,0) -> 0 | BO61: =IF(BO60=1,BO57,0) -> 0 | BP61: =IF(BP60=1,BP57,0) -> 4 | BQ61: =IF(BQ60=1,BQ57,0) -> 5 | BR61: =IF(BR60=1,BR57,0) -> 6 | BS61: =IF(BS60=1,BS57,0) -> 7 | BT61: =IF(BT60=1,BT57,0) -> 8 | ... CK61: =IF(CK60=1,CK57,0) -> 25 | CM61: =SMALL($CM7:$DA7,A$3) -> 1 | CN61: =SMALL($CM7:$DA7,B$3) -> 2 | CO61: =SMALL($CM7:$DA7,C$3) -> 3 | CP61: =SMALL($CM7:$DA7,D$3) -> 4 | CQ61: =SMALL($CM7:$DA7,E$3) -> 5 | CR61: =SMALL($CM7:$DA7,F$3) -> 6 | CS61: =SMALL($CM7:$DA7,G$3) -> 7 | CT61: =SMALL($CM7:$DA7,H$3) -> 8 | ... DA61: =SMALL($CM7:$DA7,O$3) -> 17 | DC61: 5 | DS61: =LOOKUP(EI61,$A$3:$U$3,$A$4:$U$4) -> 1 | DT61: =LOOKUP(EJ61,$A$3:$U$3,$A$4:$U$4) -> 3 | DU61: =LOOKUP(EK61,$A$3:$U$3,$A$4:$U$4) -> 6 | DV61: =LOOKUP(EL61,$A$3:$U$3,$A$4:$U$4) -> 7 | DW61: =LOOKUP(EM61,$A$3:$U$3,$A$4:$U$4) -> 9 | DX61: =LOOKUP(EN61,$A$3:$U$3,$A$4:$U$4) -> 10 | DY61: =LOOKUP(EO61,$A$3:$U$3,$A$4:$U$4) -> 13 | DZ61: =LOOKUP(EP61,$A$3:$U$3,$A$4:$U$4) -> 14 | ... EG61: =LOOKUP(EW61,$A$3:$U$3,$A$4:$U$4) -> 21 | EI61: 1 | EJ61: 3 | EK61: 6 | EL61: 7 | EM61: 9 | EN61: 10 | EO61: 13 | EP61: 14 | EQ61: 15 | ER61: 16 | ES61: 17 | ET61: 18 | EU61: 19 | EV61: 20 | EW61: 21
A62: =LOOKUP(Q62,$A$3:$Y$3,$A$4:$Y$4) -> 2 | B62: =LOOKUP(R62,$A$3:$Y$3,$A$4:$Y$4) -> 5 | C62: =LOOKUP(S62,$A$3:$Y$3,$A$4:$Y$4) -> 6 | D62: =LOOKUP(T62,$A$3:$Y$3,$A$4:$Y$4) -> 7 | E62: =LOOKUP(U62,$A$3:$Y$3,$A$4:$Y$4) -> 8 | F62: =LOOKUP(V62,$A$3:$Y$3,$A$4:$Y$4) -> 9 | G62: =LOOKUP(W62,$A$3:$Y$3,$A$4:$Y$4) -> 10 | H62: =LOOKUP(X62,$A$3:$Y$3,$A$4:$Y$4) -> 11 | ... O62: =LOOKUP(AE62,$A$3:$Y$3,$A$4:$Y$4) -> 20 | Q62: 2 | R62: 5 | S62: 6 | T62: 7 | U62: 8 | V62: 9 | W62: 10 | X62: 11 | Y62: 12 | Z62: 14 | AA62: 15 | AB62: 16 | AC62: 17 | AD62: 19 | AE62: 20 | AG62: =LOOKUP(AW62,$AG$55:$BE$55,$AG$56:$BE$56) -> 1 | AH62: =LOOKUP(AX62,$AG$55:$BE$55,$AG$56:$BE$56) -> 2 | AI62: =LOOKUP(AY62,$AG$55:$BE$55,$AG$56:$BE$56) -> 3 | AJ62: =LOOKUP(AZ62,$AG$55:$BE$55,$AG$56:$BE$56) -> 4 | AK62: =LOOKUP(BA62,$AG$55:$BE$55,$AG$56:$BE$56) -> 5 | AL62: =LOOKUP(BB62,$AG$55:$BE$55,$AG$56:$BE$56) -> 6 | AM62: =LOOKUP(BC62,$AG$55:$BE$55,$AG$56:$BE$56) -> 7 | AN62: =LOOKUP(BD62,$AG$55:$BE$55,$AG$56:$BE$56) -> 8 | ... AU62: =LOOKUP(BK62,$AG$55:$BE$55,$AG$56:$BE$56) -> 25 | AW62: 1 | AX62: 2 | AY62: 3 | AZ62: 4 | BA62: 5 | BB62: 6 | BC62: 7 | BD62: 8 | BE62: 9 | BF62: 10 | BG62: 12 | BH62: 14 | BI62: 19 | BJ62: 20 | BK62: 21 | BM62: =LARGE($BM$61:$CK$61,BM57) -> 25 | BN62: =LARGE($BM$61:$CK$61,BN57) -> 24 | BO62: =LARGE($BM$61:$CK$61,BO57) -> 23 | BP62: =LARGE($BM$61:$CK$61,BP57) -> 22 | BQ62: =LARGE($BM$61:$CK$61,BQ57) -> 21 | BR62: =LARGE($BM$61:$CK$61,BR57) -> 20 | BS62: =LARGE($BM$61:$CK$61,BS57) -> 19 | BT62: =LARGE($BM$61:$CK$61,BT57) -> 18 | ... CK62: =LARGE($BM$61:$CK$61,CK57) -> 0 | CM62: =SMALL($CM8:$DA8,A$3) -> 1 | CN62: =SMALL($CM8:$DA8,B$3) -> 2 | CO62: =SMALL($CM8:$DA8,C$3) -> 3 | CP62: =SMALL($CM8:$DA8,D$3) -> 4 | CQ62: =SMALL($CM8:$DA8,E$3) -> 5 | CR62: =SMALL($CM8:$DA8,F$3) -> 6 | CS62: =SMALL($CM8:$DA8,G$3) -> 7 | CT62: =SMALL($CM8:$DA8,H$3) -> 8 | ... DA62: =SMALL($CM8:$DA8,O$3) -> 19 | DC62: 6 | DS62: =LOOKUP(EI62,$A$3:$U$3,$A$4:$U$4) -> 1 | DT62: =LOOKUP(EJ62,$A$3:$U$3,$A$4:$U$4) -> 3 | DU62: =LOOKUP(EK62,$A$3:$U$3,$A$4:$U$4) -> 5 | DV62: =LOOKUP(EL62,$A$3:$U$3,$A$4:$U$4) -> 7 | DW62: =LOOKUP(EM62,$A$3:$U$3,$A$4:$U$4) -> 8 | DX62: =LOOKUP(EN62,$A$3:$U$3,$A$4:$U$4) -> 9 | DY62: =LOOKUP(EO62,$A$3:$U$3,$A$4:$U$4) -> 10 | DZ62: =LOOKUP(EP62,$A$3:$U$3,$A$4:$U$4) -> 11 | ... EG62: =LOOKUP(EW62,$A$3:$U$3,$A$4:$U$4) -> 21 | EI62: 1 | EJ62: 3 | EK62: 5 | EL62: 7 | EM62: 8 | EN62: 9 | EO62: 10 | EP62: 11 | EQ62: 12 | ER62: 14 | ES62: 15 | ET62: 16 | EU62: 17 | EV62: 19 | EW62: 21
A63: =LOOKUP(Q63,$A$3:$Y$3,$A$4:$Y$4) -> 3 | B63: =LOOKUP(R63,$A$3:$Y$3,$A$4:$Y$4) -> 4 | C63: =LOOKUP(S63,$A$3:$Y$3,$A$4:$Y$4) -> 5 | D63: =LOOKUP(T63,$A$3:$Y$3,$A$4:$Y$4) -> 6 | E63: =LOOKUP(U63,$A$3:$Y$3,$A$4:$Y$4) -> 7 | F63: =LOOKUP(V63,$A$3:$Y$3,$A$4:$Y$4) -> 8 | G63: =LOOKUP(W63,$A$3:$Y$3,$A$4:$Y$4) -> 9 | H63: =LOOKUP(X63,$A$3:$Y$3,$A$4:$Y$4) -> 10 | ... O63: =LOOKUP(AE63,$A$3:$Y$3,$A$4:$Y$4) -> 21 | Q63: 3 | R63: 4 | S63: 5 | T63: 6 | U63: 7 | V63: 8 | W63: 9 | X63: 10 | Y63: 11 | Z63: 13 | AA63: 14 | AB63: 15 | AC63: 16 | AD63: 20 | AE63: 21 | AG63: =LOOKUP(AW63,$AG$55:$BE$55,$AG$56:$BE$56) -> 1 | AH63: =LOOKUP(AX63,$AG$55:$BE$55,$AG$56:$BE$56) -> 2 | AI63: =LOOKUP(AY63,$AG$55:$BE$55,$AG$56:$BE$56) -> 3 | AJ63: =LOOKUP(AZ63,$AG$55:$BE$55,$AG$56:$BE$56) -> 4 | AK63: =LOOKUP(BA63,$AG$55:$BE$55,$AG$56:$BE$56) -> 8 | AL63: =LOOKUP(BB63,$AG$55:$BE$55,$AG$56:$BE$56) -> 9 | AM63: =LOOKUP(BC63,$AG$55:$BE$55,$AG$56:$BE$56) -> 10 | AN63: =LOOKUP(BD63,$AG$55:$BE$55,$AG$56:$BE$56) -> 11 | ... AU63: =LOOKUP(BK63,$AG$55:$BE$55,$AG$56:$BE$56) -> 25 | AW63: 1 | AX63: 2 | AY63: 3 | AZ63: 4 | BA63: 8 | BB63: 9 | BC63: 10 | BD63: 11 | BE63: 12 | BF63: 13 | BG63: 14 | BH63: 17 | BI63: 19 | BJ63: 20 | BK63: 21 | BM63: =SMALL($BM$62:$CH$62,BM57) -> 4 | BN63: =SMALL($BM$62:$CH$62,BN57) -> 5 | BO63: =SMALL($BM$62:$CH$62,BO57) -> 6 | BP63: =SMALL($BM$62:$CH$62,BP57) -> 7 | BQ63: =SMALL($BM$62:$CH$62,BQ57) -> 8 | BR63: =SMALL($BM$62:$CH$62,BR57) -> 9 | BS63: =SMALL($BM$62:$CH$62,BS57) -> 10 | BT63: =SMALL($BM$62:$CH$62,BT57) -> 11 | ... CH63: =SMALL($BM$62:$CH$62,CH57) -> 25 | CM63: =SMALL($CM9:$DA9,A$3) -> 1 | CN63: =SMALL($CM9:$DA9,B$3) -> 2 | CO63: =SMALL($CM9:$DA9,C$3) -> 3 | CP63: =SMALL($CM9:$DA9,D$3) -> 4 | CQ63: =SMALL($CM9:$DA9,E$3) -> 5 | CR63: =SMALL($CM9:$DA9,F$3) -> 6 | CS63: =SMALL($CM9:$DA9,G$3) -> 7 | CT63: =SMALL($CM9:$DA9,H$3) -> 8 | ... DA63: =SMALL($CM9:$DA9,O$3) -> 21 | DC63: 7 | DS63: =LOOKUP(EI63,$A$3:$U$3,$A$4:$U$4) -> 1 | DT63: =LOOKUP(EJ63,$A$3:$U$3,$A$4:$U$4) -> 3 | DU63: =LOOKUP(EK63,$A$3:$U$3,$A$4:$U$4) -> 5 | DV63: =LOOKUP(EL63,$A$3:$U$3,$A$4:$U$4) -> 6 | DW63: =LOOKUP(EM63,$A$3:$U$3,$A$4:$U$4) -> 7 | DX63: =LOOKUP(EN63,$A$3:$U$3,$A$4:$U$4) -> 9 | DY63: =LOOKUP(EO63,$A$3:$U$3,$A$4:$U$4) -> 10 | DZ63: =LOOKUP(EP63,$A$3:$U$3,$A$4:$U$4) -> 11 | ... EG63: =LOOKUP(EW63,$A$3:$U$3,$A$4:$U$4) -> 20 | EI63: 1 | EJ63: 3 | EK63: 5 | EL63: 6 | EM63: 7 | EN63: 9 | EO63: 10 | EP63: 11 | EQ63: 12 | ER63: 13 | ES63: 14 | ET63: 15 | EU63: 16 | EV63: 17 | EW63: 20
A64: =LOOKUP(Q64,$A$3:$Y$3,$A$4:$Y$4) -> 3 | B64: =LOOKUP(R64,$A$3:$Y$3,$A$4:$Y$4) -> 4 | C64: =LOOKUP(S64,$A$3:$Y$3,$A$4:$Y$4) -> 5 | D64: =LOOKUP(T64,$A$3:$Y$3,$A$4:$Y$4) -> 6 | E64: =LOOKUP(U64,$A$3:$Y$3,$A$4:$Y$4) -> 7 | F64: =LOOKUP(V64,$A$3:$Y$3,$A$4:$Y$4) -> 8 | G64: =LOOKUP(W64,$A$3:$Y$3,$A$4:$Y$4) -> 9 | H64: =LOOKUP(X64,$A$3:$Y$3,$A$4:$Y$4) -> 10 | ... O64: =LOOKUP(AE64,$A$3:$Y$3,$A$4:$Y$4) -> 21 | Q64: 3 | R64: 4 | S64: 5 | T64: 6 | U64: 7 | V64: 8 | W64: 9 | X64: 10 | Y64: 11 | Z64: 15 | AA64: 17 | AB64: 18 | AC64: 19 | AD64: 20 | AE64: 21 | AG64: =LOOKUP(AW64,$AG$55:$BE$55,$AG$56:$BE$56) -> 1 | AH64: =LOOKUP(AX64,$AG$55:$BE$55,$AG$56:$BE$56) -> 2 | AI64: =LOOKUP(AY64,$AG$55:$BE$55,$AG$56:$BE$56) -> 3 | AJ64: =LOOKUP(AZ64,$AG$55:$BE$55,$AG$56:$BE$56) -> 4 | AK64: =LOOKUP(BA64,$AG$55:$BE$55,$AG$56:$BE$56) -> 5 | AL64: =LOOKUP(BB64,$AG$55:$BE$55,$AG$56:$BE$56) -> 6 | AM64: =LOOKUP(BC64,$AG$55:$BE$55,$AG$56:$BE$56) -> 7 | AN64: =LOOKUP(BD64,$AG$55:$BE$55,$AG$56:$BE$56) -> 8 | ... AU64: =LOOKUP(BK64,$AG$55:$BE$55,$AG$56:$BE$56) -> 21 | AW64: 1 | AX64: 2 | AY64: 3 | AZ64: 4 | BA64: 5 | BB64: 6 | BC64: 7 | BD64: 8 | BE64: 9 | BF64: 10 | BG64: 11 | BH64: 12 | BI64: 13 | BJ64: 14 | BK64: 17 | BM64: =BB56 -> 17 | BN64: =BC56 -> 18 | BO64: =BD56 -> 19 | BP64: =BE56 -> 20 | CM64: =SMALL($CM10:$DA10,A$3) -> 1 | CN64: =SMALL($CM10:$DA10,B$3) -> 2 | CO64: =SMALL($CM10:$DA10,C$3) -> 3 | CP64: =SMALL($CM10:$DA10,D$3) -> 4 | CQ64: =SMALL($CM10:$DA10,E$3) -> 5 | CR64: =SMALL($CM10:$DA10,F$3) -> 6 | CS64: =SMALL($CM10:$DA10,G$3) -> 7 | CT64: =SMALL($CM10:$DA10,H$3) -> 8 | ... DA64: =SMALL($CM10:$DA10,O$3) -> 19 | DC64: 8 | DS64: =LOOKUP(EI64,$A$3:$U$3,$A$4:$U$4) -> 1 | DT64: =LOOKUP(EJ64,$A$3:$U$3,$A$4:$U$4) -> 3 | DU64: =LOOKUP(EK64,$A$3:$U$3,$A$4:$U$4) -> 5 | DV64: =LOOKUP(EL64,$A$3:$U$3,$A$4:$U$4) -> 6 | DW64: =LOOKUP(EM64,$A$3:$U$3,$A$4:$U$4) -> 7 | DX64: =LOOKUP(EN64,$A$3:$U$3,$A$4:$U$4) -> 8 | DY64: =LOOKUP(EO64,$A$3:$U$3,$A$4:$U$4) -> 9 | DZ64: =LOOKUP(EP64,$A$3:$U$3,$A$4:$U$4) -> 12 | ... EG64: =LOOKUP(EW64,$A$3:$U$3,$A$4:$U$4) -> 21 | EI64: 1 | EJ64: 3 | EK64: 5 | EL64: 6 | EM64: 7 | EN64: 8 | EO64: 9 | EP64: 12 | EQ64: 13 | ER64: 14 | ES64: 15 | ET64: 17 | EU64: 19 | EV64: 20 | EW64: 21
A65: =LOOKUP(Q65,$A$3:$Y$3,$A$4:$Y$4) -> 3 | B65: =LOOKUP(R65,$A$3:$Y$3,$A$4:$Y$4) -> 6 | C65: =LOOKUP(S65,$A$3:$Y$3,$A$4:$Y$4) -> 7 | D65: =LOOKUP(T65,$A$3:$Y$3,$A$4:$Y$4) -> 8 | E65: =LOOKUP(U65,$A$3:$Y$3,$A$4:$Y$4) -> 10 | F65: =LOOKUP(V65,$A$3:$Y$3,$A$4:$Y$4) -> 11 | G65: =LOOKUP(W65,$A$3:$Y$3,$A$4:$Y$4) -> 12 | H65: =LOOKUP(X65,$A$3:$Y$3,$A$4:$Y$4) -> 13 | ... O65: =LOOKUP(AE65,$A$3:$Y$3,$A$4:$Y$4) -> 21 | Q65: 3 | R65: 6 | S65: 7 | T65: 8 | U65: 10 | V65: 11 | W65: 12 | X65: 13 | Y65: 14 | Z65: 16 | AA65: 17 | AB65: 18 | AC65: 19 | AD65: 20 | AE65: 21 | AG65: =LOOKUP(AW65,$AG$55:$BE$55,$AG$56:$BE$56) -> 1 | AH65: =LOOKUP(AX65,$AG$55:$BE$55,$AG$56:$BE$56) -> 2 | AI65: =LOOKUP(AY65,$AG$55:$BE$55,$AG$56:$BE$56) -> 3 | AJ65: =LOOKUP(AZ65,$AG$55:$BE$55,$AG$56:$BE$56) -> 4 | AK65: =LOOKUP(BA65,$AG$55:$BE$55,$AG$56:$BE$56) -> 5 | AL65: =LOOKUP(BB65,$AG$55:$BE$55,$AG$56:$BE$56) -> 6 | AM65: =LOOKUP(BC65,$AG$55:$BE$55,$AG$56:$BE$56) -> 7 | AN65: =LOOKUP(BD65,$AG$55:$BE$55,$AG$56:$BE$56) -> 8 | ... AU65: =LOOKUP(BK65,$AG$55:$BE$55,$AG$56:$BE$56) -> 25 | AW65: 1 | AX65: 2 | AY65: 3 | AZ65: 4 | BA65: 5 | BB65: 6 | BC65: 7 | BD65: 8 | BE65: 9 | BF65: 15 | BG65: 16 | BH65: 18 | BI65: 19 | BJ65: 20 | BK65: 21 | BM65: =COUNTIF($BM$63:$CK$64,BM63) -> 1 | BN65: =COUNTIF($BM$63:$CK$64,BN63) -> 1 | BO65: =COUNTIF($BM$63:$CK$64,BO63) -> 1 | BP65: =COUNTIF($BM$63:$CK$64,BP63) -> 1 | BQ65: =COUNTIF($BM$63:$CK$64,BQ63) -> 1 | BR65: =COUNTIF($BM$63:$CK$64,BR63) -> 1 | BS65: =COUNTIF($BM$63:$CK$64,BS63) -> 1 | BT65: =COUNTIF($BM$63:$CK$64,BT63) -> 1 | ... CH65: =COUNTIF($BM$63:$CK$64,CH63) -> 1 | CM65: =SMALL($CM11:$DA11,A$3) -> 1 | CN65: =SMALL($CM11:$DA11,B$3) -> 2 | CO65: =SMALL($CM11:$DA11,C$3) -> 3 | CP65: =SMALL($CM11:$DA11,D$3) -> 4 | CQ65: =SMALL($CM11:$DA11,E$3) -> 5 | CR65: =SMALL($CM11:$DA11,F$3) -> 6 | CS65: =SMALL($CM11:$DA11,G$3) -> 7 | CT65: =SMALL($CM11:$DA11,H$3) -> 8 | ... DA65: =SMALL($CM11:$DA11,O$3) -> 21 | DC65: 9 | DS65: =LOOKUP(EI65,$A$3:$U$3,$A$4:$U$4) -> 1 | DT65: =LOOKUP(EJ65,$A$3:$U$3,$A$4:$U$4) -> 3 | DU65: =LOOKUP(EK65,$A$3:$U$3,$A$4:$U$4) -> 5 | DV65: =LOOKUP(EL65,$A$3:$U$3,$A$4:$U$4) -> 6 | DW65: =LOOKUP(EM65,$A$3:$U$3,$A$4:$U$4) -> 7 | DX65: =LOOKUP(EN65,$A$3:$U$3,$A$4:$U$4) -> 8 | DY65: =LOOKUP(EO65,$A$3:$U$3,$A$4:$U$4) -> 9 | DZ65: =LOOKUP(EP65,$A$3:$U$3,$A$4:$U$4) -> 10 | ... EG65: =LOOKUP(EW65,$A$3:$U$3,$A$4:$U$4) -> 20 | EI65: 1 | EJ65: 3 | EK65: 5 | EL65: 6 | EM65: 7 | EN65: 8 | EO65: 9 | EP65: 10 | EQ65: 11 | ER65: 12 | ES65: 13 | ET65: 17 | EU65: 18 | EV65: 19 | EW65: 20
A66: =LOOKUP(Q66,$A$3:$Y$3,$A$4:$Y$4) -> 5 | B66: =LOOKUP(R66,$A$3:$Y$3,$A$4:$Y$4) -> 6 | C66: =LOOKUP(S66,$A$3:$Y$3,$A$4:$Y$4) -> 7 | D66: =LOOKUP(T66,$A$3:$Y$3,$A$4:$Y$4) -> 8 | E66: =LOOKUP(U66,$A$3:$Y$3,$A$4:$Y$4) -> 9 | F66: =LOOKUP(V66,$A$3:$Y$3,$A$4:$Y$4) -> 10 | G66: =LOOKUP(W66,$A$3:$Y$3,$A$4:$Y$4) -> 12 | H66: =LOOKUP(X66,$A$3:$Y$3,$A$4:$Y$4) -> 13 | ... O66: =LOOKUP(AE66,$A$3:$Y$3,$A$4:$Y$4) -> 21 | Q66: 5 | R66: 6 | S66: 7 | T66: 8 | U66: 9 | V66: 10 | W66: 12 | X66: 13 | Y66: 14 | Z66: 15 | AA66: 16 | AB66: 17 | AC66: 18 | AD66: 19 | AE66: 21 | AG66: =LOOKUP(AW66,$AG$55:$BE$55,$AG$56:$BE$56) -> 1 | AH66: =LOOKUP(AX66,$AG$55:$BE$55,$AG$56:$BE$56) -> 2 | AI66: =LOOKUP(AY66,$AG$55:$BE$55,$AG$56:$BE$56) -> 3 | AJ66: =LOOKUP(AZ66,$AG$55:$BE$55,$AG$56:$BE$56) -> 4 | AK66: =LOOKUP(BA66,$AG$55:$BE$55,$AG$56:$BE$56) -> 8 | AL66: =LOOKUP(BB66,$AG$55:$BE$55,$AG$56:$BE$56) -> 9 | AM66: =LOOKUP(BC66,$AG$55:$BE$55,$AG$56:$BE$56) -> 11 | AN66: =LOOKUP(BD66,$AG$55:$BE$55,$AG$56:$BE$56) -> 13 | ... AU66: =LOOKUP(BK66,$AG$55:$BE$55,$AG$56:$BE$56) -> 25 | AW66: 1 | AX66: 2 | AY66: 3 | AZ66: 4 | BA66: 8 | BB66: 9 | BC66: 11 | BD66: 13 | BE66: 15 | BF66: 16 | BG66: 17 | BH66: 18 | BI66: 19 | BJ66: 20 | BK66: 21 | BM66: =IF(BM65=1,BM63,0) -> 4 | BN66: =IF(BN65=1,BN63,0) -> 5 | BO66: =IF(BO65=1,BO63,0) -> 6 | BP66: =IF(BP65=1,BP63,0) -> 7 | BQ66: =IF(BQ65=1,BQ63,0) -> 8 | BR66: =IF(BR65=1,BR63,0) -> 9 | BS66: =IF(BS65=1,BS63,0) -> 10 | BT66: =IF(BT65=1,BT63,0) -> 11 | ... CH66: =IF(CH65=1,CH63,0) -> 25 | CM66: =SMALL($CM12:$DA12,A$3) -> 1 | CN66: =SMALL($CM12:$DA12,B$3) -> 2 | CO66: =SMALL($CM12:$DA12,C$3) -> 3 | CP66: =SMALL($CM12:$DA12,D$3) -> 4 | CQ66: =SMALL($CM12:$DA12,E$3) -> 5 | CR66: =SMALL($CM12:$DA12,F$3) -> 6 | CS66: =SMALL($CM12:$DA12,G$3) -> 7 | CT66: =SMALL($CM12:$DA12,H$3) -> 8 | ... DA66: =SMALL($CM12:$DA12,O$3) -> 21 | DC66: 10 | DS66: =LOOKUP(EI66,$A$3:$U$3,$A$4:$U$4) -> 1 | DT66: =LOOKUP(EJ66,$A$3:$U$3,$A$4:$U$4) -> 3 | DU66: =LOOKUP(EK66,$A$3:$U$3,$A$4:$U$4) -> 4 | DV66: =LOOKUP(EL66,$A$3:$U$3,$A$4:$U$4) -> 5 | DW66: =LOOKUP(EM66,$A$3:$U$3,$A$4:$U$4) -> 6 | DX66: =LOOKUP(EN66,$A$3:$U$3,$A$4:$U$4) -> 7 | DY66: =LOOKUP(EO66,$A$3:$U$3,$A$4:$U$4) -> 8 | DZ66: =LOOKUP(EP66,$A$3:$U$3,$A$4:$U$4) -> 9 | ... EG66: =LOOKUP(EW66,$A$3:$U$3,$A$4:$U$4) -> 21 | EI66: 1 | EJ66: 3 | EK66: 4 | EL66: 5 | EM66: 6 | EN66: 7 | EO66: 8 | EP66: 9 | EQ66: 10 | ER66: 12 | ES66: 14 | ET66: 15 | EU66: 17 | EV66: 18 | EW66: 21
AG67: =LOOKUP(AW67,$AG$55:$BE$55,$AG$56:$BE$56) -> 1 | AH67: =LOOKUP(AX67,$AG$55:$BE$55,$AG$56:$BE$56) -> 2 | AI67: =LOOKUP(AY67,$AG$55:$BE$55,$AG$56:$BE$56) -> 3 | AJ67: =LOOKUP(AZ67,$AG$55:$BE$55,$AG$56:$BE$56) -> 4 | AK67: =LOOKUP(BA67,$AG$55:$BE$55,$AG$56:$BE$56) -> 5 | AL67: =LOOKUP(BB67,$AG$55:$BE$55,$AG$56:$BE$56) -> 6 | AM67: =LOOKUP(BC67,$AG$55:$BE$55,$AG$56:$BE$56) -> 7 | AN67: =LOOKUP(BD67,$AG$55:$BE$55,$AG$56:$BE$56) -> 8 | ... AU67: =LOOKUP(BK67,$AG$55:$BE$55,$AG$56:$BE$56) -> 22 | AW67: 1 | AX67: 2 | AY67: 3 | AZ67: 4 | BA67: 5 | BB67: 6 | BC67: 7 | BD67: 8 | BE67: 9 | BF67: 11 | BG67: 13 | BH67: 15 | BI67: 16 | BJ67: 17 | BK67: 18 | BM67: =LARGE($BM$66:$CH$66,BM57) -> 25 | BN67: =LARGE($BM$66:$CH$66,BN57) -> 24 | BO67: =LARGE($BM$66:$CH$66,BO57) -> 23 | BP67: =LARGE($BM$66:$CH$66,BP57) -> 22 | BQ67: =LARGE($BM$66:$CH$66,BQ57) -> 21 | BR67: =LARGE($BM$66:$CH$66,BR57) -> 16 | BS67: =LARGE($BM$66:$CH$66,BS57) -> 15 | BT67: =LARGE($BM$66:$CH$66,BT57) -> 14 | ... CD67: =LARGE($BM$66:$CH$66,CD57) -> 4 | CM67: =SMALL($CM13:$DA13,A$3) -> 1 | CN67: =SMALL($CM13:$DA13,B$3) -> 2 | CO67: =SMALL($CM13:$DA13,C$3) -> 3 | CP67: =SMALL($CM13:$DA13,D$3) -> 4 | CQ67: =SMALL($CM13:$DA13,E$3) -> 5 | CR67: =SMALL($CM13:$DA13,F$3) -> 6 | CS67: =SMALL($CM13:$DA13,G$3) -> 7 | CT67: =SMALL($CM13:$DA13,H$3) -> 8 | ... DA67: =SMALL($CM13:$DA13,O$3) -> 17 | DC67: 11 | DS67: =LOOKUP(EI67,$A$3:$U$3,$A$4:$U$4) -> 1 | DT67: =LOOKUP(EJ67,$A$3:$U$3,$A$4:$U$4) -> 3 | DU67: =LOOKUP(EK67,$A$3:$U$3,$A$4:$U$4) -> 4 | DV67: =LOOKUP(EL67,$A$3:$U$3,$A$4:$U$4) -> 6 | DW67: =LOOKUP(EM67,$A$3:$U$3,$A$4:$U$4) -> 7 | DX67: =LOOKUP(EN67,$A$3:$U$3,$A$4:$U$4) -> 8 | DY67: =LOOKUP(EO67,$A$3:$U$3,$A$4:$U$4) -> 10 | DZ67: =LOOKUP(EP67,$A$3:$U$3,$A$4:$U$4) -> 11 | ... EG67: =LOOKUP(EW67,$A$3:$U$3,$A$4:$U$4) -> 21 | EI67: 1 | EJ67: 3 | EK67: 4 | EL67: 6 | EM67: 7 | EN67: 8 | EO67: 10 | EP67: 11 | EQ67: 14 | ER67: 15 | ES67: 16 | ET67: 18 | EU67: 19 | EV67: 20 | EW67: 21
A68: =SMALL($A9:$O9,A$3) -> 1 | B68: =SMALL($A9:$O9,B$3) -> 2 | C68: =SMALL($A9:$O9,C$3) -> 3 | D68: =SMALL($A9:$O9,D$3) -> 4 | E68: =SMALL($A9:$O9,E$3) -> 5 | F68: =SMALL($A9:$O9,F$3) -> 6 | G68: =SMALL($A9:$O9,G$3) -> 7 | H68: =SMALL($A9:$O9,H$3) -> 8 | ... O68: =SMALL($A9:$O9,O$3) -> 21 | R68: 1 | AG68: =LOOKUP(AW68,$AG$55:$BE$55,$AG$56:$BE$56) -> 1 | AH68: =LOOKUP(AX68,$AG$55:$BE$55,$AG$56:$BE$56) -> 2 | AI68: =LOOKUP(AY68,$AG$55:$BE$55,$AG$56:$BE$56) -> 3 | AJ68: =LOOKUP(AZ68,$AG$55:$BE$55,$AG$56:$BE$56) -> 4 | AK68: =LOOKUP(BA68,$AG$55:$BE$55,$AG$56:$BE$56) -> 5 | AL68: =LOOKUP(BB68,$AG$55:$BE$55,$AG$56:$BE$56) -> 6 | AM68: =LOOKUP(BC68,$AG$55:$BE$55,$AG$56:$BE$56) -> 7 | AN68: =LOOKUP(BD68,$AG$55:$BE$55,$AG$56:$BE$56) -> 8 | ... AU68: =LOOKUP(BK68,$AG$55:$BE$55,$AG$56:$BE$56) -> 25 | AW68: 1 | AX68: 2 | AY68: 3 | AZ68: 4 | BA68: 5 | BB68: 6 | BC68: 7 | BD68: 8 | BE68: 9 | BF68: 11 | BG68: 13 | BH68: 17 | BI68: 19 | BJ68: 20 | BK68: 21 | BM68: =SMALL($BM$67:$CD$67,BM57) -> 4 | BN68: =SMALL($BM$67:$CD$67,BN57) -> 5 | BO68: =SMALL($BM$67:$CD$67,BO57) -> 6 | BP68: =SMALL($BM$67:$CD$67,BP57) -> 7 | BQ68: =SMALL($BM$67:$CD$67,BQ57) -> 8 | BR68: =SMALL($BM$67:$CD$67,BR57) -> 9 | BS68: =SMALL($BM$67:$CD$67,BS57) -> 10 | BT68: =SMALL($BM$67:$CD$67,BT57) -> 11 | ... CD68: =SMALL($BM$67:$CD$67,CD57) -> 25 | CM68: =SMALL($CM14:$DA14,A$3) -> 1 | CN68: =SMALL($CM14:$DA14,B$3) -> 2 | CO68: =SMALL($CM14:$DA14,C$3) -> 3 | CP68: =SMALL($CM14:$DA14,D$3) -> 4 | CQ68: =SMALL($CM14:$DA14,E$3) -> 5 | CR68: =SMALL($CM14:$DA14,F$3) -> 6 | CS68: =SMALL($CM14:$DA14,G$3) -> 7 | CT68: =SMALL($CM14:$DA14,H$3) -> 8 | ... DA68: =SMALL($CM14:$DA14,O$3) -> 19 | DC68: 12 | DS68: =LOOKUP(EI68,$A$3:$U$3,$A$4:$U$4) -> 1 | DT68: =LOOKUP(EJ68,$A$3:$U$3,$A$4:$U$4) -> 3 | DU68: =LOOKUP(EK68,$A$3:$U$3,$A$4:$U$4) -> 4 | DV68: =LOOKUP(EL68,$A$3:$U$3,$A$4:$U$4) -> 6 | DW68: =LOOKUP(EM68,$A$3:$U$3,$A$4:$U$4) -> 7 | DX68: =LOOKUP(EN68,$A$3:$U$3,$A$4:$U$4) -> 8 | DY68: =LOOKUP(EO68,$A$3:$U$3,$A$4:$U$4) -> 9 | DZ68: =LOOKUP(EP68,$A$3:$U$3,$A$4:$U$4) -> 11 | ... EG68: =LOOKUP(EW68,$A$3:$U$3,$A$4:$U$4) -> 18 | EI68: 1 | EJ68: 3 | EK68: 4 | EL68: 6 | EM68: 7 | EN68: 8 | EO68: 9 | EP68: 11 | EQ68: 12 | ER68: 13 | ES68: 14 | ET68: 15 | EU68: 16 | EV68: 17 | EW68: 18
A69: =SMALL($A10:$O10,A$3) -> 1 | B69: =SMALL($A10:$O10,B$3) -> 2 | C69: =SMALL($A10:$O10,C$3) -> 3 | D69: =SMALL($A10:$O10,D$3) -> 4 | E69: =SMALL($A10:$O10,E$3) -> 5 | F69: =SMALL($A10:$O10,F$3) -> 6 | G69: =SMALL($A10:$O10,G$3) -> 7 | H69: =SMALL($A10:$O10,H$3) -> 8 | ... O69: =SMALL($A10:$O10,O$3) -> 21 | R69: 2 | AG69: =LOOKUP(AW69,$AG$55:$BE$55,$AG$56:$BE$56) -> 1 | AH69: =LOOKUP(AX69,$AG$55:$BE$55,$AG$56:$BE$56) -> 2 | AI69: =LOOKUP(AY69,$AG$55:$BE$55,$AG$56:$BE$56) -> 3 | AJ69: =LOOKUP(AZ69,$AG$55:$BE$55,$AG$56:$BE$56) -> 5 | AK69: =LOOKUP(BA69,$AG$55:$BE$55,$AG$56:$BE$56) -> 6 | AL69: =LOOKUP(BB69,$AG$55:$BE$55,$AG$56:$BE$56) -> 7 | AM69: =LOOKUP(BC69,$AG$55:$BE$55,$AG$56:$BE$56) -> 10 | AN69: =LOOKUP(BD69,$AG$55:$BE$55,$AG$56:$BE$56) -> 12 | ... AU69: =LOOKUP(BK69,$AG$55:$BE$55,$AG$56:$BE$56) -> 25 | AW69: 1 | AX69: 2 | AY69: 3 | AZ69: 5 | BA69: 6 | BB69: 7 | BC69: 10 | BD69: 12 | BE69: 14 | BF69: 15 | BG69: 16 | BH69: 18 | BI69: 19 | BJ69: 20 | BK69: 21 | CM69: =SMALL($CM15:$DA15,A$3) -> 1 | CN69: =SMALL($CM15:$DA15,B$3) -> 2 | CO69: =SMALL($CM15:$DA15,C$3) -> 3 | CP69: =SMALL($CM15:$DA15,D$3) -> 4 | CQ69: =SMALL($CM15:$DA15,E$3) -> 5 | CR69: =SMALL($CM15:$DA15,F$3) -> 6 | CS69: =SMALL($CM15:$DA15,G$3) -> 7 | CT69: =SMALL($CM15:$DA15,H$3) -> 8 | ... DA69: =SMALL($CM15:$DA15,O$3) -> 21 | DC69: 13 | DS69: =LOOKUP(EI69,$A$3:$U$3,$A$4:$U$4) -> 1 | DT69: =LOOKUP(EJ69,$A$3:$U$3,$A$4:$U$4) -> 3 | DU69: =LOOKUP(EK69,$A$3:$U$3,$A$4:$U$4) -> 4 | DV69: =LOOKUP(EL69,$A$3:$U$3,$A$4:$U$4) -> 5 | DW69: =LOOKUP(EM69,$A$3:$U$3,$A$4:$U$4) -> 7 | DX69: =LOOKUP(EN69,$A$3:$U$3,$A$4:$U$4) -> 10 | DY69: =LOOKUP(EO69,$A$3:$U$3,$A$4:$U$4) -> 11 | DZ69: =LOOKUP(EP69,$A$3:$U$3,$A$4:$U$4) -> 12 | ... EG69: =LOOKUP(EW69,$A$3:$U$3,$A$4:$U$4) -> 20 | EI69: 1 | EJ69: 3 | EK69: 4 | EL69: 5 | EM69: 7 | EN69: 10 | EO69: 11 | EP69: 12 | EQ69: 13 | ER69: 14 | ES69: 15 | ET69: 17 | EU69: 18 | EV69: 19 | EW69: 20
A70: =SMALL($A11:$O11,A$3) -> 1 | B70: =SMALL($A11:$O11,B$3) -> 2 | C70: =SMALL($A11:$O11,C$3) -> 3 | D70: =SMALL($A11:$O11,D$3) -> 4 | E70: =SMALL($A11:$O11,E$3) -> 5 | F70: =SMALL($A11:$O11,F$3) -> 6 | G70: =SMALL($A11:$O11,G$3) -> 7 | H70: =SMALL($A11:$O11,H$3) -> 10 | ... O70: =SMALL($A11:$O11,O$3) -> 20 | R70: 3 | AG70: =LOOKUP(AW70,$AG$55:$BE$55,$AG$56:$BE$56) -> 1 | AH70: =LOOKUP(AX70,$AG$55:$BE$55,$AG$56:$BE$56) -> 2 | AI70: =LOOKUP(AY70,$AG$55:$BE$55,$AG$56:$BE$56) -> 3 | AJ70: =LOOKUP(AZ70,$AG$55:$BE$55,$AG$56:$BE$56) -> 10 | AK70: =LOOKUP(BA70,$AG$55:$BE$55,$AG$56:$BE$56) -> 11 | AL70: =LOOKUP(BB70,$AG$55:$BE$55,$AG$56:$BE$56) -> 12 | AM70: =LOOKUP(BC70,$AG$55:$BE$55,$AG$56:$BE$56) -> 13 | AN70: =LOOKUP(BD70,$AG$55:$BE$55,$AG$56:$BE$56) -> 14 | ... AU70: =LOOKUP(BK70,$AG$55:$BE$55,$AG$56:$BE$56) -> 25 | AW70: 1 | AX70: 2 | AY70: 3 | AZ70: 10 | BA70: 11 | BB70: 12 | BC70: 13 | BD70: 14 | BE70: 15 | BF70: 16 | BG70: 17 | BH70: 18 | BI70: 19 | BJ70: 20 | BK70: 21 | CM70: =SMALL($CM16:$DA16,A$3) -> 1 | CN70: =SMALL($CM16:$DA16,B$3) -> 2 | CO70: =SMALL($CM16:$DA16,C$3) -> 3 | CP70: =SMALL($CM16:$DA16,D$3) -> 4 | CQ70: =SMALL($CM16:$DA16,E$3) -> 5 | CR70: =SMALL($CM16:$DA16,F$3) -> 6 | CS70: =SMALL($CM16:$DA16,G$3) -> 7 | CT70: =SMALL($CM16:$DA16,H$3) -> 8 | ... DA70: =SMALL($CM16:$DA16,O$3) -> 19 | DC70: 14 | DS70: =LOOKUP(EI70,$A$3:$U$3,$A$4:$U$4) -> 1 | DT70: =LOOKUP(EJ70,$A$3:$U$3,$A$4:$U$4) -> 3 | DU70: =LOOKUP(EK70,$A$3:$U$3,$A$4:$U$4) -> 4 | DV70: =LOOKUP(EL70,$A$3:$U$3,$A$4:$U$4) -> 5 | DW70: =LOOKUP(EM70,$A$3:$U$3,$A$4:$U$4) -> 7 | DX70: =LOOKUP(EN70,$A$3:$U$3,$A$4:$U$4) -> 8 | DY70: =LOOKUP(EO70,$A$3:$U$3,$A$4:$U$4) -> 10 | DZ70: =LOOKUP(EP70,$A$3:$U$3,$A$4:$U$4) -> 11 | ... EG70: =LOOKUP(EW70,$A$3:$U$3,$A$4:$U$4) -> 21 | EI70: 1 | EJ70: 3 | EK70: 4 | EL70: 5 | EM70: 7 | EN70: 8 | EO70: 10 | EP70: 11 | EQ70: 12 | ER70: 13 | ES70: 14 | ET70: 16 | EU70: 18 | EV70: 20 | EW70: 21
A71: =SMALL($A12:$O12,A$3) -> 1 | B71: =SMALL($A12:$O12,B$3) -> 2 | C71: =SMALL($A12:$O12,C$3) -> 3 | D71: =SMALL($A12:$O12,D$3) -> 4 | E71: =SMALL($A12:$O12,E$3) -> 5 | F71: =SMALL($A12:$O12,F$3) -> 6 | G71: =SMALL($A12:$O12,G$3) -> 8 | H71: =SMALL($A12:$O12,H$3) -> 10 | ... O71: =SMALL($A12:$O12,O$3) -> 18 | R71: 4 | AG71: =LOOKUP(AW71,$AG$55:$BE$55,$AG$56:$BE$56) -> 1 | AH71: =LOOKUP(AX71,$AG$55:$BE$55,$AG$56:$BE$56) -> 2 | AI71: =LOOKUP(AY71,$AG$55:$BE$55,$AG$56:$BE$56) -> 3 | AJ71: =LOOKUP(AZ71,$AG$55:$BE$55,$AG$56:$BE$56) -> 5 | AK71: =LOOKUP(BA71,$AG$55:$BE$55,$AG$56:$BE$56) -> 6 | AL71: =LOOKUP(BB71,$AG$55:$BE$55,$AG$56:$BE$56) -> 7 | AM71: =LOOKUP(BC71,$AG$55:$BE$55,$AG$56:$BE$56) -> 10 | AN71: =LOOKUP(BD71,$AG$55:$BE$55,$AG$56:$BE$56) -> 11 | ... AU71: =LOOKUP(BK71,$AG$55:$BE$55,$AG$56:$BE$56) -> 22 | AW71: 1 | AX71: 2 | AY71: 3 | AZ71: 5 | BA71: 6 | BB71: 7 | BC71: 10 | BD71: 11 | BE71: 12 | BF71: 13 | BG71: 14 | BH71: 15 | BI71: 16 | BJ71: 17 | BK71: 18 | CM71: =SMALL($CM17:$DA17,A$3) -> 1 | CN71: =SMALL($CM17:$DA17,B$3) -> 2 | CO71: =SMALL($CM17:$DA17,C$3) -> 3 | CP71: =SMALL($CM17:$DA17,D$3) -> 4 | CQ71: =SMALL($CM17:$DA17,E$3) -> 5 | CR71: =SMALL($CM17:$DA17,F$3) -> 6 | CS71: =SMALL($CM17:$DA17,G$3) -> 7 | CT71: =SMALL($CM17:$DA17,H$3) -> 8 | ... DA71: =SMALL($CM17:$DA17,O$3) -> 21 | DC71: 15 | DS71: =LOOKUP(EI71,$A$3:$U$3,$A$4:$U$4) -> 1 | DT71: =LOOKUP(EJ71,$A$3:$U$3,$A$4:$U$4) -> 3 | DU71: =LOOKUP(EK71,$A$3:$U$3,$A$4:$U$4) -> 4 | DV71: =LOOKUP(EL71,$A$3:$U$3,$A$4:$U$4) -> 5 | DW71: =LOOKUP(EM71,$A$3:$U$3,$A$4:$U$4) -> 6 | DX71: =LOOKUP(EN71,$A$3:$U$3,$A$4:$U$4) -> 9 | DY71: =LOOKUP(EO71,$A$3:$U$3,$A$4:$U$4) -> 11 | DZ71: =LOOKUP(EP71,$A$3:$U$3,$A$4:$U$4) -> 12 | ... EG71: =LOOKUP(EW71,$A$3:$U$3,$A$4:$U$4) -> 21 | EI71: 1 | EJ71: 3 | EK71: 4 | EL71: 5 | EM71: 6 | EN71: 9 | EO71: 11 | EP71: 12 | EQ71: 15 | ER71: 16 | ES71: 17 | ET71: 18 | EU71: 19 | EV71: 20 | EW71: 21
A72: =SMALL($A13:$O13,A$3) -> 1 | B72: =SMALL($A13:$O13,B$3) -> 2 | C72: =SMALL($A13:$O13,C$3) -> 3 | D72: =SMALL($A13:$O13,D$3) -> 4 | E72: =SMALL($A13:$O13,E$3) -> 5 | F72: =SMALL($A13:$O13,F$3) -> 6 | G72: =SMALL($A13:$O13,G$3) -> 8 | H72: =SMALL($A13:$O13,H$3) -> 10 | ... O72: =SMALL($A13:$O13,O$3) -> 21 | R72: 5 | AG72: =LOOKUP(AW72,$AG$55:$BE$55,$AG$56:$BE$56) -> 1 | AH72: =LOOKUP(AX72,$AG$55:$BE$55,$AG$56:$BE$56) -> 2 | AI72: =LOOKUP(AY72,$AG$55:$BE$55,$AG$56:$BE$56) -> 3 | AJ72: =LOOKUP(AZ72,$AG$55:$BE$55,$AG$56:$BE$56) -> 5 | AK72: =LOOKUP(BA72,$AG$55:$BE$55,$AG$56:$BE$56) -> 6 | AL72: =LOOKUP(BB72,$AG$55:$BE$55,$AG$56:$BE$56) -> 7 | AM72: =LOOKUP(BC72,$AG$55:$BE$55,$AG$56:$BE$56) -> 10 | AN72: =LOOKUP(BD72,$AG$55:$BE$55,$AG$56:$BE$56) -> 11 | ... AU72: =LOOKUP(BK72,$AG$55:$BE$55,$AG$56:$BE$56) -> 25 | AW72: 1 | AX72: 2 | AY72: 3 | AZ72: 5 | BA72: 6 | BB72: 7 | BC72: 10 | BD72: 11 | BE72: 12 | BF72: 13 | BG72: 14 | BH72: 17 | BI72: 19 | BJ72: 20 | BK72: 21 | CM72: =SMALL($CM18:$DA18,A$3) -> 1 | CN72: =SMALL($CM18:$DA18,B$3) -> 2 | CO72: =SMALL($CM18:$DA18,C$3) -> 3 | CP72: =SMALL($CM18:$DA18,D$3) -> 4 | CQ72: =SMALL($CM18:$DA18,E$3) -> 5 | CR72: =SMALL($CM18:$DA18,F$3) -> 6 | CS72: =SMALL($CM18:$DA18,G$3) -> 7 | CT72: =SMALL($CM18:$DA18,H$3) -> 8 | ... DA72: =SMALL($CM18:$DA18,O$3) -> 21 | DC72: 16 | DS72: =LOOKUP(EI72,$A$3:$U$3,$A$4:$U$4) -> 1 | DT72: =LOOKUP(EJ72,$A$3:$U$3,$A$4:$U$4) -> 3 | DU72: =LOOKUP(EK72,$A$3:$U$3,$A$4:$U$4) -> 4 | DV72: =LOOKUP(EL72,$A$3:$U$3,$A$4:$U$4) -> 5 | DW72: =LOOKUP(EM72,$A$3:$U$3,$A$4:$U$4) -> 6 | DX72: =LOOKUP(EN72,$A$3:$U$3,$A$4:$U$4) -> 8 | DY72: =LOOKUP(EO72,$A$3:$U$3,$A$4:$U$4) -> 10 | DZ72: =LOOKUP(EP72,$A$3:$U$3,$A$4:$U$4) -> 12 | ... EG72: =LOOKUP(EW72,$A$3:$U$3,$A$4:$U$4) -> 21 | EI72: 1 | EJ72: 3 | EK72: 4 | EL72: 5 | EM72: 6 | EN72: 8 | EO72: 10 | EP72: 12 | EQ72: 13 | ER72: 14 | ES72: 15 | ET72: 17 | EU72: 18 | EV72: 20 | EW72: 21
A73: =SMALL($A14:$O14,A$3) -> 1 | B73: =SMALL($A14:$O14,B$3) -> 2 | C73: =SMALL($A14:$O14,C$3) -> 3 | D73: =SMALL($A14:$O14,D$3) -> 4 | E73: =SMALL($A14:$O14,E$3) -> 5 | F73: =SMALL($A14:$O14,F$3) -> 6 | G73: =SMALL($A14:$O14,G$3) -> 9 | H73: =SMALL($A14:$O14,H$3) -> 10 | ... O73: =SMALL($A14:$O14,O$3) -> 21 | R73: 6 | AG73: =LOOKUP(AW73,$AG$55:$BE$55,$AG$56:$BE$56) -> 1 | AH73: =LOOKUP(AX73,$AG$55:$BE$55,$AG$56:$BE$56) -> 2 | AI73: =LOOKUP(AY73,$AG$55:$BE$55,$AG$56:$BE$56) -> 3 | AJ73: =LOOKUP(AZ73,$AG$55:$BE$55,$AG$56:$BE$56) -> 5 | AK73: =LOOKUP(BA73,$AG$55:$BE$55,$AG$56:$BE$56) -> 6 | AL73: =LOOKUP(BB73,$AG$55:$BE$55,$AG$56:$BE$56) -> 7 | AM73: =LOOKUP(BC73,$AG$55:$BE$55,$AG$56:$BE$56) -> 11 | AN73: =LOOKUP(BD73,$AG$55:$BE$55,$AG$56:$BE$56) -> 13 | ... AU73: =LOOKUP(BK73,$AG$55:$BE$55,$AG$56:$BE$56) -> 25 | AW73: 1 | AX73: 2 | AY73: 3 | AZ73: 5 | BA73: 6 | BB73: 7 | BC73: 11 | BD73: 13 | BE73: 15 | BF73: 16 | BG73: 17 | BH73: 18 | BI73: 19 | BJ73: 20 | BK73: 21 | CM73: =SMALL($CM19:$DA19,A$3) -> 1 | CN73: =SMALL($CM19:$DA19,B$3) -> 2 | CO73: =SMALL($CM19:$DA19,C$3) -> 3 | CP73: =SMALL($CM19:$DA19,D$3) -> 4 | CQ73: =SMALL($CM19:$DA19,E$3) -> 5 | CR73: =SMALL($CM19:$DA19,F$3) -> 6 | CS73: =SMALL($CM19:$DA19,G$3) -> 7 | CT73: =SMALL($CM19:$DA19,H$3) -> 8 | ... DA73: =SMALL($CM19:$DA19,O$3) -> 19 | DC73: 17 | DS73: =LOOKUP(EI73,$A$3:$U$3,$A$4:$U$4) -> 1 | DT73: =LOOKUP(EJ73,$A$3:$U$3,$A$4:$U$4) -> 3 | DU73: =LOOKUP(EK73,$A$3:$U$3,$A$4:$U$4) -> 4 | DV73: =LOOKUP(EL73,$A$3:$U$3,$A$4:$U$4) -> 5 | DW73: =LOOKUP(EM73,$A$3:$U$3,$A$4:$U$4) -> 6 | DX73: =LOOKUP(EN73,$A$3:$U$3,$A$4:$U$4) -> 7 | DY73: =LOOKUP(EO73,$A$3:$U$3,$A$4:$U$4) -> 8 | DZ73: =LOOKUP(EP73,$A$3:$U$3,$A$4:$U$4) -> 9 | ... EG73: =LOOKUP(EW73,$A$3:$U$3,$A$4:$U$4) -> 20 | EI73: 1 | EJ73: 3 | EK73: 4 | EL73: 5 | EM73: 6 | EN73: 7 | EO73: 8 | EP73: 9 | EQ73: 11 | ER73: 12 | ES73: 13 | ET73: 14 | EU73: 16 | EV73: 19 | EW73: 20
A74: =SMALL($A15:$O15,A$3) -> 1 | B74: =SMALL($A15:$O15,B$3) -> 2 | C74: =SMALL($A15:$O15,C$3) -> 3 | D74: =SMALL($A15:$O15,D$3) -> 4 | E74: =SMALL($A15:$O15,E$3) -> 5 | F74: =SMALL($A15:$O15,F$3) -> 7 | G74: =SMALL($A15:$O15,G$3) -> 9 | H74: =SMALL($A15:$O15,H$3) -> 11 | ... O74: =SMALL($A15:$O15,O$3) -> 21 | R74: 7 | CM74: =SMALL($CM20:$DA20,A$3) -> 1 | CN74: =SMALL($CM20:$DA20,B$3) -> 2 | CO74: =SMALL($CM20:$DA20,C$3) -> 3 | CP74: =SMALL($CM20:$DA20,D$3) -> 4 | CQ74: =SMALL($CM20:$DA20,E$3) -> 5 | CR74: =SMALL($CM20:$DA20,F$3) -> 6 | CS74: =SMALL($CM20:$DA20,G$3) -> 7 | CT74: =SMALL($CM20:$DA20,H$3) -> 8 | ... DA74: =SMALL($CM20:$DA20,O$3) -> 21 | DC74: 18 | DS74: =LOOKUP(EI74,$A$3:$U$3,$A$4:$U$4) -> 1 | DT74: =LOOKUP(EJ74,$A$3:$U$3,$A$4:$U$4) -> 3 | DU74: =LOOKUP(EK74,$A$3:$U$3,$A$4:$U$4) -> 4 | DV74: =LOOKUP(EL74,$A$3:$U$3,$A$4:$U$4) -> 6 | DW74: =LOOKUP(EM74,$A$3:$U$3,$A$4:$U$4) -> 8 | DX74: =LOOKUP(EN74,$A$3:$U$3,$A$4:$U$4) -> 9 | DY74: =LOOKUP(EO74,$A$3:$U$3,$A$4:$U$4) -> 10 | DZ74: =LOOKUP(EP74,$A$3:$U$3,$A$4:$U$4) -> 11 | ... EG74: =LOOKUP(EW74,$A$3:$U$3,$A$4:$U$4) -> 21 | EI74: 1 | EJ74: 3 | EK74: 4 | EL74: 6 | EM74: 8 | EN74: 9 | EO74: 10 | EP74: 11 | EQ74: 13 | ER74: 14 | ES74: 16 | ET74: 17 | EU74: 19 | EV74: 20 | EW74: 21
A75: =SMALL($A16:$O16,A$3) -> 1 | B75: =SMALL($A16:$O16,B$3) -> 2 | C75: =SMALL($A16:$O16,C$3) -> 3 | D75: =SMALL($A16:$O16,D$3) -> 4 | E75: =SMALL($A16:$O16,E$3) -> 5 | F75: =SMALL($A16:$O16,F$3) -> 7 | G75: =SMALL($A16:$O16,G$3) -> 9 | H75: =SMALL($A16:$O16,H$3) -> 11 | ... O75: =SMALL($A16:$O16,O$3) -> 20 | R75: 8 | CM75: =SMALL($CM21:$DA21,A$3) -> 1 | CN75: =SMALL($CM21:$DA21,B$3) -> 2 | CO75: =SMALL($CM21:$DA21,C$3) -> 3 | CP75: =SMALL($CM21:$DA21,D$3) -> 4 | CQ75: =SMALL($CM21:$DA21,E$3) -> 5 | CR75: =SMALL($CM21:$DA21,F$3) -> 6 | CS75: =SMALL($CM21:$DA21,G$3) -> 7 | CT75: =SMALL($CM21:$DA21,H$3) -> 8 | ... DA75: =SMALL($CM21:$DA21,O$3) -> 21 | DC75: 19 | DS75: =LOOKUP(EI75,$A$3:$U$3,$A$4:$U$4) -> 1 | DT75: =LOOKUP(EJ75,$A$3:$U$3,$A$4:$U$4) -> 4 | DU75: =LOOKUP(EK75,$A$3:$U$3,$A$4:$U$4) -> 5 | DV75: =LOOKUP(EL75,$A$3:$U$3,$A$4:$U$4) -> 6 | DW75: =LOOKUP(EM75,$A$3:$U$3,$A$4:$U$4) -> 7 | DX75: =LOOKUP(EN75,$A$3:$U$3,$A$4:$U$4) -> 8 | DY75: =LOOKUP(EO75,$A$3:$U$3,$A$4:$U$4) -> 9 | DZ75: =LOOKUP(EP75,$A$3:$U$3,$A$4:$U$4) -> 10 | ... EG75: =LOOKUP(EW75,$A$3:$U$3,$A$4:$U$4) -> 21 | EI75: 1 | EJ75: 4 | EK75: 5 | EL75: 6 | EM75: 7 | EN75: 8 | EO75: 9 | EP75: 10 | EQ75: 11 | ER75: 15 | ES75: 16 | ET75: 17 | EU75: 18 | EV75: 20 | EW75: 21
A76: =SMALL($A17:$O17,A$3) -> 1 | B76: =SMALL($A17:$O17,B$3) -> 2 | C76: =SMALL($A17:$O17,C$3) -> 3 | D76: =SMALL($A17:$O17,D$3) -> 4 | E76: =SMALL($A17:$O17,E$3) -> 5 | F76: =SMALL($A17:$O17,F$3) -> 8 | G76: =SMALL($A17:$O17,G$3) -> 9 | H76: =SMALL($A17:$O17,H$3) -> 10 | ... O76: =SMALL($A17:$O17,O$3) -> 20 | R76: 9 | AG76: =Início!B32 -> 1 | AH76: =Início!C32 -> 2 | AI76: =Início!D32 -> 3 | CM76: =SMALL($CM22:$DA22,A$3) -> 1 | CN76: =SMALL($CM22:$DA22,B$3) -> 2 | CO76: =SMALL($CM22:$DA22,C$3) -> 3 | CP76: =SMALL($CM22:$DA22,D$3) -> 4 | CQ76: =SMALL($CM22:$DA22,E$3) -> 5 | CR76: =SMALL($CM22:$DA22,F$3) -> 6 | CS76: =SMALL($CM22:$DA22,G$3) -> 7 | CT76: =SMALL($CM22:$DA22,H$3) -> 8 | ... DA76: =SMALL($CM22:$DA22,O$3) -> 21 | DC76: 20 | DS76: =LOOKUP(EI76,$A$3:$U$3,$A$4:$U$4) -> 1 | DT76: =LOOKUP(EJ76,$A$3:$U$3,$A$4:$U$4) -> 2 | DU76: =LOOKUP(EK76,$A$3:$U$3,$A$4:$U$4) -> 7 | DV76: =LOOKUP(EL76,$A$3:$U$3,$A$4:$U$4) -> 9 | DW76: =LOOKUP(EM76,$A$3:$U$3,$A$4:$U$4) -> 10 | DX76: =LOOKUP(EN76,$A$3:$U$3,$A$4:$U$4) -> 11 | DY76: =LOOKUP(EO76,$A$3:$U$3,$A$4:$U$4) -> 12 | DZ76: =LOOKUP(EP76,$A$3:$U$3,$A$4:$U$4) -> 13 | ... EG76: =LOOKUP(EW76,$A$3:$U$3,$A$4:$U$4) -> 21 | EI76: 1 | EJ76: 2 | EK76: 7 | EL76: 9 | EM76: 10 | EN76: 11 | EO76: 12 | EP76: 13 | EQ76: 14 | ER76: 15 | ES76: 16 | ET76: 17 | EU76: 18 | EV76: 20 | EW76: 21
A77: =SMALL($A18:$O18,A$3) -> 1 | B77: =SMALL($A18:$O18,B$3) -> 2 | C77: =SMALL($A18:$O18,C$3) -> 3 | D77: =SMALL($A18:$O18,D$3) -> 4 | E77: =SMALL($A18:$O18,E$3) -> 5 | F77: =SMALL($A18:$O18,F$3) -> 8 | G77: =SMALL($A18:$O18,G$3) -> 10 | H77: =SMALL($A18:$O18,H$3) -> 12 | ... O77: =SMALL($A18:$O18,O$3) -> 21 | R77: 10 | AG77: =Início!B34 -> 17 | AH77: =Início!C34 -> 18 | AI77: =Início!D34 -> 19 | AJ77: =Início!E34 -> 20 | CM77: =SMALL($CM23:$DA23,A$3) -> 1 | CN77: =SMALL($CM23:$DA23,B$3) -> 2 | CO77: =SMALL($CM23:$DA23,C$3) -> 3 | CP77: =SMALL($CM23:$DA23,D$3) -> 4 | CQ77: =SMALL($CM23:$DA23,E$3) -> 5 | CR77: =SMALL($CM23:$DA23,F$3) -> 10 | CS77: =SMALL($CM23:$DA23,G$3) -> 11 | CT77: =SMALL($CM23:$DA23,H$3) -> 12 | ... DA77: =SMALL($CM23:$DA23,O$3) -> 19 | DC77: 21 | DS77: =LOOKUP(EI77,$A$3:$U$3,$A$4:$U$4) -> 2 | DT77: =LOOKUP(EJ77,$A$3:$U$3,$A$4:$U$4) -> 3 | DU77: =LOOKUP(EK77,$A$3:$U$3,$A$4:$U$4) -> 5 | DV77: =LOOKUP(EL77,$A$3:$U$3,$A$4:$U$4) -> 6 | DW77: =LOOKUP(EM77,$A$3:$U$3,$A$4:$U$4) -> 8 | DX77: =LOOKUP(EN77,$A$3:$U$3,$A$4:$U$4) -> 9 | DY77: =LOOKUP(EO77,$A$3:$U$3,$A$4:$U$4) -> 11 | DZ77: =LOOKUP(EP77,$A$3:$U$3,$A$4:$U$4) -> 12 | ... EG77: =LOOKUP(EW77,$A$3:$U$3,$A$4:$U$4) -> 21 | EI77: 2 | EJ77: 3 | EK77: 5 | EL77: 6 | EM77: 8 | EN77: 9 | EO77: 11 | EP77: 12 | EQ77: 13 | ER77: 14 | ES77: 17 | ET77: 18 | EU77: 19 | EV77: 20 | EW77: 21
A78: =SMALL($A19:$O19,A$3) -> 1 | B78: =SMALL($A19:$O19,B$3) -> 2 | C78: =SMALL($A19:$O19,C$3) -> 3 | D78: =SMALL($A19:$O19,D$3) -> 4 | E78: =SMALL($A19:$O19,E$3) -> 6 | F78: =SMALL($A19:$O19,F$3) -> 7 | G78: =SMALL($A19:$O19,G$3) -> 8 | H78: =SMALL($A19:$O19,H$3) -> 10 | ... O78: =SMALL($A19:$O19,O$3) -> 20 | R78: 11 | CM78: =SMALL($CM24:$DA24,A$3) -> 1 | CN78: =SMALL($CM24:$DA24,B$3) -> 2 | CO78: =SMALL($CM24:$DA24,C$3) -> 3 | CP78: =SMALL($CM24:$DA24,D$3) -> 4 | CQ78: =SMALL($CM24:$DA24,E$3) -> 5 | CR78: =SMALL($CM24:$DA24,F$3) -> 10 | CS78: =SMALL($CM24:$DA24,G$3) -> 11 | CT78: =SMALL($CM24:$DA24,H$3) -> 12 | ... DA78: =SMALL($CM24:$DA24,O$3) -> 21 | DC78: 22 | DS78: =LOOKUP(EI78,$A$3:$U$3,$A$4:$U$4) -> 2 | DT78: =LOOKUP(EJ78,$A$3:$U$3,$A$4:$U$4) -> 3 | DU78: =LOOKUP(EK78,$A$3:$U$3,$A$4:$U$4) -> 5 | DV78: =LOOKUP(EL78,$A$3:$U$3,$A$4:$U$4) -> 7 | DW78: =LOOKUP(EM78,$A$3:$U$3,$A$4:$U$4) -> 8 | DX78: =LOOKUP(EN78,$A$3:$U$3,$A$4:$U$4) -> 9 | DY78: =LOOKUP(EO78,$A$3:$U$3,$A$4:$U$4) -> 10 | DZ78: =LOOKUP(EP78,$A$3:$U$3,$A$4:$U$4) -> 12 | ... EG78: =LOOKUP(EW78,$A$3:$U$3,$A$4:$U$4) -> 21 | EI78: 2 | EJ78: 3 | EK78: 5 | EL78: 7 | EM78: 8 | EN78: 9 | EO78: 10 | EP78: 12 | EQ78: 13 | ER78: 14 | ES78: 15 | ET78: 17 | EU78: 19 | EV78: 20 | EW78: 21
A79: =SMALL($A20:$O20,A$3) -> 1 | B79: =SMALL($A20:$O20,B$3) -> 2 | C79: =SMALL($A20:$O20,C$3) -> 3 | D79: =SMALL($A20:$O20,D$3) -> 4 | E79: =SMALL($A20:$O20,E$3) -> 6 | F79: =SMALL($A20:$O20,F$3) -> 8 | G79: =SMALL($A20:$O20,G$3) -> 9 | H79: =SMALL($A20:$O20,H$3) -> 10 | ... O79: =SMALL($A20:$O20,O$3) -> 20 | R79: 12 | AG79: =SMALL($AG59:$AU59,AG$55) -> 1 | AH79: =SMALL($AG59:$AU59,AH$55) -> 2 | AI79: =SMALL($AG59:$AU59,AI$55) -> 3 | AJ79: =SMALL($AG59:$AU59,AJ$55) -> 4 | AK79: =SMALL($AG59:$AU59,AK$55) -> 8 | AL79: =SMALL($AG59:$AU59,AL$55) -> 9 | AM79: =SMALL($AG59:$AU59,AM$55) -> 10 | AN79: =SMALL($AG59:$AU59,AN$55) -> 12 | ... AU79: =SMALL($AG59:$AU59,AU$55) -> 25 | AW79: 1 | CM79: =SMALL($CM25:$DA25,A$3) -> 1 | CN79: =SMALL($CM25:$DA25,B$3) -> 2 | CO79: =SMALL($CM25:$DA25,C$3) -> 3 | CP79: =SMALL($CM25:$DA25,D$3) -> 4 | CQ79: =SMALL($CM25:$DA25,E$3) -> 5 | CR79: =SMALL($CM25:$DA25,F$3) -> 10 | CS79: =SMALL($CM25:$DA25,G$3) -> 11 | CT79: =SMALL($CM25:$DA25,H$3) -> 12 | ... DA79: =SMALL($CM25:$DA25,O$3) -> 21 | DC79: 23 | DS79: =LOOKUP(EI79,$A$3:$U$3,$A$4:$U$4) -> 2 | DT79: =LOOKUP(EJ79,$A$3:$U$3,$A$4:$U$4) -> 3 | DU79: =LOOKUP(EK79,$A$3:$U$3,$A$4:$U$4) -> 6 | DV79: =LOOKUP(EL79,$A$3:$U$3,$A$4:$U$4) -> 8 | DW79: =LOOKUP(EM79,$A$3:$U$3,$A$4:$U$4) -> 9 | DX79: =LOOKUP(EN79,$A$3:$U$3,$A$4:$U$4) -> 10 | DY79: =LOOKUP(EO79,$A$3:$U$3,$A$4:$U$4) -> 11 | DZ79: =LOOKUP(EP79,$A$3:$U$3,$A$4:$U$4) -> 12 | ... EG79: =LOOKUP(EW79,$A$3:$U$3,$A$4:$U$4) -> 20 | EI79: 2 | EJ79: 3 | EK79: 6 | EL79: 8 | EM79: 9 | EN79: 10 | EO79: 11 | EP79: 12 | EQ79: 13 | ER79: 14 | ES79: 15 | ET79: 16 | EU79: 17 | EV79: 19 | EW79: 20
A80: =SMALL($A21:$O21,A$3) -> 1 | B80: =SMALL($A21:$O21,B$3) -> 2 | C80: =SMALL($A21:$O21,C$3) -> 3 | D80: =SMALL($A21:$O21,D$3) -> 4 | E80: =SMALL($A21:$O21,E$3) -> 7 | F80: =SMALL($A21:$O21,F$3) -> 8 | G80: =SMALL($A21:$O21,G$3) -> 9 | H80: =SMALL($A21:$O21,H$3) -> 13 | ... O80: =SMALL($A21:$O21,O$3) -> 21 | R80: 13 | AG80: =SMALL($AG60:$AU60,AG$55) -> 1 | AH80: =SMALL($AG60:$AU60,AH$55) -> 2 | AI80: =SMALL($AG60:$AU60,AI$55) -> 3 | AJ80: =SMALL($AG60:$AU60,AJ$55) -> 4 | AK80: =SMALL($AG60:$AU60,AK$55) -> 5 | AL80: =SMALL($AG60:$AU60,AL$55) -> 6 | AM80: =SMALL($AG60:$AU60,AM$55) -> 7 | AN80: =SMALL($AG60:$AU60,AN$55) -> 8 | ... AU80: =SMALL($AG60:$AU60,AU$55) -> 22 | AW80: 2 | CM80: =SMALL($CM26:$DA26,A$3) -> 1 | CN80: =SMALL($CM26:$DA26,B$3) -> 2 | CO80: =SMALL($CM26:$DA26,C$3) -> 3 | CP80: =SMALL($CM26:$DA26,D$3) -> 4 | CQ80: =SMALL($CM26:$DA26,E$3) -> 5 | CR80: =SMALL($CM26:$DA26,F$3) -> 10 | CS80: =SMALL($CM26:$DA26,G$3) -> 11 | CT80: =SMALL($CM26:$DA26,H$3) -> 12 | ... DA80: =SMALL($CM26:$DA26,O$3) -> 21 | DC80: 24 | DS80: =LOOKUP(EI80,$A$3:$U$3,$A$4:$U$4) -> 2 | DT80: =LOOKUP(EJ80,$A$3:$U$3,$A$4:$U$4) -> 4 | DU80: =LOOKUP(EK80,$A$3:$U$3,$A$4:$U$4) -> 5 | DV80: =LOOKUP(EL80,$A$3:$U$3,$A$4:$U$4) -> 6 | DW80: =LOOKUP(EM80,$A$3:$U$3,$A$4:$U$4) -> 7 | DX80: =LOOKUP(EN80,$A$3:$U$3,$A$4:$U$4) -> 8 | DY80: =LOOKUP(EO80,$A$3:$U$3,$A$4:$U$4) -> 9 | DZ80: =LOOKUP(EP80,$A$3:$U$3,$A$4:$U$4) -> 10 | ... EG80: =LOOKUP(EW80,$A$3:$U$3,$A$4:$U$4) -> 18 | EI80: 2 | EJ80: 4 | EK80: 5 | EL80: 6 | EM80: 7 | EN80: 8 | EO80: 9 | EP80: 10 | EQ80: 11 | ER80: 12 | ES80: 13 | ET80: 14 | EU80: 16 | EV80: 17 | EW80: 18
A81: =SMALL($A22:$O22,A$3) -> 1 | B81: =SMALL($A22:$O22,B$3) -> 2 | C81: =SMALL($A22:$O22,C$3) -> 3 | D81: =SMALL($A22:$O22,D$3) -> 4 | E81: =SMALL($A22:$O22,E$3) -> 7 | F81: =SMALL($A22:$O22,F$3) -> 8 | G81: =SMALL($A22:$O22,G$3) -> 10 | H81: =SMALL($A22:$O22,H$3) -> 11 | ... O81: =SMALL($A22:$O22,O$3) -> 21 | R81: 14 | AG81: =SMALL($AG61:$AU61,AG$55) -> 1 | AH81: =SMALL($AG61:$AU61,AH$55) -> 2 | AI81: =SMALL($AG61:$AU61,AI$55) -> 3 | AJ81: =SMALL($AG61:$AU61,AJ$55) -> 4 | AK81: =SMALL($AG61:$AU61,AK$55) -> 8 | AL81: =SMALL($AG61:$AU61,AL$55) -> 9 | AM81: =SMALL($AG61:$AU61,AM$55) -> 10 | AN81: =SMALL($AG61:$AU61,AN$55) -> 11 | ... AU81: =SMALL($AG61:$AU61,AU$55) -> 22 | AW81: 3 | CM81: =SMALL($CM27:$DA27,A$3) -> 1 | CN81: =SMALL($CM27:$DA27,B$3) -> 2 | CO81: =SMALL($CM27:$DA27,C$3) -> 3 | CP81: =SMALL($CM27:$DA27,D$3) -> 4 | CQ81: =SMALL($CM27:$DA27,E$3) -> 5 | CR81: =SMALL($CM27:$DA27,F$3) -> 10 | CS81: =SMALL($CM27:$DA27,G$3) -> 11 | CT81: =SMALL($CM27:$DA27,H$3) -> 14 | ... DA81: =SMALL($CM27:$DA27,O$3) -> 21 | DC81: 25 | DS81: =LOOKUP(EI81,$A$3:$U$3,$A$4:$U$4) -> 2 | DT81: =LOOKUP(EJ81,$A$3:$U$3,$A$4:$U$4) -> 4 | DU81: =LOOKUP(EK81,$A$3:$U$3,$A$4:$U$4) -> 5 | DV81: =LOOKUP(EL81,$A$3:$U$3,$A$4:$U$4) -> 6 | DW81: =LOOKUP(EM81,$A$3:$U$3,$A$4:$U$4) -> 7 | DX81: =LOOKUP(EN81,$A$3:$U$3,$A$4:$U$4) -> 10 | DY81: =LOOKUP(EO81,$A$3:$U$3,$A$4:$U$4) -> 12 | DZ81: =LOOKUP(EP81,$A$3:$U$3,$A$4:$U$4) -> 13 | ... EG81: =LOOKUP(EW81,$A$3:$U$3,$A$4:$U$4) -> 21 | EI81: 2 | EJ81: 4 | EK81: 5 | EL81: 6 | EM81: 7 | EN81: 10 | EO81: 12 | EP81: 13 | EQ81: 14 | ER81: 15 | ES81: 16 | ET81: 17 | EU81: 18 | EV81: 20 | EW81: 21
A82: =SMALL($A23:$O23,A$3) -> 1 | B82: =SMALL($A23:$O23,B$3) -> 2 | C82: =SMALL($A23:$O23,C$3) -> 3 | D82: =SMALL($A23:$O23,D$3) -> 5 | E82: =SMALL($A23:$O23,E$3) -> 6 | F82: =SMALL($A23:$O23,F$3) -> 7 | G82: =SMALL($A23:$O23,G$3) -> 8 | H82: =SMALL($A23:$O23,H$3) -> 9 | ... O82: =SMALL($A23:$O23,O$3) -> 21 | R82: 15 | AG82: =SMALL($AG62:$AU62,AG$55) -> 1 | AH82: =SMALL($AG62:$AU62,AH$55) -> 2 | AI82: =SMALL($AG62:$AU62,AI$55) -> 3 | AJ82: =SMALL($AG62:$AU62,AJ$55) -> 4 | AK82: =SMALL($AG62:$AU62,AK$55) -> 5 | AL82: =SMALL($AG62:$AU62,AL$55) -> 6 | AM82: =SMALL($AG62:$AU62,AM$55) -> 7 | AN82: =SMALL($AG62:$AU62,AN$55) -> 8 | ... AU82: =SMALL($AG62:$AU62,AU$55) -> 25 | AW82: 4 | CM82: =SMALL($CM28:$DA28,A$3) -> 1 | CN82: =SMALL($CM28:$DA28,B$3) -> 2 | CO82: =SMALL($CM28:$DA28,C$3) -> 3 | CP82: =SMALL($CM28:$DA28,D$3) -> 4 | CQ82: =SMALL($CM28:$DA28,E$3) -> 5 | CR82: =SMALL($CM28:$DA28,F$3) -> 12 | CS82: =SMALL($CM28:$DA28,G$3) -> 13 | CT82: =SMALL($CM28:$DA28,H$3) -> 14 | ... DA82: =SMALL($CM28:$DA28,O$3) -> 21 | DC82: 26 | DS82: =LOOKUP(EI82,$A$3:$U$3,$A$4:$U$4) -> 2 | DT82: =LOOKUP(EJ82,$A$3:$U$3,$A$4:$U$4) -> 4 | DU82: =LOOKUP(EK82,$A$3:$U$3,$A$4:$U$4) -> 5 | DV82: =LOOKUP(EL82,$A$3:$U$3,$A$4:$U$4) -> 6 | DW82: =LOOKUP(EM82,$A$3:$U$3,$A$4:$U$4) -> 8 | DX82: =LOOKUP(EN82,$A$3:$U$3,$A$4:$U$4) -> 9 | DY82: =LOOKUP(EO82,$A$3:$U$3,$A$4:$U$4) -> 10 | DZ82: =LOOKUP(EP82,$A$3:$U$3,$A$4:$U$4) -> 11 | ... EG82: =LOOKUP(EW82,$A$3:$U$3,$A$4:$U$4) -> 21 | EI82: 2 | EJ82: 4 | EK82: 5 | EL82: 6 | EM82: 8 | EN82: 9 | EO82: 10 | EP82: 11 | EQ82: 12 | ER82: 15 | ES82: 17 | ET82: 18 | EU82: 19 | EV82: 20 | EW82: 21
A83: =SMALL($A24:$O24,A$3) -> 1 | B83: =SMALL($A24:$O24,B$3) -> 2 | C83: =SMALL($A24:$O24,C$3) -> 3 | D83: =SMALL($A24:$O24,D$3) -> 5 | E83: =SMALL($A24:$O24,E$3) -> 6 | F83: =SMALL($A24:$O24,F$3) -> 7 | G83: =SMALL($A24:$O24,G$3) -> 8 | H83: =SMALL($A24:$O24,H$3) -> 10 | ... O83: =SMALL($A24:$O24,O$3) -> 21 | R83: 16 | AG83: =SMALL($AG63:$AU63,AG$55) -> 1 | AH83: =SMALL($AG63:$AU63,AH$55) -> 2 | AI83: =SMALL($AG63:$AU63,AI$55) -> 3 | AJ83: =SMALL($AG63:$AU63,AJ$55) -> 4 | AK83: =SMALL($AG63:$AU63,AK$55) -> 8 | AL83: =SMALL($AG63:$AU63,AL$55) -> 9 | AM83: =SMALL($AG63:$AU63,AM$55) -> 10 | AN83: =SMALL($AG63:$AU63,AN$55) -> 11 | ... AU83: =SMALL($AG63:$AU63,AU$55) -> 25 | AW83: 5 | CM83: =SMALL($CM29:$DA29,A$3) -> 6 | CN83: =SMALL($CM29:$DA29,B$3) -> 7 | CO83: =SMALL($CM29:$DA29,C$3) -> 8 | CP83: =SMALL($CM29:$DA29,D$3) -> 9 | CQ83: =SMALL($CM29:$DA29,E$3) -> 10 | CR83: =SMALL($CM29:$DA29,F$3) -> 11 | CS83: =SMALL($CM29:$DA29,G$3) -> 12 | CT83: =SMALL($CM29:$DA29,H$3) -> 13 | ... DA83: =SMALL($CM29:$DA29,O$3) -> 20 | DC83: 27 | DS83: =LOOKUP(EI83,$A$3:$U$3,$A$4:$U$4) -> 2 | DT83: =LOOKUP(EJ83,$A$3:$U$3,$A$4:$U$4) -> 4 | DU83: =LOOKUP(EK83,$A$3:$U$3,$A$4:$U$4) -> 6 | DV83: =LOOKUP(EL83,$A$3:$U$3,$A$4:$U$4) -> 7 | DW83: =LOOKUP(EM83,$A$3:$U$3,$A$4:$U$4) -> 8 | DX83: =LOOKUP(EN83,$A$3:$U$3,$A$4:$U$4) -> 9 | DY83: =LOOKUP(EO83,$A$3:$U$3,$A$4:$U$4) -> 11 | DZ83: =LOOKUP(EP83,$A$3:$U$3,$A$4:$U$4) -> 12 | ... EG83: =LOOKUP(EW83,$A$3:$U$3,$A$4:$U$4) -> 21 | EI83: 2 | EJ83: 4 | EK83: 6 | EL83: 7 | EM83: 8 | EN83: 9 | EO83: 11 | EP83: 12 | EQ83: 13 | ER83: 14 | ES83: 15 | ET83: 18 | EU83: 19 | EV83: 20 | EW83: 21
A84: =SMALL($A25:$O25,A$3) -> 1 | B84: =SMALL($A25:$O25,B$3) -> 2 | C84: =SMALL($A25:$O25,C$3) -> 3 | D84: =SMALL($A25:$O25,D$3) -> 5 | E84: =SMALL($A25:$O25,E$3) -> 6 | F84: =SMALL($A25:$O25,F$3) -> 9 | G84: =SMALL($A25:$O25,G$3) -> 11 | H84: =SMALL($A25:$O25,H$3) -> 12 | ... O84: =SMALL($A25:$O25,O$3) -> 20 | R84: 17 | AG84: =SMALL($AG64:$AU64,AG$55) -> 1 | AH84: =SMALL($AG64:$AU64,AH$55) -> 2 | AI84: =SMALL($AG64:$AU64,AI$55) -> 3 | AJ84: =SMALL($AG64:$AU64,AJ$55) -> 4 | AK84: =SMALL($AG64:$AU64,AK$55) -> 5 | AL84: =SMALL($AG64:$AU64,AL$55) -> 6 | AM84: =SMALL($AG64:$AU64,AM$55) -> 7 | AN84: =SMALL($AG64:$AU64,AN$55) -> 8 | ... AU84: =SMALL($AG64:$AU64,AU$55) -> 21 | AW84: 6 | CM84: =SMALL($CM30:$DA30,A$3) -> 6 | CN84: =SMALL($CM30:$DA30,B$3) -> 7 | CO84: =SMALL($CM30:$DA30,C$3) -> 8 | CP84: =SMALL($CM30:$DA30,D$3) -> 9 | CQ84: =SMALL($CM30:$DA30,E$3) -> 10 | CR84: =SMALL($CM30:$DA30,F$3) -> 11 | CS84: =SMALL($CM30:$DA30,G$3) -> 12 | CT84: =SMALL($CM30:$DA30,H$3) -> 13 | ... DA84: =SMALL($CM30:$DA30,O$3) -> 21 | DC84: 28 | DS84: =LOOKUP(EI84,$A$3:$U$3,$A$4:$U$4) -> 2 | DT84: =LOOKUP(EJ84,$A$3:$U$3,$A$4:$U$4) -> 5 | DU84: =LOOKUP(EK84,$A$3:$U$3,$A$4:$U$4) -> 6 | DV84: =LOOKUP(EL84,$A$3:$U$3,$A$4:$U$4) -> 8 | DW84: =LOOKUP(EM84,$A$3:$U$3,$A$4:$U$4) -> 9 | DX84: =LOOKUP(EN84,$A$3:$U$3,$A$4:$U$4) -> 10 | DY84: =LOOKUP(EO84,$A$3:$U$3,$A$4:$U$4) -> 13 | DZ84: =LOOKUP(EP84,$A$3:$U$3,$A$4:$U$4) -> 14 | ... EG84: =LOOKUP(EW84,$A$3:$U$3,$A$4:$U$4) -> 21 | EI84: 2 | EJ84: 5 | EK84: 6 | EL84: 8 | EM84: 9 | EN84: 10 | EO84: 13 | EP84: 14 | EQ84: 15 | ER84: 16 | ES84: 17 | ET84: 18 | EU84: 19 | EV84: 20 | EW84: 21
A85: =SMALL($A26:$O26,A$3) -> 1 | B85: =SMALL($A26:$O26,B$3) -> 2 | C85: =SMALL($A26:$O26,C$3) -> 3 | D85: =SMALL($A26:$O26,D$3) -> 5 | E85: =SMALL($A26:$O26,E$3) -> 7 | F85: =SMALL($A26:$O26,F$3) -> 8 | G85: =SMALL($A26:$O26,G$3) -> 10 | H85: =SMALL($A26:$O26,H$3) -> 12 | ... O85: =SMALL($A26:$O26,O$3) -> 21 | R85: 18 | AG85: =SMALL($AG65:$AU65,AG$55) -> 1 | AH85: =SMALL($AG65:$AU65,AH$55) -> 2 | AI85: =SMALL($AG65:$AU65,AI$55) -> 3 | AJ85: =SMALL($AG65:$AU65,AJ$55) -> 4 | AK85: =SMALL($AG65:$AU65,AK$55) -> 5 | AL85: =SMALL($AG65:$AU65,AL$55) -> 6 | AM85: =SMALL($AG65:$AU65,AM$55) -> 7 | AN85: =SMALL($AG65:$AU65,AN$55) -> 8 | ... AU85: =SMALL($AG65:$AU65,AU$55) -> 25 | AW85: 7 | CM85: =SMALL($CM31:$DA31,A$3) -> 6 | CN85: =SMALL($CM31:$DA31,B$3) -> 7 | CO85: =SMALL($CM31:$DA31,C$3) -> 8 | CP85: =SMALL($CM31:$DA31,D$3) -> 9 | CQ85: =SMALL($CM31:$DA31,E$3) -> 10 | CR85: =SMALL($CM31:$DA31,F$3) -> 11 | CS85: =SMALL($CM31:$DA31,G$3) -> 12 | CT85: =SMALL($CM31:$DA31,H$3) -> 13 | ... DA85: =SMALL($CM31:$DA31,O$3) -> 21 | DC85: 29 | DS85: =LOOKUP(EI85,$A$3:$U$3,$A$4:$U$4) -> 2 | DT85: =LOOKUP(EJ85,$A$3:$U$3,$A$4:$U$4) -> 3 | DU85: =LOOKUP(EK85,$A$3:$U$3,$A$4:$U$4) -> 5 | DV85: =LOOKUP(EL85,$A$3:$U$3,$A$4:$U$4) -> 6 | DW85: =LOOKUP(EM85,$A$3:$U$3,$A$4:$U$4) -> 7 | DX85: =LOOKUP(EN85,$A$3:$U$3,$A$4:$U$4) -> 8 | DY85: =LOOKUP(EO85,$A$3:$U$3,$A$4:$U$4) -> 11 | DZ85: =LOOKUP(EP85,$A$3:$U$3,$A$4:$U$4) -> 12 | ... EG85: =LOOKUP(EW85,$A$3:$U$3,$A$4:$U$4) -> 21 | EI85: 2 | EJ85: 3 | EK85: 5 | EL85: 6 | EM85: 7 | EN85: 8 | EO85: 11 | EP85: 12 | EQ85: 13 | ER85: 15 | ES85: 16 | ET85: 17 | EU85: 18 | EV85: 20 | EW85: 21
A86: =SMALL($A27:$O27,A$3) -> 1 | B86: =SMALL($A27:$O27,B$3) -> 2 | C86: =SMALL($A27:$O27,C$3) -> 3 | D86: =SMALL($A27:$O27,D$3) -> 5 | E86: =SMALL($A27:$O27,E$3) -> 7 | F86: =SMALL($A27:$O27,F$3) -> 9 | G86: =SMALL($A27:$O27,G$3) -> 10 | H86: =SMALL($A27:$O27,H$3) -> 11 | ... O86: =SMALL($A27:$O27,O$3) -> 21 | R86: 19 | AG86: =SMALL($AG66:$AU66,AG$55) -> 1 | AH86: =SMALL($AG66:$AU66,AH$55) -> 2 | AI86: =SMALL($AG66:$AU66,AI$55) -> 3 | AJ86: =SMALL($AG66:$AU66,AJ$55) -> 4 | AK86: =SMALL($AG66:$AU66,AK$55) -> 8 | AL86: =SMALL($AG66:$AU66,AL$55) -> 9 | AM86: =SMALL($AG66:$AU66,AM$55) -> 11 | AN86: =SMALL($AG66:$AU66,AN$55) -> 13 | ... AU86: =SMALL($AG66:$AU66,AU$55) -> 25 | AW86: 8 | CM86: =SMALL($CM32:$DA32,A$3) -> 6 | CN86: =SMALL($CM32:$DA32,B$3) -> 7 | CO86: =SMALL($CM32:$DA32,C$3) -> 8 | CP86: =SMALL($CM32:$DA32,D$3) -> 9 | CQ86: =SMALL($CM32:$DA32,E$3) -> 10 | CR86: =SMALL($CM32:$DA32,F$3) -> 11 | CS86: =SMALL($CM32:$DA32,G$3) -> 12 | CT86: =SMALL($CM32:$DA32,H$3) -> 13 | ... DA86: =SMALL($CM32:$DA32,O$3) -> 21 | DC86: 30 | DS86: =LOOKUP(EI86,$A$3:$U$3,$A$4:$U$4) -> 2 | DT86: =LOOKUP(EJ86,$A$3:$U$3,$A$4:$U$4) -> 3 | DU86: =LOOKUP(EK86,$A$3:$U$3,$A$4:$U$4) -> 4 | DV86: =LOOKUP(EL86,$A$3:$U$3,$A$4:$U$4) -> 5 | DW86: =LOOKUP(EM86,$A$3:$U$3,$A$4:$U$4) -> 6 | DX86: =LOOKUP(EN86,$A$3:$U$3,$A$4:$U$4) -> 7 | DY86: =LOOKUP(EO86,$A$3:$U$3,$A$4:$U$4) -> 9 | DZ86: =LOOKUP(EP86,$A$3:$U$3,$A$4:$U$4) -> 10 | ... EG86: =LOOKUP(EW86,$A$3:$U$3,$A$4:$U$4) -> 21 | EI86: 2 | EJ86: 3 | EK86: 4 | EL86: 5 | EM86: 6 | EN86: 7 | EO86: 9 | EP86: 10 | EQ86: 11 | ER86: 13 | ES86: 14 | ET86: 16 | EU86: 17 | EV86: 20 | EW86: 21
A87: =SMALL($A28:$O28,A$3) -> 1 | B87: =SMALL($A28:$O28,B$3) -> 2 | C87: =SMALL($A28:$O28,C$3) -> 3 | D87: =SMALL($A28:$O28,D$3) -> 6 | E87: =SMALL($A28:$O28,E$3) -> 7 | F87: =SMALL($A28:$O28,F$3) -> 9 | G87: =SMALL($A28:$O28,G$3) -> 10 | H87: =SMALL($A28:$O28,H$3) -> 11 | ... O87: =SMALL($A28:$O28,O$3) -> 21 | R87: 20 | AG87: =SMALL($AG67:$AU67,AG$55) -> 1 | AH87: =SMALL($AG67:$AU67,AH$55) -> 2 | AI87: =SMALL($AG67:$AU67,AI$55) -> 3 | AJ87: =SMALL($AG67:$AU67,AJ$55) -> 4 | AK87: =SMALL($AG67:$AU67,AK$55) -> 5 | AL87: =SMALL($AG67:$AU67,AL$55) -> 6 | AM87: =SMALL($AG67:$AU67,AM$55) -> 7 | AN87: =SMALL($AG67:$AU67,AN$55) -> 8 | ... AU87: =SMALL($AG67:$AU67,AU$55) -> 22 | AW87: 9 | CM87: =SMALL($CM33:$DA33,A$3) -> 6 | CN87: =SMALL($CM33:$DA33,B$3) -> 7 | CO87: =SMALL($CM33:$DA33,C$3) -> 8 | CP87: =SMALL($CM33:$DA33,D$3) -> 9 | CQ87: =SMALL($CM33:$DA33,E$3) -> 10 | CR87: =SMALL($CM33:$DA33,F$3) -> 11 | CS87: =SMALL($CM33:$DA33,G$3) -> 12 | CT87: =SMALL($CM33:$DA33,H$3) -> 13 | ... DA87: =SMALL($CM33:$DA33,O$3) -> 21 | DC87: 31 | DS87: =LOOKUP(EI87,$A$3:$U$3,$A$4:$U$4) -> 2 | DT87: =LOOKUP(EJ87,$A$3:$U$3,$A$4:$U$4) -> 4 | DU87: =LOOKUP(EK87,$A$3:$U$3,$A$4:$U$4) -> 7 | DV87: =LOOKUP(EL87,$A$3:$U$3,$A$4:$U$4) -> 8 | DW87: =LOOKUP(EM87,$A$3:$U$3,$A$4:$U$4) -> 9 | DX87: =LOOKUP(EN87,$A$3:$U$3,$A$4:$U$4) -> 10 | DY87: =LOOKUP(EO87,$A$3:$U$3,$A$4:$U$4) -> 11 | DZ87: =LOOKUP(EP87,$A$3:$U$3,$A$4:$U$4) -> 12 | ... EG87: =LOOKUP(EW87,$A$3:$U$3,$A$4:$U$4) -> 20 | EI87: 2 | EJ87: 4 | EK87: 7 | EL87: 8 | EM87: 9 | EN87: 10 | EO87: 11 | EP87: 12 | EQ87: 13 | ER87: 15 | ES87: 16 | ET87: 17 | EU87: 18 | EV87: 19 | EW87: 20
A88: =SMALL($A29:$O29,A$3) -> 1 | B88: =SMALL($A29:$O29,B$3) -> 2 | C88: =SMALL($A29:$O29,C$3) -> 4 | D88: =SMALL($A29:$O29,D$3) -> 5 | E88: =SMALL($A29:$O29,E$3) -> 6 | F88: =SMALL($A29:$O29,F$3) -> 7 | G88: =SMALL($A29:$O29,G$3) -> 8 | H88: =SMALL($A29:$O29,H$3) -> 10 | ... O88: =SMALL($A29:$O29,O$3) -> 21 | R88: 21 | AG88: =SMALL($AG68:$AU68,AG$55) -> 1 | AH88: =SMALL($AG68:$AU68,AH$55) -> 2 | AI88: =SMALL($AG68:$AU68,AI$55) -> 3 | AJ88: =SMALL($AG68:$AU68,AJ$55) -> 4 | AK88: =SMALL($AG68:$AU68,AK$55) -> 5 | AL88: =SMALL($AG68:$AU68,AL$55) -> 6 | AM88: =SMALL($AG68:$AU68,AM$55) -> 7 | AN88: =SMALL($AG68:$AU68,AN$55) -> 8 | ... AU88: =SMALL($AG68:$AU68,AU$55) -> 25 | AW88: 10 | CM88: =SMALL($CM34:$DA34,A$3) -> 6 | CN88: =SMALL($CM34:$DA34,B$3) -> 7 | CO88: =SMALL($CM34:$DA34,C$3) -> 8 | CP88: =SMALL($CM34:$DA34,D$3) -> 9 | CQ88: =SMALL($CM34:$DA34,E$3) -> 10 | CR88: =SMALL($CM34:$DA34,F$3) -> 11 | CS88: =SMALL($CM34:$DA34,G$3) -> 12 | CT88: =SMALL($CM34:$DA34,H$3) -> 13 | ... DA88: =SMALL($CM34:$DA34,O$3) -> 21 | DC88: 32 | DS88: =LOOKUP(EI88,$A$3:$U$3,$A$4:$U$4) -> 2 | DT88: =LOOKUP(EJ88,$A$3:$U$3,$A$4:$U$4) -> 3 | DU88: =LOOKUP(EK88,$A$3:$U$3,$A$4:$U$4) -> 4 | DV88: =LOOKUP(EL88,$A$3:$U$3,$A$4:$U$4) -> 5 | DW88: =LOOKUP(EM88,$A$3:$U$3,$A$4:$U$4) -> 6 | DX88: =LOOKUP(EN88,$A$3:$U$3,$A$4:$U$4) -> 7 | DY88: =LOOKUP(EO88,$A$3:$U$3,$A$4:$U$4) -> 8 | DZ88: =LOOKUP(EP88,$A$3:$U$3,$A$4:$U$4) -> 9 | ... EG88: =LOOKUP(EW88,$A$3:$U$3,$A$4:$U$4) -> 21 | EI88: 2 | EJ88: 3 | EK88: 4 | EL88: 5 | EM88: 6 | EN88: 7 | EO88: 8 | EP88: 9 | EQ88: 10 | ER88: 12 | ES88: 13 | ET88: 18 | EU88: 19 | EV88: 20 | EW88: 21
A89: =SMALL($A30:$O30,A$3) -> 1 | B89: =SMALL($A30:$O30,B$3) -> 2 | C89: =SMALL($A30:$O30,C$3) -> 4 | D89: =SMALL($A30:$O30,D$3) -> 5 | E89: =SMALL($A30:$O30,E$3) -> 6 | F89: =SMALL($A30:$O30,F$3) -> 7 | G89: =SMALL($A30:$O30,G$3) -> 9 | H89: =SMALL($A30:$O30,H$3) -> 10 | ... O89: =SMALL($A30:$O30,O$3) -> 20 | R89: 22 | AG89: =SMALL($AG69:$AU69,AG$55) -> 1 | AH89: =SMALL($AG69:$AU69,AH$55) -> 2 | AI89: =SMALL($AG69:$AU69,AI$55) -> 3 | AJ89: =SMALL($AG69:$AU69,AJ$55) -> 5 | AK89: =SMALL($AG69:$AU69,AK$55) -> 6 | AL89: =SMALL($AG69:$AU69,AL$55) -> 7 | AM89: =SMALL($AG69:$AU69,AM$55) -> 10 | AN89: =SMALL($AG69:$AU69,AN$55) -> 12 | ... AU89: =SMALL($AG69:$AU69,AU$55) -> 25 | AW89: 11 | CM89: =SMALL($CM35:$DA35,A$3) -> 6 | CN89: =SMALL($CM35:$DA35,B$3) -> 7 | CO89: =SMALL($CM35:$DA35,C$3) -> 8 | CP89: =SMALL($CM35:$DA35,D$3) -> 9 | CQ89: =SMALL($CM35:$DA35,E$3) -> 10 | CR89: =SMALL($CM35:$DA35,F$3) -> 11 | CS89: =SMALL($CM35:$DA35,G$3) -> 12 | CT89: =SMALL($CM35:$DA35,H$3) -> 13 | ... DA89: =SMALL($CM35:$DA35,O$3) -> 21 | DC89: 33 | DS89: =LOOKUP(EI89,$A$3:$U$3,$A$4:$U$4) -> 2 | DT89: =LOOKUP(EJ89,$A$3:$U$3,$A$4:$U$4) -> 3 | DU89: =LOOKUP(EK89,$A$3:$U$3,$A$4:$U$4) -> 4 | DV89: =LOOKUP(EL89,$A$3:$U$3,$A$4:$U$4) -> 5 | DW89: =LOOKUP(EM89,$A$3:$U$3,$A$4:$U$4) -> 7 | DX89: =LOOKUP(EN89,$A$3:$U$3,$A$4:$U$4) -> 9 | DY89: =LOOKUP(EO89,$A$3:$U$3,$A$4:$U$4) -> 11 | DZ89: =LOOKUP(EP89,$A$3:$U$3,$A$4:$U$4) -> 12 | ... EG89: =LOOKUP(EW89,$A$3:$U$3,$A$4:$U$4) -> 21 | EI89: 2 | EJ89: 3 | EK89: 4 | EL89: 5 | EM89: 7 | EN89: 9 | EO89: 11 | EP89: 12 | EQ89: 13 | ER89: 14 | ES89: 15 | ET89: 16 | EU89: 19 | EV89: 20 | EW89: 21
A90: =SMALL($A31:$O31,A$3) -> 1 | B90: =SMALL($A31:$O31,B$3) -> 2 | C90: =SMALL($A31:$O31,C$3) -> 4 | D90: =SMALL($A31:$O31,D$3) -> 5 | E90: =SMALL($A31:$O31,E$3) -> 6 | F90: =SMALL($A31:$O31,F$3) -> 8 | G90: =SMALL($A31:$O31,G$3) -> 11 | H90: =SMALL($A31:$O31,H$3) -> 12 | ... O90: =SMALL($A31:$O31,O$3) -> 20 | R90: 23 | AG90: =SMALL($AG70:$AU70,AG$55) -> 1 | AH90: =SMALL($AG70:$AU70,AH$55) -> 2 | AI90: =SMALL($AG70:$AU70,AI$55) -> 3 | AJ90: =SMALL($AG70:$AU70,AJ$55) -> 10 | AK90: =SMALL($AG70:$AU70,AK$55) -> 11 | AL90: =SMALL($AG70:$AU70,AL$55) -> 12 | AM90: =SMALL($AG70:$AU70,AM$55) -> 13 | AN90: =SMALL($AG70:$AU70,AN$55) -> 14 | ... AU90: =SMALL($AG70:$AU70,AU$55) -> 25 | AW90: 12 | CM90: =SMALL($CM36:$DA36,A$3) -> 6 | CN90: =SMALL($CM36:$DA36,B$3) -> 7 | CO90: =SMALL($CM36:$DA36,C$3) -> 8 | CP90: =SMALL($CM36:$DA36,D$3) -> 9 | CQ90: =SMALL($CM36:$DA36,E$3) -> 10 | CR90: =SMALL($CM36:$DA36,F$3) -> 11 | CS90: =SMALL($CM36:$DA36,G$3) -> 12 | CT90: =SMALL($CM36:$DA36,H$3) -> 13 | ... DA90: =SMALL($CM36:$DA36,O$3) -> 21 | DC90: 34 | DS90: =LOOKUP(EI90,$A$3:$U$3,$A$4:$U$4) -> 2 | DT90: =LOOKUP(EJ90,$A$3:$U$3,$A$4:$U$4) -> 3 | DU90: =LOOKUP(EK90,$A$3:$U$3,$A$4:$U$4) -> 4 | DV90: =LOOKUP(EL90,$A$3:$U$3,$A$4:$U$4) -> 5 | DW90: =LOOKUP(EM90,$A$3:$U$3,$A$4:$U$4) -> 6 | DX90: =LOOKUP(EN90,$A$3:$U$3,$A$4:$U$4) -> 7 | DY90: =LOOKUP(EO90,$A$3:$U$3,$A$4:$U$4) -> 8 | DZ90: =LOOKUP(EP90,$A$3:$U$3,$A$4:$U$4) -> 9 | ... EG90: =LOOKUP(EW90,$A$3:$U$3,$A$4:$U$4) -> 19 | EI90: 2 | EJ90: 3 | EK90: 4 | EL90: 5 | EM90: 6 | EN90: 7 | EO90: 8 | EP90: 9 | EQ90: 10 | ER90: 11 | ES90: 12 | ET90: 14 | EU90: 16 | EV90: 18 | EW90: 19
... A93: =SMALL($A34:$O34,A$3) -> 1 | B93: =SMALL($A34:$O34,B$3) -> 2 | C93: =SMALL($A34:$O34,C$3) -> 4 | D93: =SMALL($A34:$O34,D$3) -> 6 | E93: =SMALL($A34:$O34,E$3) -> 7 | F93: =SMALL($A34:$O34,F$3) -> 9 | G93: =SMALL($A34:$O34,G$3) -> 10 | H93: =SMALL($A34:$O34,H$3) -> 11 | ... O93: =SMALL($A34:$O34,O$3) -> 18 | R93: 26 | AG93: =SMALL($AG73:$AU73,AG$55) -> 1 | AH93: =SMALL($AG73:$AU73,AH$55) -> 2 | AI93: =SMALL($AG73:$AU73,AI$55) -> 3 | AJ93: =SMALL($AG73:$AU73,AJ$55) -> 5 | AK93: =SMALL($AG73:$AU73,AK$55) -> 6 | AL93: =SMALL($AG73:$AU73,AL$55) -> 7 | AM93: =SMALL($AG73:$AU73,AM$55) -> 11 | AN93: =SMALL($AG73:$AU73,AN$55) -> 13 | ... AU93: =SMALL($AG73:$AU73,AU$55) -> 25 | AW93: 15 | CM93: =SMALL($CM39:$DA39,A$3) -> 6 | CN93: =SMALL($CM39:$DA39,B$3) -> 7 | CO93: =SMALL($CM39:$DA39,C$3) -> 8 | CP93: =SMALL($CM39:$DA39,D$3) -> 9 | CQ93: =SMALL($CM39:$DA39,E$3) -> 10 | CR93: =SMALL($CM39:$DA39,F$3) -> 12 | CS93: =SMALL($CM39:$DA39,G$3) -> 13 | CT93: =SMALL($CM39:$DA39,H$3) -> 14 | ... DA93: =SMALL($CM39:$DA39,O$3) -> 21 | DC93: 37 | DS93: =LOOKUP(EI93,$A$3:$U$3,$A$4:$U$4) -> 2 | DT93: =LOOKUP(EJ93,$A$3:$U$3,$A$4:$U$4) -> 3 | DU93: =LOOKUP(EK93,$A$3:$U$3,$A$4:$U$4) -> 4 | DV93: =LOOKUP(EL93,$A$3:$U$3,$A$4:$U$4) -> 5 | DW93: =LOOKUP(EM93,$A$3:$U$3,$A$4:$U$4) -> 6 | DX93: =LOOKUP(EN93,$A$3:$U$3,$A$4:$U$4) -> 7 | DY93: =LOOKUP(EO93,$A$3:$U$3,$A$4:$U$4) -> 9 | DZ93: =LOOKUP(EP93,$A$3:$U$3,$A$4:$U$4) -> 11 | ... EG93: =LOOKUP(EW93,$A$3:$U$3,$A$4:$U$4) -> 19 | EI93: 2 | EJ93: 3 | EK93: 4 | EL93: 5 | EM93: 6 | EN93: 7 | EO93: 9 | EP93: 11 | EQ93: 12 | ER93: 13 | ES93: 14 | ET93: 15 | EU93: 17 | EV93: 18 | EW93: 19
A94: =SMALL($A35:$O35,A$3) -> 1 | B94: =SMALL($A35:$O35,B$3) -> 2 | C94: =SMALL($A35:$O35,C$3) -> 5 | D94: =SMALL($A35:$O35,D$3) -> 6 | E94: =SMALL($A35:$O35,E$3) -> 8 | F94: =SMALL($A35:$O35,F$3) -> 9 | G94: =SMALL($A35:$O35,G$3) -> 10 | H94: =SMALL($A35:$O35,H$3) -> 12 | ... O94: =SMALL($A35:$O35,O$3) -> 21 | R94: 27 | CM94: =SMALL($CM40:$DA40,A$3) -> 6 | CN94: =SMALL($CM40:$DA40,B$3) -> 7 | CO94: =SMALL($CM40:$DA40,C$3) -> 8 | CP94: =SMALL($CM40:$DA40,D$3) -> 9 | CQ94: =SMALL($CM40:$DA40,E$3) -> 11 | CR94: =SMALL($CM40:$DA40,F$3) -> 12 | CS94: =SMALL($CM40:$DA40,G$3) -> 13 | CT94: =SMALL($CM40:$DA40,H$3) -> 14 | ... DA94: =SMALL($CM40:$DA40,O$3) -> 21 | DC94: 38 | DS94: =LOOKUP(EI94,$A$3:$U$3,$A$4:$U$4) -> 2 | DT94: =LOOKUP(EJ94,$A$3:$U$3,$A$4:$U$4) -> 3 | DU94: =LOOKUP(EK94,$A$3:$U$3,$A$4:$U$4) -> 4 | DV94: =LOOKUP(EL94,$A$3:$U$3,$A$4:$U$4) -> 5 | DW94: =LOOKUP(EM94,$A$3:$U$3,$A$4:$U$4) -> 8 | DX94: =LOOKUP(EN94,$A$3:$U$3,$A$4:$U$4) -> 9 | DY94: =LOOKUP(EO94,$A$3:$U$3,$A$4:$U$4) -> 10 | DZ94: =LOOKUP(EP94,$A$3:$U$3,$A$4:$U$4) -> 11 | ... EG94: =LOOKUP(EW94,$A$3:$U$3,$A$4:$U$4) -> 21 | EI94: 2 | EJ94: 3 | EK94: 4 | EL94: 5 | EM94: 8 | EN94: 9 | EO94: 10 | EP94: 11 | EQ94: 12 | ER94: 14 | ES94: 15 | ET94: 16 | EU94: 18 | EV94: 20 | EW94: 21
A95: =SMALL($A36:$O36,A$3) -> 1 | B95: =SMALL($A36:$O36,B$3) -> 2 | C95: =SMALL($A36:$O36,C$3) -> 5 | D95: =SMALL($A36:$O36,D$3) -> 7 | E95: =SMALL($A36:$O36,E$3) -> 8 | F95: =SMALL($A36:$O36,F$3) -> 9 | G95: =SMALL($A36:$O36,G$3) -> 10 | H95: =SMALL($A36:$O36,H$3) -> 11 | ... O95: =SMALL($A36:$O36,O$3) -> 21 | R95: 28 | CM95: =SMALL($CM41:$DA41,A$3) -> 6 | CN95: =SMALL($CM41:$DA41,B$3) -> 7 | CO95: =SMALL($CM41:$DA41,C$3) -> 8 | CP95: =SMALL($CM41:$DA41,D$3) -> 10 | CQ95: =SMALL($CM41:$DA41,E$3) -> 11 | CR95: =SMALL($CM41:$DA41,F$3) -> 12 | CS95: =SMALL($CM41:$DA41,G$3) -> 13 | CT95: =SMALL($CM41:$DA41,H$3) -> 14 | ... DA95: =SMALL($CM41:$DA41,O$3) -> 21 | DC95: 39 | DS95: =LOOKUP(EI95,$A$3:$U$3,$A$4:$U$4) -> 2 | DT95: =LOOKUP(EJ95,$A$3:$U$3,$A$4:$U$4) -> 3 | DU95: =LOOKUP(EK95,$A$3:$U$3,$A$4:$U$4) -> 4 | DV95: =LOOKUP(EL95,$A$3:$U$3,$A$4:$U$4) -> 5 | DW95: =LOOKUP(EM95,$A$3:$U$3,$A$4:$U$4) -> 8 | DX95: =LOOKUP(EN95,$A$3:$U$3,$A$4:$U$4) -> 10 | DY95: =LOOKUP(EO95,$A$3:$U$3,$A$4:$U$4) -> 11 | DZ95: =LOOKUP(EP95,$A$3:$U$3,$A$4:$U$4) -> 12 | ... EG95: =LOOKUP(EW95,$A$3:$U$3,$A$4:$U$4) -> 21 | EI95: 2 | EJ95: 3 | EK95: 4 | EL95: 5 | EM95: 8 | EN95: 10 | EO95: 11 | EP95: 12 | EQ95: 13 | ER95: 14 | ES95: 16 | ET95: 18 | EU95: 19 | EV95: 20 | EW95: 21
A96: =SMALL($A37:$O37,A$3) -> 1 | B96: =SMALL($A37:$O37,B$3) -> 2 | C96: =SMALL($A37:$O37,C$3) -> 5 | D96: =SMALL($A37:$O37,D$3) -> 7 | E96: =SMALL($A37:$O37,E$3) -> 9 | F96: =SMALL($A37:$O37,F$3) -> 10 | G96: =SMALL($A37:$O37,G$3) -> 11 | H96: =SMALL($A37:$O37,H$3) -> 13 | ... O96: =SMALL($A37:$O37,O$3) -> 21 | R96: 29 | AG96: 1 | AH96: 2 | AI96: 3 | AJ96: 4 | AK96: 5 | AL96: 6 | AM96: 7 | AN96: 8 | AO96: 9 | AP96: 10 | AQ96: 11 | AR96: 12 | AS96: 13 | AT96: 14 | AU96: 15 | AV96: 16 | AW96: 17 | AX96: 18 | AY96: 19 | AZ96: 20 | BA96: 21 | BB96: 22 | BC96: 23 | BD96: 24 | BE96: 25 | CM96: =SMALL($CM42:$DA42,A$3) -> 6 | CN96: =SMALL($CM42:$DA42,B$3) -> 7 | CO96: =SMALL($CM42:$DA42,C$3) -> 8 | CP96: =SMALL($CM42:$DA42,D$3) -> 10 | CQ96: =SMALL($CM42:$DA42,E$3) -> 11 | CR96: =SMALL($CM42:$DA42,F$3) -> 12 | CS96: =SMALL($CM42:$DA42,G$3) -> 13 | CT96: =SMALL($CM42:$DA42,H$3) -> 14 | ... DA96: =SMALL($CM42:$DA42,O$3) -> 21 | DC96: 40 | DS96: =LOOKUP(EI96,$A$3:$U$3,$A$4:$U$4) -> 2 | DT96: =LOOKUP(EJ96,$A$3:$U$3,$A$4:$U$4) -> 3 | DU96: =LOOKUP(EK96,$A$3:$U$3,$A$4:$U$4) -> 4 | DV96: =LOOKUP(EL96,$A$3:$U$3,$A$4:$U$4) -> 6 | DW96: =LOOKUP(EM96,$A$3:$U$3,$A$4:$U$4) -> 7 | DX96: =LOOKUP(EN96,$A$3:$U$3,$A$4:$U$4) -> 9 | DY96: =LOOKUP(EO96,$A$3:$U$3,$A$4:$U$4) -> 10 | DZ96: =LOOKUP(EP96,$A$3:$U$3,$A$4:$U$4) -> 12 | ... EG96: =LOOKUP(EW96,$A$3:$U$3,$A$4:$U$4) -> 21 | EI96: 2 | EJ96: 3 | EK96: 4 | EL96: 6 | EM96: 7 | EN96: 9 | EO96: 10 | EP96: 12 | EQ96: 14 | ER96: 15 | ES96: 16 | ET96: 17 | EU96: 18 | EV96: 19 | EW96: 21
A97: =SMALL($A38:$O38,A$3) -> 1 | B97: =SMALL($A38:$O38,B$3) -> 3 | C97: =SMALL($A38:$O38,C$3) -> 4 | D97: =SMALL($A38:$O38,D$3) -> 5 | E97: =SMALL($A38:$O38,E$3) -> 6 | F97: =SMALL($A38:$O38,F$3) -> 7 | G97: =SMALL($A38:$O38,G$3) -> 8 | H97: =SMALL($A38:$O38,H$3) -> 9 | ... O97: =SMALL($A38:$O38,O$3) -> 19 | R97: 30 | AG97: =AG142 -> 1 | AH97: =AH142 -> 2 | AI97: =AI142 -> 3 | AJ97: =AJ142 -> 4 | AK97: =AK142 -> 5 | AL97: =AL142 -> 6 | AM97: =AM142 -> 7 | AN97: =AN142 -> 8 | AO97: =AO142 -> 9 | AP97: =BS108 -> 10 | AQ97: =BT108 -> 11 | AR97: =BU108 -> 12 | AS97: =BV108 -> 13 | AT97: =BW108 -> 14 | AU97: =BX108 -> 15 | AV97: =BY108 -> 16 | AW97: =BZ108 -> 21 | ... BA97: =CD108 -> 25 | BB97: =AG143 -> 17 | BC97: =AH143 -> 18 | BD97: =AI143 -> 19 | BE97: =AJ143 -> 20 | BM97: 1 | BN97: 2 | BO97: 3 | BP97: 4 | BQ97: 5 | BR97: 6 | BS97: 7 | BT97: 8 | BU97: 9 | BV97: 10 | BW97: 11 | BX97: 12 | BY97: 13 | BZ97: 14 | CA97: 15 | CB97: 16 | CC97: 17 | CD97: 18 | CE97: 19 | CF97: 20 | CG97: 21 | CH97: 22 | CI97: 23 | CJ97: 24 | CK97: 25 | CM97: =SMALL($CM43:$DA43,A$3) -> 6 | CN97: =SMALL($CM43:$DA43,B$3) -> 8 | CO97: =SMALL($CM43:$DA43,C$3) -> 9 | CP97: =SMALL($CM43:$DA43,D$3) -> 10 | CQ97: =SMALL($CM43:$DA43,E$3) -> 11 | CR97: =SMALL($CM43:$DA43,F$3) -> 12 | CS97: =SMALL($CM43:$DA43,G$3) -> 13 | CT97: =SMALL($CM43:$DA43,H$3) -> 14 | ... DA97: =SMALL($CM43:$DA43,O$3) -> 21 | DC97: 41 | DS97: =LOOKUP(EI97,$A$3:$U$3,$A$4:$U$4) -> 2 | DT97: =LOOKUP(EJ97,$A$3:$U$3,$A$4:$U$4) -> 3 | DU97: =LOOKUP(EK97,$A$3:$U$3,$A$4:$U$4) -> 4 | DV97: =LOOKUP(EL97,$A$3:$U$3,$A$4:$U$4) -> 7 | DW97: =LOOKUP(EM97,$A$3:$U$3,$A$4:$U$4) -> 8 | DX97: =LOOKUP(EN97,$A$3:$U$3,$A$4:$U$4) -> 9 | DY97: =LOOKUP(EO97,$A$3:$U$3,$A$4:$U$4) -> 10 | DZ97: =LOOKUP(EP97,$A$3:$U$3,$A$4:$U$4) -> 11 | ... EG97: =LOOKUP(EW97,$A$3:$U$3,$A$4:$U$4) -> 21 | EI97: 2 | EJ97: 3 | EK97: 4 | EL97: 7 | EM97: 8 | EN97: 9 | EO97: 10 | EP97: 11 | EQ97: 13 | ER97: 14 | ES97: 15 | ET97: 17 | EU97: 18 | EV97: 20 | EW97: 21
A98: =SMALL($A39:$O39,A$3) -> 1 | B98: =SMALL($A39:$O39,B$3) -> 3 | C98: =SMALL($A39:$O39,C$3) -> 4 | D98: =SMALL($A39:$O39,D$3) -> 5 | E98: =SMALL($A39:$O39,E$3) -> 6 | F98: =SMALL($A39:$O39,F$3) -> 7 | G98: =SMALL($A39:$O39,G$3) -> 9 | H98: =SMALL($A39:$O39,H$3) -> 10 | ... O98: =SMALL($A39:$O39,O$3) -> 21 | R98: 31 | BM98: =AG142 -> 1 | BN98: =AH142 -> 2 | BO98: =AI142 -> 3 | BP98: =AJ142 -> 4 | BQ98: =AK142 -> 5 | BR98: =AL142 -> 6 | BS98: =AM142 -> 7 | BT98: =AN142 -> 8 | BU98: =AO142 -> 9 | CM98: =SMALL($CM44:$DA44,A$3) -> 7 | CN98: =SMALL($CM44:$DA44,B$3) -> 8 | CO98: =SMALL($CM44:$DA44,C$3) -> 9 | CP98: =SMALL($CM44:$DA44,D$3) -> 10 | CQ98: =SMALL($CM44:$DA44,E$3) -> 11 | CR98: =SMALL($CM44:$DA44,F$3) -> 12 | CS98: =SMALL($CM44:$DA44,G$3) -> 13 | CT98: =SMALL($CM44:$DA44,H$3) -> 14 | ... DA98: =SMALL($CM44:$DA44,O$3) -> 21 | DC98: 42 | DS98: =LOOKUP(EI98,$A$3:$U$3,$A$4:$U$4) -> 3 | DT98: =LOOKUP(EJ98,$A$3:$U$3,$A$4:$U$4) -> 4 | DU98: =LOOKUP(EK98,$A$3:$U$3,$A$4:$U$4) -> 5 | DV98: =LOOKUP(EL98,$A$3:$U$3,$A$4:$U$4) -> 6 | DW98: =LOOKUP(EM98,$A$3:$U$3,$A$4:$U$4) -> 7 | DX98: =LOOKUP(EN98,$A$3:$U$3,$A$4:$U$4) -> 8 | DY98: =LOOKUP(EO98,$A$3:$U$3,$A$4:$U$4) -> 10 | DZ98: =LOOKUP(EP98,$A$3:$U$3,$A$4:$U$4) -> 11 | ... EG98: =LOOKUP(EW98,$A$3:$U$3,$A$4:$U$4) -> 20 | EI98: 3 | EJ98: 4 | EK98: 5 | EL98: 6 | EM98: 7 | EN98: 8 | EO98: 10 | EP98: 11 | EQ98: 12 | ER98: 13 | ES98: 14 | ET98: 15 | EU98: 16 | EV98: 19 | EW98: 20
A99: =SMALL($A40:$O40,A$3) -> 1 | B99: =SMALL($A40:$O40,B$3) -> 3 | C99: =SMALL($A40:$O40,C$3) -> 4 | D99: =SMALL($A40:$O40,D$3) -> 5 | E99: =SMALL($A40:$O40,E$3) -> 7 | F99: =SMALL($A40:$O40,F$3) -> 8 | G99: =SMALL($A40:$O40,G$3) -> 9 | H99: =SMALL($A40:$O40,H$3) -> 12 | ... O99: =SMALL($A40:$O40,O$3) -> 21 | R99: 32 | BM99: =AG97 -> 1 | BN99: =AH97 -> 2 | BO99: =AI97 -> 3 | BP99: =AJ97 -> 4 | BQ99: =AK97 -> 5 | BR99: =AL97 -> 6 | BS99: =AM97 -> 7 | BT99: =AN97 -> 8 | ... BV99: =AP97 -> 10 | CM99: =SMALL($CM45:$DA45,A$3) -> 1 | CN99: =SMALL($CM45:$DA45,B$3) -> 2 | CO99: =SMALL($CM45:$DA45,C$3) -> 3 | CP99: =SMALL($CM45:$DA45,D$3) -> 10 | CQ99: =SMALL($CM45:$DA45,E$3) -> 11 | CR99: =SMALL($CM45:$DA45,F$3) -> 12 | CS99: =SMALL($CM45:$DA45,G$3) -> 13 | CT99: =SMALL($CM45:$DA45,H$3) -> 14 | ... DA99: =SMALL($CM45:$DA45,O$3) -> 21 | DC99: 43 | DS99: =LOOKUP(EI99,$A$3:$U$3,$A$4:$U$4) -> 3 | DT99: =LOOKUP(EJ99,$A$3:$U$3,$A$4:$U$4) -> 4 | DU99: =LOOKUP(EK99,$A$3:$U$3,$A$4:$U$4) -> 5 | DV99: =LOOKUP(EL99,$A$3:$U$3,$A$4:$U$4) -> 6 | DW99: =LOOKUP(EM99,$A$3:$U$3,$A$4:$U$4) -> 7 | DX99: =LOOKUP(EN99,$A$3:$U$3,$A$4:$U$4) -> 8 | DY99: =LOOKUP(EO99,$A$3:$U$3,$A$4:$U$4) -> 11 | DZ99: =LOOKUP(EP99,$A$3:$U$3,$A$4:$U$4) -> 13 | ... EG99: =LOOKUP(EW99,$A$3:$U$3,$A$4:$U$4) -> 21 | EI99: 3 | EJ99: 4 | EK99: 5 | EL99: 6 | EM99: 7 | EN99: 8 | EO99: 11 | EP99: 13 | EQ99: 14 | ER99: 15 | ES99: 16 | ET99: 17 | EU99: 18 | EV99: 19 | EW99: 21
A100: =SMALL($A41:$O41,A$3) -> 1 | B100: =SMALL($A41:$O41,B$3) -> 3 | C100: =SMALL($A41:$O41,C$3) -> 4 | D100: =SMALL($A41:$O41,D$3) -> 5 | E100: =SMALL($A41:$O41,E$3) -> 8 | F100: =SMALL($A41:$O41,F$3) -> 9 | G100: =SMALL($A41:$O41,G$3) -> 11 | H100: =SMALL($A41:$O41,H$3) -> 12 | ... O100: =SMALL($A41:$O41,O$3) -> 21 | R100: 33 | BM100: =COUNTIF($BM$97:$CK$98,BM97) -> 2 | BN100: =COUNTIF($BM$97:$CK$98,BN97) -> 2 | BO100: =COUNTIF($BM$97:$CK$98,BO97) -> 2 | BP100: =COUNTIF($BM$97:$CK$98,BP97) -> 2 | BQ100: =COUNTIF($BM$97:$CK$98,BQ97) -> 2 | BR100: =COUNTIF($BM$97:$CK$98,BR97) -> 2 | BS100: =COUNTIF($BM$97:$CK$98,BS97) -> 2 | BT100: =COUNTIF($BM$97:$CK$98,BT97) -> 2 | ... CK100: =COUNTIF($BM$97:$CK$98,CK97) -> 1 | CM100: =SMALL($CM46:$DA46,A$3) -> 1 | CN100: =SMALL($CM46:$DA46,B$3) -> 2 | CO100: =SMALL($CM46:$DA46,C$3) -> 4 | CP100: =SMALL($CM46:$DA46,D$3) -> 10 | CQ100: =SMALL($CM46:$DA46,E$3) -> 11 | CR100: =SMALL($CM46:$DA46,F$3) -> 12 | CS100: =SMALL($CM46:$DA46,G$3) -> 13 | CT100: =SMALL($CM46:$DA46,H$3) -> 14 | ... DA100: =SMALL($CM46:$DA46,O$3) -> 21 | DC100: 44 | DS100: =LOOKUP(EI100,$A$3:$U$3,$A$4:$U$4) -> 3 | DT100: =LOOKUP(EJ100,$A$3:$U$3,$A$4:$U$4) -> 4 | DU100: =LOOKUP(EK100,$A$3:$U$3,$A$4:$U$4) -> 5 | DV100: =LOOKUP(EL100,$A$3:$U$3,$A$4:$U$4) -> 6 | DW100: =LOOKUP(EM100,$A$3:$U$3,$A$4:$U$4) -> 8 | DX100: =LOOKUP(EN100,$A$3:$U$3,$A$4:$U$4) -> 9 | DY100: =LOOKUP(EO100,$A$3:$U$3,$A$4:$U$4) -> 12 | DZ100: =LOOKUP(EP100,$A$3:$U$3,$A$4:$U$4) -> 13 | ... EG100: =LOOKUP(EW100,$A$3:$U$3,$A$4:$U$4) -> 20 | EI100: 3 | EJ100: 4 | EK100: 5 | EL100: 6 | EM100: 8 | EN100: 9 | EO100: 12 | EP100: 13 | EQ100: 14 | ER100: 15 | ES100: 16 | ET100: 17 | EU100: 18 | EV100: 19 | EW100: 20
A101: =SMALL($A42:$O42,A$3) -> 1 | B101: =SMALL($A42:$O42,B$3) -> 3 | C101: =SMALL($A42:$O42,C$3) -> 4 | D101: =SMALL($A42:$O42,D$3) -> 6 | E101: =SMALL($A42:$O42,E$3) -> 7 | F101: =SMALL($A42:$O42,F$3) -> 8 | G101: =SMALL($A42:$O42,G$3) -> 9 | H101: =SMALL($A42:$O42,H$3) -> 10 | ... O101: =SMALL($A42:$O42,O$3) -> 20 | R101: 34 | BM101: =IF(BM100=1,BM97,0) -> 0 | BN101: =IF(BN100=1,BN97,0) -> 0 | BO101: =IF(BO100=1,BO97,0) -> 0 | BP101: =IF(BP100=1,BP97,0) -> 0 | BQ101: =IF(BQ100=1,BQ97,0) -> 0 | BR101: =IF(BR100=1,BR97,0) -> 0 | BS101: =IF(BS100=1,BS97,0) -> 0 | BT101: =IF(BT100=1,BT97,0) -> 0 | ... CK101: =IF(CK100=1,CK97,0) -> 25 | CM101: =SMALL($CM47:$DA47,A$3) -> 1 | CN101: =SMALL($CM47:$DA47,B$3) -> 2 | CO101: =SMALL($CM47:$DA47,C$3) -> 5 | CP101: =SMALL($CM47:$DA47,D$3) -> 10 | CQ101: =SMALL($CM47:$DA47,E$3) -> 11 | CR101: =SMALL($CM47:$DA47,F$3) -> 12 | CS101: =SMALL($CM47:$DA47,G$3) -> 13 | CT101: =SMALL($CM47:$DA47,H$3) -> 14 | ... DA101: =SMALL($CM47:$DA47,O$3) -> 21 | DC101: 45 | DS101: =LOOKUP(EI101,$A$3:$U$3,$A$4:$U$4) -> 3 | DT101: =LOOKUP(EJ101,$A$3:$U$3,$A$4:$U$4) -> 4 | DU101: =LOOKUP(EK101,$A$3:$U$3,$A$4:$U$4) -> 5 | DV101: =LOOKUP(EL101,$A$3:$U$3,$A$4:$U$4) -> 7 | DW101: =LOOKUP(EM101,$A$3:$U$3,$A$4:$U$4) -> 8 | DX101: =LOOKUP(EN101,$A$3:$U$3,$A$4:$U$4) -> 9 | DY101: =LOOKUP(EO101,$A$3:$U$3,$A$4:$U$4) -> 10 | DZ101: =LOOKUP(EP101,$A$3:$U$3,$A$4:$U$4) -> 11 | ... EG101: =LOOKUP(EW101,$A$3:$U$3,$A$4:$U$4) -> 21 | EI101: 3 | EJ101: 4 | EK101: 5 | EL101: 7 | EM101: 8 | EN101: 9 | EO101: 10 | EP101: 11 | EQ101: 13 | ER101: 15 | ES101: 16 | ET101: 17 | EU101: 18 | EV101: 19 | EW101: 21
