Workbook

Sheet Início
A1: Sua Logo Aqui | AA1: ="V"&X5 -> V1
E2: Desdobramento Lotofácil com 21 Números
X5: 1 | Y5: 10
W7: Opção 1: Se você acertar os 14 números fixos dos 21 escolhidos garante ao menos 1 cartela com 12 pontos. ( 58 volantes ) Opção 2: Se você acertar o número fixos escolhidos e não sair nenhum dos 4 excluídos garante no mínimo uma cartela com 12 pontos. ( 20 volantes ) Opção 3: Se você acertar os 3 números fixos escolhidos e não sair nenhum dos 4 excluídos garante no mínimo uma cartela com 11 pontos. ( 15 volantes ) Opção 4: Se você acertar os 9 números fixos escolhidos e não sair nenhum dos 4 excluídos possui 99% chance de uma cartela com 14 pontos. ( 38 volantes ) Opção 5: Se os 15 números estiverem entre os 21 escolhidos. Há garantia mínima de retorno do investimento com premiações de 11, 12 e 13 pontos. E também maior chance de acertar 14 e 15 pontos. ( 52 volantes ) Opção 6: Se você acertar os 15 números fixos dos 21 escolhidos garante ao menos 1 cartela com 11 pontos. ( 4 volantes ) Opção 7: Se você acertar os 15 números fixos dos 21 escolhidos garante ao menos 1 cartela com 12 pontos. ( 14 volantes ) Opção 8: Se você acertar os 15 números fixos dos 21 escolhidos garante ao menos 1 cartela com 13 pontos. ( 104 volantes )
B16: Digite 21 Números Fixo | K16: ( Qualquer Ordem)
B17: 1 | C17: 2 | D17: 3 | E17: 4 | F17: 5 | G17: 6 | H17: 7 | I17: 8 | J17: 9 | K17: 10 | L17: 11 | M17: 12 | N17: 13 | O17: 14 | P17: 15 | Q17: 16 | R17: 17 | S17: 18 | T17: 19 | U17: 20 | V17: 21
B24: Opção 2:
B25: Digite 1 Números Fixo | K25: ( Qualquer Ordem)
B26: 1
B27: Digite 4 Números Para Excluir
B28: 17 | C28: 18 | D28: 19 | E28: 20
B30: Opção 3:
B31: Digite 3 Números Fixo | K31: ( Qualquer Ordem)
B32: 1 | C32: 2 | D32: 3
B33: Digite 4 Números Para Excluir
B34: 17 | C34: 18 | D34: 19 | E34: 20
B36: Opção 4:
B37: Digite 9 Números Fixo | K37: ( Qualquer Ordem)
B38: 1 | C38: 2 | D38: 3 | E38: 4 | F38: 5 | G38: 6 | H38: 7 | I38: 8 | J38: 9
B39: Digite 4 Números Para Excluir
B40: 17 | C40: 18 | D40: 19 | E40: 20

Sheet Opcao1
AA1: ="V"&X5 -> V1
A2: Opção 1 ( 21 fixos )
X5: 1 | Y5: 10
B16: Total de 58 volantes
B18: =Apoio!A68 -> 1 | C18: =Apoio!B68 -> 2 | D18: =Apoio!C68 -> 3 | E18: =Apoio!D68 -> 4 | F18: =Apoio!E68 -> 5 | G18: =Apoio!F68 -> 6 | H18: =Apoio!G68 -> 7 | I18: =Apoio!H68 -> 8 | ... P18: =Apoio!O68 -> 21 | R18: 1
B19: =Apoio!A69 -> 1 | C19: =Apoio!B69 -> 2 | D19: =Apoio!C69 -> 3 | E19: =Apoio!D69 -> 4 | F19: =Apoio!E69 -> 5 | G19: =Apoio!F69 -> 6 | H19: =Apoio!G69 -> 7 | I19: =Apoio!H69 -> 8 | ... P19: =Apoio!O69 -> 21 | R19: 2
B20: =Apoio!A70 -> 1 | C20: =Apoio!B70 -> 2 | D20: =Apoio!C70 -> 3 | E20: =Apoio!D70 -> 4 | F20: =Apoio!E70 -> 5 | G20: =Apoio!F70 -> 6 | H20: =Apoio!G70 -> 7 | I20: =Apoio!H70 -> 10 | ... P20: =Apoio!O70 -> 20 | R20: 3
B21: =Apoio!A71 -> 1 | C21: =Apoio!B71 -> 2 | D21: =Apoio!C71 -> 3 | E21: =Apoio!D71 -> 4 | F21: =Apoio!E71 -> 5 | G21: =Apoio!F71 -> 6 | H21: =Apoio!G71 -> 8 | I21: =Apoio!H71 -> 10 | ... P21: =Apoio!O71 -> 18 | R21: 4
B22: =Apoio!A72 -> 1 | C22: =Apoio!B72 -> 2 | D22: =Apoio!C72 -> 3 | E22: =Apoio!D72 -> 4 | F22: =Apoio!E72 -> 5 | G22: =Apoio!F72 -> 6 | H22: =Apoio!G72 -> 8 | I22: =Apoio!H72 -> 10 | ... P22: =Apoio!O72 -> 21 | R22: 5
B23: =Apoio!A73 -> 1 | C23: =Apoio!B73 -> 2 | D23: =Apoio!C73 -> 3 | E23: =Apoio!D73 -> 4 | F23: =Apoio!E73 -> 5 | G23: =Apoio!F73 -> 6 | H23: =Apoio!G73 -> 9 | I23: =Apoio!H73 -> 10 | ... P23: =Apoio!O73 -> 21 | R23: 6
B24: =Apoio!A74 -> 1 | C24: =Apoio!B74 -> 2 | D24: =Apoio!C74 -> 3 | E24: =Apoio!D74 -> 4 | F24: =Apoio!E74 -> 5 | G24: =Apoio!F74 -> 7 | H24: =Apoio!G74 -> 9 | I24: =Apoio!H74 -> 11 | ... P24: =Apoio!O74 -> 21 | R24: 7
B25: =Apoio!A75 -> 1 | C25: =Apoio!B75 -> 2 | D25: =Apoio!C75 -> 3 | E25: =Apoio!D75 -> 4 | F25: =Apoio!E75 -> 5 | G25: =Apoio!F75 -> 7 | H25: =Apoio!G75 -> 9 | I25: =Apoio!H75 -> 11 | ... P25: =Apoio!O75 -> 20 | R25: 8
B26: =Apoio!A76 -> 1 | C26: =Apoio!B76 -> 2 | D26: =Apoio!C76 -> 3 | E26: =Apoio!D76 -> 4 | F26: =Apoio!E76 -> 5 | G26: =Apoio!F76 -> 8 | H26: =Apoio!G76 -> 9 | I26: =Apoio!H76 -> 10 | ... P26: =Apoio!O76 -> 20 | R26: 9
B27: =Apoio!A77 -> 1 | C27: =Apoio!B77 -> 2 | D27: =Apoio!C77 -> 3 | E27: =Apoio!D77 -> 4 | F27: =Apoio!E77 -> 5 | G27: =Apoio!F77 -> 8 | H27: =Apoio!G77 -> 10 | I27: =Apoio!H77 -> 12 | ... P27: =Apoio!O77 -> 21 | R27: 10
B28: =Apoio!A78 -> 1 | C28: =Apoio!B78 -> 2 | D28: =Apoio!C78 -> 3 | E28: =Apoio!D78 -> 4 | F28: =Apoio!E78 -> 6 | G28: =Apoio!F78 -> 7 | H28: =Apoio!G78 -> 8 | I28: =Apoio!H78 -> 10 | ... P28: =Apoio!O78 -> 20 | R28: 11
B29: =Apoio!A79 -> 1 | C29: =Apoio!B79 -> 2 | D29: =Apoio!C79 -> 3 | E29: =Apoio!D79 -> 4 | F29: =Apoio!E79 -> 6 | G29: =Apoio!F79 -> 8 | H29: =Apoio!G79 -> 9 | I29: =Apoio!H79 -> 10 | ... P29: =Apoio!O79 -> 20 | R29: 12
... B75: =Apoio!A125 -> 5 | C75: =Apoio!B125 -> 6 | D75: =Apoio!C125 -> 7 | E75: =Apoio!D125 -> 8 | F75: =Apoio!E125 -> 9 | G75: =Apoio!F125 -> 10 | H75: =Apoio!G125 -> 12 | I75: =Apoio!H125 -> 13 | ... P75: =Apoio!O125 -> 21 | R75: 58

Sheet Opcao2
AA1: ="V"&X5 -> V1
A2: Opção 2 ( 1 fixos e 4 Excluídos )
X5: 1 | Y5: 10
B16: Total de 20 volantes
B18: =Apoio!AG33 -> 1 | C18: =Apoio!AH33 -> 2 | D18: =Apoio!AI33 -> 3 | E18: =Apoio!AJ33 -> 4 | F18: =Apoio!AK33 -> 5 | G18: =Apoio!AL33 -> 6 | H18: =Apoio!AM33 -> 10 | I18: =Apoio!AN33 -> 11 | ... P18: =Apoio!AU33 -> 25 | R18: 1
B19: =Apoio!AG34 -> 1 | C19: =Apoio!AH34 -> 2 | D19: =Apoio!AI34 -> 3 | E19: =Apoio!AJ34 -> 4 | F19: =Apoio!AK34 -> 5 | G19: =Apoio!AL34 -> 7 | H19: =Apoio!AM34 -> 10 | I19: =Apoio!AN34 -> 11 | ... P19: =Apoio!AU34 -> 25 | R19: 2
B20: =Apoio!AG35 -> 1 | C20: =Apoio!AH35 -> 2 | D20: =Apoio!AI35 -> 3 | E20: =Apoio!AJ35 -> 4 | F20: =Apoio!AK35 -> 5 | G20: =Apoio!AL35 -> 8 | H20: =Apoio!AM35 -> 10 | I20: =Apoio!AN35 -> 11 | ... P20: =Apoio!AU35 -> 25 | R20: 3
B21: =Apoio!AG36 -> 1 | C21: =Apoio!AH36 -> 2 | D21: =Apoio!AI36 -> 3 | E21: =Apoio!AJ36 -> 4 | F21: =Apoio!AK36 -> 5 | G21: =Apoio!AL36 -> 9 | H21: =Apoio!AM36 -> 10 | I21: =Apoio!AN36 -> 11 | ... P21: =Apoio!AU36 -> 25 | R21: 4
B22: =Apoio!AG37 -> 1 | C22: =Apoio!AH37 -> 2 | D22: =Apoio!AI37 -> 3 | E22: =Apoio!AJ37 -> 4 | F22: =Apoio!AK37 -> 6 | G22: =Apoio!AL37 -> 7 | H22: =Apoio!AM37 -> 10 | I22: =Apoio!AN37 -> 11 | ... P22: =Apoio!AU37 -> 25 | R22: 5
B23: =Apoio!AG38 -> 1 | C23: =Apoio!AH38 -> 2 | D23: =Apoio!AI38 -> 3 | E23: =Apoio!AJ38 -> 4 | F23: =Apoio!AK38 -> 6 | G23: =Apoio!AL38 -> 8 | H23: =Apoio!AM38 -> 10 | I23: =Apoio!AN38 -> 11 | ... P23: =Apoio!AU38 -> 25 | R23: 6
B24: =Apoio!AG39 -> 1 | C24: =Apoio!AH39 -> 2 | D24: =Apoio!AI39 -> 3 | E24: =Apoio!AJ39 -> 4 | F24: =Apoio!AK39 -> 6 | G24: =Apoio!AL39 -> 9 | H24: =Apoio!AM39 -> 10 | I24: =Apoio!AN39 -> 11 | ... P24: =Apoio!AU39 -> 25 | R24: 7
B25: =Apoio!AG40 -> 1 | C25: =Apoio!AH40 -> 2 | D25: =Apoio!AI40 -> 3 | E25: =Apoio!AJ40 -> 4 | F25: =Apoio!AK40 -> 7 | G25: =Apoio!AL40 -> 8 | H25: =Apoio!AM40 -> 10 | I25: =Apoio!AN40 -> 11 | ... P25: =Apoio!AU40 -> 25 | R25: 8
B26: =Apoio!AG41 -> 1 | C26: =Apoio!AH41 -> 2 | D26: =Apoio!AI41 -> 3 | E26: =Apoio!AJ41 -> 4 | F26: =Apoio!AK41 -> 7 | G26: =Apoio!AL41 -> 9 | H26: =Apoio!AM41 -> 10 | I26: =Apoio!AN41 -> 11 | ... P26: =Apoio!AU41 -> 25 | R26: 9
B27: =Apoio!AG42 -> 1 | C27: =Apoio!AH42 -> 2 | D27: =Apoio!AI42 -> 3 | E27: =Apoio!AJ42 -> 4 | F27: =Apoio!AK42 -> 8 | G27: =Apoio!AL42 -> 9 | H27: =Apoio!AM42 -> 10 | I27: =Apoio!AN42 -> 11 | ... P27: =Apoio!AU42 -> 25 | R27: 10
B28: =Apoio!AG43 -> 1 | C28: =Apoio!AH43 -> 2 | D28: =Apoio!AI43 -> 3 | E28: =Apoio!AJ43 -> 5 | F28: =Apoio!AK43 -> 6 | G28: =Apoio!AL43 -> 7 | H28: =Apoio!AM43 -> 8 | I28: =Apoio!AN43 -> 9 | ... P28: =Apoio!AU43 -> 23 | R28: 11
B29: =Apoio!AG44 -> 1 | C29: =Apoio!AH44 -> 2 | D29: =Apoio!AI44 -> 4 | E29: =Apoio!AJ44 -> 5 | F29: =Apoio!AK44 -> 6 | G29: =Apoio!AL44 -> 7 | H29: =Apoio!AM44 -> 8 | I29: =Apoio!AN44 -> 9 | ... P29: =Apoio!AU44 -> 23 | R29: 12
... B37: =Apoio!AG52 -> 1 | C37: =Apoio!AH52 -> 5 | D37: =Apoio!AI52 -> 6 | E37: =Apoio!AJ52 -> 7 | F37: =Apoio!AK52 -> 8 | G37: =Apoio!AL52 -> 9 | H37: =Apoio!AM52 -> 10 | I37: =Apoio!AN52 -> 11 | ... P37: =Apoio!AU52 -> 25 | R37: 20

Sheet Opcao3
AA1: ="V"&X5 -> V1
A2: Opção 3 ( 3 fixos e 4 Excluídos )
X5: 1 | Y5: 10
B16: Total de 15 volantes
B18: =Apoio!AG79 -> 1 | C18: =Apoio!AH79 -> 2 | D18: =Apoio!AI79 -> 3 | E18: =Apoio!AJ79 -> 4 | F18: =Apoio!AK79 -> 8 | G18: =Apoio!AL79 -> 9 | H18: =Apoio!AM79 -> 10 | I18: =Apoio!AN79 -> 12 | ... P18: =Apoio!AU79 -> 25 | R18: 1
B19: =Apoio!AG80 -> 1 | C19: =Apoio!AH80 -> 2 | D19: =Apoio!AI80 -> 3 | E19: =Apoio!AJ80 -> 4 | F19: =Apoio!AK80 -> 5 | G19: =Apoio!AL80 -> 6 | H19: =Apoio!AM80 -> 7 | I19: =Apoio!AN80 -> 8 | ... P19: =Apoio!AU80 -> 22 | R19: 2
B20: =Apoio!AG81 -> 1 | C20: =Apoio!AH81 -> 2 | D20: =Apoio!AI81 -> 3 | E20: =Apoio!AJ81 -> 4 | F20: =Apoio!AK81 -> 8 | G20: =Apoio!AL81 -> 9 | H20: =Apoio!AM81 -> 10 | I20: =Apoio!AN81 -> 11 | ... P20: =Apoio!AU81 -> 22 | R20: 3
B21: =Apoio!AG82 -> 1 | C21: =Apoio!AH82 -> 2 | D21: =Apoio!AI82 -> 3 | E21: =Apoio!AJ82 -> 4 | F21: =Apoio!AK82 -> 5 | G21: =Apoio!AL82 -> 6 | H21: =Apoio!AM82 -> 7 | I21: =Apoio!AN82 -> 8 | ... P21: =Apoio!AU82 -> 25 | R21: 4
B22: =Apoio!AG83 -> 1 | C22: =Apoio!AH83 -> 2 | D22: =Apoio!AI83 -> 3 | E22: =Apoio!AJ83 -> 4 | F22: =Apoio!AK83 -> 8 | G22: =Apoio!AL83 -> 9 | H22: =Apoio!AM83 -> 10 | I22: =Apoio!AN83 -> 11 | ... P22: =Apoio!AU83 -> 25 | R22: 5
B23: =Apoio!AG84 -> 1 | C23: =Apoio!AH84 -> 2 | D23: =Apoio!AI84 -> 3 | E23: =Apoio!AJ84 -> 4 | F23: =Apoio!AK84 -> 5 | G23: =Apoio!AL84 -> 6 | H23: =Apoio!AM84 -> 7 | I23: =Apoio!AN84 -> 8 | ... P23: =Apoio!AU84 -> 21 | R23: 6
B24: =Apoio!AG85 -> 1 | C24: =Apoio!AH85 -> 2 | D24: =Apoio!AI85 -> 3 | E24: =Apoio!AJ85 -> 4 | F24: =Apoio!AK85 -> 5 | G24: =Apoio!AL85 -> 6 | H24: =Apoio!AM85 -> 7 | I24: =Apoio!AN85 -> 8 | ... P24: =Apoio!AU85 -> 25 | R24: 7
B25: =Apoio!AG86 -> 1 | C25: =Apoio!AH86 -> 2 | D25: =Apoio!AI86 -> 3 | E25: =Apoio!AJ86 -> 4 | F25: =Apoio!AK86 -> 8 | G25: =Apoio!AL86 -> 9 | H25: =Apoio!AM86 -> 11 | I25: =Apoio!AN86 -> 13 | ... P25: =Apoio!AU86 -> 25 | R25: 8
B26: =Apoio!AG87 -> 1 | C26: =Apoio!AH87 -> 2 | D26: =Apoio!AI87 -> 3 | E26: =Apoio!AJ87 -> 4 | F26: =Apoio!AK87 -> 5 | G26: =Apoio!AL87 -> 6 | H26: =Apoio!AM87 -> 7 | I26: =Apoio!AN87 -> 8 | ... P26: =Apoio!AU87 -> 22 | R26: 9
B27: =Apoio!AG88 -> 1 | C27: =Apoio!AH88 -> 2 | D27: =Apoio!AI88 -> 3 | E27: =Apoio!AJ88 -> 4 | F27: =Apoio!AK88 -> 5 | G27: =Apoio!AL88 -> 6 | H27: =Apoio!AM88 -> 7 | I27: =Apoio!AN88 -> 8 | ... P27: =Apoio!AU88 -> 25 | R27: 10
B28: =Apoio!AG89 -> 1 | C28: =Apoio!AH89 -> 2 | D28: =Apoio!AI89 -> 3 | E28: =Apoio!AJ89 -> 5 | F28: =Apoio!AK89 -> 6 | G28: =Apoio!AL89 -> 7 | H28: =Apoio!AM89 -> 10 | I28: =Apoio!AN89 -> 12 | ... P28: =Apoio!AU89 -> 25 | R28: 11
B29: =Apoio!AG90 -> 1 | C29: =Apoio!AH90 -> 2 | D29: =Apoio!AI90 -> 3 | E29: =Apoio!AJ90 -> 10 | F29: =Apoio!AK90 -> 11 | G29: =Apoio!AL90 -> 12 | H29: =Apoio!AM90 -> 13 | I29: =Apoio!AN90 -> 14 | ... P29: =Apoio!AU90 -> 25 | R29: 12
... B32: =Apoio!AG93 -> 1 | C32: =Apoio!AH93 -> 2 | D32: =Apoio!AI93 -> 3 | E32: =Apoio!AJ93 -> 5 | F32: =Apoio!AK93 -> 6 | G32: =Apoio!AL93 -> 7 | H32: =Apoio!AM93 -> 11 | I32: =Apoio!AN93 -> 13 | ... P32: =Apoio!AU93 -> 25 | R32: 15

Sheet Opcao4
AA1: ="V"&X5 -> V1
A2: Opção 4 ( 9 fixos e 4 Excluídos )
X5: 1 | Y5: 10
B16: Total de 38 volantes
B18: =Apoio!AG145 -> 1 | C18: =Apoio!AH145 -> 2 | D18: =Apoio!AI145 -> 3 | E18: =Apoio!AJ145 -> 4 | F18: =Apoio!AK145 -> 5 | G18: =Apoio!AL145 -> 6 | H18: =Apoio!AM145 -> 7 | I18: =Apoio!AN145 -> 8 | ... P18: =Apoio!AU145 -> 25 | R18: 1
B19: =Apoio!AG146 -> 1 | C19: =Apoio!AH146 -> 2 | D19: =Apoio!AI146 -> 3 | E19: =Apoio!AJ146 -> 4 | F19: =Apoio!AK146 -> 5 | G19: =Apoio!AL146 -> 6 | H19: =Apoio!AM146 -> 7 | I19: =Apoio!AN146 -> 8 | ... P19: =Apoio!AU146 -> 21 | R19: 2
B20: =Apoio!AG147 -> 1 | C20: =Apoio!AH147 -> 2 | D20: =Apoio!AI147 -> 3 | E20: =Apoio!AJ147 -> 4 | F20: =Apoio!AK147 -> 5 | G20: =Apoio!AL147 -> 6 | H20: =Apoio!AM147 -> 7 | I20: =Apoio!AN147 -> 8 | ... P20: =Apoio!AU147 -> 24 | R20: 3
B21: =Apoio!AG148 -> 1 | C21: =Apoio!AH148 -> 2 | D21: =Apoio!AI148 -> 3 | E21: =Apoio!AJ148 -> 4 | F21: =Apoio!AK148 -> 5 | G21: =Apoio!AL148 -> 6 | H21: =Apoio!AM148 -> 7 | I21: =Apoio!AN148 -> 8 | ... P21: =Apoio!AU148 -> 23 | R21: 4
B22: =Apoio!AG149 -> 1 | C22: =Apoio!AH149 -> 2 | D22: =Apoio!AI149 -> 3 | E22: =Apoio!AJ149 -> 4 | F22: =Apoio!AK149 -> 5 | G22: =Apoio!AL149 -> 6 | H22: =Apoio!AM149 -> 7 | I22: =Apoio!AN149 -> 8 | ... P22: =Apoio!AU149 -> 24 | R22: 5
B23: =Apoio!AG150 -> 1 | C23: =Apoio!AH150 -> 2 | D23: =Apoio!AI150 -> 3 | E23: =Apoio!AJ150 -> 4 | F23: =Apoio!AK150 -> 5 | G23: =Apoio!AL150 -> 6 | H23: =Apoio!AM150 -> 7 | I23: =Apoio!AN150 -> 8 | ... P23: =Apoio!AU150 -> 25 | R23: 6
B24: =Apoio!AG151 -> 1 | C24: =Apoio!AH151 -> 2 | D24: =Apoio!AI151 -> 3 | E24: =Apoio!AJ151 -> 4 | F24: =Apoio!AK151 -> 5 | G24: =Apoio!AL151 -> 6 | H24: =Apoio!AM151 -> 7 | I24: =Apoio!AN151 -> 8 | ... P24: =Apoio!AU151 -> 21 | R24: 7
B25: =Apoio!AG152 -> 1 | C25: =Apoio!AH152 -> 2 | D25: =Apoio!AI152 -> 3 | E25: =Apoio!AJ152 -> 4 | F25: =Apoio!AK152 -> 5 | G25: =Apoio!AL152 -> 6 | H25: =Apoio!AM152 -> 7 | I25: =Apoio!AN152 -> 8 | ... P25: =Apoio!AU152 -> 22 | R25: 8
B26: =Apoio!AG153 -> 1 | C26: =Apoio!AH153 -> 2 | D26: =Apoio!AI153 -> 3 | E26: =Apoio!AJ153 -> 4 | F26: =Apoio!AK153 -> 5 | G26: =Apoio!AL153 -> 6 | H26: =Apoio!AM153 -> 7 | I26: =Apoio!AN153 -> 8 | ... P26: =Apoio!AU153 -> 25 | R26: 9
B27: =Apoio!AG154 -> 1 | C27: =Apoio!AH154 -> 2 | D27: =Apoio!AI154 -> 3 | E27: =Apoio!AJ154 -> 4 | F27: =Apoio!AK154 -> 5 | G27: =Apoio!AL154 -> 6 | H27: =Apoio!AM154 -> 7 | I27: =Apoio!AN154 -> 8 | ... P27: =Apoio!AU154 -> 25 | R27: 10
B28: =Apoio!AG155 -> 1 | C28: =Apoio!AH155 -> 2 | D28: =Apoio!AI155 -> 3 | E28: =Apoio!AJ155 -> 4 | F28: =Apoio!AK155 -> 5 | G28: =Apoio!AL155 -> 6 | H28: =Apoio!AM155 -> 7 | I28: =Apoio!AN155 -> 8 | ... P28: =Apoio!AU155 -> 24 | R28: 11
B29: =Apoio!AG156 -> 1 | C29: =Apoio!AH156 -> 2 | D29: =Apoio!AI156 -> 3 | E29: =Apoio!AJ156 -> 4 | F29: =Apoio!AK156 -> 5 | G29: =Apoio!AL156 -> 6 | H29: =Apoio!AM156 -> 7 | I29: =Apoio!AN156 -> 8 | ... P29: =Apoio!AU156 -> 25 | R29: 12
... B55: =Apoio!AG182 -> 1 | C55: =Apoio!AH182 -> 2 | D55: =Apoio!AI182 -> 3 | E55: =Apoio!AJ182 -> 4 | F55: =Apoio!AK182 -> 5 | G55: =Apoio!AL182 -> 6 | H55: =Apoio!AM182 -> 7 | I55: =Apoio!AN182 -> 8 | ... P55: =Apoio!AU182 -> 24 | R55: 38

Sheet Opcao5
AA1: ="V"&X5 -> V1
A2: Opção 5 ( 21 fixos )
X5: 1 | Y5: 10
B16: Total de 52 volantes
B18: =Apoio!CM57 -> 1 | C18: =Apoio!CN57 -> 2 | D18: =Apoio!CO57 -> 3 | E18: =Apoio!CP57 -> 4 | F18: =Apoio!CQ57 -> 5 | G18: =Apoio!CR57 -> 6 | H18: =Apoio!CS57 -> 7 | I18: =Apoio!CT57 -> 8 | ... P18: =Apoio!DA57 -> 15 | R18: 1
B19: =Apoio!CM58 -> 1 | C19: =Apoio!CN58 -> 2 | D19: =Apoio!CO58 -> 3 | E19: =Apoio!CP58 -> 4 | F19: =Apoio!CQ58 -> 5 | G19: =Apoio!CR58 -> 6 | H19: =Apoio!CS58 -> 7 | I19: =Apoio!CT58 -> 8 | ... P19: =Apoio!DA58 -> 17 | R19: 2
B20: =Apoio!CM59 -> 1 | C20: =Apoio!CN59 -> 2 | D20: =Apoio!CO59 -> 3 | E20: =Apoio!CP59 -> 4 | F20: =Apoio!CQ59 -> 5 | G20: =Apoio!CR59 -> 6 | H20: =Apoio!CS59 -> 7 | I20: =Apoio!CT59 -> 8 | ... P20: =Apoio!DA59 -> 19 | R20: 3
B21: =Apoio!CM60 -> 1 | C21: =Apoio!CN60 -> 2 | D21: =Apoio!CO60 -> 3 | E21: =Apoio!CP60 -> 4 | F21: =Apoio!CQ60 -> 5 | G21: =Apoio!CR60 -> 6 | H21: =Apoio!CS60 -> 7 | I21: =Apoio!CT60 -> 8 | ... P21: =Apoio!DA60 -> 21 | R21: 4
B22: =Apoio!CM61 -> 1 | C22: =Apoio!CN61 -> 2 | D22: =Apoio!CO61 -> 3 | E22: =Apoio!CP61 -> 4 | F22: =Apoio!CQ61 -> 5 | G22: =Apoio!CR61 -> 6 | H22: =Apoio!CS61 -> 7 | I22: =Apoio!CT61 -> 8 | ... P22: =Apoio!DA61 -> 17 | R22: 5
B23: =Apoio!CM62 -> 1 | C23: =Apoio!CN62 -> 2 | D23: =Apoio!CO62 -> 3 | E23: =Apoio!CP62 -> 4 | F23: =Apoio!CQ62 -> 5 | G23: =Apoio!CR62 -> 6 | H23: =Apoio!CS62 -> 7 | I23: =Apoio!CT62 -> 8 | ... P23: =Apoio!DA62 -> 19 | R23: 6
B24: =Apoio!CM63 -> 1 | C24: =Apoio!CN63 -> 2 | D24: =Apoio!CO63 -> 3 | E24: =Apoio!CP63 -> 4 | F24: =Apoio!CQ63 -> 5 | G24: =Apoio!CR63 -> 6 | H24: =Apoio!CS63 -> 7 | I24: =Apoio!CT63 -> 8 | ... P24: =Apoio!DA63 -> 21 | R24: 7
B25: =Apoio!CM64 -> 1 | C25: =Apoio!CN64 -> 2 | D25: =Apoio!CO64 -> 3 | E25: =Apoio!CP64 -> 4 | F25: =Apoio!CQ64 -> 5 | G25: =Apoio!CR64 -> 6 | H25: =Apoio!CS64 -> 7 | I25: =Apoio!CT64 -> 8 | ... P25: =Apoio!DA64 -> 19 | R25: 8
B26: =Apoio!CM65 -> 1 | C26: =Apoio!CN65 -> 2 | D26: =Apoio!CO65 -> 3 | E26: =Apoio!CP65 -> 4 | F26: =Apoio!CQ65 -> 5 | G26: =Apoio!CR65 -> 6 | H26: =Apoio!CS65 -> 7 | I26: =Apoio!CT65 -> 8 | ... P26: =Apoio!DA65 -> 21 | R26: 9
B27: =Apoio!CM66 -> 1 | C27: =Apoio!CN66 -> 2 | D27: =Apoio!CO66 -> 3 | E27: =Apoio!CP66 -> 4 | F27: =Apoio!CQ66 -> 5 | G27: =Apoio!CR66 -> 6 | H27: =Apoio!CS66 -> 7 | I27: =Apoio!CT66 -> 8 | ... P27: =Apoio!DA66 -> 21 | R27: 10
B28: =Apoio!CM67 -> 1 | C28: =Apoio!CN67 -> 2 | D28: =Apoio!CO67 -> 3 | E28: =Apoio!CP67 -> 4 | F28: =Apoio!CQ67 -> 5 | G28: =Apoio!CR67 -> 6 | H28: =Apoio!CS67 -> 7 | I28: =Apoio!CT67 -> 8 | ... P28: =Apoio!DA67 -> 17 | R28: 11
B29: =Apoio!CM68 -> 1 | C29: =Apoio!CN68 -> 2 | D29: =Apoio!CO68 -> 3 | E29: =Apoio!CP68 -> 4 | F29: =Apoio!CQ68 -> 5 | G29: =Apoio!CR68 -> 6 | H29: =Apoio!CS68 -> 7 | I29: =Apoio!CT68 -> 8 | ... P29: =Apoio!DA68 -> 19 | R29: 12
... B69: =Apoio!CM108 -> 3 | C69: =Apoio!CN108 -> 4 | D69: =Apoio!CO108 -> 5 | E69: =Apoio!CP108 -> 10 | F69: =Apoio!CQ108 -> 11 | G69: =Apoio!CR108 -> 12 | H69: =Apoio!CS108 -> 13 | I69: =Apoio!CT108 -> 14 | ... P69: =Apoio!DA108 -> 21 | R69: 52

Sheet Opcao6
AA1: ="V"&X5 -> V1
A2: Opção 6 ( 21 fixos )
X5: 1 | Y5: 10
B16: Total de 4 volantes
B18: =Apoio!A135 -> 1 | C18: =Apoio!B135 -> 2 | D18: =Apoio!C135 -> 4 | E18: =Apoio!D135 -> 5 | F18: =Apoio!E135 -> 6 | G18: =Apoio!F135 -> 7 | H18: =Apoio!G135 -> 8 | I18: =Apoio!H135 -> 13 | ... P18: =Apoio!O135 -> 21 | R18: 1
B19: =Apoio!A136 -> 1 | C19: =Apoio!B136 -> 2 | D19: =Apoio!C136 -> 3 | E19: =Apoio!D136 -> 4 | F19: =Apoio!E136 -> 5 | G19: =Apoio!F136 -> 6 | H19: =Apoio!G136 -> 7 | I19: =Apoio!H136 -> 8 | ... P19: =Apoio!O136 -> 21 | R19: 2
B20: =Apoio!A137 -> 2 | C20: =Apoio!B137 -> 3 | D20: =Apoio!C137 -> 4 | E20: =Apoio!D137 -> 5 | F20: =Apoio!E137 -> 9 | G20: =Apoio!F137 -> 10 | H20: =Apoio!G137 -> 12 | I20: =Apoio!H137 -> 14 | ... P20: =Apoio!O137 -> 21 | R20: 3
B21: =Apoio!A138 -> 3 | C21: =Apoio!B138 -> 6 | D21: =Apoio!C138 -> 7 | E21: =Apoio!D138 -> 8 | F21: =Apoio!E138 -> 9 | G21: =Apoio!F138 -> 10 | H21: =Apoio!G138 -> 11 | I21: =Apoio!H138 -> 13 | ... P21: =Apoio!O138 -> 21 | R21: 4

Sheet Opcao7
AA1: ="V"&X5 -> V1
A2: Opção 7 ( 21 fixos )
X5: 1 | Y5: 10
B16: Total de 14 volantes
B18: =Apoio!A157 -> 1 | C18: =Apoio!B157 -> 5 | D18: =Apoio!C157 -> 6 | E18: =Apoio!D157 -> 7 | F18: =Apoio!E157 -> 8 | G18: =Apoio!F157 -> 9 | H18: =Apoio!G157 -> 10 | I18: =Apoio!H157 -> 14 | ... P18: =Apoio!O157 -> 21 | R18: 1
B19: =Apoio!A158 -> 1 | C19: =Apoio!B158 -> 3 | D19: =Apoio!C158 -> 4 | E19: =Apoio!D158 -> 6 | F19: =Apoio!E158 -> 9 | G19: =Apoio!F158 -> 11 | H19: =Apoio!G158 -> 12 | I19: =Apoio!H158 -> 13 | ... P19: =Apoio!O158 -> 21 | R19: 2
B20: =Apoio!A159 -> 1 | C20: =Apoio!B159 -> 3 | D20: =Apoio!C159 -> 4 | E20: =Apoio!D159 -> 5 | F20: =Apoio!E159 -> 6 | G20: =Apoio!F159 -> 7 | H20: =Apoio!G159 -> 8 | I20: =Apoio!H159 -> 10 | ... P20: =Apoio!O159 -> 19 | R20: 3
B21: =Apoio!A160 -> 1 | C21: =Apoio!B160 -> 2 | D21: =Apoio!C160 -> 4 | E21: =Apoio!D160 -> 5 | F21: =Apoio!E160 -> 7 | G21: =Apoio!F160 -> 9 | H21: =Apoio!G160 -> 10 | I21: =Apoio!H160 -> 12 | ... P21: =Apoio!O160 -> 21 | R21: 4
B22: =Apoio!A161 -> 1 | C22: =Apoio!B161 -> 2 | D22: =Apoio!C161 -> 4 | E22: =Apoio!D161 -> 5 | F22: =Apoio!E161 -> 6 | G22: =Apoio!F161 -> 7 | H22: =Apoio!G161 -> 8 | I22: =Apoio!H161 -> 12 | ... P22: =Apoio!O161 -> 21 | R22: 5
B23: =Apoio!A162 -> 1 | C23: =Apoio!B162 -> 2 | D23: =Apoio!C162 -> 3 | E23: =Apoio!D162 -> 6 | F23: =Apoio!E162 -> 7 | G23: =Apoio!F162 -> 8 | H23: =Apoio!G162 -> 9 | I23: =Apoio!H162 -> 10 | ... P23: =Apoio!O162 -> 21 | R23: 6
B24: =Apoio!A163 -> 1 | C24: =Apoio!B163 -> 2 | D24: =Apoio!C163 -> 3 | E24: =Apoio!D163 -> 5 | F24: =Apoio!E163 -> 6 | G24: =Apoio!F163 -> 9 | H24: =Apoio!G163 -> 10 | I24: =Apoio!H163 -> 11 | ... P24: =Apoio!O163 -> 20 | R24: 7
B25: =Apoio!A164 -> 1 | C25: =Apoio!B164 -> 2 | D25: =Apoio!C164 -> 3 | E25: =Apoio!D164 -> 4 | F25: =Apoio!E164 -> 5 | G25: =Apoio!F164 -> 8 | H25: =Apoio!G164 -> 10 | I25: =Apoio!H164 -> 11 | ... P25: =Apoio!O164 -> 21 | R25: 8
B26: =Apoio!A165 -> 1 | C26: =Apoio!B165 -> 2 | D26: =Apoio!C165 -> 3 | E26: =Apoio!D165 -> 4 | F26: =Apoio!E165 -> 5 | G26: =Apoio!F165 -> 7 | H26: =Apoio!G165 -> 8 | I26: =Apoio!H165 -> 9 | ... P26: =Apoio!O165 -> 20 | R26: 9
B27: =Apoio!A166 -> 1 | C27: =Apoio!B166 -> 2 | D27: =Apoio!C166 -> 3 | E27: =Apoio!D166 -> 4 | F27: =Apoio!E166 -> 5 | G27: =Apoio!F166 -> 6 | H27: =Apoio!G166 -> 8 | I27: =Apoio!H166 -> 9 | ... P27: =Apoio!O166 -> 21 | R27: 10
B28: =Apoio!A167 -> 2 | C28: =Apoio!B167 -> 4 | D28: =Apoio!C167 -> 6 | E28: =Apoio!D167 -> 7 | F28: =Apoio!E167 -> 8 | G28: =Apoio!F167 -> 9 | H28: =Apoio!G167 -> 10 | I28: =Apoio!H167 -> 12 | ... P28: =Apoio!O167 -> 20 | R28: 11
B29: =Apoio!A168 -> 2 | C29: =Apoio!B168 -> 3 | D29: =Apoio!C168 -> 5 | E29: =Apoio!D168 -> 6 | F29: =Apoio!E168 -> 7 | G29: =Apoio!F168 -> 8 | H29: =Apoio!G168 -> 9 | I29: =Apoio!H168 -> 11 | ... P29: =Apoio!O168 -> 21 | R29: 12
... B31: =Apoio!A170 -> 3 | C31: =Apoio!B170 -> 4 | D31: =Apoio!C170 -> 5 | E31: =Apoio!D170 -> 7 | F31: =Apoio!E170 -> 8 | G31: =Apoio!F170 -> 9 | H31: =Apoio!G170 -> 10 | I31: =Apoio!H170 -> 11 | ... P31: =Apoio!O170 -> 21 | R31: 14

Sheet Opcao8
AA1: ="V"&X5 -> V1
A2: Opção 8 ( 21 fixos )
X5: 1 | Y5: 10
B16: Total de 104 volantes
B18: =Apoio!DS110 -> 1 | C18: =Apoio!DT110 -> 2 | D18: =Apoio!DU110 -> 4 | E18: =Apoio!DV110 -> 5 | F18: =Apoio!DW110 -> 6 | G18: =Apoio!DX110 -> 7 | H18: =Apoio!DY110 -> 8 | I18: =Apoio!DZ110 -> 11 | ... P18: =Apoio!EG110 -> 21 | R18: 1
B19: =Apoio!DS111 -> 1 | C19: =Apoio!DT111 -> 2 | D19: =Apoio!DU111 -> 5 | E19: =Apoio!DV111 -> 6 | F19: =Apoio!DW111 -> 7 | G19: =Apoio!DX111 -> 9 | H19: =Apoio!DY111 -> 10 | I19: =Apoio!DZ111 -> 11 | ... P19: =Apoio!EG111 -> 21 | R19: 2
B20: =Apoio!DS112 -> 1 | C20: =Apoio!DT112 -> 2 | D20: =Apoio!DU112 -> 3 | E20: =Apoio!DV112 -> 5 | F20: =Apoio!DW112 -> 6 | G20: =Apoio!DX112 -> 7 | H20: =Apoio!DY112 -> 8 | I20: =Apoio!DZ112 -> 10 | ... P20: =Apoio!EG112 -> 21 | R20: 3
B21: =Apoio!DS113 -> 1 | C21: =Apoio!DT113 -> 2 | D21: =Apoio!DU113 -> 3 | E21: =Apoio!DV113 -> 5 | F21: =Apoio!DW113 -> 6 | G21: =Apoio!DX113 -> 7 | H21: =Apoio!DY113 -> 8 | I21: =Apoio!DZ113 -> 10 | ... P21: =Apoio!EG113 -> 19 | R21: 4
B22: =Apoio!DS114 -> 1 | C22: =Apoio!DT114 -> 2 | D22: =Apoio!DU114 -> 3 | E22: =Apoio!DV114 -> 5 | F22: =Apoio!DW114 -> 6 | G22: =Apoio!DX114 -> 7 | H22: =Apoio!DY114 -> 9 | I22: =Apoio!DZ114 -> 11 | ... P22: =Apoio!EG114 -> 21 | R22: 5
B23: =Apoio!DS115 -> 1 | C23: =Apoio!DT115 -> 2 | D23: =Apoio!DU115 -> 3 | E23: =Apoio!DV115 -> 5 | F23: =Apoio!DW115 -> 6 | G23: =Apoio!DX115 -> 8 | H23: =Apoio!DY115 -> 9 | I23: =Apoio!DZ115 -> 10 | ... P23: =Apoio!EG115 -> 21 | R23: 6
B24: =Apoio!DS116 -> 1 | C24: =Apoio!DT116 -> 2 | D24: =Apoio!DU116 -> 3 | E24: =Apoio!DV116 -> 5 | F24: =Apoio!DW116 -> 6 | G24: =Apoio!DX116 -> 10 | H24: =Apoio!DY116 -> 11 | I24: =Apoio!DZ116 -> 13 | ... P24: =Apoio!EG116 -> 21 | R24: 7
B25: =Apoio!DS117 -> 1 | C25: =Apoio!DT117 -> 2 | D25: =Apoio!DU117 -> 3 | E25: =Apoio!DV117 -> 5 | F25: =Apoio!DW117 -> 7 | G25: =Apoio!DX117 -> 9 | H25: =Apoio!DY117 -> 10 | I25: =Apoio!DZ117 -> 12 | ... P25: =Apoio!EG117 -> 21 | R25: 8
B26: =Apoio!DS118 -> 1 | C26: =Apoio!DT118 -> 2 | D26: =Apoio!DU118 -> 3 | E26: =Apoio!DV118 -> 6 | F26: =Apoio!DW118 -> 7 | G26: =Apoio!DX118 -> 8 | H26: =Apoio!DY118 -> 9 | I26: =Apoio!DZ118 -> 10 | ... P26: =Apoio!EG118 -> 20 | R26: 9
B27: =Apoio!DS119 -> 1 | C27: =Apoio!DT119 -> 2 | D27: =Apoio!DU119 -> 3 | E27: =Apoio!DV119 -> 6 | F27: =Apoio!DW119 -> 7 | G27: =Apoio!DX119 -> 8 | H27: =Apoio!DY119 -> 11 | I27: =Apoio!DZ119 -> 12 | ... P27: =Apoio!EG119 -> 21 | R27: 10
B28: =Apoio!DS120 -> 1 | C28: =Apoio!DT120 -> 2 | D28: =Apoio!DU120 -> 3 | E28: =Apoio!DV120 -> 6 | F28: =Apoio!DW120 -> 8 | G28: =Apoio!DX120 -> 9 | H28: =Apoio!DY120 -> 10 | I28: =Apoio!DZ120 -> 11 | ... P28: =Apoio!EG120 -> 21 | R28: 11
B29: =Apoio!DS121 -> 1 | C29: =Apoio!DT121 -> 2 | D29: =Apoio!DU121 -> 3 | E29: =Apoio!DV121 -> 4 | F29: =Apoio!DW121 -> 7 | G29: =Apoio!DX121 -> 8 | H29: =Apoio!DY121 -> 10 | I29: =Apoio!DZ121 -> 13 | ... P29: =Apoio!EG121 -> 20 | R29: 12
... B121: =Apoio!DS213 -> 5 | C121: =Apoio!DT213 -> 6 | D121: =Apoio!DU213 -> 8 | E121: =Apoio!DV213 -> 9 | F121: =Apoio!DW213 -> 10 | G121: =Apoio!DX213 -> 11 | H121: =Apoio!DY213 -> 12 | I121: =Apoio!DZ213 -> 13 | ... P121: =Apoio!EG213 -> 21 | R121: 104

Sheet Apoio
AG1: 1 | AH1: 2 | AI1: 3 | AJ1: 4 | AK1: 5 | AL1: 6 | AM1: 7 | AN1: 8 | AO1: 9 | AP1: 10 | AQ1: 11 | AR1: 12 | AS1: 13 | AT1: 14 | AU1: 15 | AV1: 16 | AW1: 17 | AX1: 18 | AY1: 19 | AZ1: 20 | BA1: 21 | BB1: 22 | BC1: 23 | BD1: 24 | BE1: 25
AG2: =AG30 -> 1 | AH2: =BM18 -> 2 | AI2: =BN18 -> 3 | AJ2: =BO18 -> 4 | AK2: =BP18 -> 5 | AL2: =BQ18 -> 6 | AM2: =BR18 -> 7 | AN2: =BS18 -> 8 | AO2: =BT18 -> 9 | ... BA2: =CF18 -> 25 | BB2: =AG31 -> 17 | BC2: =AH31 -> 18 | BD2: =AI31 -> 19 | BE2: =AJ31 -> 20
A3: 1 | B3: 2 | C3: 3 | D3: 4 | E3: 5 | F3: 6 | G3: 7 | H3: 8 | I3: 9 | J3: 10 | K3: 11 | L3: 12 | M3: 13 | N3: 14 | O3: 15 | P3: 16 | Q3: 17 | R3: 18 | S3: 19 | T3: 20 | U3: 21 | V3: 22 | CM3: =LOOKUP(DC3,$A$3:$U$3,$A$4:$U$4) -> 1 | CN3: =LOOKUP(DD3,$A$3:$U$3,$A$4:$U$4) -> 2 | CO3: =LOOKUP(DE3,$A$3:$U$3,$A$4:$U$4) -> 3 | CP3: =LOOKUP(DF3,$A$3:$U$3,$A$4:$U$4) -> 4 | CQ3: =LOOKUP(DG3,$A$3:$U$3,$A$4:$U$4) -> 5 | CR3: =LOOKUP(DH3,$A$3:$U$3,$A$4:$U$4) -> 6 | CS3: =LOOKUP(DI3,$A$3:$U$3,$A$4:$U$4) -> 7 | CT3: =LOOKUP(DJ3,$A$3:$U$3,$A$4:$U$4) -> 8 | ... DA3: =LOOKUP(DQ3,$A$3:$U$3,$A$4:$U$4) -> 15 | DC3: 1 | DD3: 2 | DE3: 3 | DF3: 4 | DG3: 5 | DH3: 6 | DI3: 7 | DJ3: 8 | DK3: 9 | DL3: 10 | DM3: 11 | DN3: 12 | DO3: 13 | DP3: 14 | DQ3: 15 | DS3: =LOOKUP(EI3,$A$3:$U$3,$A$4:$U$4) -> 1 | DT3: =LOOKUP(EJ3,$A$3:$U$3,$A$4:$U$4) -> 2 | DU3: =LOOKUP(EK3,$A$3:$U$3,$A$4:$U$4) -> 4 | DV3: =LOOKUP(EL3,$A$3:$U$3,$A$4:$U$4) -> 5 | DW3: =LOOKUP(EM3,$A$3:$U$3,$A$4:$U$4) -> 6 | DX3: =LOOKUP(EN3,$A$3:$U$3,$A$4:$U$4) -> 7 | DY3: =LOOKUP(EO3,$A$3:$U$3,$A$4:$U$4) -> 8 | DZ3: =LOOKUP(EP3,$A$3:$U$3,$A$4:$U$4) -> 11 | ... EG3: =LOOKUP(EW3,$A$3:$U$3,$A$4:$U$4) -> 21 | EI3: 1 | EJ3: 2 | EK3: 4 | EL3: 5 | EM3: 6 | EN3: 7 | EO3: 8 | EP3: 11 | EQ3: 13 | ER3: 16 | ES3: 17 | ET3: 18 | EU3: 19 | EV3: 20 | EW3: 21
A4: =Início!B17 -> 1 | B4: =Início!C17 -> 2 | C4: =Início!D17 -> 3 | D4: =Início!E17 -> 4 | E4: =Início!F17 -> 5 | F4: =Início!G17 -> 6 | G4: =Início!H17 -> 7 | H4: =Início!I17 -> 8 | ... U4: =Início!V17 -> 21 | CM4: =LOOKUP(DC4,$A$3:$U$3,$A$4:$U$4) -> 1 | CN4: =LOOKUP(DD4,$A$3:$U$3,$A$4:$U$4) -> 2 | CO4: =LOOKUP(DE4,$A$3:$U$3,$A$4:$U$4) -> 3 | CP4: =LOOKUP(DF4,$A$3:$U$3,$A$4:$U$4) -> 4 | CQ4: =LOOKUP(DG4,$A$3:$U$3,$A$4:$U$4) -> 5 | CR4: =LOOKUP(DH4,$A$3:$U$3,$A$4:$U$4) -> 6 | CS4: =LOOKUP(DI4,$A$3:$U$3,$A$4:$U$4) -> 7 | CT4: =LOOKUP(DJ4,$A$3:$U$3,$A$4:$U$4) -> 8 | ... DA4: =LOOKUP(DQ4,$A$3:$U$3,$A$4:$U$4) -> 17 | DC4: 1 | DD4: 2 | DE4: 3 | DF4: 4 | DG4: 5 | DH4: 6 | DI4: 7 | DJ4: 8 | DK4: 9 | DL4: 10 | DM4: 11 | DN4: 12 | DO4: 13 | DP4: 16 | DQ4: 17 | DS4: =LOOKUP(EI4,$A$3:$U$3,$A$4:$U$4) -> 1 | DT4: =LOOKUP(EJ4,$A$3:$U$3,$A$4:$U$4) -> 2 | DU4: =LOOKUP(EK4,$A$3:$U$3,$A$4:$U$4) -> 5 | DV4: =LOOKUP(EL4,$A$3:$U$3,$A$4:$U$4) -> 6 | DW4: =LOOKUP(EM4,$A$3:$U$3,$A$4:$U$4) -> 7 | DX4: =LOOKUP(EN4,$A$3:$U$3,$A$4:$U$4) -> 9 | DY4: =LOOKUP(EO4,$A$3:$U$3,$A$4:$U$4) -> 10 | DZ4: =LOOKUP(EP4,$A$3:$U$3,$A$4:$U$4) -> 11 | ... EG4: =LOOKUP(EW4,$A$3:$U$3,$A$4:$U$4) -> 21 | EI4: 1 | EJ4: 2 | EK4: 5 | EL4: 6 | EM4: 7 | EN4: 9 | EO4: 10 | EP4: 11 | EQ4: 12 | ER4: 13 | ES4: 15 | ET4: 16 | EU4: 19 | EV4: 20 | EW4: 21
CM5: =LOOKUP(DC5,$A$3:$U$3,$A$4:$U$4) -> 1 | CN5: =LOOKUP(DD5,$A$3:$U$3,$A$4:$U$4) -> 2 | CO5: =LOOKUP(DE5,$A$3:$U$3,$A$4:$U$4) -> 3 | CP5: =LOOKUP(DF5,$A$3:$U$3,$A$4:$U$4) -> 4 | CQ5: =LOOKUP(DG5,$A$3:$U$3,$A$4:$U$4) -> 5 | CR5: =LOOKUP(DH5,$A$3:$U$3,$A$4:$U$4) -> 6 | CS5: =LOOKUP(DI5,$A$3:$U$3,$A$4:$U$4) -> 7 | CT5: =LOOKUP(DJ5,$A$3:$U$3,$A$4:$U$4) -> 8 | ... DA5: =LOOKUP(DQ5,$A$3:$U$3,$A$4:$U$4) -> 19 | DC5: 1 | DD5: 2 | DE5: 3 | DF5: 4 | DG5: 5 | DH5: 6 | DI5: 7 | DJ5: 8 | DK5: 9 | DL5: 10 | DM5: 11 | DN5: 12 | DO5: 13 | DP5: 18 | DQ5: 19 | DS5: =LOOKUP(EI5,$A$3:$U$3,$A$4:$U$4) -> 1 | DT5: =LOOKUP(EJ5,$A$3:$U$3,$A$4:$U$4) -> 2 | DU5: =LOOKUP(EK5,$A$3:$U$3,$A$4:$U$4) -> 3 | DV5: =LOOKUP(EL5,$A$3:$U$3,$A$4:$U$4) -> 5 | DW5: =LOOKUP(EM5,$A$3:$U$3,$A$4:$U$4) -> 6 | DX5: =LOOKUP(EN5,$A$3:$U$3,$A$4:$U$4) -> 7 | DY5: =LOOKUP(EO5,$A$3:$U$3,$A$4:$U$4) -> 8 | DZ5: =LOOKUP(EP5,$A$3:$U$3,$A$4:$U$4) -> 10 | ... EG5: =LOOKUP(EW5,$A$3:$U$3,$A$4:$U$4) -> 21 | EI5: 1 | EJ5: 2 | EK5: 3 | EL5: 5 | EM5: 6 | EN5: 7 | EO5: 8 | EP5: 10 | EQ5: 11 | ER5: 12 | ES5: 14 | ET5: 16 | EU5: 17 | EV5: 20 | EW5: 21
CM6: =LOOKUP(DC6,$A$3:$U$3,$A$4:$U$4) -> 1 | CN6: =LOOKUP(DD6,$A$3:$U$3,$A$4:$U$4) -> 2 | CO6: =LOOKUP(DE6,$A$3:$U$3,$A$4:$U$4) -> 3 | CP6: =LOOKUP(DF6,$A$3:$U$3,$A$4:$U$4) -> 4 | CQ6: =LOOKUP(DG6,$A$3:$U$3,$A$4:$U$4) -> 5 | CR6: =LOOKUP(DH6,$A$3:$U$3,$A$4:$U$4) -> 6 | CS6: =LOOKUP(DI6,$A$3:$U$3,$A$4:$U$4) -> 7 | CT6: =LOOKUP(DJ6,$A$3:$U$3,$A$4:$U$4) -> 8 | ... DA6: =LOOKUP(DQ6,$A$3:$U$3,$A$4:$U$4) -> 21 | DC6: 1 | DD6: 2 | DE6: 3 | DF6: 4 | DG6: 5 | DH6: 6 | DI6: 7 | DJ6: 8 | DK6: 9 | DL6: 10 | DM6: 11 | DN6: 12 | DO6: 13 | DP6: 20 | DQ6: 21 | DS6: =LOOKUP(EI6,$A$3:$U$3,$A$4:$U$4) -> 1 | DT6: =LOOKUP(EJ6,$A$3:$U$3,$A$4:$U$4) -> 2 | DU6: =LOOKUP(EK6,$A$3:$U$3,$A$4:$U$4) -> 3 | DV6: =LOOKUP(EL6,$A$3:$U$3,$A$4:$U$4) -> 5 | DW6: =LOOKUP(EM6,$A$3:$U$3,$A$4:$U$4) -> 6 | DX6: =LOOKUP(EN6,$A$3:$U$3,$A$4:$U$4) -> 7 | DY6: =LOOKUP(EO6,$A$3:$U$3,$A$4:$U$4) -> 8 | DZ6: =LOOKUP(EP6,$A$3:$U$3,$A$4:$U$4) -> 10 | ... EG6: =LOOKUP(EW6,$A$3:$U$3,$A$4:$U$4) -> 19 | EI6: 1 | EJ6: 2 | EK6: 3 | EL6: 5 | EM6: 6 | EN6: 7 | EO6: 8 | EP6: 10 | EQ6: 12 | ER6: 13 | ES6: 14 | ET6: 16 | EU6: 17 | EV6: 18 | EW6: 19
AG7: =LOOKUP(AW7,$AG$1:$BE$1,$AG$2:$BE$2) -> 1 | AH7: =LOOKUP(AX7,$AG$1:$BE$1,$AG$2:$BE$2) -> 2 | AI7: =LOOKUP(AY7,$AG$1:$BE$1,$AG$2:$BE$2) -> 3 | AJ7: =LOOKUP(AZ7,$AG$1:$BE$1,$AG$2:$BE$2) -> 4 | AK7: =LOOKUP(BA7,$AG$1:$BE$1,$AG$2:$BE$2) -> 5 | AL7: =LOOKUP(BB7,$AG$1:$BE$1,$AG$2:$BE$2) -> 6 | AM7: =LOOKUP(BC7,$AG$1:$BE$1,$AG$2:$BE$2) -> 10 | AN7: =LOOKUP(BD7,$AG$1:$BE$1,$AG$2:$BE$2) -> 11 | ... AU7: =LOOKUP(BK7,$AG$1:$BE$1,$AG$2:$BE$2) -> 25 | AW7: 1 | AX7: 2 | AY7: 3 | AZ7: 4 | BA7: 5 | BB7: 6 | BC7: 10 | BD7: 11 | BE7: 12 | BF7: 13 | BG7: 14 | BH7: 15 | BI7: 16 | BJ7: 20 | BK7: 21 | BM7: 1 | BN7: 2 | BO7: 3 | BP7: 4 | BQ7: 5 | BR7: 6 | BS7: 7 | BT7: 8 | BU7: 9 | BV7: 10 | BW7: 11 | BX7: 12 | BY7: 13 | BZ7: 14 | CA7: 15 | CB7: 16 | CC7: 17 | CD7: 18 | CE7: 19 | CF7: 20 | CG7: 21 | CH7: 22 | CI7: 23 | CJ7: 24 | CK7: 25 | CM7: =LOOKUP(DC7,$A$3:$U$3,$A$4:$U$4) -> 1 | CN7: =LOOKUP(DD7,$A$3:$U$3,$A$4:$U$4) -> 2 | CO7: =LOOKUP(DE7,$A$3:$U$3,$A$4:$U$4) -> 3 | CP7: =LOOKUP(DF7,$A$3:$U$3,$A$4:$U$4) -> 4 | CQ7: =LOOKUP(DG7,$A$3:$U$3,$A$4:$U$4) -> 5 | CR7: =LOOKUP(DH7,$A$3:$U$3,$A$4:$U$4) -> 6 | CS7: =LOOKUP(DI7,$A$3:$U$3,$A$4:$U$4) -> 7 | CT7: =LOOKUP(DJ7,$A$3:$U$3,$A$4:$U$4) -> 8 | ... DA7: =LOOKUP(DQ7,$A$3:$U$3,$A$4:$U$4) -> 17 | DC7: 1 | DD7: 2 | DE7: 3 | DF7: 4 | DG7: 5 | DH7: 6 | DI7: 7 | DJ7: 8 | DK7: 9 | DL7: 10 | DM7: 11 | DN7: 14 | DO7: 15 | DP7: 16 | DQ7: 17 | DS7: =LOOKUP(EI7,$A$3:$U$3,$A$4:$U$4) -> 1 | DT7: =LOOKUP(EJ7,$A$3:$U$3,$A$4:$U$4) -> 2 | DU7: =LOOKUP(EK7,$A$3:$U$3,$A$4:$U$4) -> 3 | DV7: =LOOKUP(EL7,$A$3:$U$3,$A$4:$U$4) -> 5 | DW7: =LOOKUP(EM7,$A$3:$U$3,$A$4:$U$4) -> 6 | DX7: =LOOKUP(EN7,$A$3:$U$3,$A$4:$U$4) -> 7 | DY7: =LOOKUP(EO7,$A$3:$U$3,$A$4:$U$4) -> 9 | DZ7: =LOOKUP(EP7,$A$3:$U$3,$A$4:$U$4) -> 11 | ... EG7: =LOOKUP(EW7,$A$3:$U$3,$A$4:$U$4) -> 21 | EI7: 1 | EJ7: 2 | EK7: 3 | EL7: 5 | EM7: 6 | EN7: 7 | EO7: 9 | EP7: 11 | EQ7: 12 | ER7: 14 | ES7: 16 | ET7: 17 | EU7: 18 | EV7: 20 | EW7: 21
AG8: =LOOKUP(AW8,$AG$1:$BE$1,$AG$2:$BE$2) -> 1 | AH8: =LOOKUP(AX8,$AG$1:$BE$1,$AG$2:$BE$2) -> 2 | AI8: =LOOKUP(AY8,$AG$1:$BE$1,$AG$2:$BE$2) -> 3 | AJ8: =LOOKUP(AZ8,$AG$1:$BE$1,$AG$2:$BE$2) -> 4 | AK8: =LOOKUP(BA8,$AG$1:$BE$1,$AG$2:$BE$2) -> 5 | AL8: =LOOKUP(BB8,$AG$1:$BE$1,$AG$2:$BE$2) -> 7 | AM8: =LOOKUP(BC8,$AG$1:$BE$1,$AG$2:$BE$2) -> 10 | AN8: =LOOKUP(BD8,$AG$1:$BE$1,$AG$2:$BE$2) -> 11 | ... AU8: =LOOKUP(BK8,$AG$1:$BE$1,$AG$2:$BE$2) -> 25 | AW8: 1 | AX8: 2 | AY8: 3 | AZ8: 4 | BA8: 5 | BB8: 7 | BC8: 10 | BD8: 11 | BE8: 12 | BF8: 13 | BG8: 14 | BH8: 15 | BI8: 17 | BJ8: 20 | BK8: 21 | BM8: =AG30 -> 1 | CM8: =LOOKUP(DC8,$A$3:$U$3,$A$4:$U$4) -> 1 | CN8: =LOOKUP(DD8,$A$3:$U$3,$A$4:$U$4) -> 2 | CO8: =LOOKUP(DE8,$A$3:$U$3,$A$4:$U$4) -> 3 | CP8: =LOOKUP(DF8,$A$3:$U$3,$A$4:$U$4) -> 4 | CQ8: =LOOKUP(DG8,$A$3:$U$3,$A$4:$U$4) -> 5 | CR8: =LOOKUP(DH8,$A$3:$U$3,$A$4:$U$4) -> 6 | CS8: =LOOKUP(DI8,$A$3:$U$3,$A$4:$U$4) -> 7 | CT8: =LOOKUP(DJ8,$A$3:$U$3,$A$4:$U$4) -> 8 | ... DA8: =LOOKUP(DQ8,$A$3:$U$3,$A$4:$U$4) -> 19 | DC8: 1 | DD8: 2 | DE8: 3 | DF8: 4 | DG8: 5 | DH8: 6 | DI8: 7 | DJ8: 8 | DK8: 9 | DL8: 10 | DM8: 11 | DN8: 14 | DO8: 15 | DP8: 18 | DQ8: 19 | DS8: =LOOKUP(EI8,$A$3:$U$3,$A$4:$U$4) -> 1 | DT8: =LOOKUP(EJ8,$A$3:$U$3,$A$4:$U$4) -> 2 | DU8: =LOOKUP(EK8,$A$3:$U$3,$A$4:$U$4) -> 3 | DV8: =LOOKUP(EL8,$A$3:$U$3,$A$4:$U$4) -> 5 | DW8: =LOOKUP(EM8,$A$3:$U$3,$A$4:$U$4) -> 6 | DX8: =LOOKUP(EN8,$A$3:$U$3,$A$4:$U$4) -> 8 | DY8: =LOOKUP(EO8,$A$3:$U$3,$A$4:$U$4) -> 9 | DZ8: =LOOKUP(EP8,$A$3:$U$3,$A$4:$U$4) -> 10 | ... EG8: =LOOKUP(EW8,$A$3:$U$3,$A$4:$U$4) -> 21 | EI8: 1 | EJ8: 2 | EK8: 3 | EL8: 5 | EM8: 6 | EN8: 8 | EO8: 9 | EP8: 10 | EQ8: 11 | ER8: 13 | ES8: 14 | ET8: 15 | EU8: 16 | EV8: 18 | EW8: 21
A9: =LOOKUP(Q9,$A$3:$Y$3,$A$4:$Y$4) -> 1 | B9: =LOOKUP(R9,$A$3:$Y$3,$A$4:$Y$4) -> 2 | C9: =LOOKUP(S9,$A$3:$Y$3,$A$4:$Y$4) -> 3 | D9: =LOOKUP(T9,$A$3:$Y$3,$A$4:$Y$4) -> 4 | E9: =LOOKUP(U9,$A$3:$Y$3,$A$4:$Y$4) -> 5 | F9: =LOOKUP(V9,$A$3:$Y$3,$A$4:$Y$4) -> 6 | G9: =LOOKUP(W9,$A$3:$Y$3,$A$4:$Y$4) -> 7 | H9: =LOOKUP(X9,$A$3:$Y$3,$A$4:$Y$4) -> 8 | ... O9: =LOOKUP(AE9,$A$3:$Y$3,$A$4:$Y$4) -> 21 | Q9: 1 | R9: 2 | S9: 3 | T9: 4 | U9: 5 | V9: 6 | W9: 7 | X9: 8 | Y9: 9 | Z9: 10 | AA9: 13 | AB9: 16 | AC9: 17 | AD9: 19 | AE9: 21 | AG9: =LOOKUP(AW9,$AG$1:$BE$1,$AG$2:$BE$2) -> 1 | AH9: =LOOKUP(AX9,$AG$1:$BE$1,$AG$2:$BE$2) -> 2 | AI9: =LOOKUP(AY9,$AG$1:$BE$1,$AG$2:$BE$2) -> 3 | AJ9: =LOOKUP(AZ9,$AG$1:$BE$1,$AG$2:$BE$2) -> 4 | AK9: =LOOKUP(BA9,$AG$1:$BE$1,$AG$2:$BE$2) -> 5 | AL9: =LOOKUP(BB9,$AG$1:$BE$1,$AG$2:$BE$2) -> 8 | AM9: =LOOKUP(BC9,$AG$1:$BE$1,$AG$2:$BE$2) -> 10 | AN9: =LOOKUP(BD9,$AG$1:$BE$1,$AG$2:$BE$2) -> 11 | ... AU9: =LOOKUP(BK9,$AG$1:$BE$1,$AG$2:$BE$2) -> 25 | AW9: 1 | AX9: 2 | AY9: 3 | AZ9: 4 | BA9: 5 | BB9: 8 | BC9: 10 | BD9: 11 | BE9: 12 | BF9: 13 | BG9: 14 | BH9: 15 | BI9: 18 | BJ9: 20 | BK9: 21 | BM9: =AG2 -> 1 | BN9: =AH2 -> 2 | BO9: =AI2 -> 3 | BP9: =AJ2 -> 4 | BQ9: =AK2 -> 5 | BR9: =AL2 -> 6 | BS9: =AM2 -> 7 | BT9: =AN2 -> 8 | ... BV9: =AP2 -> 10 | CM9: =LOOKUP(DC9,$A$3:$U$3,$A$4:$U$4) -> 1 | CN9: =LOOKUP(DD9,$A$3:$U$3,$A$4:$U$4) -> 2 | CO9: =LOOKUP(DE9,$A$3:$U$3,$A$4:$U$4) -> 3 | CP9: =LOOKUP(DF9,$A$3:$U$3,$A$4:$U$4) -> 4 | CQ9: =LOOKUP(DG9,$A$3:$U$3,$A$4:$U$4) -> 5 | CR9: =LOOKUP(DH9,$A$3:$U$3,$A$4:$U$4) -> 6 | CS9: =LOOKUP(DI9,$A$3:$U$3,$A$4:$U$4) -> 7 | CT9: =LOOKUP(DJ9,$A$3:$U$3,$A$4:$U$4) -> 8 | ... DA9: =LOOKUP(DQ9,$A$3:$U$3,$A$4:$U$4) -> 21 | DC9: 1 | DD9: 2 | DE9: 3 | DF9: 4 | DG9: 5 | DH9: 6 | DI9: 7 | DJ9: 8 | DK9: 9 | DL9: 10 | DM9: 11 | DN9: 14 | DO9: 15 | DP9: 20 | DQ9: 21 | DS9: =LOOKUP(EI9,$A$3:$U$3,$A$4:$U$4) -> 1 | DT9: =LOOKUP(EJ9,$A$3:$U$3,$A$4:$U$4) -> 2 | DU9: =LOOKUP(EK9,$A$3:$U$3,$A$4:$U$4) -> 3 | DV9: =LOOKUP(EL9,$A$3:$U$3,$A$4:$U$4) -> 5 | DW9: =LOOKUP(EM9,$A$3:$U$3,$A$4:$U$4) -> 6 | DX9: =LOOKUP(EN9,$A$3:$U$3,$A$4:$U$4) -> 10 | DY9: =LOOKUP(EO9,$A$3:$U$3,$A$4:$U$4) -> 11 | DZ9: =LOOKUP(EP9,$A$3:$U$3,$A$4:$U$4) -> 13 | ... EG9: =LOOKUP(EW9,$A$3:$U$3,$A$4:$U$4) -> 21 | EI9: 1 | EJ9: 2 | EK9: 3 | EL9: 5 | EM9: 6 | EN9: 10 | EO9: 11 | EP9: 13 | EQ9: 14 | ER9: 15 | ES9: 16 | ET9: 17 | EU9: 19 | EV9: 20 | EW9: 21
A10: =LOOKUP(Q10,$A$3:$Y$3,$A$4:$Y$4) -> 1 | B10: =LOOKUP(R10,$A$3:$Y$3,$A$4:$Y$4) -> 2 | C10: =LOOKUP(S10,$A$3:$Y$3,$A$4:$Y$4) -> 3 | D10: =LOOKUP(T10,$A$3:$Y$3,$A$4:$Y$4) -> 4 | E10: =LOOKUP(U10,$A$3:$Y$3,$A$4:$Y$4) -> 5 | F10: =LOOKUP(V10,$A$3:$Y$3,$A$4:$Y$4) -> 6 | G10: =LOOKUP(W10,$A$3:$Y$3,$A$4:$Y$4) -> 7 | H10: =LOOKUP(X10,$A$3:$Y$3,$A$4:$Y$4) -> 8 | ... O10: =LOOKUP(AE10,$A$3:$Y$3,$A$4:$Y$4) -> 21 | Q10: 1 | R10: 2 | S10: 3 | T10: 4 | U10: 5 | V10: 6 | W10: 7 | X10: 8 | Y10: 9 | Z10: 12 | AA10: 15 | AB10: 18 | AC10: 19 | AD10: 20 | AE10: 21 | AG10: =LOOKUP(AW10,$AG$1:$BE$1,$AG$2:$BE$2) -> 1 | AH10: =LOOKUP(AX10,$AG$1:$BE$1,$AG$2:$BE$2) -> 2 | AI10: =LOOKUP(AY10,$AG$1:$BE$1,$AG$2:$BE$2) -> 3 | AJ10: =LOOKUP(AZ10,$AG$1:$BE$1,$AG$2:$BE$2) -> 4 | AK10: =LOOKUP(BA10,$AG$1:$BE$1,$AG$2:$BE$2) -> 5 | AL10: =LOOKUP(BB10,$AG$1:$BE$1,$AG$2:$BE$2) -> 9 | AM10: =LOOKUP(BC10,$AG$1:$BE$1,$AG$2:$BE$2) -> 10 | AN10: =LOOKUP(BD10,$AG$1:$BE$1,$AG$2:$BE$2) -> 11 | ... AU10: =LOOKUP(BK10,$AG$1:$BE$1,$AG$2:$BE$2) -> 25 | AW10: 1 | AX10: 2 | AY10: 3 | AZ10: 4 | BA10: 5 | BB10: 9 | BC10: 10 | BD10: 11 | BE10: 12 | BF10: 13 | BG10: 14 | BH10: 15 | BI10: 19 | BJ10: 20 | BK10: 21 | BM10: =COUNTIF($BM$7:$CK$8,BM7) -> 2 | BN10: =COUNTIF($BM$7:$CK$8,BN7) -> 1 | BO10: =COUNTIF($BM$7:$CK$8,BO7) -> 1 | BP10: =COUNTIF($BM$7:$CK$8,BP7) -> 1 | BQ10: =COUNTIF($BM$7:$CK$8,BQ7) -> 1 | BR10: =COUNTIF($BM$7:$CK$8,BR7) -> 1 | BS10: =COUNTIF($BM$7:$CK$8,BS7) -> 1 | BT10: =COUNTIF($BM$7:$CK$8,BT7) -> 1 | ... CK10: =COUNTIF($BM$7:$CK$8,CK7) -> 1 | CM10: =LOOKUP(DC10,$A$3:$U$3,$A$4:$U$4) -> 1 | CN10: =LOOKUP(DD10,$A$3:$U$3,$A$4:$U$4) -> 2 | CO10: =LOOKUP(DE10,$A$3:$U$3,$A$4:$U$4) -> 3 | CP10: =LOOKUP(DF10,$A$3:$U$3,$A$4:$U$4) -> 4 | CQ10: =LOOKUP(DG10,$A$3:$U$3,$A$4:$U$4) -> 5 | CR10: =LOOKUP(DH10,$A$3:$U$3,$A$4:$U$4) -> 6 | CS10: =LOOKUP(DI10,$A$3:$U$3,$A$4:$U$4) -> 7 | CT10: =LOOKUP(DJ10,$A$3:$U$3,$A$4:$U$4) -> 8 | ... DA10: =LOOKUP(DQ10,$A$3:$U$3,$A$4:$U$4) -> 19 | DC10: 1 | DD10: 2 | DE10: 3 | DF10: 4 | DG10: 5 | DH10: 6 | DI10: 7 | DJ10: 8 | DK10: 9 | DL10: 10 | DM10: 11 | DN10: 16 | DO10: 17 | DP10: 18 | DQ10: 19 | DS10: =LOOKUP(EI10,$A$3:$U$3,$A$4:$U$4) -> 1 | DT10: =LOOKUP(EJ10,$A$3:$U$3,$A$4:$U$4) -> 2 | DU10: =LOOKUP(EK10,$A$3:$U$3,$A$4:$U$4) -> 3 | DV10: =LOOKUP(EL10,$A$3:$U$3,$A$4:$U$4) -> 5 | DW10: =LOOKUP(EM10,$A$3:$U$3,$A$4:$U$4) -> 7 | DX10: =LOOKUP(EN10,$A$3:$U$3,$A$4:$U$4) -> 9 | DY10: =LOOKUP(EO10,$A$3:$U$3,$A$4:$U$4) -> 10 | DZ10: =LOOKUP(EP10,$A$3:$U$3,$A$4:$U$4) -> 12 | ... EG10: =LOOKUP(EW10,$A$3:$U$3,$A$4:$U$4) -> 21 | EI10: 1 | EJ10: 2 | EK10: 3 | EL10: 5 | EM10: 7 | EN10: 9 | EO10: 10 | EP10: 12 | EQ10: 13 | ER10: 15 | ES10: 16 | ET10: 18 | EU10: 19 | EV10: 20 | EW10: 21
A11: =LOOKUP(Q11,$A$3:$Y$3,$A$4:$Y$4) -> 1 | B11: =LOOKUP(R11,$A$3:$Y$3,$A$4:$Y$4) -> 2 | C11: =LOOKUP(S11,$A$3:$Y$3,$A$4:$Y$4) -> 3 | D11: =LOOKUP(T11,$A$3:$Y$3,$A$4:$Y$4) -> 4 | E11: =LOOKUP(U11,$A$3:$Y$3,$A$4:$Y$4) -> 5 | F11: =LOOKUP(V11,$A$3:$Y$3,$A$4:$Y$4) -> 6 | G11: =LOOKUP(W11,$A$3:$Y$3,$A$4:$Y$4) -> 7 | H11: =LOOKUP(X11,$A$3:$Y$3,$A$4:$Y$4) -> 10 | ... O11: =LOOKUP(AE11,$A$3:$Y$3,$A$4:$Y$4) -> 20 | Q11: 1 | R11: 2 | S11: 3 | T11: 4 | U11: 5 | V11: 6 | W11: 7 | X11: 10 | Y11: 11 | Z11: 12 | AA11: 13 | AB11: 17 | AC11: 18 | AD11: 19 | AE11: 20 | AG11: =LOOKUP(AW11,$AG$1:$BE$1,$AG$2:$BE$2) -> 1 | AH11: =LOOKUP(AX11,$AG$1:$BE$1,$AG$2:$BE$2) -> 2 | AI11: =LOOKUP(AY11,$AG$1:$BE$1,$AG$2:$BE$2) -> 3 | AJ11: =LOOKUP(AZ11,$AG$1:$BE$1,$AG$2:$BE$2) -> 4 | AK11: =LOOKUP(BA11,$AG$1:$BE$1,$AG$2:$BE$2) -> 6 | AL11: =LOOKUP(BB11,$AG$1:$BE$1,$AG$2:$BE$2) -> 7 | AM11: =LOOKUP(BC11,$AG$1:$BE$1,$AG$2:$BE$2) -> 10 | AN11: =LOOKUP(BD11,$AG$1:$BE$1,$AG$2:$BE$2) -> 11 | ... AU11: =LOOKUP(BK11,$AG$1:$BE$1,$AG$2:$BE$2) -> 25 | AW11: 1 | AX11: 2 | AY11: 3 | AZ11: 4 | BA11: 6 | BB11: 7 | BC11: 10 | BD11: 11 | BE11: 12 | BF11: 13 | BG11: 14 | BH11: 16 | BI11: 17 | BJ11: 20 | BK11: 21 | BM11: =IF(BM10=1,BM7,0) -> 0 | BN11: =IF(BN10=1,BN7,0) -> 2 | BO11: =IF(BO10=1,BO7,0) -> 3 | BP11: =IF(BP10=1,BP7,0) -> 4 | BQ11: =IF(BQ10=1,BQ7,0) -> 5 | BR11: =IF(BR10=1,BR7,0) -> 6 | BS11: =IF(BS10=1,BS7,0) -> 7 | BT11: =IF(BT10=1,BT7,0) -> 8 | ... CK11: =IF(CK10=1,CK7,0) -> 25 | CM11: =LOOKUP(DC11,$A$3:$U$3,$A$4:$U$4) -> 1 | CN11: =LOOKUP(DD11,$A$3:$U$3,$A$4:$U$4) -> 2 | CO11: =LOOKUP(DE11,$A$3:$U$3,$A$4:$U$4) -> 3 | CP11: =LOOKUP(DF11,$A$3:$U$3,$A$4:$U$4) -> 4 | CQ11: =LOOKUP(DG11,$A$3:$U$3,$A$4:$U$4) -> 5 | CR11: =LOOKUP(DH11,$A$3:$U$3,$A$4:$U$4) -> 6 | CS11: =LOOKUP(DI11,$A$3:$U$3,$A$4:$U$4) -> 7 | CT11: =LOOKUP(DJ11,$A$3:$U$3,$A$4:$U$4) -> 8 | ... DA11: =LOOKUP(DQ11,$A$3:$U$3,$A$4:$U$4) -> 21 | DC11: 1 | DD11: 2 | DE11: 3 | DF11: 4 | DG11: 5 | DH11: 6 | DI11: 7 | DJ11: 8 | DK11: 9 | DL11: 10 | DM11: 11 | DN11: 16 | DO11: 17 | DP11: 20 | DQ11: 21 | DS11: =LOOKUP(EI11,$A$3:$U$3,$A$4:$U$4) -> 1 | DT11: =LOOKUP(EJ11,$A$3:$U$3,$A$4:$U$4) -> 2 | DU11: =LOOKUP(EK11,$A$3:$U$3,$A$4:$U$4) -> 3 | DV11: =LOOKUP(EL11,$A$3:$U$3,$A$4:$U$4) -> 6 | DW11: =LOOKUP(EM11,$A$3:$U$3,$A$4:$U$4) -> 7 | DX11: =LOOKUP(EN11,$A$3:$U$3,$A$4:$U$4) -> 8 | DY11: =LOOKUP(EO11,$A$3:$U$3,$A$4:$U$4) -> 9 | DZ11: =LOOKUP(EP11,$A$3:$U$3,$A$4:$U$4) -> 10 | ... EG11: =LOOKUP(EW11,$A$3:$U$3,$A$4:$U$4) -> 20 | EI11: 1 | EJ11: 2 | EK11: 3 | EL11: 6 | EM11: 7 | EN11: 8 | EO11: 9 | EP11: 10 | EQ11: 11 | ER11: 12 | ES11: 14 | ET11: 15 | EU11: 18 | EV11: 19 | EW11: 20
A12: =LOOKUP(Q12,$A$3:$Y$3,$A$4:$Y$4) -> 1 | B12: =LOOKUP(R12,$A$3:$Y$3,$A$4:$Y$4) -> 2 | C12: =LOOKUP(S12,$A$3:$Y$3,$A$4:$Y$4) -> 3 | D12: =LOOKUP(T12,$A$3:$Y$3,$A$4:$Y$4) -> 4 | E12: =LOOKUP(U12,$A$3:$Y$3,$A$4:$Y$4) -> 5 | F12: =LOOKUP(V12,$A$3:$Y$3,$A$4:$Y$4) -> 6 | G12: =LOOKUP(W12,$A$3:$Y$3,$A$4:$Y$4) -> 8 | H12: =LOOKUP(X12,$A$3:$Y$3,$A$4:$Y$4) -> 10 | ... O12: =LOOKUP(AE12,$A$3:$Y$3,$A$4:$Y$4) -> 18 | Q12: 1 | R12: 2 | S12: 3 | T12: 4 | U12: 5 | V12: 6 | W12: 8 | X12: 10 | Y12: 11 | Z12: 12 | AA12: 13 | AB12: 15 | AC12: 16 | AD12: 17 | AE12: 18 | AG12: =LOOKUP(AW12,$AG$1:$BE$1,$AG$2:$BE$2) -> 1 | AH12: =LOOKUP(AX12,$AG$1:$BE$1,$AG$2:$BE$2) -> 2 | AI12: =LOOKUP(AY12,$AG$1:$BE$1,$AG$2:$BE$2) -> 3 | AJ12: =LOOKUP(AZ12,$AG$1:$BE$1,$AG$2:$BE$2) -> 4 | AK12: =LOOKUP(BA12,$AG$1:$BE$1,$AG$2:$BE$2) -> 6 | AL12: =LOOKUP(BB12,$AG$1:$BE$1,$AG$2:$BE$2) -> 8 | AM12: =LOOKUP(BC12,$AG$1:$BE$1,$AG$2:$BE$2) -> 10 | AN12: =LOOKUP(BD12,$AG$1:$BE$1,$AG$2:$BE$2) -> 11 | ... AU12: =LOOKUP(BK12,$AG$1:$BE$1,$AG$2:$BE$2) -> 25 | AW12: 1 | AX12: 2 | AY12: 3 | AZ12: 4 | BA12: 6 | BB12: 8 | BC12: 10 | BD12: 11 | BE12: 12 | BF12: 13 | BG12: 14 | BH12: 16 | BI12: 18 | BJ12: 20 | BK12: 21 | BM12: =LARGE($BM$11:$CK$11,BM7) -> 25 | BN12: =LARGE($BM$11:$CK$11,BN7) -> 24 | BO12: =LARGE($BM$11:$CK$11,BO7) -> 23 | BP12: =LARGE($BM$11:$CK$11,BP7) -> 22 | BQ12: =LARGE($BM$11:$CK$11,BQ7) -> 21 | BR12: =LARGE($BM$11:$CK$11,BR7) -> 20 | BS12: =LARGE($BM$11:$CK$11,BS7) -> 19 | BT12: =LARGE($BM$11:$CK$11,BT7) -> 18 | ... CK12: =LARGE($BM$11:$CK$11,CK7) -> 0 | CM12: =LOOKUP(DC12,$A$3:$U$3,$A$4:$U$4) -> 1 | CN12: =LOOKUP(DD12,$A$3:$U$3,$A$4:$U$4) -> 2 | CO12: =LOOKUP(DE12,$A$3:$U$3,$A$4:$U$4) -> 3 | CP12: =LOOKUP(DF12,$A$3:$U$3,$A$4:$U$4) -> 4 | CQ12: =LOOKUP(DG12,$A$3:$U$3,$A$4:$U$4) -> 5 | CR12: =LOOKUP(DH12,$A$3:$U$3,$A$4:$U$4) -> 6 | CS12: =LOOKUP(DI12,$A$3:$U$3,$A$4:$U$4) -> 7 | CT12: =LOOKUP(DJ12,$A$3:$U$3,$A$4:$U$4) -> 8 | ... DA12: =LOOKUP(DQ12,$A$3:$U$3,$A$4:$U$4) -> 21 | DC12: 1 | DD12: 2 | DE12: 3 | DF12: 4 | DG12: 5 | DH12: 6 | DI12: 7 | DJ12: 8 | DK12: 9 | DL12: 10 | DM12: 11 | DN12: 18 | DO12: 19 | DP12: 20 | DQ12: 21 | DS12: =LOOKUP(EI12,$A$3:$U$3,$A$4:$U$4) -> 1 | DT12: =LOOKUP(EJ12,$A$3:$U$3,$A$4:$U$4) -> 2 | DU12: =LOOKUP(EK12,$A$3:$U$3,$A$4:$U$4) -> 3 | DV12: =LOOKUP(EL12,$A$3:$U$3,$A$4:$U$4) -> 6 | DW12: =LOOKUP(EM12,$A$3:$U$3,$A$4:$U$4) -> 7 | DX12: =LOOKUP(EN12,$A$3:$U$3,$A$4:$U$4) -> 8 | DY12: =LOOKUP(EO12,$A$3:$U$3,$A$4:$U$4) -> 11 | DZ12: =LOOKUP(EP12,$A$3:$U$3,$A$4:$U$4) -> 12 | ... EG12: =LOOKUP(EW12,$A$3:$U$3,$A$4:$U$4) -> 21 | EI12: 1 | EJ12: 2 | EK12: 3 | EL12: 6 | EM12: 7 | EN12: 8 | EO12: 11 | EP12: 12 | EQ12: 13 | ER12: 15 | ES12: 16 | ET12: 17 | EU12: 18 | EV12: 19 | EW12: 21
A13: =LOOKUP(Q13,$A$3:$Y$3,$A$4:$Y$4) -> 1 | B13: =LOOKUP(R13,$A$3:$Y$3,$A$4:$Y$4) -> 2 | C13: =LOOKUP(S13,$A$3:$Y$3,$A$4:$Y$4) -> 3 | D13: =LOOKUP(T13,$A$3:$Y$3,$A$4:$Y$4) -> 4 | E13: =LOOKUP(U13,$A$3:$Y$3,$A$4:$Y$4) -> 5 | F13: =LOOKUP(V13,$A$3:$Y$3,$A$4:$Y$4) -> 6 | G13: =LOOKUP(W13,$A$3:$Y$3,$A$4:$Y$4) -> 8 | H13: =LOOKUP(X13,$A$3:$Y$3,$A$4:$Y$4) -> 10 | ... O13: =LOOKUP(AE13,$A$3:$Y$3,$A$4:$Y$4) -> 21 | Q13: 1 | R13: 2 | S13: 3 | T13: 4 | U13: 5 | V13: 6 | W13: 8 | X13: 10 | Y13: 11 | Z13: 12 | AA13: 14 | AB13: 16 | AC13: 18 | AD13: 19 | AE13: 21 | AG13: =LOOKUP(AW13,$AG$1:$BE$1,$AG$2:$BE$2) -> 1 | AH13: =LOOKUP(AX13,$AG$1:$BE$1,$AG$2:$BE$2) -> 2 | AI13: =LOOKUP(AY13,$AG$1:$BE$1,$AG$2:$BE$2) -> 3 | AJ13: =LOOKUP(AZ13,$AG$1:$BE$1,$AG$2:$BE$2) -> 4 | AK13: =LOOKUP(BA13,$AG$1:$BE$1,$AG$2:$BE$2) -> 6 | AL13: =LOOKUP(BB13,$AG$1:$BE$1,$AG$2:$BE$2) -> 9 | AM13: =LOOKUP(BC13,$AG$1:$BE$1,$AG$2:$BE$2) -> 10 | AN13: =LOOKUP(BD13,$AG$1:$BE$1,$AG$2:$BE$2) -> 11 | ... AU13: =LOOKUP(BK13,$AG$1:$BE$1,$AG$2:$BE$2) -> 25 | AW13: 1 | AX13: 2 | AY13: 3 | AZ13: 4 | BA13: 6 | BB13: 9 | BC13: 10 | BD13: 11 | BE13: 12 | BF13: 13 | BG13: 14 | BH13: 16 | BI13: 19 | BJ13: 20 | BK13: 21 | BM13: =SMALL($BM$12:$CJ$12,BM7) -> 2 | BN13: =SMALL($BM$12:$CJ$12,BN7) -> 3 | BO13: =SMALL($BM$12:$CJ$12,BO7) -> 4 | BP13: =SMALL($BM$12:$CJ$12,BP7) -> 5 | BQ13: =SMALL($BM$12:$CJ$12,BQ7) -> 6 | BR13: =SMALL($BM$12:$CJ$12,BR7) -> 7 | BS13: =SMALL($BM$12:$CJ$12,BS7) -> 8 | BT13: =SMALL($BM$12:$CJ$12,BT7) -> 9 | ... CJ13: =SMALL($BM$12:$CJ$12,CJ7) -> 25 | CM13: =LOOKUP(DC13,$A$3:$U$3,$A$4:$U$4) -> 1 | CN13: =LOOKUP(DD13,$A$3:$U$3,$A$4:$U$4) -> 2 | CO13: =LOOKUP(DE13,$A$3:$U$3,$A$4:$U$4) -> 3 | CP13: =LOOKUP(DF13,$A$3:$U$3,$A$4:$U$4) -> 4 | CQ13: =LOOKUP(DG13,$A$3:$U$3,$A$4:$U$4) -> 5 | CR13: =LOOKUP(DH13,$A$3:$U$3,$A$4:$U$4) -> 6 | CS13: =LOOKUP(DI13,$A$3:$U$3,$A$4:$U$4) -> 7 | CT13: =LOOKUP(DJ13,$A$3:$U$3,$A$4:$U$4) -> 8 | ... DA13: =LOOKUP(DQ13,$A$3:$U$3,$A$4:$U$4) -> 17 | DC13: 1 | DD13: 2 | DE13: 3 | DF13: 4 | DG13: 5 | DH13: 6 | DI13: 7 | DJ13: 8 | DK13: 9 | DL13: 12 | DM13: 13 | DN13: 14 | DO13: 15 | DP13: 16 | DQ13: 17 | DS13: =LOOKUP(EI13,$A$3:$U$3,$A$4:$U$4) -> 1 | DT13: =LOOKUP(EJ13,$A$3:$U$3,$A$4:$U$4) -> 2 | DU13: =LOOKUP(EK13,$A$3:$U$3,$A$4:$U$4) -> 3 | DV13: =LOOKUP(EL13,$A$3:$U$3,$A$4:$U$4) -> 6 | DW13: =LOOKUP(EM13,$A$3:$U$3,$A$4:$U$4) -> 8 | DX13: =LOOKUP(EN13,$A$3:$U$3,$A$4:$U$4) -> 9 | DY13: =LOOKUP(EO13,$A$3:$U$3,$A$4:$U$4) -> 10 | DZ13: =LOOKUP(EP13,$A$3:$U$3,$A$4:$U$4) -> 11 | ... EG13: =LOOKUP(EW13,$A$3:$U$3,$A$4:$U$4) -> 21 | EI13: 1 | EJ13: 2 | EK13: 3 | EL13: 6 | EM13: 8 | EN13: 9 | EO13: 10 | EP13: 11 | EQ13: 13 | ER13: 15 | ES13: 16 | ET13: 18 | EU13: 19 | EV13: 20 | EW13: 21
A14: =LOOKUP(Q14,$A$3:$Y$3,$A$4:$Y$4) -> 1 | B14: =LOOKUP(R14,$A$3:$Y$3,$A$4:$Y$4) -> 2 | C14: =LOOKUP(S14,$A$3:$Y$3,$A$4:$Y$4) -> 3 | D14: =LOOKUP(T14,$A$3:$Y$3,$A$4:$Y$4) -> 4 | E14: =LOOKUP(U14,$A$3:$Y$3,$A$4:$Y$4) -> 5 | F14: =LOOKUP(V14,$A$3:$Y$3,$A$4:$Y$4) -> 6 | G14: =LOOKUP(W14,$A$3:$Y$3,$A$4:$Y$4) -> 9 | H14: =LOOKUP(X14,$A$3:$Y$3,$A$4:$Y$4) -> 10 | ... O14: =LOOKUP(AE14,$A$3:$Y$3,$A$4:$Y$4) -> 21 | Q14: 1 | R14: 2 | S14: 3 | T14: 4 | U14: 5 | V14: 6 | W14: 9 | X14: 10 | Y14: 14 | Z14: 15 | AA14: 16 | AB14: 17 | AC14: 18 | AD14: 20 | AE14: 21 | AG14: =LOOKUP(AW14,$AG$1:$BE$1,$AG$2:$BE$2) -> 1 | AH14: =LOOKUP(AX14,$AG$1:$BE$1,$AG$2:$BE$2) -> 2 | AI14: =LOOKUP(AY14,$AG$1:$BE$1,$AG$2:$BE$2) -> 3 | AJ14: =LOOKUP(AZ14,$AG$1:$BE$1,$AG$2:$BE$2) -> 4 | AK14: =LOOKUP(BA14,$AG$1:$BE$1,$AG$2:$BE$2) -> 7 | AL14: =LOOKUP(BB14,$AG$1:$BE$1,$AG$2:$BE$2) -> 8 | AM14: =LOOKUP(BC14,$AG$1:$BE$1,$AG$2:$BE$2) -> 10 | AN14: =LOOKUP(BD14,$AG$1:$BE$1,$AG$2:$BE$2) -> 11 | ... AU14: =LOOKUP(BK14,$AG$1:$BE$1,$AG$2:$BE$2) -> 25 | AW14: 1 | AX14: 2 | AY14: 3 | AZ14: 4 | BA14: 7 | BB14: 8 | BC14: 10 | BD14: 11 | BE14: 12 | BF14: 13 | BG14: 14 | BH14: 17 | BI14: 18 | BJ14: 20 | BK14: 21 | BM14: =BB2 -> 17 | BN14: =BC2 -> 18 | BO14: =BD2 -> 19 | BP14: =BE2 -> 20 | CM14: =LOOKUP(DC14,$A$3:$U$3,$A$4:$U$4) -> 1 | CN14: =LOOKUP(DD14,$A$3:$U$3,$A$4:$U$4) -> 2 | CO14: =LOOKUP(DE14,$A$3:$U$3,$A$4:$U$4) -> 3 | CP14: =LOOKUP(DF14,$A$3:$U$3,$A$4:$U$4) -> 4 | CQ14: =LOOKUP(DG14,$A$3:$U$3,$A$4:$U$4) -> 5 | CR14: =LOOKUP(DH14,$A$3:$U$3,$A$4:$U$4) -> 6 | CS14: =LOOKUP(DI14,$A$3:$U$3,$A$4:$U$4) -> 7 | CT14: =LOOKUP(DJ14,$A$3:$U$3,$A$4:$U$4) -> 8 | ... DA14: =LOOKUP(DQ14,$A$3:$U$3,$A$4:$U$4) -> 19 | DC14: 1 | DD14: 2 | DE14: 3 | DF14: 4 | DG14: 5 | DH14: 6 | DI14: 7 | DJ14: 8 | DK14: 9 | DL14: 12 | DM14: 13 | DN14: 14 | DO14: 15 | DP14: 18 | DQ14: 19 | DS14: =LOOKUP(EI14,$A$3:$U$3,$A$4:$U$4) -> 1 | DT14: =LOOKUP(EJ14,$A$3:$U$3,$A$4:$U$4) -> 2 | DU14: =LOOKUP(EK14,$A$3:$U$3,$A$4:$U$4) -> 3 | DV14: =LOOKUP(EL14,$A$3:$U$3,$A$4:$U$4) -> 4 | DW14: =LOOKUP(EM14,$A$3:$U$3,$A$4:$U$4) -> 7 | DX14: =LOOKUP(EN14,$A$3:$U$3,$A$4:$U$4) -> 8 | DY14: =LOOKUP(EO14,$A$3:$U$3,$A$4:$U$4) -> 10 | DZ14: =LOOKUP(EP14,$A$3:$U$3,$A$4:$U$4) -> 13 | ... EG14: =LOOKUP(EW14,$A$3:$U$3,$A$4:$U$4) -> 20 | EI14: 1 | EJ14: 2 | EK14: 3 | EL14: 4 | EM14: 7 | EN14: 8 | EO14: 10 | EP14: 13 | EQ14: 14 | ER14: 15 | ES14: 16 | ET14: 17 | EU14: 18 | EV14: 19 | EW14: 20
A15: =LOOKUP(Q15,$A$3:$Y$3,$A$4:$Y$4) -> 1 | B15: =LOOKUP(R15,$A$3:$Y$3,$A$4:$Y$4) -> 2 | C15: =LOOKUP(S15,$A$3:$Y$3,$A$4:$Y$4) -> 3 | D15: =LOOKUP(T15,$A$3:$Y$3,$A$4:$Y$4) -> 4 | E15: =LOOKUP(U15,$A$3:$Y$3,$A$4:$Y$4) -> 5 | F15: =LOOKUP(V15,$A$3:$Y$3,$A$4:$Y$4) -> 7 | G15: =LOOKUP(W15,$A$3:$Y$3,$A$4:$Y$4) -> 9 | H15: =LOOKUP(X15,$A$3:$Y$3,$A$4:$Y$4) -> 11 | ... O15: =LOOKUP(AE15,$A$3:$Y$3,$A$4:$Y$4) -> 21 | Q15: 1 | R15: 2 | S15: 3 | T15: 4 | U15: 5 | V15: 7 | W15: 9 | X15: 11 | Y15: 12 | Z15: 13 | AA15: 14 | AB15: 15 | AC15: 17 | AD15: 18 | AE15: 21 | AG15: =LOOKUP(AW15,$AG$1:$BE$1,$AG$2:$BE$2) -> 1 | AH15: =LOOKUP(AX15,$AG$1:$BE$1,$AG$2:$BE$2) -> 2 | AI15: =LOOKUP(AY15,$AG$1:$BE$1,$AG$2:$BE$2) -> 3 | AJ15: =LOOKUP(AZ15,$AG$1:$BE$1,$AG$2:$BE$2) -> 4 | AK15: =LOOKUP(BA15,$AG$1:$BE$1,$AG$2:$BE$2) -> 7 | AL15: =LOOKUP(BB15,$AG$1:$BE$1,$AG$2:$BE$2) -> 9 | AM15: =LOOKUP(BC15,$AG$1:$BE$1,$AG$2:$BE$2) -> 10 | AN15: =LOOKUP(BD15,$AG$1:$BE$1,$AG$2:$BE$2) -> 11 | ... AU15: =LOOKUP(BK15,$AG$1:$BE$1,$AG$2:$BE$2) -> 25 | AW15: 1 | AX15: 2 | AY15: 3 | AZ15: 4 | BA15: 7 | BB15: 9 | BC15: 10 | BD15: 11 | BE15: 12 | BF15: 13 | BG15: 14 | BH15: 17 | BI15: 19 | BJ15: 20 | BK15: 21 | BM15: =COUNTIF($BM$13:$CK$14,BM13) -> 1 | BN15: =COUNTIF($BM$13:$CK$14,BN13) -> 1 | BO15: =COUNTIF($BM$13:$CK$14,BO13) -> 1 | BP15: =COUNTIF($BM$13:$CK$14,BP13) -> 1 | BQ15: =COUNTIF($BM$13:$CK$14,BQ13) -> 1 | BR15: =COUNTIF($BM$13:$CK$14,BR13) -> 1 | BS15: =COUNTIF($BM$13:$CK$14,BS13) -> 1 | BT15: =COUNTIF($BM$13:$CK$14,BT13) -> 1 | ... CJ15: =COUNTIF($BM$13:$CK$14,CJ13) -> 1 | CM15: =LOOKUP(DC15,$A$3:$U$3,$A$4:$U$4) -> 1 | CN15: =LOOKUP(DD15,$A$3:$U$3,$A$4:$U$4) -> 2 | CO15: =LOOKUP(DE15,$A$3:$U$3,$A$4:$U$4) -> 3 | CP15: =LOOKUP(DF15,$A$3:$U$3,$A$4:$U$4) -> 4 | CQ15: =LOOKUP(DG15,$A$3:$U$3,$A$4:$U$4) -> 5 | CR15: =LOOKUP(DH15,$A$3:$U$3,$A$4:$U$4) -> 6 | CS15: =LOOKUP(DI15,$A$3:$U$3,$A$4:$U$4) -> 7 | CT15: =LOOKUP(DJ15,$A$3:$U$3,$A$4:$U$4) -> 8 | ... DA15: =LOOKUP(DQ15,$A$3:$U$3,$A$4:$U$4) -> 21 | DC15: 1 | DD15: 2 | DE15: 3 | DF15: 4 | DG15: 5 | DH15: 6 | DI15: 7 | DJ15: 8 | DK15: 9 | DL15: 12 | DM15: 13 | DN15: 14 | DO15: 15 | DP15: 20 | DQ15: 21 | DS15: =LOOKUP(EI15,$A$3:$U$3,$A$4:$U$4) -> 1 | DT15: =LOOKUP(EJ15,$A$3:$U$3,$A$4:$U$4) -> 2 | DU15: =LOOKUP(EK15,$A$3:$U$3,$A$4:$U$4) -> 4 | DV15: =LOOKUP(EL15,$A$3:$U$3,$A$4:$U$4) -> 5 | DW15: =LOOKUP(EM15,$A$3:$U$3,$A$4:$U$4) -> 6 | DX15: =LOOKUP(EN15,$A$3:$U$3,$A$4:$U$4) -> 7 | DY15: =LOOKUP(EO15,$A$3:$U$3,$A$4:$U$4) -> 8 | DZ15: =LOOKUP(EP15,$A$3:$U$3,$A$4:$U$4) -> 9 | ... EG15: =LOOKUP(EW15,$A$3:$U$3,$A$4:$U$4) -> 20 | EI15: 1 | EJ15: 2 | EK15: 4 | EL15: 5 | EM15: 6 | EN15: 7 | EO15: 8 | EP15: 9 | EQ15: 10 | ER15: 13 | ES15: 14 | ET15: 15 | EU15: 17 | EV15: 19 | EW15: 20
A16: =LOOKUP(Q16,$A$3:$Y$3,$A$4:$Y$4) -> 1 | B16: =LOOKUP(R16,$A$3:$Y$3,$A$4:$Y$4) -> 2 | C16: =LOOKUP(S16,$A$3:$Y$3,$A$4:$Y$4) -> 3 | D16: =LOOKUP(T16,$A$3:$Y$3,$A$4:$Y$4) -> 4 | E16: =LOOKUP(U16,$A$3:$Y$3,$A$4:$Y$4) -> 5 | F16: =LOOKUP(V16,$A$3:$Y$3,$A$4:$Y$4) -> 7 | G16: =LOOKUP(W16,$A$3:$Y$3,$A$4:$Y$4) -> 9 | H16: =LOOKUP(X16,$A$3:$Y$3,$A$4:$Y$4) -> 11 | ... O16: =LOOKUP(AE16,$A$3:$Y$3,$A$4:$Y$4) -> 20 | Q16: 1 | R16: 2 | S16: 3 | T16: 4 | U16: 5 | V16: 7 | W16: 9 | X16: 11 | Y16: 12 | Z16: 14 | AA16: 15 | AB16: 16 | AC16: 18 | AD16: 19 | AE16: 20 | AG16: =LOOKUP(AW16,$AG$1:$BE$1,$AG$2:$BE$2) -> 1 | AH16: =LOOKUP(AX16,$AG$1:$BE$1,$AG$2:$BE$2) -> 2 | AI16: =LOOKUP(AY16,$AG$1:$BE$1,$AG$2:$BE$2) -> 3 | AJ16: =LOOKUP(AZ16,$AG$1:$BE$1,$AG$2:$BE$2) -> 4 | AK16: =LOOKUP(BA16,$AG$1:$BE$1,$AG$2:$BE$2) -> 8 | AL16: =LOOKUP(BB16,$AG$1:$BE$1,$AG$2:$BE$2) -> 9 | AM16: =LOOKUP(BC16,$AG$1:$BE$1,$AG$2:$BE$2) -> 10 | AN16: =LOOKUP(BD16,$AG$1:$BE$1,$AG$2:$BE$2) -> 11 | ... AU16: =LOOKUP(BK16,$AG$1:$BE$1,$AG$2:$BE$2) -> 25 | AW16: 1 | AX16: 2 | AY16: 3 | AZ16: 4 | BA16: 8 | BB16: 9 | BC16: 10 | BD16: 11 | BE16: 12 | BF16: 13 | BG16: 14 | BH16: 18 | BI16: 19 | BJ16: 20 | BK16: 21 | BM16: =IF(BM15=1,BM13,0) -> 2 | BN16: =IF(BN15=1,BN13,0) -> 3 | BO16: =IF(BO15=1,BO13,0) -> 4 | BP16: =IF(BP15=1,BP13,0) -> 5 | BQ16: =IF(BQ15=1,BQ13,0) -> 6 | BR16: =IF(BR15=1,BR13,0) -> 7 | BS16: =IF(BS15=1,BS13,0) -> 8 | BT16: =IF(BT15=1,BT13,0) -> 9 | ... CK16: =IF(CK15=1,CK13,0) -> 0 | CM16: =LOOKUP(DC16,$A$3:$U$3,$A$4:$U$4) -> 1 | CN16: =LOOKUP(DD16,$A$3:$U$3,$A$4:$U$4) -> 2 | CO16: =LOOKUP(DE16,$A$3:$U$3,$A$4:$U$4) -> 3 | CP16: =LOOKUP(DF16,$A$3:$U$3,$A$4:$U$4) -> 4 | CQ16: =LOOKUP(DG16,$A$3:$U$3,$A$4:$U$4) -> 5 | CR16: =LOOKUP(DH16,$A$3:$U$3,$A$4:$U$4) -> 6 | CS16: =LOOKUP(DI16,$A$3:$U$3,$A$4:$U$4) -> 7 | CT16: =LOOKUP(DJ16,$A$3:$U$3,$A$4:$U$4) -> 8 | ... DA16: =LOOKUP(DQ16,$A$3:$U$3,$A$4:$U$4) -> 19 | DC16: 1 | DD16: 2 | DE16: 3 | DF16: 4 | DG16: 5 | DH16: 6 | DI16: 7 | DJ16: 8 | DK16: 9 | DL16: 12 | DM16: 13 | DN16: 16 | DO16: 17 | DP16: 18 | DQ16: 19 | DS16: =LOOKUP(EI16,$A$3:$U$3,$A$4:$U$4) -> 1 | DT16: =LOOKUP(EJ16,$A$3:$U$3,$A$4:$U$4) -> 2 | DU16: =LOOKUP(EK16,$A$3:$U$3,$A$4:$U$4) -> 3 | DV16: =LOOKUP(EL16,$A$3:$U$3,$A$4:$U$4) -> 4 | DW16: =LOOKUP(EM16,$A$3:$U$3,$A$4:$U$4) -> 7 | DX16: =LOOKUP(EN16,$A$3:$U$3,$A$4:$U$4) -> 8 | DY16: =LOOKUP(EO16,$A$3:$U$3,$A$4:$U$4) -> 9 | DZ16: =LOOKUP(EP16,$A$3:$U$3,$A$4:$U$4) -> 11 | ... EG16: =LOOKUP(EW16,$A$3:$U$3,$A$4:$U$4) -> 21 | EI16: 1 | EJ16: 2 | EK16: 3 | EL16: 4 | EM16: 7 | EN16: 8 | EO16: 9 | EP16: 11 | EQ16: 12 | ER16: 14 | ES16: 17 | ET16: 18 | EU16: 19 | EV16: 20 | EW16: 21
A17: =LOOKUP(Q17,$A$3:$Y$3,$A$4:$Y$4) -> 1 | B17: =LOOKUP(R17,$A$3:$Y$3,$A$4:$Y$4) -> 2 | C17: =LOOKUP(S17,$A$3:$Y$3,$A$4:$Y$4) -> 3 | D17: =LOOKUP(T17,$A$3:$Y$3,$A$4:$Y$4) -> 4 | E17: =LOOKUP(U17,$A$3:$Y$3,$A$4:$Y$4) -> 5 | F17: =LOOKUP(V17,$A$3:$Y$3,$A$4:$Y$4) -> 8 | G17: =LOOKUP(W17,$A$3:$Y$3,$A$4:$Y$4) -> 9 | H17: =LOOKUP(X17,$A$3:$Y$3,$A$4:$Y$4) -> 10 | ... O17: =LOOKUP(AE17,$A$3:$Y$3,$A$4:$Y$4) -> 20 | Q17: 1 | R17: 2 | S17: 3 | T17: 4 | U17: 5 | V17: 8 | W17: 9 | X17: 10 | Y17: 11 | Z17: 12 | AA17: 13 | AB17: 14 | AC17: 16 | AD17: 17 | AE17: 20 | AG17: =LOOKUP(AW17,$AG$1:$BE$1,$AG$2:$BE$2) -> 1 | AH17: =LOOKUP(AX17,$AG$1:$BE$1,$AG$2:$BE$2) -> 2 | AI17: =LOOKUP(AY17,$AG$1:$BE$1,$AG$2:$BE$2) -> 3 | AJ17: =LOOKUP(AZ17,$AG$1:$BE$1,$AG$2:$BE$2) -> 5 | AK17: =LOOKUP(BA17,$AG$1:$BE$1,$AG$2:$BE$2) -> 6 | AL17: =LOOKUP(BB17,$AG$1:$BE$1,$AG$2:$BE$2) -> 7 | AM17: =LOOKUP(BC17,$AG$1:$BE$1,$AG$2:$BE$2) -> 8 | AN17: =LOOKUP(BD17,$AG$1:$BE$1,$AG$2:$BE$2) -> 9 | ... AU17: =LOOKUP(BK17,$AG$1:$BE$1,$AG$2:$BE$2) -> 23 | AW17: 1 | AX17: 2 | AY17: 3 | AZ17: 5 | BA17: 6 | BB17: 7 | BC17: 8 | BD17: 9 | BE17: 12 | BF17: 13 | BG17: 15 | BH17: 16 | BI17: 17 | BJ17: 18 | BK17: 19 | BM17: =LARGE($BM$16:$CK$16,BM7) -> 25 | BN17: =LARGE($BM$16:$CK$16,BN7) -> 24 | BO17: =LARGE($BM$16:$CK$16,BO7) -> 23 | BP17: =LARGE($BM$16:$CK$16,BP7) -> 22 | BQ17: =LARGE($BM$16:$CK$16,BQ7) -> 21 | BR17: =LARGE($BM$16:$CK$16,BR7) -> 16 | BS17: =LARGE($BM$16:$CK$16,BS7) -> 15 | BT17: =LARGE($BM$16:$CK$16,BT7) -> 14 | ... CH17: =LARGE($BM$16:$CK$16,CH7) -> 0 | CM17: =LOOKUP(DC17,$A$3:$U$3,$A$4:$U$4) -> 1 | CN17: =LOOKUP(DD17,$A$3:$U$3,$A$4:$U$4) -> 2 | CO17: =LOOKUP(DE17,$A$3:$U$3,$A$4:$U$4) -> 3 | CP17: =LOOKUP(DF17,$A$3:$U$3,$A$4:$U$4) -> 4 | CQ17: =LOOKUP(DG17,$A$3:$U$3,$A$4:$U$4) -> 5 | CR17: =LOOKUP(DH17,$A$3:$U$3,$A$4:$U$4) -> 6 | CS17: =LOOKUP(DI17,$A$3:$U$3,$A$4:$U$4) -> 7 | CT17: =LOOKUP(DJ17,$A$3:$U$3,$A$4:$U$4) -> 8 | ... DA17: =LOOKUP(DQ17,$A$3:$U$3,$A$4:$U$4) -> 21 | DC17: 1 | DD17: 2 | DE17: 3 | DF17: 4 | DG17: 5 | DH17: 6 | DI17: 7 | DJ17: 8 | DK17: 9 | DL17: 12 | DM17: 13 | DN17: 16 | DO17: 17 | DP17: 20 | DQ17: 21 | DS17: =LOOKUP(EI17,$A$3:$U$3,$A$4:$U$4) -> 1 | DT17: =LOOKUP(EJ17,$A$3:$U$3,$A$4:$U$4) -> 2 | DU17: =LOOKUP(EK17,$A$3:$U$3,$A$4:$U$4) -> 4 | DV17: =LOOKUP(EL17,$A$3:$U$3,$A$4:$U$4) -> 5 | DW17: =LOOKUP(EM17,$A$3:$U$3,$A$4:$U$4) -> 6 | DX17: =LOOKUP(EN17,$A$3:$U$3,$A$4:$U$4) -> 7 | DY17: =LOOKUP(EO17,$A$3:$U$3,$A$4:$U$4) -> 9 | DZ17: =LOOKUP(EP17,$A$3:$U$3,$A$4:$U$4) -> 10 | ... EG17: =LOOKUP(EW17,$A$3:$U$3,$A$4:$U$4) -> 19 | EI17: 1 | EJ17: 2 | EK17: 4 | EL17: 5 | EM17: 6 | EN17: 7 | EO17: 9 | EP17: 10 | EQ17: 11 | ER17: 13 | ES17: 14 | ET17: 15 | EU17: 16 | EV17: 18 | EW17: 19
