Workbook

Sheet 0
A1: Sua Logo Aqui
D4: Planilha: Planilha de Cadastro de Cliente
D7: Olá, esperamos que esteja gostando da nossa planilha, sua opinião é muito importante para nós, acesse nosso canal e deixe seu comentário.
D11: Quer aprender excel? Confira nossas video-aulas: | I11: Clique Aqui | K11: Precisa de alguma planilha sob-medida para você? Entre em contato com nossa equipe!
D16: Você precisa de planilhas profissionais? Confira nossos modelos: | I16: Clique Aqui | K16: WhatsApp | M16: Email
K18: +55 077-98117-6733 | M18: contato@excelcoaching.com.br
D23: Caso você queira contribuir algum valor para incentivar com esse projeto, deixe sua contribuição. Clicando nos valores abaixo:

Sheet 1
A1: Sua Logo Aqui
D5: Cliente | G5: Celular | H5: Cep | I5: Endereço | L5: Nº | M5: Bairro | N5: Cidade | O5: Estado
D6: João Santos | G6: 78 98564352 | H6: 524765 | I6: Rua Joao da Silva Santos | L6: 58279 | M6: Zezão | N6: Zezinho | O6: Zenia

Sheet 2
A1: Sua Logo Aqui
D5: Data | E5: Cliente | G5: Celular | H5: Compromisso | J5: Horario | K5: Status | L5: Observação
D6: 44197 | G6: =IF(E6="","",VLOOKUP(E6,'1'!$D:$G,4,0))
G7: =IF(E7="","",VLOOKUP(E7,'1'!$D:$G,4,0))
G8: =IF(E8="","",VLOOKUP(E8,'1'!$D:$G,4,0))
G9: =IF(E9="","",VLOOKUP(E9,'1'!$D:$G,4,0))
G10: =IF(E10="","",VLOOKUP(E10,'1'!$D:$G,4,0))
D11: =D6+1 -> 44198 | G11: =IF(E11="","",VLOOKUP(E11,'1'!$D:$G,4,0))
G12: =IF(E12="","",VLOOKUP(E12,'1'!$D:$G,4,0))
G13: =IF(E13="","",VLOOKUP(E13,'1'!$D:$G,4,0))
G14: =IF(E14="","",VLOOKUP(E14,'1'!$D:$G,4,0))
G15: =IF(E15="","",VLOOKUP(E15,'1'!$D:$G,4,0))
D16: =D11+1 -> 44199 | G16: =IF(E16="","",VLOOKUP(E16,'1'!$D:$G,4,0))
G17: =IF(E17="","",VLOOKUP(E17,'1'!$D:$G,4,0))
G18: =IF(E18="","",VLOOKUP(E18,'1'!$D:$G,4,0))
G19: =IF(E19="","",VLOOKUP(E19,'1'!$D:$G,4,0))
G20: =IF(E20="","",VLOOKUP(E20,'1'!$D:$G,4,0))
D21: =D16+1 -> 44200 | G21: =IF(E21="","",VLOOKUP(E21,'1'!$D:$G,4,0))
G22: =IF(E22="","",VLOOKUP(E22,'1'!$D:$G,4,0))
G23: =IF(E23="","",VLOOKUP(E23,'1'!$D:$G,4,0))
G24: =IF(E24="","",VLOOKUP(E24,'1'!$D:$G,4,0))
G25: =IF(E25="","",VLOOKUP(E25,'1'!$D:$G,4,0))
D26: =D21+1 -> 44201 | G26: =IF(E26="","",VLOOKUP(E26,'1'!$D:$G,4,0))
G27: =IF(E27="","",VLOOKUP(E27,'1'!$D:$G,4,0))
G28: =IF(E28="","",VLOOKUP(E28,'1'!$D:$G,4,0))
G29: =IF(E29="","",VLOOKUP(E29,'1'!$D:$G,4,0))
G30: =IF(E30="","",VLOOKUP(E30,'1'!$D:$G,4,0))
D31: =D26+1 -> 44202 | G31: =IF(E31="","",VLOOKUP(E31,'1'!$D:$G,4,0))
G32: =IF(E32="","",VLOOKUP(E32,'1'!$D:$G,4,0))
G33: =IF(E33="","",VLOOKUP(E33,'1'!$D:$G,4,0))
G34: =IF(E34="","",VLOOKUP(E34,'1'!$D:$G,4,0))
G35: =IF(E35="","",VLOOKUP(E35,'1'!$D:$G,4,0))
D36: =D31+1 -> 44203 | G36: =IF(E36="","",VLOOKUP(E36,'1'!$D:$G,4,0))
G37: =IF(E37="","",VLOOKUP(E37,'1'!$D:$G,4,0))
G38: =IF(E38="","",VLOOKUP(E38,'1'!$D:$G,4,0))
G39: =IF(E39="","",VLOOKUP(E39,'1'!$D:$G,4,0))
G40: =IF(E40="","",VLOOKUP(E40,'1'!$D:$G,4,0))
D41: =D36+1 -> 44204 | G41: =IF(E41="","",VLOOKUP(E41,'1'!$D:$G,4,0))
G42: =IF(E42="","",VLOOKUP(E42,'1'!$D:$G,4,0))
G43: =IF(E43="","",VLOOKUP(E43,'1'!$D:$G,4,0))
G44: =IF(E44="","",VLOOKUP(E44,'1'!$D:$G,4,0))
G45: =IF(E45="","",VLOOKUP(E45,'1'!$D:$G,4,0))
D46: =D41+1 -> 44205 | G46: =IF(E46="","",VLOOKUP(E46,'1'!$D:$G,4,0))
G47: =IF(E47="","",VLOOKUP(E47,'1'!$D:$G,4,0))
G48: =IF(E48="","",VLOOKUP(E48,'1'!$D:$G,4,0))
G49: =IF(E49="","",VLOOKUP(E49,'1'!$D:$G,4,0))
G50: =IF(E50="","",VLOOKUP(E50,'1'!$D:$G,4,0))
D51: =D46+1 -> 44206 | G51: =IF(E51="","",VLOOKUP(E51,'1'!$D:$G,4,0))
G52: =IF(E52="","",VLOOKUP(E52,'1'!$D:$G,4,0))
G53: =IF(E53="","",VLOOKUP(E53,'1'!$D:$G,4,0))
G54: =IF(E54="","",VLOOKUP(E54,'1'!$D:$G,4,0))
G55: =IF(E55="","",VLOOKUP(E55,'1'!$D:$G,4,0))
D56: =D51+1 -> 44207 | G56: =IF(E56="","",VLOOKUP(E56,'1'!$D:$G,4,0))
G57: =IF(E57="","",VLOOKUP(E57,'1'!$D:$G,4,0))
G58: =IF(E58="","",VLOOKUP(E58,'1'!$D:$G,4,0))
G59: =IF(E59="","",VLOOKUP(E59,'1'!$D:$G,4,0))
G60: =IF(E60="","",VLOOKUP(E60,'1'!$D:$G,4,0))
D61: =D56+1 -> 44208 | G61: =IF(E61="","",VLOOKUP(E61,'1'!$D:$G,4,0))
G62: =IF(E62="","",VLOOKUP(E62,'1'!$D:$G,4,0))
G63: =IF(E63="","",VLOOKUP(E63,'1'!$D:$G,4,0))
G64: =IF(E64="","",VLOOKUP(E64,'1'!$D:$G,4,0))
G65: =IF(E65="","",VLOOKUP(E65,'1'!$D:$G,4,0))
D66: =D61+1 -> 44209 | G66: =IF(E66="","",VLOOKUP(E66,'1'!$D:$G,4,0))
G67: =IF(E67="","",VLOOKUP(E67,'1'!$D:$G,4,0))
G68: =IF(E68="","",VLOOKUP(E68,'1'!$D:$G,4,0))
G69: =IF(E69="","",VLOOKUP(E69,'1'!$D:$G,4,0))
G70: =IF(E70="","",VLOOKUP(E70,'1'!$D:$G,4,0))
D71: =D66+1 -> 44210 | G71: =IF(E71="","",VLOOKUP(E71,'1'!$D:$G,4,0))
G72: =IF(E72="","",VLOOKUP(E72,'1'!$D:$G,4,0))
G73: =IF(E73="","",VLOOKUP(E73,'1'!$D:$G,4,0))
G74: =IF(E74="","",VLOOKUP(E74,'1'!$D:$G,4,0))
G75: =IF(E75="","",VLOOKUP(E75,'1'!$D:$G,4,0))
D76: =D71+1 -> 44211 | G76: =IF(E76="","",VLOOKUP(E76,'1'!$D:$G,4,0))
G77: =IF(E77="","",VLOOKUP(E77,'1'!$D:$G,4,0))
G78: =IF(E78="","",VLOOKUP(E78,'1'!$D:$G,4,0))
G79: =IF(E79="","",VLOOKUP(E79,'1'!$D:$G,4,0))
G80: =IF(E80="","",VLOOKUP(E80,'1'!$D:$G,4,0))
D81: =D76+1 -> 44212 | G81: =IF(E81="","",VLOOKUP(E81,'1'!$D:$G,4,0))
G82: =IF(E82="","",VLOOKUP(E82,'1'!$D:$G,4,0))
G83: =IF(E83="","",VLOOKUP(E83,'1'!$D:$G,4,0))
G84: =IF(E84="","",VLOOKUP(E84,'1'!$D:$G,4,0))
G85: =IF(E85="","",VLOOKUP(E85,'1'!$D:$G,4,0))
D86: =D81+1 -> 44213 | G86: =IF(E86="","",VLOOKUP(E86,'1'!$D:$G,4,0))
G87: =IF(E87="","",VLOOKUP(E87,'1'!$D:$G,4,0))
G88: =IF(E88="","",VLOOKUP(E88,'1'!$D:$G,4,0))
G89: =IF(E89="","",VLOOKUP(E89,'1'!$D:$G,4,0))
G90: =IF(E90="","",VLOOKUP(E90,'1'!$D:$G,4,0))
D91: =D86+1 -> 44214 | G91: =IF(E91="","",VLOOKUP(E91,'1'!$D:$G,4,0))
G92: =IF(E92="","",VLOOKUP(E92,'1'!$D:$G,4,0))
G93: =IF(E93="","",VLOOKUP(E93,'1'!$D:$G,4,0))
G94: =IF(E94="","",VLOOKUP(E94,'1'!$D:$G,4,0))
G95: =IF(E95="","",VLOOKUP(E95,'1'!$D:$G,4,0))
D96: =D91+1 -> 44215 | G96: =IF(E96="","",VLOOKUP(E96,'1'!$D:$G,4,0))
G97: =IF(E97="","",VLOOKUP(E97,'1'!$D:$G,4,0))
G98: =IF(E98="","",VLOOKUP(E98,'1'!$D:$G,4,0))
G99: =IF(E99="","",VLOOKUP(E99,'1'!$D:$G,4,0))
G100: =IF(E100="","",VLOOKUP(E100,'1'!$D:$G,4,0))
D101: =D96+1 -> 44216 | G101: =IF(E101="","",VLOOKUP(E101,'1'!$D:$G,4,0))
G102: =IF(E102="","",VLOOKUP(E102,'1'!$D:$G,4,0))
G103: =IF(E103="","",VLOOKUP(E103,'1'!$D:$G,4,0))
...

Sheet 3
A1: Sua Logo Aqui
D5: Data | E5: Cliente | G5: Celular | H5: Compromisso | J5: Horario | K5: Status | L5: Observação
D6: 44228 | G6: =IF(E6="","",VLOOKUP(E6,'1'!$D:$G,4,0))
G7: =IF(E7="","",VLOOKUP(E7,'1'!$D:$G,4,0))
G8: =IF(E8="","",VLOOKUP(E8,'1'!$D:$G,4,0))
G9: =IF(E9="","",VLOOKUP(E9,'1'!$D:$G,4,0))
G10: =IF(E10="","",VLOOKUP(E10,'1'!$D:$G,4,0))
D11: =D6+1 -> 44229 | G11: =IF(E11="","",VLOOKUP(E11,'1'!$D:$G,4,0))
G12: =IF(E12="","",VLOOKUP(E12,'1'!$D:$G,4,0))
G13: =IF(E13="","",VLOOKUP(E13,'1'!$D:$G,4,0))
G14: =IF(E14="","",VLOOKUP(E14,'1'!$D:$G,4,0))
G15: =IF(E15="","",VLOOKUP(E15,'1'!$D:$G,4,0))
D16: =D11+1 -> 44230 | G16: =IF(E16="","",VLOOKUP(E16,'1'!$D:$G,4,0))
G17: =IF(E17="","",VLOOKUP(E17,'1'!$D:$G,4,0))
G18: =IF(E18="","",VLOOKUP(E18,'1'!$D:$G,4,0))
G19: =IF(E19="","",VLOOKUP(E19,'1'!$D:$G,4,0))
G20: =IF(E20="","",VLOOKUP(E20,'1'!$D:$G,4,0))
D21: =D16+1 -> 44231 | G21: =IF(E21="","",VLOOKUP(E21,'1'!$D:$G,4,0))
G22: =IF(E22="","",VLOOKUP(E22,'1'!$D:$G,4,0))
G23: =IF(E23="","",VLOOKUP(E23,'1'!$D:$G,4,0))
G24: =IF(E24="","",VLOOKUP(E24,'1'!$D:$G,4,0))
G25: =IF(E25="","",VLOOKUP(E25,'1'!$D:$G,4,0))
D26: =D21+1 -> 44232 | G26: =IF(E26="","",VLOOKUP(E26,'1'!$D:$G,4,0))
G27: =IF(E27="","",VLOOKUP(E27,'1'!$D:$G,4,0))
G28: =IF(E28="","",VLOOKUP(E28,'1'!$D:$G,4,0))
G29: =IF(E29="","",VLOOKUP(E29,'1'!$D:$G,4,0))
G30: =IF(E30="","",VLOOKUP(E30,'1'!$D:$G,4,0))
D31: =D26+1 -> 44233 | G31: =IF(E31="","",VLOOKUP(E31,'1'!$D:$G,4,0))
G32: =IF(E32="","",VLOOKUP(E32,'1'!$D:$G,4,0))
G33: =IF(E33="","",VLOOKUP(E33,'1'!$D:$G,4,0))
G34: =IF(E34="","",VLOOKUP(E34,'1'!$D:$G,4,0))
G35: =IF(E35="","",VLOOKUP(E35,'1'!$D:$G,4,0))
D36: =D31+1 -> 44234 | G36: =IF(E36="","",VLOOKUP(E36,'1'!$D:$G,4,0))
G37: =IF(E37="","",VLOOKUP(E37,'1'!$D:$G,4,0))
G38: =IF(E38="","",VLOOKUP(E38,'1'!$D:$G,4,0))
G39: =IF(E39="","",VLOOKUP(E39,'1'!$D:$G,4,0))
G40: =IF(E40="","",VLOOKUP(E40,'1'!$D:$G,4,0))
D41: =D36+1 -> 44235 | G41: =IF(E41="","",VLOOKUP(E41,'1'!$D:$G,4,0))
G42: =IF(E42="","",VLOOKUP(E42,'1'!$D:$G,4,0))
G43: =IF(E43="","",VLOOKUP(E43,'1'!$D:$G,4,0))
G44: =IF(E44="","",VLOOKUP(E44,'1'!$D:$G,4,0))
G45: =IF(E45="","",VLOOKUP(E45,'1'!$D:$G,4,0))
D46: =D41+1 -> 44236 | G46: =IF(E46="","",VLOOKUP(E46,'1'!$D:$G,4,0))
G47: =IF(E47="","",VLOOKUP(E47,'1'!$D:$G,4,0))
G48: =IF(E48="","",VLOOKUP(E48,'1'!$D:$G,4,0))
G49: =IF(E49="","",VLOOKUP(E49,'1'!$D:$G,4,0))
G50: =IF(E50="","",VLOOKUP(E50,'1'!$D:$G,4,0))
D51: =D46+1 -> 44237 | G51: =IF(E51="","",VLOOKUP(E51,'1'!$D:$G,4,0))
G52: =IF(E52="","",VLOOKUP(E52,'1'!$D:$G,4,0))
G53: =IF(E53="","",VLOOKUP(E53,'1'!$D:$G,4,0))
G54: =IF(E54="","",VLOOKUP(E54,'1'!$D:$G,4,0))
G55: =IF(E55="","",VLOOKUP(E55,'1'!$D:$G,4,0))
D56: =D51+1 -> 44238 | G56: =IF(E56="","",VLOOKUP(E56,'1'!$D:$G,4,0))
G57: =IF(E57="","",VLOOKUP(E57,'1'!$D:$G,4,0))
G58: =IF(E58="","",VLOOKUP(E58,'1'!$D:$G,4,0))
G59: =IF(E59="","",VLOOKUP(E59,'1'!$D:$G,4,0))
G60: =IF(E60="","",VLOOKUP(E60,'1'!$D:$G,4,0))
D61: =D56+1 -> 44239 | G61: =IF(E61="","",VLOOKUP(E61,'1'!$D:$G,4,0))
G62: =IF(E62="","",VLOOKUP(E62,'1'!$D:$G,4,0))
G63: =IF(E63="","",VLOOKUP(E63,'1'!$D:$G,4,0))
G64: =IF(E64="","",VLOOKUP(E64,'1'!$D:$G,4,0))
G65: =IF(E65="","",VLOOKUP(E65,'1'!$D:$G,4,0))
D66: =D61+1 -> 44240 | G66: =IF(E66="","",VLOOKUP(E66,'1'!$D:$G,4,0))
G67: =IF(E67="","",VLOOKUP(E67,'1'!$D:$G,4,0))
G68: =IF(E68="","",VLOOKUP(E68,'1'!$D:$G,4,0))
G69: =IF(E69="","",VLOOKUP(E69,'1'!$D:$G,4,0))
G70: =IF(E70="","",VLOOKUP(E70,'1'!$D:$G,4,0))
D71: =D66+1 -> 44241 | G71: =IF(E71="","",VLOOKUP(E71,'1'!$D:$G,4,0))
G72: =IF(E72="","",VLOOKUP(E72,'1'!$D:$G,4,0))
G73: =IF(E73="","",VLOOKUP(E73,'1'!$D:$G,4,0))
G74: =IF(E74="","",VLOOKUP(E74,'1'!$D:$G,4,0))
G75: =IF(E75="","",VLOOKUP(E75,'1'!$D:$G,4,0))
D76: =D71+1 -> 44242 | G76: =IF(E76="","",VLOOKUP(E76,'1'!$D:$G,4,0))
G77: =IF(E77="","",VLOOKUP(E77,'1'!$D:$G,4,0))
G78: =IF(E78="","",VLOOKUP(E78,'1'!$D:$G,4,0))
G79: =IF(E79="","",VLOOKUP(E79,'1'!$D:$G,4,0))
G80: =IF(E80="","",VLOOKUP(E80,'1'!$D:$G,4,0))
D81: =D76+1 -> 44243 | G81: =IF(E81="","",VLOOKUP(E81,'1'!$D:$G,4,0))
G82: =IF(E82="","",VLOOKUP(E82,'1'!$D:$G,4,0))
G83: =IF(E83="","",VLOOKUP(E83,'1'!$D:$G,4,0))
G84: =IF(E84="","",VLOOKUP(E84,'1'!$D:$G,4,0))
G85: =IF(E85="","",VLOOKUP(E85,'1'!$D:$G,4,0))
D86: =D81+1 -> 44244 | G86: =IF(E86="","",VLOOKUP(E86,'1'!$D:$G,4,0))
G87: =IF(E87="","",VLOOKUP(E87,'1'!$D:$G,4,0))
G88: =IF(E88="","",VLOOKUP(E88,'1'!$D:$G,4,0))
G89: =IF(E89="","",VLOOKUP(E89,'1'!$D:$G,4,0))
G90: =IF(E90="","",VLOOKUP(E90,'1'!$D:$G,4,0))
D91: =D86+1 -> 44245 | G91: =IF(E91="","",VLOOKUP(E91,'1'!$D:$G,4,0))
G92: =IF(E92="","",VLOOKUP(E92,'1'!$D:$G,4,0))
G93: =IF(E93="","",VLOOKUP(E93,'1'!$D:$G,4,0))
G94: =IF(E94="","",VLOOKUP(E94,'1'!$D:$G,4,0))
G95: =IF(E95="","",VLOOKUP(E95,'1'!$D:$G,4,0))
D96: =D91+1 -> 44246 | G96: =IF(E96="","",VLOOKUP(E96,'1'!$D:$G,4,0))
G97: =IF(E97="","",VLOOKUP(E97,'1'!$D:$G,4,0))
G98: =IF(E98="","",VLOOKUP(E98,'1'!$D:$G,4,0))
G99: =IF(E99="","",VLOOKUP(E99,'1'!$D:$G,4,0))
G100: =IF(E100="","",VLOOKUP(E100,'1'!$D:$G,4,0))
D101: =D96+1 -> 44247 | G101: =IF(E101="","",VLOOKUP(E101,'1'!$D:$G,4,0))
G102: =IF(E102="","",VLOOKUP(E102,'1'!$D:$G,4,0))
G103: =IF(E103="","",VLOOKUP(E103,'1'!$D:$G,4,0))
...

Sheet 4
A1: Sua Logo Aqui
D5: Data | E5: Cliente | G5: Celular | H5: Compromisso | J5: Horario | K5: Status | L5: Observação
D6: 44256 | G6: =IF(E6="","",VLOOKUP(E6,'1'!$D:$G,4,0))
G7: =IF(E7="","",VLOOKUP(E7,'1'!$D:$G,4,0))
G8: =IF(E8="","",VLOOKUP(E8,'1'!$D:$G,4,0))
G9: =IF(E9="","",VLOOKUP(E9,'1'!$D:$G,4,0))
G10: =IF(E10="","",VLOOKUP(E10,'1'!$D:$G,4,0))
D11: =D6+1 -> 44257 | G11: =IF(E11="","",VLOOKUP(E11,'1'!$D:$G,4,0))
G12: =IF(E12="","",VLOOKUP(E12,'1'!$D:$G,4,0))
G13: =IF(E13="","",VLOOKUP(E13,'1'!$D:$G,4,0))
G14: =IF(E14="","",VLOOKUP(E14,'1'!$D:$G,4,0))
G15: =IF(E15="","",VLOOKUP(E15,'1'!$D:$G,4,0))
D16: =D11+1 -> 44258 | G16: =IF(E16="","",VLOOKUP(E16,'1'!$D:$G,4,0))
G17: =IF(E17="","",VLOOKUP(E17,'1'!$D:$G,4,0))
G18: =IF(E18="","",VLOOKUP(E18,'1'!$D:$G,4,0))
G19: =IF(E19="","",VLOOKUP(E19,'1'!$D:$G,4,0))
G20: =IF(E20="","",VLOOKUP(E20,'1'!$D:$G,4,0))
D21: =D16+1 -> 44259 | G21: =IF(E21="","",VLOOKUP(E21,'1'!$D:$G,4,0))
G22: =IF(E22="","",VLOOKUP(E22,'1'!$D:$G,4,0))
G23: =IF(E23="","",VLOOKUP(E23,'1'!$D:$G,4,0))
G24: =IF(E24="","",VLOOKUP(E24,'1'!$D:$G,4,0))
G25: =IF(E25="","",VLOOKUP(E25,'1'!$D:$G,4,0))
D26: =D21+1 -> 44260 | G26: =IF(E26="","",VLOOKUP(E26,'1'!$D:$G,4,0))
G27: =IF(E27="","",VLOOKUP(E27,'1'!$D:$G,4,0))
G28: =IF(E28="","",VLOOKUP(E28,'1'!$D:$G,4,0))
G29: =IF(E29="","",VLOOKUP(E29,'1'!$D:$G,4,0))
G30: =IF(E30="","",VLOOKUP(E30,'1'!$D:$G,4,0))
D31: =D26+1 -> 44261 | G31: =IF(E31="","",VLOOKUP(E31,'1'!$D:$G,4,0))
G32: =IF(E32="","",VLOOKUP(E32,'1'!$D:$G,4,0))
G33: =IF(E33="","",VLOOKUP(E33,'1'!$D:$G,4,0))
G34: =IF(E34="","",VLOOKUP(E34,'1'!$D:$G,4,0))
G35: =IF(E35="","",VLOOKUP(E35,'1'!$D:$G,4,0))
D36: =D31+1 -> 44262 | G36: =IF(E36="","",VLOOKUP(E36,'1'!$D:$G,4,0))
G37: =IF(E37="","",VLOOKUP(E37,'1'!$D:$G,4,0))
G38: =IF(E38="","",VLOOKUP(E38,'1'!$D:$G,4,0))
G39: =IF(E39="","",VLOOKUP(E39,'1'!$D:$G,4,0))
G40: =IF(E40="","",VLOOKUP(E40,'1'!$D:$G,4,0))
D41: =D36+1 -> 44263 | G41: =IF(E41="","",VLOOKUP(E41,'1'!$D:$G,4,0))
G42: =IF(E42="","",VLOOKUP(E42,'1'!$D:$G,4,0))
G43: =IF(E43="","",VLOOKUP(E43,'1'!$D:$G,4,0))
G44: =IF(E44="","",VLOOKUP(E44,'1'!$D:$G,4,0))
G45: =IF(E45="","",VLOOKUP(E45,'1'!$D:$G,4,0))
D46: =D41+1 -> 44264 | G46: =IF(E46="","",VLOOKUP(E46,'1'!$D:$G,4,0))
G47: =IF(E47="","",VLOOKUP(E47,'1'!$D:$G,4,0))
G48: =IF(E48="","",VLOOKUP(E48,'1'!$D:$G,4,0))
G49: =IF(E49="","",VLOOKUP(E49,'1'!$D:$G,4,0))
G50: =IF(E50="","",VLOOKUP(E50,'1'!$D:$G,4,0))
D51: =D46+1 -> 44265 | G51: =IF(E51="","",VLOOKUP(E51,'1'!$D:$G,4,0))
G52: =IF(E52="","",VLOOKUP(E52,'1'!$D:$G,4,0))
G53: =IF(E53="","",VLOOKUP(E53,'1'!$D:$G,4,0))
G54: =IF(E54="","",VLOOKUP(E54,'1'!$D:$G,4,0))
G55: =IF(E55="","",VLOOKUP(E55,'1'!$D:$G,4,0))
D56: =D51+1 -> 44266 | G56: =IF(E56="","",VLOOKUP(E56,'1'!$D:$G,4,0))
G57: =IF(E57="","",VLOOKUP(E57,'1'!$D:$G,4,0))
G58: =IF(E58="","",VLOOKUP(E58,'1'!$D:$G,4,0))
G59: =IF(E59="","",VLOOKUP(E59,'1'!$D:$G,4,0))
G60: =IF(E60="","",VLOOKUP(E60,'1'!$D:$G,4,0))
D61: =D56+1 -> 44267 | G61: =IF(E61="","",VLOOKUP(E61,'1'!$D:$G,4,0))
G62: =IF(E62="","",VLOOKUP(E62,'1'!$D:$G,4,0))
G63: =IF(E63="","",VLOOKUP(E63,'1'!$D:$G,4,0))
G64: =IF(E64="","",VLOOKUP(E64,'1'!$D:$G,4,0))
G65: =IF(E65="","",VLOOKUP(E65,'1'!$D:$G,4,0))
D66: =D61+1 -> 44268 | G66: =IF(E66="","",VLOOKUP(E66,'1'!$D:$G,4,0))
G67: =IF(E67="","",VLOOKUP(E67,'1'!$D:$G,4,0))
G68: =IF(E68="","",VLOOKUP(E68,'1'!$D:$G,4,0))
G69: =IF(E69="","",VLOOKUP(E69,'1'!$D:$G,4,0))
G70: =IF(E70="","",VLOOKUP(E70,'1'!$D:$G,4,0))
D71: =D66+1 -> 44269 | G71: =IF(E71="","",VLOOKUP(E71,'1'!$D:$G,4,0))
G72: =IF(E72="","",VLOOKUP(E72,'1'!$D:$G,4,0))
G73: =IF(E73="","",VLOOKUP(E73,'1'!$D:$G,4,0))
G74: =IF(E74="","",VLOOKUP(E74,'1'!$D:$G,4,0))
G75: =IF(E75="","",VLOOKUP(E75,'1'!$D:$G,4,0))
D76: =D71+1 -> 44270 | G76: =IF(E76="","",VLOOKUP(E76,'1'!$D:$G,4,0))
G77: =IF(E77="","",VLOOKUP(E77,'1'!$D:$G,4,0))
G78: =IF(E78="","",VLOOKUP(E78,'1'!$D:$G,4,0))
G79: =IF(E79="","",VLOOKUP(E79,'1'!$D:$G,4,0))
G80: =IF(E80="","",VLOOKUP(E80,'1'!$D:$G,4,0))
D81: =D76+1 -> 44271 | G81: =IF(E81="","",VLOOKUP(E81,'1'!$D:$G,4,0))
G82: =IF(E82="","",VLOOKUP(E82,'1'!$D:$G,4,0))
G83: =IF(E83="","",VLOOKUP(E83,'1'!$D:$G,4,0))
G84: =IF(E84="","",VLOOKUP(E84,'1'!$D:$G,4,0))
G85: =IF(E85="","",VLOOKUP(E85,'1'!$D:$G,4,0))
D86: =D81+1 -> 44272 | G86: =IF(E86="","",VLOOKUP(E86,'1'!$D:$G,4,0))
G87: =IF(E87="","",VLOOKUP(E87,'1'!$D:$G,4,0))
G88: =IF(E88="","",VLOOKUP(E88,'1'!$D:$G,4,0))
G89: =IF(E89="","",VLOOKUP(E89,'1'!$D:$G,4,0))
G90: =IF(E90="","",VLOOKUP(E90,'1'!$D:$G,4,0))
D91: =D86+1 -> 44273 | G91: =IF(E91="","",VLOOKUP(E91,'1'!$D:$G,4,0))
G92: =IF(E92="","",VLOOKUP(E92,'1'!$D:$G,4,0))
G93: =IF(E93="","",VLOOKUP(E93,'1'!$D:$G,4,0))
G94: =IF(E94="","",VLOOKUP(E94,'1'!$D:$G,4,0))
G95: =IF(E95="","",VLOOKUP(E95,'1'!$D:$G,4,0))
D96: =D91+1 -> 44274 | G96: =IF(E96="","",VLOOKUP(E96,'1'!$D:$G,4,0))
G97: =IF(E97="","",VLOOKUP(E97,'1'!$D:$G,4,0))
G98: =IF(E98="","",VLOOKUP(E98,'1'!$D:$G,4,0))
G99: =IF(E99="","",VLOOKUP(E99,'1'!$D:$G,4,0))
G100: =IF(E100="","",VLOOKUP(E100,'1'!$D:$G,4,0))
D101: =D96+1 -> 44275 | G101: =IF(E101="","",VLOOKUP(E101,'1'!$D:$G,4,0))
G102: =IF(E102="","",VLOOKUP(E102,'1'!$D:$G,4,0))
G103: =IF(E103="","",VLOOKUP(E103,'1'!$D:$G,4,0))
...

Sheet 5
A1: Sua Logo Aqui
D5: Data | E5: Cliente | G5: Celular | H5: Compromisso | J5: Horario | K5: Status | L5: Observação
D6: 44197 | G6: =IF(E6="","",VLOOKUP(E6,'1'!$D:$G,4,0))
G7: =IF(E7="","",VLOOKUP(E7,'1'!$D:$G,4,0))
G8: =IF(E8="","",VLOOKUP(E8,'1'!$D:$G,4,0))
G9: =IF(E9="","",VLOOKUP(E9,'1'!$D:$G,4,0))
G10: =IF(E10="","",VLOOKUP(E10,'1'!$D:$G,4,0))
D11: =D6+1 -> 44198 | G11: =IF(E11="","",VLOOKUP(E11,'1'!$D:$G,4,0))
G12: =IF(E12="","",VLOOKUP(E12,'1'!$D:$G,4,0))
G13: =IF(E13="","",VLOOKUP(E13,'1'!$D:$G,4,0))
G14: =IF(E14="","",VLOOKUP(E14,'1'!$D:$G,4,0))
G15: =IF(E15="","",VLOOKUP(E15,'1'!$D:$G,4,0))
D16: =D11+1 -> 44199 | G16: =IF(E16="","",VLOOKUP(E16,'1'!$D:$G,4,0))
G17: =IF(E17="","",VLOOKUP(E17,'1'!$D:$G,4,0))
G18: =IF(E18="","",VLOOKUP(E18,'1'!$D:$G,4,0))
G19: =IF(E19="","",VLOOKUP(E19,'1'!$D:$G,4,0))
G20: =IF(E20="","",VLOOKUP(E20,'1'!$D:$G,4,0))
D21: =D16+1 -> 44200 | G21: =IF(E21="","",VLOOKUP(E21,'1'!$D:$G,4,0))
G22: =IF(E22="","",VLOOKUP(E22,'1'!$D:$G,4,0))
G23: =IF(E23="","",VLOOKUP(E23,'1'!$D:$G,4,0))
G24: =IF(E24="","",VLOOKUP(E24,'1'!$D:$G,4,0))
G25: =IF(E25="","",VLOOKUP(E25,'1'!$D:$G,4,0))
D26: =D21+1 -> 44201 | G26: =IF(E26="","",VLOOKUP(E26,'1'!$D:$G,4,0))
G27: =IF(E27="","",VLOOKUP(E27,'1'!$D:$G,4,0))
G28: =IF(E28="","",VLOOKUP(E28,'1'!$D:$G,4,0))
G29: =IF(E29="","",VLOOKUP(E29,'1'!$D:$G,4,0))
G30: =IF(E30="","",VLOOKUP(E30,'1'!$D:$G,4,0))
D31: =D26+1 -> 44202 | G31: =IF(E31="","",VLOOKUP(E31,'1'!$D:$G,4,0))
G32: =IF(E32="","",VLOOKUP(E32,'1'!$D:$G,4,0))
G33: =IF(E33="","",VLOOKUP(E33,'1'!$D:$G,4,0))
G34: =IF(E34="","",VLOOKUP(E34,'1'!$D:$G,4,0))
G35: =IF(E35="","",VLOOKUP(E35,'1'!$D:$G,4,0))
D36: =D31+1 -> 44203 | G36: =IF(E36="","",VLOOKUP(E36,'1'!$D:$G,4,0))
G37: =IF(E37="","",VLOOKUP(E37,'1'!$D:$G,4,0))
G38: =IF(E38="","",VLOOKUP(E38,'1'!$D:$G,4,0))
G39: =IF(E39="","",VLOOKUP(E39,'1'!$D:$G,4,0))
G40: =IF(E40="","",VLOOKUP(E40,'1'!$D:$G,4,0))
D41: =D36+1 -> 44204 | G41: =IF(E41="","",VLOOKUP(E41,'1'!$D:$G,4,0))
G42: =IF(E42="","",VLOOKUP(E42,'1'!$D:$G,4,0))
G43: =IF(E43="","",VLOOKUP(E43,'1'!$D:$G,4,0))
G44: =IF(E44="","",VLOOKUP(E44,'1'!$D:$G,4,0))
G45: =IF(E45="","",VLOOKUP(E45,'1'!$D:$G,4,0))
D46: =D41+1 -> 44205 | G46: =IF(E46="","",VLOOKUP(E46,'1'!$D:$G,4,0))
G47: =IF(E47="","",VLOOKUP(E47,'1'!$D:$G,4,0))
G48: =IF(E48="","",VLOOKUP(E48,'1'!$D:$G,4,0))
G49: =IF(E49="","",VLOOKUP(E49,'1'!$D:$G,4,0))
G50: =IF(E50="","",VLOOKUP(E50,'1'!$D:$G,4,0))
D51: =D46+1 -> 44206 | G51: =IF(E51="","",VLOOKUP(E51,'1'!$D:$G,4,0))
G52: =IF(E52="","",VLOOKUP(E52,'1'!$D:$G,4,0))
G53: =IF(E53="","",VLOOKUP(E53,'1'!$D:$G,4,0))
G54: =IF(E54="","",VLOOKUP(E54,'1'!$D:$G,4,0))
G55: =IF(E55="","",VLOOKUP(E55,'1'!$D:$G,4,0))
D56: =D51+1 -> 44207 | G56: =IF(E56="","",VLOOKUP(E56,'1'!$D:$G,4,0))
G57: =IF(E57="","",VLOOKUP(E57,'1'!$D:$G,4,0))
G58: =IF(E58="","",VLOOKUP(E58,'1'!$D:$G,4,0))
G59: =IF(E59="","",VLOOKUP(E59,'1'!$D:$G,4,0))
G60: =IF(E60="","",VLOOKUP(E60,'1'!$D:$G,4,0))
D61: =D56+1 -> 44208 | G61: =IF(E61="","",VLOOKUP(E61,'1'!$D:$G,4,0))
G62: =IF(E62="","",VLOOKUP(E62,'1'!$D:$G,4,0))
G63: =IF(E63="","",VLOOKUP(E63,'1'!$D:$G,4,0))
G64: =IF(E64="","",VLOOKUP(E64,'1'!$D:$G,4,0))
G65: =IF(E65="","",VLOOKUP(E65,'1'!$D:$G,4,0))
D66: =D61+1 -> 44209 | G66: =IF(E66="","",VLOOKUP(E66,'1'!$D:$G,4,0))
G67: =IF(E67="","",VLOOKUP(E67,'1'!$D:$G,4,0))
G68: =IF(E68="","",VLOOKUP(E68,'1'!$D:$G,4,0))
G69: =IF(E69="","",VLOOKUP(E69,'1'!$D:$G,4,0))
G70: =IF(E70="","",VLOOKUP(E70,'1'!$D:$G,4,0))
D71: =D66+1 -> 44210 | G71: =IF(E71="","",VLOOKUP(E71,'1'!$D:$G,4,0))
G72: =IF(E72="","",VLOOKUP(E72,'1'!$D:$G,4,0))
G73: =IF(E73="","",VLOOKUP(E73,'1'!$D:$G,4,0))
G74: =IF(E74="","",VLOOKUP(E74,'1'!$D:$G,4,0))
G75: =IF(E75="","",VLOOKUP(E75,'1'!$D:$G,4,0))
D76: =D71+1 -> 44211 | G76: =IF(E76="","",VLOOKUP(E76,'1'!$D:$G,4,0))
G77: =IF(E77="","",VLOOKUP(E77,'1'!$D:$G,4,0))
G78: =IF(E78="","",VLOOKUP(E78,'1'!$D:$G,4,0))
G79: =IF(E79="","",VLOOKUP(E79,'1'!$D:$G,4,0))
G80: =IF(E80="","",VLOOKUP(E80,'1'!$D:$G,4,0))
D81: =D76+1 -> 44212 | G81: =IF(E81="","",VLOOKUP(E81,'1'!$D:$G,4,0))
G82: =IF(E82="","",VLOOKUP(E82,'1'!$D:$G,4,0))
G83: =IF(E83="","",VLOOKUP(E83,'1'!$D:$G,4,0))
G84: =IF(E84="","",VLOOKUP(E84,'1'!$D:$G,4,0))
G85: =IF(E85="","",VLOOKUP(E85,'1'!$D:$G,4,0))
D86: =D81+1 -> 44213 | G86: =IF(E86="","",VLOOKUP(E86,'1'!$D:$G,4,0))
G87: =IF(E87="","",VLOOKUP(E87,'1'!$D:$G,4,0))
G88: =IF(E88="","",VLOOKUP(E88,'1'!$D:$G,4,0))
G89: =IF(E89="","",VLOOKUP(E89,'1'!$D:$G,4,0))
G90: =IF(E90="","",VLOOKUP(E90,'1'!$D:$G,4,0))
D91: =D86+1 -> 44214 | G91: =IF(E91="","",VLOOKUP(E91,'1'!$D:$G,4,0))
G92: =IF(E92="","",VLOOKUP(E92,'1'!$D:$G,4,0))
G93: =IF(E93="","",VLOOKUP(E93,'1'!$D:$G,4,0))
G94: =IF(E94="","",VLOOKUP(E94,'1'!$D:$G,4,0))
G95: =IF(E95="","",VLOOKUP(E95,'1'!$D:$G,4,0))
D96: =D91+1 -> 44215 | G96: =IF(E96="","",VLOOKUP(E96,'1'!$D:$G,4,0))
G97: =IF(E97="","",VLOOKUP(E97,'1'!$D:$G,4,0))
G98: =IF(E98="","",VLOOKUP(E98,'1'!$D:$G,4,0))
G99: =IF(E99="","",VLOOKUP(E99,'1'!$D:$G,4,0))
G100: =IF(E100="","",VLOOKUP(E100,'1'!$D:$G,4,0))
D101: =D96+1 -> 44216 | G101: =IF(E101="","",VLOOKUP(E101,'1'!$D:$G,4,0))
G102: =IF(E102="","",VLOOKUP(E102,'1'!$D:$G,4,0))
G103: =IF(E103="","",VLOOKUP(E103,'1'!$D:$G,4,0))
...

Sheet 6
A1: Sua Logo Aqui
D5: Data | E5: Cliente | G5: Celular | H5: Compromisso | J5: Horario | K5: Status | L5: Observação
D6: 44197 | G6: =IF(E6="","",VLOOKUP(E6,'1'!$D:$G,4,0))
G7: =IF(E7="","",VLOOKUP(E7,'1'!$D:$G,4,0))
G8: =IF(E8="","",VLOOKUP(E8,'1'!$D:$G,4,0))
G9: =IF(E9="","",VLOOKUP(E9,'1'!$D:$G,4,0))
G10: =IF(E10="","",VLOOKUP(E10,'1'!$D:$G,4,0))
D11: =D6+1 -> 44198 | G11: =IF(E11="","",VLOOKUP(E11,'1'!$D:$G,4,0))
G12: =IF(E12="","",VLOOKUP(E12,'1'!$D:$G,4,0))
G13: =IF(E13="","",VLOOKUP(E13,'1'!$D:$G,4,0))
G14: =IF(E14="","",VLOOKUP(E14,'1'!$D:$G,4,0))
G15: =IF(E15="","",VLOOKUP(E15,'1'!$D:$G,4,0))
D16: =D11+1 -> 44199 | G16: =IF(E16="","",VLOOKUP(E16,'1'!$D:$G,4,0))
G17: =IF(E17="","",VLOOKUP(E17,'1'!$D:$G,4,0))
G18: =IF(E18="","",VLOOKUP(E18,'1'!$D:$G,4,0))
G19: =IF(E19="","",VLOOKUP(E19,'1'!$D:$G,4,0))
G20: =IF(E20="","",VLOOKUP(E20,'1'!$D:$G,4,0))
D21: =D16+1 -> 44200 | G21: =IF(E21="","",VLOOKUP(E21,'1'!$D:$G,4,0))
G22: =IF(E22="","",VLOOKUP(E22,'1'!$D:$G,4,0))
G23: =IF(E23="","",VLOOKUP(E23,'1'!$D:$G,4,0))
G24: =IF(E24="","",VLOOKUP(E24,'1'!$D:$G,4,0))
G25: =IF(E25="","",VLOOKUP(E25,'1'!$D:$G,4,0))
D26: =D21+1 -> 44201 | G26: =IF(E26="","",VLOOKUP(E26,'1'!$D:$G,4,0))
G27: =IF(E27="","",VLOOKUP(E27,'1'!$D:$G,4,0))
G28: =IF(E28="","",VLOOKUP(E28,'1'!$D:$G,4,0))
G29: =IF(E29="","",VLOOKUP(E29,'1'!$D:$G,4,0))
G30: =IF(E30="","",VLOOKUP(E30,'1'!$D:$G,4,0))
D31: =D26+1 -> 44202 | G31: =IF(E31="","",VLOOKUP(E31,'1'!$D:$G,4,0))
G32: =IF(E32="","",VLOOKUP(E32,'1'!$D:$G,4,0))
G33: =IF(E33="","",VLOOKUP(E33,'1'!$D:$G,4,0))
G34: =IF(E34="","",VLOOKUP(E34,'1'!$D:$G,4,0))
G35: =IF(E35="","",VLOOKUP(E35,'1'!$D:$G,4,0))
D36: =D31+1 -> 44203 | G36: =IF(E36="","",VLOOKUP(E36,'1'!$D:$G,4,0))
G37: =IF(E37="","",VLOOKUP(E37,'1'!$D:$G,4,0))
G38: =IF(E38="","",VLOOKUP(E38,'1'!$D:$G,4,0))
G39: =IF(E39="","",VLOOKUP(E39,'1'!$D:$G,4,0))
G40: =IF(E40="","",VLOOKUP(E40,'1'!$D:$G,4,0))
D41: =D36+1 -> 44204 | G41: =IF(E41="","",VLOOKUP(E41,'1'!$D:$G,4,0))
G42: =IF(E42="","",VLOOKUP(E42,'1'!$D:$G,4,0))
G43: =IF(E43="","",VLOOKUP(E43,'1'!$D:$G,4,0))
G44: =IF(E44="","",VLOOKUP(E44,'1'!$D:$G,4,0))
G45: =IF(E45="","",VLOOKUP(E45,'1'!$D:$G,4,0))
D46: =D41+1 -> 44205 | G46: =IF(E46="","",VLOOKUP(E46,'1'!$D:$G,4,0))
G47: =IF(E47="","",VLOOKUP(E47,'1'!$D:$G,4,0))
G48: =IF(E48="","",VLOOKUP(E48,'1'!$D:$G,4,0))
G49: =IF(E49="","",VLOOKUP(E49,'1'!$D:$G,4,0))
G50: =IF(E50="","",VLOOKUP(E50,'1'!$D:$G,4,0))
D51: =D46+1 -> 44206 | G51: =IF(E51="","",VLOOKUP(E51,'1'!$D:$G,4,0))
G52: =IF(E52="","",VLOOKUP(E52,'1'!$D:$G,4,0))
G53: =IF(E53="","",VLOOKUP(E53,'1'!$D:$G,4,0))
G54: =IF(E54="","",VLOOKUP(E54,'1'!$D:$G,4,0))
G55: =IF(E55="","",VLOOKUP(E55,'1'!$D:$G,4,0))
D56: =D51+1 -> 44207 | G56: =IF(E56="","",VLOOKUP(E56,'1'!$D:$G,4,0))
G57: =IF(E57="","",VLOOKUP(E57,'1'!$D:$G,4,0))
G58: =IF(E58="","",VLOOKUP(E58,'1'!$D:$G,4,0))
G59: =IF(E59="","",VLOOKUP(E59,'1'!$D:$G,4,0))
G60: =IF(E60="","",VLOOKUP(E60,'1'!$D:$G,4,0))
D61: =D56+1 -> 44208 | G61: =IF(E61="","",VLOOKUP(E61,'1'!$D:$G,4,0))
G62: =IF(E62="","",VLOOKUP(E62,'1'!$D:$G,4,0))
G63: =IF(E63="","",VLOOKUP(E63,'1'!$D:$G,4,0))
G64: =IF(E64="","",VLOOKUP(E64,'1'!$D:$G,4,0))
G65: =IF(E65="","",VLOOKUP(E65,'1'!$D:$G,4,0))
D66: =D61+1 -> 44209 | G66: =IF(E66="","",VLOOKUP(E66,'1'!$D:$G,4,0))
G67: =IF(E67="","",VLOOKUP(E67,'1'!$D:$G,4,0))
G68: =IF(E68="","",VLOOKUP(E68,'1'!$D:$G,4,0))
G69: =IF(E69="","",VLOOKUP(E69,'1'!$D:$G,4,0))
G70: =IF(E70="","",VLOOKUP(E70,'1'!$D:$G,4,0))
D71: =D66+1 -> 44210 | G71: =IF(E71="","",VLOOKUP(E71,'1'!$D:$G,4,0))
G72: =IF(E72="","",VLOOKUP(E72,'1'!$D:$G,4,0))
G73: =IF(E73="","",VLOOKUP(E73,'1'!$D:$G,4,0))
G74: =IF(E74="","",VLOOKUP(E74,'1'!$D:$G,4,0))
G75: =IF(E75="","",VLOOKUP(E75,'1'!$D:$G,4,0))
D76: =D71+1 -> 44211 | G76: =IF(E76="","",VLOOKUP(E76,'1'!$D:$G,4,0))
G77: =IF(E77="","",VLOOKUP(E77,'1'!$D:$G,4,0))
G78: =IF(E78="","",VLOOKUP(E78,'1'!$D:$G,4,0))
G79: =IF(E79="","",VLOOKUP(E79,'1'!$D:$G,4,0))
G80: =IF(E80="","",VLOOKUP(E80,'1'!$D:$G,4,0))
D81: =D76+1 -> 44212 | G81: =IF(E81="","",VLOOKUP(E81,'1'!$D:$G,4,0))
G82: =IF(E82="","",VLOOKUP(E82,'1'!$D:$G,4,0))
G83: =IF(E83="","",VLOOKUP(E83,'1'!$D:$G,4,0))
G84: =IF(E84="","",VLOOKUP(E84,'1'!$D:$G,4,0))
G85: =IF(E85="","",VLOOKUP(E85,'1'!$D:$G,4,0))
D86: =D81+1 -> 44213 | G86: =IF(E86="","",VLOOKUP(E86,'1'!$D:$G,4,0))
G87: =IF(E87="","",VLOOKUP(E87,'1'!$D:$G,4,0))
G88: =IF(E88="","",VLOOKUP(E88,'1'!$D:$G,4,0))
G89: =IF(E89="","",VLOOKUP(E89,'1'!$D:$G,4,0))
G90: =IF(E90="","",VLOOKUP(E90,'1'!$D:$G,4,0))
D91: =D86+1 -> 44214 | G91: =IF(E91="","",VLOOKUP(E91,'1'!$D:$G,4,0))
G92: =IF(E92="","",VLOOKUP(E92,'1'!$D:$G,4,0))
G93: =IF(E93="","",VLOOKUP(E93,'1'!$D:$G,4,0))
G94: =IF(E94="","",VLOOKUP(E94,'1'!$D:$G,4,0))
G95: =IF(E95="","",VLOOKUP(E95,'1'!$D:$G,4,0))
D96: =D91+1 -> 44215 | G96: =IF(E96="","",VLOOKUP(E96,'1'!$D:$G,4,0))
G97: =IF(E97="","",VLOOKUP(E97,'1'!$D:$G,4,0))
G98: =IF(E98="","",VLOOKUP(E98,'1'!$D:$G,4,0))
G99: =IF(E99="","",VLOOKUP(E99,'1'!$D:$G,4,0))
G100: =IF(E100="","",VLOOKUP(E100,'1'!$D:$G,4,0))
D101: =D96+1 -> 44216 | G101: =IF(E101="","",VLOOKUP(E101,'1'!$D:$G,4,0))
G102: =IF(E102="","",VLOOKUP(E102,'1'!$D:$G,4,0))
G103: =IF(E103="","",VLOOKUP(E103,'1'!$D:$G,4,0))
...

Sheet 7
A1: Sua Logo Aqui
D5: Data | E5: Cliente | G5: Celular | H5: Compromisso | J5: Horario | K5: Status | L5: Observação
D6: 44197 | G6: =IF(E6="","",VLOOKUP(E6,'1'!$D:$G,4,0))
G7: =IF(E7="","",VLOOKUP(E7,'1'!$D:$G,4,0))
G8: =IF(E8="","",VLOOKUP(E8,'1'!$D:$G,4,0))
G9: =IF(E9="","",VLOOKUP(E9,'1'!$D:$G,4,0))
G10: =IF(E10="","",VLOOKUP(E10,'1'!$D:$G,4,0))
D11: =D6+1 -> 44198 | G11: =IF(E11="","",VLOOKUP(E11,'1'!$D:$G,4,0))
G12: =IF(E12="","",VLOOKUP(E12,'1'!$D:$G,4,0))
G13: =IF(E13="","",VLOOKUP(E13,'1'!$D:$G,4,0))
G14: =IF(E14="","",VLOOKUP(E14,'1'!$D:$G,4,0))
G15: =IF(E15="","",VLOOKUP(E15,'1'!$D:$G,4,0))
D16: =D11+1 -> 44199 | G16: =IF(E16="","",VLOOKUP(E16,'1'!$D:$G,4,0))
G17: =IF(E17="","",VLOOKUP(E17,'1'!$D:$G,4,0))
G18: =IF(E18="","",VLOOKUP(E18,'1'!$D:$G,4,0))
G19: =IF(E19="","",VLOOKUP(E19,'1'!$D:$G,4,0))
G20: =IF(E20="","",VLOOKUP(E20,'1'!$D:$G,4,0))
D21: =D16+1 -> 44200 | G21: =IF(E21="","",VLOOKUP(E21,'1'!$D:$G,4,0))
G22: =IF(E22="","",VLOOKUP(E22,'1'!$D:$G,4,0))
G23: =IF(E23="","",VLOOKUP(E23,'1'!$D:$G,4,0))
G24: =IF(E24="","",VLOOKUP(E24,'1'!$D:$G,4,0))
G25: =IF(E25="","",VLOOKUP(E25,'1'!$D:$G,4,0))
D26: =D21+1 -> 44201 | G26: =IF(E26="","",VLOOKUP(E26,'1'!$D:$G,4,0))
G27: =IF(E27="","",VLOOKUP(E27,'1'!$D:$G,4,0))
G28: =IF(E28="","",VLOOKUP(E28,'1'!$D:$G,4,0))
G29: =IF(E29="","",VLOOKUP(E29,'1'!$D:$G,4,0))
G30: =IF(E30="","",VLOOKUP(E30,'1'!$D:$G,4,0))
D31: =D26+1 -> 44202 | G31: =IF(E31="","",VLOOKUP(E31,'1'!$D:$G,4,0))
G32: =IF(E32="","",VLOOKUP(E32,'1'!$D:$G,4,0))
G33: =IF(E33="","",VLOOKUP(E33,'1'!$D:$G,4,0))
G34: =IF(E34="","",VLOOKUP(E34,'1'!$D:$G,4,0))
G35: =IF(E35="","",VLOOKUP(E35,'1'!$D:$G,4,0))
D36: =D31+1 -> 44203 | G36: =IF(E36="","",VLOOKUP(E36,'1'!$D:$G,4,0))
G37: =IF(E37="","",VLOOKUP(E37,'1'!$D:$G,4,0))
G38: =IF(E38="","",VLOOKUP(E38,'1'!$D:$G,4,0))
G39: =IF(E39="","",VLOOKUP(E39,'1'!$D:$G,4,0))
G40: =IF(E40="","",VLOOKUP(E40,'1'!$D:$G,4,0))
D41: =D36+1 -> 44204 | G41: =IF(E41="","",VLOOKUP(E41,'1'!$D:$G,4,0))
G42: =IF(E42="","",VLOOKUP(E42,'1'!$D:$G,4,0))
G43: =IF(E43="","",VLOOKUP(E43,'1'!$D:$G,4,0))
G44: =IF(E44="","",VLOOKUP(E44,'1'!$D:$G,4,0))
G45: =IF(E45="","",VLOOKUP(E45,'1'!$D:$G,4,0))
D46: =D41+1 -> 44205 | G46: =IF(E46="","",VLOOKUP(E46,'1'!$D:$G,4,0))
G47: =IF(E47="","",VLOOKUP(E47,'1'!$D:$G,4,0))
G48: =IF(E48="","",VLOOKUP(E48,'1'!$D:$G,4,0))
G49: =IF(E49="","",VLOOKUP(E49,'1'!$D:$G,4,0))
G50: =IF(E50="","",VLOOKUP(E50,'1'!$D:$G,4,0))
D51: =D46+1 -> 44206 | G51: =IF(E51="","",VLOOKUP(E51,'1'!$D:$G,4,0))
G52: =IF(E52="","",VLOOKUP(E52,'1'!$D:$G,4,0))
G53: =IF(E53="","",VLOOKUP(E53,'1'!$D:$G,4,0))
G54: =IF(E54="","",VLOOKUP(E54,'1'!$D:$G,4,0))
G55: =IF(E55="","",VLOOKUP(E55,'1'!$D:$G,4,0))
D56: =D51+1 -> 44207 | G56: =IF(E56="","",VLOOKUP(E56,'1'!$D:$G,4,0))
G57: =IF(E57="","",VLOOKUP(E57,'1'!$D:$G,4,0))
G58: =IF(E58="","",VLOOKUP(E58,'1'!$D:$G,4,0))
G59: =IF(E59="","",VLOOKUP(E59,'1'!$D:$G,4,0))
G60: =IF(E60="","",VLOOKUP(E60,'1'!$D:$G,4,0))
D61: =D56+1 -> 44208 | G61: =IF(E61="","",VLOOKUP(E61,'1'!$D:$G,4,0))
G62: =IF(E62="","",VLOOKUP(E62,'1'!$D:$G,4,0))
G63: =IF(E63="","",VLOOKUP(E63,'1'!$D:$G,4,0))
G64: =IF(E64="","",VLOOKUP(E64,'1'!$D:$G,4,0))
G65: =IF(E65="","",VLOOKUP(E65,'1'!$D:$G,4,0))
D66: =D61+1 -> 44209 | G66: =IF(E66="","",VLOOKUP(E66,'1'!$D:$G,4,0))
G67: =IF(E67="","",VLOOKUP(E67,'1'!$D:$G,4,0))
G68: =IF(E68="","",VLOOKUP(E68,'1'!$D:$G,4,0))
G69: =IF(E69="","",VLOOKUP(E69,'1'!$D:$G,4,0))
G70: =IF(E70="","",VLOOKUP(E70,'1'!$D:$G,4,0))
D71: =D66+1 -> 44210 | G71: =IF(E71="","",VLOOKUP(E71,'1'!$D:$G,4,0))
G72: =IF(E72="","",VLOOKUP(E72,'1'!$D:$G,4,0))
G73: =IF(E73="","",VLOOKUP(E73,'1'!$D:$G,4,0))
G74: =IF(E74="","",VLOOKUP(E74,'1'!$D:$G,4,0))
G75: =IF(E75="","",VLOOKUP(E75,'1'!$D:$G,4,0))
D76: =D71+1 -> 44211 | G76: =IF(E76="","",VLOOKUP(E76,'1'!$D:$G,4,0))
G77: =IF(E77="","",VLOOKUP(E77,'1'!$D:$G,4,0))
G78: =IF(E78="","",VLOOKUP(E78,'1'!$D:$G,4,0))
G79: =IF(E79="","",VLOOKUP(E79,'1'!$D:$G,4,0))
G80: =IF(E80="","",VLOOKUP(E80,'1'!$D:$G,4,0))
D81: =D76+1 -> 44212 | G81: =IF(E81="","",VLOOKUP(E81,'1'!$D:$G,4,0))
G82: =IF(E82="","",VLOOKUP(E82,'1'!$D:$G,4,0))
G83: =IF(E83="","",VLOOKUP(E83,'1'!$D:$G,4,0))
G84: =IF(E84="","",VLOOKUP(E84,'1'!$D:$G,4,0))
G85: =IF(E85="","",VLOOKUP(E85,'1'!$D:$G,4,0))
D86: =D81+1 -> 44213 | G86: =IF(E86="","",VLOOKUP(E86,'1'!$D:$G,4,0))
G87: =IF(E87="","",VLOOKUP(E87,'1'!$D:$G,4,0))
G88: =IF(E88="","",VLOOKUP(E88,'1'!$D:$G,4,0))
G89: =IF(E89="","",VLOOKUP(E89,'1'!$D:$G,4,0))
G90: =IF(E90="","",VLOOKUP(E90,'1'!$D:$G,4,0))
D91: =D86+1 -> 44214 | G91: =IF(E91="","",VLOOKUP(E91,'1'!$D:$G,4,0))
G92: =IF(E92="","",VLOOKUP(E92,'1'!$D:$G,4,0))
G93: =IF(E93="","",VLOOKUP(E93,'1'!$D:$G,4,0))
G94: =IF(E94="","",VLOOKUP(E94,'1'!$D:$G,4,0))
G95: =IF(E95="","",VLOOKUP(E95,'1'!$D:$G,4,0))
D96: =D91+1 -> 44215 | G96: =IF(E96="","",VLOOKUP(E96,'1'!$D:$G,4,0))
G97: =IF(E97="","",VLOOKUP(E97,'1'!$D:$G,4,0))
G98: =IF(E98="","",VLOOKUP(E98,'1'!$D:$G,4,0))
G99: =IF(E99="","",VLOOKUP(E99,'1'!$D:$G,4,0))
G100: =IF(E100="","",VLOOKUP(E100,'1'!$D:$G,4,0))
D101: =D96+1 -> 44216 | G101: =IF(E101="","",VLOOKUP(E101,'1'!$D:$G,4,0))
G102: =IF(E102="","",VLOOKUP(E102,'1'!$D:$G,4,0))
G103: =IF(E103="","",VLOOKUP(E103,'1'!$D:$G,4,0))
...

Sheet 8
A1: Sua Logo Aqui
D5: Data | E5: Cliente | G5: Celular | H5: Compromisso | J5: Horario | K5: Status | L5: Observação
D6: 44197 | G6: =IF(E6="","",VLOOKUP(E6,'1'!$D:$G,4,0))
G7: =IF(E7="","",VLOOKUP(E7,'1'!$D:$G,4,0))
G8: =IF(E8="","",VLOOKUP(E8,'1'!$D:$G,4,0))
G9: =IF(E9="","",VLOOKUP(E9,'1'!$D:$G,4,0))
G10: =IF(E10="","",VLOOKUP(E10,'1'!$D:$G,4,0))
D11: =D6+1 -> 44198 | G11: =IF(E11="","",VLOOKUP(E11,'1'!$D:$G,4,0))
G12: =IF(E12="","",VLOOKUP(E12,'1'!$D:$G,4,0))
G13: =IF(E13="","",VLOOKUP(E13,'1'!$D:$G,4,0))
G14: =IF(E14="","",VLOOKUP(E14,'1'!$D:$G,4,0))
G15: =IF(E15="","",VLOOKUP(E15,'1'!$D:$G,4,0))
D16: =D11+1 -> 44199 | G16: =IF(E16="","",VLOOKUP(E16,'1'!$D:$G,4,0))
G17: =IF(E17="","",VLOOKUP(E17,'1'!$D:$G,4,0))
G18: =IF(E18="","",VLOOKUP(E18,'1'!$D:$G,4,0))
G19: =IF(E19="","",VLOOKUP(E19,'1'!$D:$G,4,0))
G20: =IF(E20="","",VLOOKUP(E20,'1'!$D:$G,4,0))
D21: =D16+1 -> 44200 | G21: =IF(E21="","",VLOOKUP(E21,'1'!$D:$G,4,0))
G22: =IF(E22="","",VLOOKUP(E22,'1'!$D:$G,4,0))
G23: =IF(E23="","",VLOOKUP(E23,'1'!$D:$G,4,0))
G24: =IF(E24="","",VLOOKUP(E24,'1'!$D:$G,4,0))
G25: =IF(E25="","",VLOOKUP(E25,'1'!$D:$G,4,0))
D26: =D21+1 -> 44201 | G26: =IF(E26="","",VLOOKUP(E26,'1'!$D:$G,4,0))
G27: =IF(E27="","",VLOOKUP(E27,'1'!$D:$G,4,0))
G28: =IF(E28="","",VLOOKUP(E28,'1'!$D:$G,4,0))
G29: =IF(E29="","",VLOOKUP(E29,'1'!$D:$G,4,0))
G30: =IF(E30="","",VLOOKUP(E30,'1'!$D:$G,4,0))
D31: =D26+1 -> 44202 | G31: =IF(E31="","",VLOOKUP(E31,'1'!$D:$G,4,0))
G32: =IF(E32="","",VLOOKUP(E32,'1'!$D:$G,4,0))
G33: =IF(E33="","",VLOOKUP(E33,'1'!$D:$G,4,0))
G34: =IF(E34="","",VLOOKUP(E34,'1'!$D:$G,4,0))
G35: =IF(E35="","",VLOOKUP(E35,'1'!$D:$G,4,0))
D36: =D31+1 -> 44203 | G36: =IF(E36="","",VLOOKUP(E36,'1'!$D:$G,4,0))
G37: =IF(E37="","",VLOOKUP(E37,'1'!$D:$G,4,0))
G38: =IF(E38="","",VLOOKUP(E38,'1'!$D:$G,4,0))
G39: =IF(E39="","",VLOOKUP(E39,'1'!$D:$G,4,0))
G40: =IF(E40="","",VLOOKUP(E40,'1'!$D:$G,4,0))
D41: =D36+1 -> 44204 | G41: =IF(E41="","",VLOOKUP(E41,'1'!$D:$G,4,0))
G42: =IF(E42="","",VLOOKUP(E42,'1'!$D:$G,4,0))
G43: =IF(E43="","",VLOOKUP(E43,'1'!$D:$G,4,0))
G44: =IF(E44="","",VLOOKUP(E44,'1'!$D:$G,4,0))
G45: =IF(E45="","",VLOOKUP(E45,'1'!$D:$G,4,0))
D46: =D41+1 -> 44205 | G46: =IF(E46="","",VLOOKUP(E46,'1'!$D:$G,4,0))
G47: =IF(E47="","",VLOOKUP(E47,'1'!$D:$G,4,0))
G48: =IF(E48="","",VLOOKUP(E48,'1'!$D:$G,4,0))
G49: =IF(E49="","",VLOOKUP(E49,'1'!$D:$G,4,0))
G50: =IF(E50="","",VLOOKUP(E50,'1'!$D:$G,4,0))
D51: =D46+1 -> 44206 | G51: =IF(E51="","",VLOOKUP(E51,'1'!$D:$G,4,0))
G52: =IF(E52="","",VLOOKUP(E52,'1'!$D:$G,4,0))
G53: =IF(E53="","",VLOOKUP(E53,'1'!$D:$G,4,0))
G54: =IF(E54="","",VLOOKUP(E54,'1'!$D:$G,4,0))
G55: =IF(E55="","",VLOOKUP(E55,'1'!$D:$G,4,0))
D56: =D51+1 -> 44207 | G56: =IF(E56="","",VLOOKUP(E56,'1'!$D:$G,4,0))
G57: =IF(E57="","",VLOOKUP(E57,'1'!$D:$G,4,0))
G58: =IF(E58="","",VLOOKUP(E58,'1'!$D:$G,4,0))
G59: =IF(E59="","",VLOOKUP(E59,'1'!$D:$G,4,0))
G60: =IF(E60="","",VLOOKUP(E60,'1'!$D:$G,4,0))
D61: =D56+1 -> 44208 | G61: =IF(E61="","",VLOOKUP(E61,'1'!$D:$G,4,0))
G62: =IF(E62="","",VLOOKUP(E62,'1'!$D:$G,4,0))
G63: =IF(E63="","",VLOOKUP(E63,'1'!$D:$G,4,0))
G64: =IF(E64="","",VLOOKUP(E64,'1'!$D:$G,4,0))
G65: =IF(E65="","",VLOOKUP(E65,'1'!$D:$G,4,0))
D66: =D61+1 -> 44209 | G66: =IF(E66="","",VLOOKUP(E66,'1'!$D:$G,4,0))
G67: =IF(E67="","",VLOOKUP(E67,'1'!$D:$G,4,0))
G68: =IF(E68="","",VLOOKUP(E68,'1'!$D:$G,4,0))
G69: =IF(E69="","",VLOOKUP(E69,'1'!$D:$G,4,0))
G70: =IF(E70="","",VLOOKUP(E70,'1'!$D:$G,4,0))
D71: =D66+1 -> 44210 | G71: =IF(E71="","",VLOOKUP(E71,'1'!$D:$G,4,0))
G72: =IF(E72="","",VLOOKUP(E72,'1'!$D:$G,4,0))
G73: =IF(E73="","",VLOOKUP(E73,'1'!$D:$G,4,0))
G74: =IF(E74="","",VLOOKUP(E74,'1'!$D:$G,4,0))
G75: =IF(E75="","",VLOOKUP(E75,'1'!$D:$G,4,0))
D76: =D71+1 -> 44211 | G76: =IF(E76="","",VLOOKUP(E76,'1'!$D:$G,4,0))
G77: =IF(E77="","",VLOOKUP(E77,'1'!$D:$G,4,0))
G78: =IF(E78="","",VLOOKUP(E78,'1'!$D:$G,4,0))
G79: =IF(E79="","",VLOOKUP(E79,'1'!$D:$G,4,0))
G80: =IF(E80="","",VLOOKUP(E80,'1'!$D:$G,4,0))
D81: =D76+1 -> 44212 | G81: =IF(E81="","",VLOOKUP(E81,'1'!$D:$G,4,0))
G82: =IF(E82="","",VLOOKUP(E82,'1'!$D:$G,4,0))
G83: =IF(E83="","",VLOOKUP(E83,'1'!$D:$G,4,0))
G84: =IF(E84="","",VLOOKUP(E84,'1'!$D:$G,4,0))
G85: =IF(E85="","",VLOOKUP(E85,'1'!$D:$G,4,0))
D86: =D81+1 -> 44213 | G86: =IF(E86="","",VLOOKUP(E86,'1'!$D:$G,4,0))
G87: =IF(E87="","",VLOOKUP(E87,'1'!$D:$G,4,0))
G88: =IF(E88="","",VLOOKUP(E88,'1'!$D:$G,4,0))
G89: =IF(E89="","",VLOOKUP(E89,'1'!$D:$G,4,0))
G90: =IF(E90="","",VLOOKUP(E90,'1'!$D:$G,4,0))
D91: =D86+1 -> 44214 | G91: =IF(E91="","",VLOOKUP(E91,'1'!$D:$G,4,0))
G92: =IF(E92="","",VLOOKUP(E92,'1'!$D:$G,4,0))
G93: =IF(E93="","",VLOOKUP(E93,'1'!$D:$G,4,0))
G94: =IF(E94="","",VLOOKUP(E94,'1'!$D:$G,4,0))
G95: =IF(E95="","",VLOOKUP(E95,'1'!$D:$G,4,0))
D96: =D91+1 -> 44215 | G96: =IF(E96="","",VLOOKUP(E96,'1'!$D:$G,4,0))
G97: =IF(E97="","",VLOOKUP(E97,'1'!$D:$G,4,0))
G98: =IF(E98="","",VLOOKUP(E98,'1'!$D:$G,4,0))
G99: =IF(E99="","",VLOOKUP(E99,'1'!$D:$G,4,0))
G100: =IF(E100="","",VLOOKUP(E100,'1'!$D:$G,4,0))
D101: =D96+1 -> 44216 | G101: =IF(E101="","",VLOOKUP(E101,'1'!$D:$G,4,0))
G102: =IF(E102="","",VLOOKUP(E102,'1'!$D:$G,4,0))
G103: =IF(E103="","",VLOOKUP(E103,'1'!$D:$G,4,0))
...

Sheet 9
A1: Sua Logo Aqui
D5: Data | E5: Cliente | G5: Celular | H5: Compromisso | J5: Horario | K5: Status | L5: Observação
D6: 44197 | G6: =IF(E6="","",VLOOKUP(E6,'1'!$D:$G,4,0))
G7: =IF(E7="","",VLOOKUP(E7,'1'!$D:$G,4,0))
G8: =IF(E8="","",VLOOKUP(E8,'1'!$D:$G,4,0))
G9: =IF(E9="","",VLOOKUP(E9,'1'!$D:$G,4,0))
G10: =IF(E10="","",VLOOKUP(E10,'1'!$D:$G,4,0))
D11: =D6+1 -> 44198 | G11: =IF(E11="","",VLOOKUP(E11,'1'!$D:$G,4,0))
G12: =IF(E12="","",VLOOKUP(E12,'1'!$D:$G,4,0))
G13: =IF(E13="","",VLOOKUP(E13,'1'!$D:$G,4,0))
G14: =IF(E14="","",VLOOKUP(E14,'1'!$D:$G,4,0))
G15: =IF(E15="","",VLOOKUP(E15,'1'!$D:$G,4,0))
D16: =D11+1 -> 44199 | G16: =IF(E16="","",VLOOKUP(E16,'1'!$D:$G,4,0))
G17: =IF(E17="","",VLOOKUP(E17,'1'!$D:$G,4,0))
G18: =IF(E18="","",VLOOKUP(E18,'1'!$D:$G,4,0))
G19: =IF(E19="","",VLOOKUP(E19,'1'!$D:$G,4,0))
G20: =IF(E20="","",VLOOKUP(E20,'1'!$D:$G,4,0))
D21: =D16+1 -> 44200 | G21: =IF(E21="","",VLOOKUP(E21,'1'!$D:$G,4,0))
G22: =IF(E22="","",VLOOKUP(E22,'1'!$D:$G,4,0))
G23: =IF(E23="","",VLOOKUP(E23,'1'!$D:$G,4,0))
G24: =IF(E24="","",VLOOKUP(E24,'1'!$D:$G,4,0))
G25: =IF(E25="","",VLOOKUP(E25,'1'!$D:$G,4,0))
D26: =D21+1 -> 44201 | G26: =IF(E26="","",VLOOKUP(E26,'1'!$D:$G,4,0))
G27: =IF(E27="","",VLOOKUP(E27,'1'!$D:$G,4,0))
G28: =IF(E28="","",VLOOKUP(E28,'1'!$D:$G,4,0))
G29: =IF(E29="","",VLOOKUP(E29,'1'!$D:$G,4,0))
G30: =IF(E30="","",VLOOKUP(E30,'1'!$D:$G,4,0))
D31: =D26+1 -> 44202 | G31: =IF(E31="","",VLOOKUP(E31,'1'!$D:$G,4,0))
G32: =IF(E32="","",VLOOKUP(E32,'1'!$D:$G,4,0))
G33: =IF(E33="","",VLOOKUP(E33,'1'!$D:$G,4,0))
G34: =IF(E34="","",VLOOKUP(E34,'1'!$D:$G,4,0))
G35: =IF(E35="","",VLOOKUP(E35,'1'!$D:$G,4,0))
D36: =D31+1 -> 44203 | G36: =IF(E36="","",VLOOKUP(E36,'1'!$D:$G,4,0))
G37: =IF(E37="","",VLOOKUP(E37,'1'!$D:$G,4,0))
G38: =IF(E38="","",VLOOKUP(E38,'1'!$D:$G,4,0))
G39: =IF(E39="","",VLOOKUP(E39,'1'!$D:$G,4,0))
G40: =IF(E40="","",VLOOKUP(E40,'1'!$D:$G,4,0))
D41: =D36+1 -> 44204 | G41: =IF(E41="","",VLOOKUP(E41,'1'!$D:$G,4,0))
G42: =IF(E42="","",VLOOKUP(E42,'1'!$D:$G,4,0))
G43: =IF(E43="","",VLOOKUP(E43,'1'!$D:$G,4,0))
G44: =IF(E44="","",VLOOKUP(E44,'1'!$D:$G,4,0))
G45: =IF(E45="","",VLOOKUP(E45,'1'!$D:$G,4,0))
D46: =D41+1 -> 44205 | G46: =IF(E46="","",VLOOKUP(E46,'1'!$D:$G,4,0))
G47: =IF(E47="","",VLOOKUP(E47,'1'!$D:$G,4,0))
G48: =IF(E48="","",VLOOKUP(E48,'1'!$D:$G,4,0))
G49: =IF(E49="","",VLOOKUP(E49,'1'!$D:$G,4,0))
G50: =IF(E50="","",VLOOKUP(E50,'1'!$D:$G,4,0))
D51: =D46+1 -> 44206 | G51: =IF(E51="","",VLOOKUP(E51,'1'!$D:$G,4,0))
G52: =IF(E52="","",VLOOKUP(E52,'1'!$D:$G,4,0))
G53: =IF(E53="","",VLOOKUP(E53,'1'!$D:$G,4,0))
G54: =IF(E54="","",VLOOKUP(E54,'1'!$D:$G,4,0))
G55: =IF(E55="","",VLOOKUP(E55,'1'!$D:$G,4,0))
D56: =D51+1 -> 44207 | G56: =IF(E56="","",VLOOKUP(E56,'1'!$D:$G,4,0))
G57: =IF(E57="","",VLOOKUP(E57,'1'!$D:$G,4,0))
G58: =IF(E58="","",VLOOKUP(E58,'1'!$D:$G,4,0))
G59: =IF(E59="","",VLOOKUP(E59,'1'!$D:$G,4,0))
G60: =IF(E60="","",VLOOKUP(E60,'1'!$D:$G,4,0))
D61: =D56+1 -> 44208 | G61: =IF(E61="","",VLOOKUP(E61,'1'!$D:$G,4,0))
G62: =IF(E62="","",VLOOKUP(E62,'1'!$D:$G,4,0))
G63: =IF(E63="","",VLOOKUP(E63,'1'!$D:$G,4,0))
G64: =IF(E64="","",VLOOKUP(E64,'1'!$D:$G,4,0))
G65: =IF(E65="","",VLOOKUP(E65,'1'!$D:$G,4,0))
D66: =D61+1 -> 44209 | G66: =IF(E66="","",VLOOKUP(E66,'1'!$D:$G,4,0))
G67: =IF(E67="","",VLOOKUP(E67,'1'!$D:$G,4,0))
G68: =IF(E68="","",VLOOKUP(E68,'1'!$D:$G,4,0))
G69: =IF(E69="","",VLOOKUP(E69,'1'!$D:$G,4,0))
G70: =IF(E70="","",VLOOKUP(E70,'1'!$D:$G,4,0))
D71: =D66+1 -> 44210 | G71: =IF(E71="","",VLOOKUP(E71,'1'!$D:$G,4,0))
G72: =IF(E72="","",VLOOKUP(E72,'1'!$D:$G,4,0))
G73: =IF(E73="","",VLOOKUP(E73,'1'!$D:$G,4,0))
G74: =IF(E74="","",VLOOKUP(E74,'1'!$D:$G,4,0))
G75: =IF(E75="","",VLOOKUP(E75,'1'!$D:$G,4,0))
D76: =D71+1 -> 44211 | G76: =IF(E76="","",VLOOKUP(E76,'1'!$D:$G,4,0))
G77: =IF(E77="","",VLOOKUP(E77,'1'!$D:$G,4,0))
G78: =IF(E78="","",VLOOKUP(E78,'1'!$D:$G,4,0))
G79: =IF(E79="","",VLOOKUP(E79,'1'!$D:$G,4,0))
G80: =IF(E80="","",VLOOKUP(E80,'1'!$D:$G,4,0))
D81: =D76+1 -> 44212 | G81: =IF(E81="","",VLOOKUP(E81,'1'!$D:$G,4,0))
G82: =IF(E82="","",VLOOKUP(E82,'1'!$D:$G,4,0))
G83: =IF(E83="","",VLOOKUP(E83,'1'!$D:$G,4,0))
G84: =IF(E84="","",VLOOKUP(E84,'1'!$D:$G,4,0))
G85: =IF(E85="","",VLOOKUP(E85,'1'!$D:$G,4,0))
D86: =D81+1 -> 44213 | G86: =IF(E86="","",VLOOKUP(E86,'1'!$D:$G,4,0))
G87: =IF(E87="","",VLOOKUP(E87,'1'!$D:$G,4,0))
G88: =IF(E88="","",VLOOKUP(E88,'1'!$D:$G,4,0))
G89: =IF(E89="","",VLOOKUP(E89,'1'!$D:$G,4,0))
G90: =IF(E90="","",VLOOKUP(E90,'1'!$D:$G,4,0))
D91: =D86+1 -> 44214 | G91: =IF(E91="","",VLOOKUP(E91,'1'!$D:$G,4,0))
G92: =IF(E92="","",VLOOKUP(E92,'1'!$D:$G,4,0))
G93: =IF(E93="","",VLOOKUP(E93,'1'!$D:$G,4,0))
G94: =IF(E94="","",VLOOKUP(E94,'1'!$D:$G,4,0))
G95: =IF(E95="","",VLOOKUP(E95,'1'!$D:$G,4,0))
D96: =D91+1 -> 44215 | G96: =IF(E96="","",VLOOKUP(E96,'1'!$D:$G,4,0))
G97: =IF(E97="","",VLOOKUP(E97,'1'!$D:$G,4,0))
G98: =IF(E98="","",VLOOKUP(E98,'1'!$D:$G,4,0))
G99: =IF(E99="","",VLOOKUP(E99,'1'!$D:$G,4,0))
G100: =IF(E100="","",VLOOKUP(E100,'1'!$D:$G,4,0))
D101: =D96+1 -> 44216 | G101: =IF(E101="","",VLOOKUP(E101,'1'!$D:$G,4,0))
G102: =IF(E102="","",VLOOKUP(E102,'1'!$D:$G,4,0))
G103: =IF(E103="","",VLOOKUP(E103,'1'!$D:$G,4,0))
...

Sheet 10
A1: Sua Logo Aqui
D5: Data | E5: Cliente | G5: Celular | H5: Compromisso | J5: Horario | K5: Status | L5: Observação
D6: 44197 | G6: =IF(E6="","",VLOOKUP(E6,'1'!$D:$G,4,0))
G7: =IF(E7="","",VLOOKUP(E7,'1'!$D:$G,4,0))
G8: =IF(E8="","",VLOOKUP(E8,'1'!$D:$G,4,0))
G9: =IF(E9="","",VLOOKUP(E9,'1'!$D:$G,4,0))
G10: =IF(E10="","",VLOOKUP(E10,'1'!$D:$G,4,0))
D11: =D6+1 -> 44198 | G11: =IF(E11="","",VLOOKUP(E11,'1'!$D:$G,4,0))
G12: =IF(E12="","",VLOOKUP(E12,'1'!$D:$G,4,0))
G13: =IF(E13="","",VLOOKUP(E13,'1'!$D:$G,4,0))
G14: =IF(E14="","",VLOOKUP(E14,'1'!$D:$G,4,0))
G15: =IF(E15="","",VLOOKUP(E15,'1'!$D:$G,4,0))
D16: =D11+1 -> 44199 | G16: =IF(E16="","",VLOOKUP(E16,'1'!$D:$G,4,0))
G17: =IF(E17="","",VLOOKUP(E17,'1'!$D:$G,4,0))
G18: =IF(E18="","",VLOOKUP(E18,'1'!$D:$G,4,0))
G19: =IF(E19="","",VLOOKUP(E19,'1'!$D:$G,4,0))
G20: =IF(E20="","",VLOOKUP(E20,'1'!$D:$G,4,0))
D21: =D16+1 -> 44200 | G21: =IF(E21="","",VLOOKUP(E21,'1'!$D:$G,4,0))
G22: =IF(E22="","",VLOOKUP(E22,'1'!$D:$G,4,0))
G23: =IF(E23="","",VLOOKUP(E23,'1'!$D:$G,4,0))
G24: =IF(E24="","",VLOOKUP(E24,'1'!$D:$G,4,0))
G25: =IF(E25="","",VLOOKUP(E25,'1'!$D:$G,4,0))
D26: =D21+1 -> 44201 | G26: =IF(E26="","",VLOOKUP(E26,'1'!$D:$G,4,0))
G27: =IF(E27="","",VLOOKUP(E27,'1'!$D:$G,4,0))
G28: =IF(E28="","",VLOOKUP(E28,'1'!$D:$G,4,0))
G29: =IF(E29="","",VLOOKUP(E29,'1'!$D:$G,4,0))
G30: =IF(E30="","",VLOOKUP(E30,'1'!$D:$G,4,0))
D31: =D26+1 -> 44202 | G31: =IF(E31="","",VLOOKUP(E31,'1'!$D:$G,4,0))
G32: =IF(E32="","",VLOOKUP(E32,'1'!$D:$G,4,0))
G33: =IF(E33="","",VLOOKUP(E33,'1'!$D:$G,4,0))
G34: =IF(E34="","",VLOOKUP(E34,'1'!$D:$G,4,0))
G35: =IF(E35="","",VLOOKUP(E35,'1'!$D:$G,4,0))
D36: =D31+1 -> 44203 | G36: =IF(E36="","",VLOOKUP(E36,'1'!$D:$G,4,0))
G37: =IF(E37="","",VLOOKUP(E37,'1'!$D:$G,4,0))
G38: =IF(E38="","",VLOOKUP(E38,'1'!$D:$G,4,0))
G39: =IF(E39="","",VLOOKUP(E39,'1'!$D:$G,4,0))
G40: =IF(E40="","",VLOOKUP(E40,'1'!$D:$G,4,0))
D41: =D36+1 -> 44204 | G41: =IF(E41="","",VLOOKUP(E41,'1'!$D:$G,4,0))
G42: =IF(E42="","",VLOOKUP(E42,'1'!$D:$G,4,0))
G43: =IF(E43="","",VLOOKUP(E43,'1'!$D:$G,4,0))
G44: =IF(E44="","",VLOOKUP(E44,'1'!$D:$G,4,0))
G45: =IF(E45="","",VLOOKUP(E45,'1'!$D:$G,4,0))
D46: =D41+1 -> 44205 | G46: =IF(E46="","",VLOOKUP(E46,'1'!$D:$G,4,0))
G47: =IF(E47="","",VLOOKUP(E47,'1'!$D:$G,4,0))
G48: =IF(E48="","",VLOOKUP(E48,'1'!$D:$G,4,0))
G49: =IF(E49="","",VLOOKUP(E49,'1'!$D:$G,4,0))
G50: =IF(E50="","",VLOOKUP(E50,'1'!$D:$G,4,0))
D51: =D46+1 -> 44206 | G51: =IF(E51="","",VLOOKUP(E51,'1'!$D:$G,4,0))
G52: =IF(E52="","",VLOOKUP(E52,'1'!$D:$G,4,0))
G53: =IF(E53="","",VLOOKUP(E53,'1'!$D:$G,4,0))
G54: =IF(E54="","",VLOOKUP(E54,'1'!$D:$G,4,0))
G55: =IF(E55="","",VLOOKUP(E55,'1'!$D:$G,4,0))
D56: =D51+1 -> 44207 | G56: =IF(E56="","",VLOOKUP(E56,'1'!$D:$G,4,0))
G57: =IF(E57="","",VLOOKUP(E57,'1'!$D:$G,4,0))
G58: =IF(E58="","",VLOOKUP(E58,'1'!$D:$G,4,0))
G59: =IF(E59="","",VLOOKUP(E59,'1'!$D:$G,4,0))
G60: =IF(E60="","",VLOOKUP(E60,'1'!$D:$G,4,0))
D61: =D56+1 -> 44208 | G61: =IF(E61="","",VLOOKUP(E61,'1'!$D:$G,4,0))
G62: =IF(E62="","",VLOOKUP(E62,'1'!$D:$G,4,0))
G63: =IF(E63="","",VLOOKUP(E63,'1'!$D:$G,4,0))
G64: =IF(E64="","",VLOOKUP(E64,'1'!$D:$G,4,0))
G65: =IF(E65="","",VLOOKUP(E65,'1'!$D:$G,4,0))
D66: =D61+1 -> 44209 | G66: =IF(E66="","",VLOOKUP(E66,'1'!$D:$G,4,0))
G67: =IF(E67="","",VLOOKUP(E67,'1'!$D:$G,4,0))
G68: =IF(E68="","",VLOOKUP(E68,'1'!$D:$G,4,0))
G69: =IF(E69="","",VLOOKUP(E69,'1'!$D:$G,4,0))
G70: =IF(E70="","",VLOOKUP(E70,'1'!$D:$G,4,0))
D71: =D66+1 -> 44210 | G71: =IF(E71="","",VLOOKUP(E71,'1'!$D:$G,4,0))
G72: =IF(E72="","",VLOOKUP(E72,'1'!$D:$G,4,0))
G73: =IF(E73="","",VLOOKUP(E73,'1'!$D:$G,4,0))
G74: =IF(E74="","",VLOOKUP(E74,'1'!$D:$G,4,0))
G75: =IF(E75="","",VLOOKUP(E75,'1'!$D:$G,4,0))
D76: =D71+1 -> 44211 | G76: =IF(E76="","",VLOOKUP(E76,'1'!$D:$G,4,0))
G77: =IF(E77="","",VLOOKUP(E77,'1'!$D:$G,4,0))
G78: =IF(E78="","",VLOOKUP(E78,'1'!$D:$G,4,0))
G79: =IF(E79="","",VLOOKUP(E79,'1'!$D:$G,4,0))
G80: =IF(E80="","",VLOOKUP(E80,'1'!$D:$G,4,0))
D81: =D76+1 -> 44212 | G81: =IF(E81="","",VLOOKUP(E81,'1'!$D:$G,4,0))
G82: =IF(E82="","",VLOOKUP(E82,'1'!$D:$G,4,0))
G83: =IF(E83="","",VLOOKUP(E83,'1'!$D:$G,4,0))
G84: =IF(E84="","",VLOOKUP(E84,'1'!$D:$G,4,0))
G85: =IF(E85="","",VLOOKUP(E85,'1'!$D:$G,4,0))
D86: =D81+1 -> 44213 | G86: =IF(E86="","",VLOOKUP(E86,'1'!$D:$G,4,0))
G87: =IF(E87="","",VLOOKUP(E87,'1'!$D:$G,4,0))
G88: =IF(E88="","",VLOOKUP(E88,'1'!$D:$G,4,0))
G89: =IF(E89="","",VLOOKUP(E89,'1'!$D:$G,4,0))
G90: =IF(E90="","",VLOOKUP(E90,'1'!$D:$G,4,0))
D91: =D86+1 -> 44214 | G91: =IF(E91="","",VLOOKUP(E91,'1'!$D:$G,4,0))
G92: =IF(E92="","",VLOOKUP(E92,'1'!$D:$G,4,0))
G93: =IF(E93="","",VLOOKUP(E93,'1'!$D:$G,4,0))
G94: =IF(E94="","",VLOOKUP(E94,'1'!$D:$G,4,0))
G95: =IF(E95="","",VLOOKUP(E95,'1'!$D:$G,4,0))
D96: =D91+1 -> 44215 | G96: =IF(E96="","",VLOOKUP(E96,'1'!$D:$G,4,0))
G97: =IF(E97="","",VLOOKUP(E97,'1'!$D:$G,4,0))
G98: =IF(E98="","",VLOOKUP(E98,'1'!$D:$G,4,0))
G99: =IF(E99="","",VLOOKUP(E99,'1'!$D:$G,4,0))
G100: =IF(E100="","",VLOOKUP(E100,'1'!$D:$G,4,0))
D101: =D96+1 -> 44216 | G101: =IF(E101="","",VLOOKUP(E101,'1'!$D:$G,4,0))
G102: =IF(E102="","",VLOOKUP(E102,'1'!$D:$G,4,0))
G103: =IF(E103="","",VLOOKUP(E103,'1'!$D:$G,4,0))
...

Sheet 11
A1: Sua Logo Aqui
D5: Data | E5: Cliente | G5: Celular | H5: Compromisso | J5: Horario | K5: Status | L5: Observação
D6: 44197 | G6: =IF(E6="","",VLOOKUP(E6,'1'!$D:$G,4,0))
G7: =IF(E7="","",VLOOKUP(E7,'1'!$D:$G,4,0))
G8: =IF(E8="","",VLOOKUP(E8,'1'!$D:$G,4,0))
G9: =IF(E9="","",VLOOKUP(E9,'1'!$D:$G,4,0))
G10: =IF(E10="","",VLOOKUP(E10,'1'!$D:$G,4,0))
D11: =D6+1 -> 44198 | G11: =IF(E11="","",VLOOKUP(E11,'1'!$D:$G,4,0))
G12: =IF(E12="","",VLOOKUP(E12,'1'!$D:$G,4,0))
G13: =IF(E13="","",VLOOKUP(E13,'1'!$D:$G,4,0))
G14: =IF(E14="","",VLOOKUP(E14,'1'!$D:$G,4,0))
G15: =IF(E15="","",VLOOKUP(E15,'1'!$D:$G,4,0))
D16: =D11+1 -> 44199 | G16: =IF(E16="","",VLOOKUP(E16,'1'!$D:$G,4,0))
G17: =IF(E17="","",VLOOKUP(E17,'1'!$D:$G,4,0))
G18: =IF(E18="","",VLOOKUP(E18,'1'!$D:$G,4,0))
G19: =IF(E19="","",VLOOKUP(E19,'1'!$D:$G,4,0))
G20: =IF(E20="","",VLOOKUP(E20,'1'!$D:$G,4,0))
D21: =D16+1 -> 44200 | G21: =IF(E21="","",VLOOKUP(E21,'1'!$D:$G,4,0))
G22: =IF(E22="","",VLOOKUP(E22,'1'!$D:$G,4,0))
G23: =IF(E23="","",VLOOKUP(E23,'1'!$D:$G,4,0))
G24: =IF(E24="","",VLOOKUP(E24,'1'!$D:$G,4,0))
G25: =IF(E25="","",VLOOKUP(E25,'1'!$D:$G,4,0))
D26: =D21+1 -> 44201 | G26: =IF(E26="","",VLOOKUP(E26,'1'!$D:$G,4,0))
G27: =IF(E27="","",VLOOKUP(E27,'1'!$D:$G,4,0))
G28: =IF(E28="","",VLOOKUP(E28,'1'!$D:$G,4,0))
G29: =IF(E29="","",VLOOKUP(E29,'1'!$D:$G,4,0))
G30: =IF(E30="","",VLOOKUP(E30,'1'!$D:$G,4,0))
D31: =D26+1 -> 44202 | G31: =IF(E31="","",VLOOKUP(E31,'1'!$D:$G,4,0))
G32: =IF(E32="","",VLOOKUP(E32,'1'!$D:$G,4,0))
G33: =IF(E33="","",VLOOKUP(E33,'1'!$D:$G,4,0))
G34: =IF(E34="","",VLOOKUP(E34,'1'!$D:$G,4,0))
G35: =IF(E35="","",VLOOKUP(E35,'1'!$D:$G,4,0))
D36: =D31+1 -> 44203 | G36: =IF(E36="","",VLOOKUP(E36,'1'!$D:$G,4,0))
G37: =IF(E37="","",VLOOKUP(E37,'1'!$D:$G,4,0))
G38: =IF(E38="","",VLOOKUP(E38,'1'!$D:$G,4,0))
G39: =IF(E39="","",VLOOKUP(E39,'1'!$D:$G,4,0))
G40: =IF(E40="","",VLOOKUP(E40,'1'!$D:$G,4,0))
D41: =D36+1 -> 44204 | G41: =IF(E41="","",VLOOKUP(E41,'1'!$D:$G,4,0))
G42: =IF(E42="","",VLOOKUP(E42,'1'!$D:$G,4,0))
G43: =IF(E43="","",VLOOKUP(E43,'1'!$D:$G,4,0))
G44: =IF(E44="","",VLOOKUP(E44,'1'!$D:$G,4,0))
G45: =IF(E45="","",VLOOKUP(E45,'1'!$D:$G,4,0))
D46: =D41+1 -> 44205 | G46: =IF(E46="","",VLOOKUP(E46,'1'!$D:$G,4,0))
G47: =IF(E47="","",VLOOKUP(E47,'1'!$D:$G,4,0))
G48: =IF(E48="","",VLOOKUP(E48,'1'!$D:$G,4,0))
G49: =IF(E49="","",VLOOKUP(E49,'1'!$D:$G,4,0))
G50: =IF(E50="","",VLOOKUP(E50,'1'!$D:$G,4,0))
D51: =D46+1 -> 44206 | G51: =IF(E51="","",VLOOKUP(E51,'1'!$D:$G,4,0))
G52: =IF(E52="","",VLOOKUP(E52,'1'!$D:$G,4,0))
G53: =IF(E53="","",VLOOKUP(E53,'1'!$D:$G,4,0))
G54: =IF(E54="","",VLOOKUP(E54,'1'!$D:$G,4,0))
G55: =IF(E55="","",VLOOKUP(E55,'1'!$D:$G,4,0))
D56: =D51+1 -> 44207 | G56: =IF(E56="","",VLOOKUP(E56,'1'!$D:$G,4,0))
G57: =IF(E57="","",VLOOKUP(E57,'1'!$D:$G,4,0))
G58: =IF(E58="","",VLOOKUP(E58,'1'!$D:$G,4,0))
G59: =IF(E59="","",VLOOKUP(E59,'1'!$D:$G,4,0))
G60: =IF(E60="","",VLOOKUP(E60,'1'!$D:$G,4,0))
D61: =D56+1 -> 44208 | G61: =IF(E61="","",VLOOKUP(E61,'1'!$D:$G,4,0))
G62: =IF(E62="","",VLOOKUP(E62,'1'!$D:$G,4,0))
G63: =IF(E63="","",VLOOKUP(E63,'1'!$D:$G,4,0))
G64: =IF(E64="","",VLOOKUP(E64,'1'!$D:$G,4,0))
G65: =IF(E65="","",VLOOKUP(E65,'1'!$D:$G,4,0))
D66: =D61+1 -> 44209 | G66: =IF(E66="","",VLOOKUP(E66,'1'!$D:$G,4,0))
G67: =IF(E67="","",VLOOKUP(E67,'1'!$D:$G,4,0))
G68: =IF(E68="","",VLOOKUP(E68,'1'!$D:$G,4,0))
G69: =IF(E69="","",VLOOKUP(E69,'1'!$D:$G,4,0))
G70: =IF(E70="","",VLOOKUP(E70,'1'!$D:$G,4,0))
D71: =D66+1 -> 44210 | G71: =IF(E71="","",VLOOKUP(E71,'1'!$D:$G,4,0))
G72: =IF(E72="","",VLOOKUP(E72,'1'!$D:$G,4,0))
G73: =IF(E73="","",VLOOKUP(E73,'1'!$D:$G,4,0))
G74: =IF(E74="","",VLOOKUP(E74,'1'!$D:$G,4,0))
G75: =IF(E75="","",VLOOKUP(E75,'1'!$D:$G,4,0))
D76: =D71+1 -> 44211 | G76: =IF(E76="","",VLOOKUP(E76,'1'!$D:$G,4,0))
G77: =IF(E77="","",VLOOKUP(E77,'1'!$D:$G,4,0))
G78: =IF(E78="","",VLOOKUP(E78,'1'!$D:$G,4,0))
G79: =IF(E79="","",VLOOKUP(E79,'1'!$D:$G,4,0))
G80: =IF(E80="","",VLOOKUP(E80,'1'!$D:$G,4,0))
D81: =D76+1 -> 44212 | G81: =IF(E81="","",VLOOKUP(E81,'1'!$D:$G,4,0))
G82: =IF(E82="","",VLOOKUP(E82,'1'!$D:$G,4,0))
G83: =IF(E83="","",VLOOKUP(E83,'1'!$D:$G,4,0))
G84: =IF(E84="","",VLOOKUP(E84,'1'!$D:$G,4,0))
G85: =IF(E85="","",VLOOKUP(E85,'1'!$D:$G,4,0))
D86: =D81+1 -> 44213 | G86: =IF(E86="","",VLOOKUP(E86,'1'!$D:$G,4,0))
G87: =IF(E87="","",VLOOKUP(E87,'1'!$D:$G,4,0))
G88: =IF(E88="","",VLOOKUP(E88,'1'!$D:$G,4,0))
G89: =IF(E89="","",VLOOKUP(E89,'1'!$D:$G,4,0))
G90: =IF(E90="","",VLOOKUP(E90,'1'!$D:$G,4,0))
D91: =D86+1 -> 44214 | G91: =IF(E91="","",VLOOKUP(E91,'1'!$D:$G,4,0))
G92: =IF(E92="","",VLOOKUP(E92,'1'!$D:$G,4,0))
G93: =IF(E93="","",VLOOKUP(E93,'1'!$D:$G,4,0))
G94: =IF(E94="","",VLOOKUP(E94,'1'!$D:$G,4,0))
G95: =IF(E95="","",VLOOKUP(E95,'1'!$D:$G,4,0))
D96: =D91+1 -> 44215 | G96: =IF(E96="","",VLOOKUP(E96,'1'!$D:$G,4,0))
G97: =IF(E97="","",VLOOKUP(E97,'1'!$D:$G,4,0))
G98: =IF(E98="","",VLOOKUP(E98,'1'!$D:$G,4,0))
G99: =IF(E99="","",VLOOKUP(E99,'1'!$D:$G,4,0))
G100: =IF(E100="","",VLOOKUP(E100,'1'!$D:$G,4,0))
D101: =D96+1 -> 44216 | G101: =IF(E101="","",VLOOKUP(E101,'1'!$D:$G,4,0))
G102: =IF(E102="","",VLOOKUP(E102,'1'!$D:$G,4,0))
G103: =IF(E103="","",VLOOKUP(E103,'1'!$D:$G,4,0))
...

Sheet 12
A1: Sua Logo Aqui
D5: Data | E5: Cliente | G5: Celular | H5: Compromisso | J5: Horario | K5: Status | L5: Observação
D6: 44197 | G6: =IF(E6="","",VLOOKUP(E6,'1'!$D:$G,4,0))
G7: =IF(E7="","",VLOOKUP(E7,'1'!$D:$G,4,0))
G8: =IF(E8="","",VLOOKUP(E8,'1'!$D:$G,4,0))
G9: =IF(E9="","",VLOOKUP(E9,'1'!$D:$G,4,0))
G10: =IF(E10="","",VLOOKUP(E10,'1'!$D:$G,4,0))
D11: =D6+1 -> 44198 | G11: =IF(E11="","",VLOOKUP(E11,'1'!$D:$G,4,0))
G12: =IF(E12="","",VLOOKUP(E12,'1'!$D:$G,4,0))
G13: =IF(E13="","",VLOOKUP(E13,'1'!$D:$G,4,0))
G14: =IF(E14="","",VLOOKUP(E14,'1'!$D:$G,4,0))
G15: =IF(E15="","",VLOOKUP(E15,'1'!$D:$G,4,0))
D16: =D11+1 -> 44199 | G16: =IF(E16="","",VLOOKUP(E16,'1'!$D:$G,4,0))
G17: =IF(E17="","",VLOOKUP(E17,'1'!$D:$G,4,0))
G18: =IF(E18="","",VLOOKUP(E18,'1'!$D:$G,4,0))
G19: =IF(E19="","",VLOOKUP(E19,'1'!$D:$G,4,0))
G20: =IF(E20="","",VLOOKUP(E20,'1'!$D:$G,4,0))
D21: =D16+1 -> 44200 | G21: =IF(E21="","",VLOOKUP(E21,'1'!$D:$G,4,0))
G22: =IF(E22="","",VLOOKUP(E22,'1'!$D:$G,4,0))
G23: =IF(E23="","",VLOOKUP(E23,'1'!$D:$G,4,0))
G24: =IF(E24="","",VLOOKUP(E24,'1'!$D:$G,4,0))
G25: =IF(E25="","",VLOOKUP(E25,'1'!$D:$G,4,0))
D26: =D21+1 -> 44201 | G26: =IF(E26="","",VLOOKUP(E26,'1'!$D:$G,4,0))
G27: =IF(E27="","",VLOOKUP(E27,'1'!$D:$G,4,0))
G28: =IF(E28="","",VLOOKUP(E28,'1'!$D:$G,4,0))
G29: =IF(E29="","",VLOOKUP(E29,'1'!$D:$G,4,0))
G30: =IF(E30="","",VLOOKUP(E30,'1'!$D:$G,4,0))
D31: =D26+1 -> 44202 | G31: =IF(E31="","",VLOOKUP(E31,'1'!$D:$G,4,0))
G32: =IF(E32="","",VLOOKUP(E32,'1'!$D:$G,4,0))
G33: =IF(E33="","",VLOOKUP(E33,'1'!$D:$G,4,0))
G34: =IF(E34="","",VLOOKUP(E34,'1'!$D:$G,4,0))
G35: =IF(E35="","",VLOOKUP(E35,'1'!$D:$G,4,0))
D36: =D31+1 -> 44203 | G36: =IF(E36="","",VLOOKUP(E36,'1'!$D:$G,4,0))
G37: =IF(E37="","",VLOOKUP(E37,'1'!$D:$G,4,0))
G38: =IF(E38="","",VLOOKUP(E38,'1'!$D:$G,4,0))
G39: =IF(E39="","",VLOOKUP(E39,'1'!$D:$G,4,0))
G40: =IF(E40="","",VLOOKUP(E40,'1'!$D:$G,4,0))
D41: =D36+1 -> 44204 | G41: =IF(E41="","",VLOOKUP(E41,'1'!$D:$G,4,0))
G42: =IF(E42="","",VLOOKUP(E42,'1'!$D:$G,4,0))
G43: =IF(E43="","",VLOOKUP(E43,'1'!$D:$G,4,0))
G44: =IF(E44="","",VLOOKUP(E44,'1'!$D:$G,4,0))
G45: =IF(E45="","",VLOOKUP(E45,'1'!$D:$G,4,0))
D46: =D41+1 -> 44205 | G46: =IF(E46="","",VLOOKUP(E46,'1'!$D:$G,4,0))
G47: =IF(E47="","",VLOOKUP(E47,'1'!$D:$G,4,0))
G48: =IF(E48="","",VLOOKUP(E48,'1'!$D:$G,4,0))
G49: =IF(E49="","",VLOOKUP(E49,'1'!$D:$G,4,0))
G50: =IF(E50="","",VLOOKUP(E50,'1'!$D:$G,4,0))
D51: =D46+1 -> 44206 | G51: =IF(E51="","",VLOOKUP(E51,'1'!$D:$G,4,0))
G52: =IF(E52="","",VLOOKUP(E52,'1'!$D:$G,4,0))
G53: =IF(E53="","",VLOOKUP(E53,'1'!$D:$G,4,0))
G54: =IF(E54="","",VLOOKUP(E54,'1'!$D:$G,4,0))
G55: =IF(E55="","",VLOOKUP(E55,'1'!$D:$G,4,0))
D56: =D51+1 -> 44207 | G56: =IF(E56="","",VLOOKUP(E56,'1'!$D:$G,4,0))
G57: =IF(E57="","",VLOOKUP(E57,'1'!$D:$G,4,0))
G58: =IF(E58="","",VLOOKUP(E58,'1'!$D:$G,4,0))
G59: =IF(E59="","",VLOOKUP(E59,'1'!$D:$G,4,0))
G60: =IF(E60="","",VLOOKUP(E60,'1'!$D:$G,4,0))
D61: =D56+1 -> 44208 | G61: =IF(E61="","",VLOOKUP(E61,'1'!$D:$G,4,0))
G62: =IF(E62="","",VLOOKUP(E62,'1'!$D:$G,4,0))
G63: =IF(E63="","",VLOOKUP(E63,'1'!$D:$G,4,0))
G64: =IF(E64="","",VLOOKUP(E64,'1'!$D:$G,4,0))
G65: =IF(E65="","",VLOOKUP(E65,'1'!$D:$G,4,0))
D66: =D61+1 -> 44209 | G66: =IF(E66="","",VLOOKUP(E66,'1'!$D:$G,4,0))
G67: =IF(E67="","",VLOOKUP(E67,'1'!$D:$G,4,0))
G68: =IF(E68="","",VLOOKUP(E68,'1'!$D:$G,4,0))
G69: =IF(E69="","",VLOOKUP(E69,'1'!$D:$G,4,0))
G70: =IF(E70="","",VLOOKUP(E70,'1'!$D:$G,4,0))
D71: =D66+1 -> 44210 | G71: =IF(E71="","",VLOOKUP(E71,'1'!$D:$G,4,0))
G72: =IF(E72="","",VLOOKUP(E72,'1'!$D:$G,4,0))
G73: =IF(E73="","",VLOOKUP(E73,'1'!$D:$G,4,0))
G74: =IF(E74="","",VLOOKUP(E74,'1'!$D:$G,4,0))
G75: =IF(E75="","",VLOOKUP(E75,'1'!$D:$G,4,0))
D76: =D71+1 -> 44211 | G76: =IF(E76="","",VLOOKUP(E76,'1'!$D:$G,4,0))
G77: =IF(E77="","",VLOOKUP(E77,'1'!$D:$G,4,0))
G78: =IF(E78="","",VLOOKUP(E78,'1'!$D:$G,4,0))
G79: =IF(E79="","",VLOOKUP(E79,'1'!$D:$G,4,0))
G80: =IF(E80="","",VLOOKUP(E80,'1'!$D:$G,4,0))
D81: =D76+1 -> 44212 | G81: =IF(E81="","",VLOOKUP(E81,'1'!$D:$G,4,0))
G82: =IF(E82="","",VLOOKUP(E82,'1'!$D:$G,4,0))
G83: =IF(E83="","",VLOOKUP(E83,'1'!$D:$G,4,0))
G84: =IF(E84="","",VLOOKUP(E84,'1'!$D:$G,4,0))
G85: =IF(E85="","",VLOOKUP(E85,'1'!$D:$G,4,0))
D86: =D81+1 -> 44213 | G86: =IF(E86="","",VLOOKUP(E86,'1'!$D:$G,4,0))
G87: =IF(E87="","",VLOOKUP(E87,'1'!$D:$G,4,0))
G88: =IF(E88="","",VLOOKUP(E88,'1'!$D:$G,4,0))
G89: =IF(E89="","",VLOOKUP(E89,'1'!$D:$G,4,0))
G90: =IF(E90="","",VLOOKUP(E90,'1'!$D:$G,4,0))
D91: =D86+1 -> 44214 | G91: =IF(E91="","",VLOOKUP(E91,'1'!$D:$G,4,0))
G92: =IF(E92="","",VLOOKUP(E92,'1'!$D:$G,4,0))
G93: =IF(E93="","",VLOOKUP(E93,'1'!$D:$G,4,0))
G94: =IF(E94="","",VLOOKUP(E94,'1'!$D:$G,4,0))
G95: =IF(E95="","",VLOOKUP(E95,'1'!$D:$G,4,0))
D96: =D91+1 -> 44215 | G96: =IF(E96="","",VLOOKUP(E96,'1'!$D:$G,4,0))
G97: =IF(E97="","",VLOOKUP(E97,'1'!$D:$G,4,0))
G98: =IF(E98="","",VLOOKUP(E98,'1'!$D:$G,4,0))
G99: =IF(E99="","",VLOOKUP(E99,'1'!$D:$G,4,0))
G100: =IF(E100="","",VLOOKUP(E100,'1'!$D:$G,4,0))
D101: =D96+1 -> 44216 | G101: =IF(E101="","",VLOOKUP(E101,'1'!$D:$G,4,0))
G102: =IF(E102="","",VLOOKUP(E102,'1'!$D:$G,4,0))
G103: =IF(E103="","",VLOOKUP(E103,'1'!$D:$G,4,0))
...

Sheet 13
A1: Sua Logo Aqui
D5: Data | E5: Cliente | G5: Celular | H5: Compromisso | J5: Horario | K5: Status | L5: Observação
D6: 44197 | G6: =IF(E6="","",VLOOKUP(E6,'1'!$D:$G,4,0))
G7: =IF(E7="","",VLOOKUP(E7,'1'!$D:$G,4,0))
G8: =IF(E8="","",VLOOKUP(E8,'1'!$D:$G,4,0))
G9: =IF(E9="","",VLOOKUP(E9,'1'!$D:$G,4,0))
G10: =IF(E10="","",VLOOKUP(E10,'1'!$D:$G,4,0))
D11: =D6+1 -> 44198 | G11: =IF(E11="","",VLOOKUP(E11,'1'!$D:$G,4,0))
G12: =IF(E12="","",VLOOKUP(E12,'1'!$D:$G,4,0))
G13: =IF(E13="","",VLOOKUP(E13,'1'!$D:$G,4,0))
G14: =IF(E14="","",VLOOKUP(E14,'1'!$D:$G,4,0))
G15: =IF(E15="","",VLOOKUP(E15,'1'!$D:$G,4,0))
D16: =D11+1 -> 44199 | G16: =IF(E16="","",VLOOKUP(E16,'1'!$D:$G,4,0))
G17: =IF(E17="","",VLOOKUP(E17,'1'!$D:$G,4,0))
G18: =IF(E18="","",VLOOKUP(E18,'1'!$D:$G,4,0))
G19: =IF(E19="","",VLOOKUP(E19,'1'!$D:$G,4,0))
G20: =IF(E20="","",VLOOKUP(E20,'1'!$D:$G,4,0))
D21: =D16+1 -> 44200 | G21: =IF(E21="","",VLOOKUP(E21,'1'!$D:$G,4,0))
G22: =IF(E22="","",VLOOKUP(E22,'1'!$D:$G,4,0))
G23: =IF(E23="","",VLOOKUP(E23,'1'!$D:$G,4,0))
G24: =IF(E24="","",VLOOKUP(E24,'1'!$D:$G,4,0))
G25: =IF(E25="","",VLOOKUP(E25,'1'!$D:$G,4,0))
D26: =D21+1 -> 44201 | G26: =IF(E26="","",VLOOKUP(E26,'1'!$D:$G,4,0))
G27: =IF(E27="","",VLOOKUP(E27,'1'!$D:$G,4,0))
G28: =IF(E28="","",VLOOKUP(E28,'1'!$D:$G,4,0))
G29: =IF(E29="","",VLOOKUP(E29,'1'!$D:$G,4,0))
G30: =IF(E30="","",VLOOKUP(E30,'1'!$D:$G,4,0))
D31: =D26+1 -> 44202 | G31: =IF(E31="","",VLOOKUP(E31,'1'!$D:$G,4,0))
G32: =IF(E32="","",VLOOKUP(E32,'1'!$D:$G,4,0))
G33: =IF(E33="","",VLOOKUP(E33,'1'!$D:$G,4,0))
G34: =IF(E34="","",VLOOKUP(E34,'1'!$D:$G,4,0))
G35: =IF(E35="","",VLOOKUP(E35,'1'!$D:$G,4,0))
D36: =D31+1 -> 44203 | G36: =IF(E36="","",VLOOKUP(E36,'1'!$D:$G,4,0))
G37: =IF(E37="","",VLOOKUP(E37,'1'!$D:$G,4,0))
G38: =IF(E38="","",VLOOKUP(E38,'1'!$D:$G,4,0))
G39: =IF(E39="","",VLOOKUP(E39,'1'!$D:$G,4,0))
G40: =IF(E40="","",VLOOKUP(E40,'1'!$D:$G,4,0))
D41: =D36+1 -> 44204 | G41: =IF(E41="","",VLOOKUP(E41,'1'!$D:$G,4,0))
G42: =IF(E42="","",VLOOKUP(E42,'1'!$D:$G,4,0))
G43: =IF(E43="","",VLOOKUP(E43,'1'!$D:$G,4,0))
G44: =IF(E44="","",VLOOKUP(E44,'1'!$D:$G,4,0))
G45: =IF(E45="","",VLOOKUP(E45,'1'!$D:$G,4,0))
D46: =D41+1 -> 44205 | G46: =IF(E46="","",VLOOKUP(E46,'1'!$D:$G,4,0))
G47: =IF(E47="","",VLOOKUP(E47,'1'!$D:$G,4,0))
G48: =IF(E48="","",VLOOKUP(E48,'1'!$D:$G,4,0))
G49: =IF(E49="","",VLOOKUP(E49,'1'!$D:$G,4,0))
G50: =IF(E50="","",VLOOKUP(E50,'1'!$D:$G,4,0))
D51: =D46+1 -> 44206 | G51: =IF(E51="","",VLOOKUP(E51,'1'!$D:$G,4,0))
G52: =IF(E52="","",VLOOKUP(E52,'1'!$D:$G,4,0))
G53: =IF(E53="","",VLOOKUP(E53,'1'!$D:$G,4,0))
G54: =IF(E54="","",VLOOKUP(E54,'1'!$D:$G,4,0))
G55: =IF(E55="","",VLOOKUP(E55,'1'!$D:$G,4,0))
D56: =D51+1 -> 44207 | G56: =IF(E56="","",VLOOKUP(E56,'1'!$D:$G,4,0))
G57: =IF(E57="","",VLOOKUP(E57,'1'!$D:$G,4,0))
G58: =IF(E58="","",VLOOKUP(E58,'1'!$D:$G,4,0))
G59: =IF(E59="","",VLOOKUP(E59,'1'!$D:$G,4,0))
G60: =IF(E60="","",VLOOKUP(E60,'1'!$D:$G,4,0))
D61: =D56+1 -> 44208 | G61: =IF(E61="","",VLOOKUP(E61,'1'!$D:$G,4,0))
G62: =IF(E62="","",VLOOKUP(E62,'1'!$D:$G,4,0))
G63: =IF(E63="","",VLOOKUP(E63,'1'!$D:$G,4,0))
G64: =IF(E64="","",VLOOKUP(E64,'1'!$D:$G,4,0))
G65: =IF(E65="","",VLOOKUP(E65,'1'!$D:$G,4,0))
D66: =D61+1 -> 44209 | G66: =IF(E66="","",VLOOKUP(E66,'1'!$D:$G,4,0))
G67: =IF(E67="","",VLOOKUP(E67,'1'!$D:$G,4,0))
G68: =IF(E68="","",VLOOKUP(E68,'1'!$D:$G,4,0))
G69: =IF(E69="","",VLOOKUP(E69,'1'!$D:$G,4,0))
G70: =IF(E70="","",VLOOKUP(E70,'1'!$D:$G,4,0))
D71: =D66+1 -> 44210 | G71: =IF(E71="","",VLOOKUP(E71,'1'!$D:$G,4,0))
G72: =IF(E72="","",VLOOKUP(E72,'1'!$D:$G,4,0))
G73: =IF(E73="","",VLOOKUP(E73,'1'!$D:$G,4,0))
G74: =IF(E74="","",VLOOKUP(E74,'1'!$D:$G,4,0))
G75: =IF(E75="","",VLOOKUP(E75,'1'!$D:$G,4,0))
D76: =D71+1 -> 44211 | G76: =IF(E76="","",VLOOKUP(E76,'1'!$D:$G,4,0))
G77: =IF(E77="","",VLOOKUP(E77,'1'!$D:$G,4,0))
G78: =IF(E78="","",VLOOKUP(E78,'1'!$D:$G,4,0))
G79: =IF(E79="","",VLOOKUP(E79,'1'!$D:$G,4,0))
G80: =IF(E80="","",VLOOKUP(E80,'1'!$D:$G,4,0))
D81: =D76+1 -> 44212 | G81: =IF(E81="","",VLOOKUP(E81,'1'!$D:$G,4,0))
G82: =IF(E82="","",VLOOKUP(E82,'1'!$D:$G,4,0))
G83: =IF(E83="","",VLOOKUP(E83,'1'!$D:$G,4,0))
G84: =IF(E84="","",VLOOKUP(E84,'1'!$D:$G,4,0))
G85: =IF(E85="","",VLOOKUP(E85,'1'!$D:$G,4,0))
D86: =D81+1 -> 44213 | G86: =IF(E86="","",VLOOKUP(E86,'1'!$D:$G,4,0))
G87: =IF(E87="","",VLOOKUP(E87,'1'!$D:$G,4,0))
G88: =IF(E88="","",VLOOKUP(E88,'1'!$D:$G,4,0))
G89: =IF(E89="","",VLOOKUP(E89,'1'!$D:$G,4,0))
G90: =IF(E90="","",VLOOKUP(E90,'1'!$D:$G,4,0))
D91: =D86+1 -> 44214 | G91: =IF(E91="","",VLOOKUP(E91,'1'!$D:$G,4,0))
G92: =IF(E92="","",VLOOKUP(E92,'1'!$D:$G,4,0))
G93: =IF(E93="","",VLOOKUP(E93,'1'!$D:$G,4,0))
G94: =IF(E94="","",VLOOKUP(E94,'1'!$D:$G,4,0))
G95: =IF(E95="","",VLOOKUP(E95,'1'!$D:$G,4,0))
D96: =D91+1 -> 44215 | G96: =IF(E96="","",VLOOKUP(E96,'1'!$D:$G,4,0))
G97: =IF(E97="","",VLOOKUP(E97,'1'!$D:$G,4,0))
G98: =IF(E98="","",VLOOKUP(E98,'1'!$D:$G,4,0))
G99: =IF(E99="","",VLOOKUP(E99,'1'!$D:$G,4,0))
G100: =IF(E100="","",VLOOKUP(E100,'1'!$D:$G,4,0))
D101: =D96+1 -> 44216 | G101: =IF(E101="","",VLOOKUP(E101,'1'!$D:$G,4,0))
G102: =IF(E102="","",VLOOKUP(E102,'1'!$D:$G,4,0))
G103: =IF(E103="","",VLOOKUP(E103,'1'!$D:$G,4,0))
...
