Workbook

Sheet 0
A1: Sua Logo Aqui
D4: Planilha: Planilha de Cadastro de Cliente
D7: Olá, esperamos que esteja gostando da nossa planilha, sua opinião é muito importante para nós, acesse nosso canal e deixe seu comentário.
D11: Quer aprender excel? Confira nossas video-aulas: | I11: Clique Aqui | K11: Precisa de alguma planilha sob-medida para você? Entre em contato com nossa equipe!
D16: Você precisa de planilhas profissionais? Confira nossos modelos: | I16: Clique Aqui | K16: WhatsApp | M16: Email
K18: +55 077-98117-6733 | M18: contato@excelcoaching.com.br
D23: Caso você queira contribuir algum valor para incentivar com esse projeto, deixe sua contribuição. Clicando nos valores abaixo:

Sheet 1
A1: Sua Logo Aqui
D5: Cliente | G5: Celular | H5: Cep | I5: Endereço | L5: Nº | M5: Bairro | N5: Cidade | O5: Estado
D6: João Santos | G6: 78 98564352 | H6: 524765 | I6: Rua Joao da Silva Santos | L6: 58279 | M6: Zezão | N6: Zezinho | O6: Zenia

Sheet 2
A1: Sua Logo Aqui
D5: Data | E5: Cliente | G5: Celular | H5: Compromisso | J5: Horario | K5: Status | L5: Observação
D6: 44197 | G6: =IF(E6="","",VLOOKUP(E6,'1'!$D:$G,4,0))
G7: =IF(E7="","",VLOOKUP(E7,'1'!$D:$G,4,0))
G8: =IF(E8="","",VLOOKUP(E8,'1'!$D:$G,4,0))
G9: =IF(E9="","",VLOOKUP(E9,'1'!$D:$G,4,0))
G10: =IF(E10="","",VLOOKUP(E10,'1'!$D:$G,4,0))
D11: =D6+1 -> 44198 | G11: =IF(E11="","",VLOOKUP(E11,'1'!$D:$G,4,0))
G12: =IF(E12="","",VLOOKUP(E12,'1'!$D:$G,4,0))
G13: =IF(E13="","",VLOOKUP(E13,'1'!$D:$G,4,0))
G14: =IF(E14="","",VLOOKUP(E14,'1'!$D:$G,4,0))
G15: =IF(E15="","",VLOOKUP(E15,'1'!$D:$G,4,0))
D16: =D11+1 -> 44199 | G16: =IF(E16="","",VLOOKUP(E16,'1'!$D:$G,4,0))
G17: =IF(E17="","",VLOOKUP(E17,'1'!$D:$G,4,0))
G18: =IF(E18="","",VLOOKUP(E18,'1'!$D:$G,4,0))
G19: =IF(E19="","",VLOOKUP(E19,'1'!$D:$G,4,0))
G20: =IF(E20="","",VLOOKUP(E20,'1'!$D:$G,4,0))
D21: =D16+1 -> 44200 | G21: =IF(E21="","",VLOOKUP(E21,'1'!$D:$G,4,0))
G22: =IF(E22="","",VLOOKUP(E22,'1'!$D:$G,4,0))
G23: =IF(E23="","",VLOOKUP(E23,'1'!$D:$G,4,0))
G24: =IF(E24="","",VLOOKUP(E24,'1'!$D:$G,4,0))
G25: =IF(E25="","",VLOOKUP(E25,'1'!$D:$G,4,0))
D26: =D21+1 -> 44201 | G26: =IF(E26="","",VLOOKUP(E26,'1'!$D:$G,4,0))
G27: =IF(E27="","",VLOOKUP(E27,'1'!$D:$G,4,0))
G28: =IF(E28="","",VLOOKUP(E28,'1'!$D:$G,4,0))
G29: =IF(E29="","",VLOOKUP(E29,'1'!$D:$G,4,0))
G30: =IF(E30="","",VLOOKUP(E30,'1'!$D:$G,4,0))
D31: =D26+1 -> 44202 | G31: =IF(E31="","",VLOOKUP(E31,'1'!$D:$G,4,0))
G32: =IF(E32="","",VLOOKUP(E32,'1'!$D:$G,4,0))
G33: =IF(E33="","",VLOOKUP(E33,'1'!$D:$G,4,0))
G34: =IF(E34="","",VLOOKUP(E34,'1'!$D:$G,4,0))
G35: =IF(E35="","",VLOOKUP(E35,'1'!$D:$G,4,0))
D36: =D31+1 -> 44203 | G36: =IF(E36="","",VLOOKUP(E36,'1'!$D:$G,4,0))
G37: =IF(E37="","",VLOOKUP(E37,'1'!$D:$G,4,0))
G38: =IF(E38="","",VLOOKUP(E38,'1'!$D:$G,4,0))
G39: =IF(E39="","",VLOOKUP(E39,'1'!$D:$G,4,0))
G40: =IF(E40="","",VLOOKUP(E40,'1'!$D:$G,4,0))
D41: =D36+1 -> 44204 | G41: =IF(E41="","",VLOOKUP(E41,'1'!$D:$G,4,0))
G42: =IF(E42="","",VLOOKUP(E42,'1'!$D:$G,4,0))
G43: =IF(E43="","",VLOOKUP(E43,'1'!$D:$G,4,0))
...

Sheet 3
A1: Sua Logo Aqui
D5: Data | E5: Cliente | G5: Celular | H5: Compromisso | J5: Horario | K5: Status | L5: Observação
D6: 44228 | G6: =IF(E6="","",VLOOKUP(E6,'1'!$D:$G,4,0))
G7: =IF(E7="","",VLOOKUP(E7,'1'!$D:$G,4,0))
G8: =IF(E8="","",VLOOKUP(E8,'1'!$D:$G,4,0))
G9: =IF(E9="","",VLOOKUP(E9,'1'!$D:$G,4,0))
G10: =IF(E10="","",VLOOKUP(E10,'1'!$D:$G,4,0))
D11: =D6+1 -> 44229 | G11: =IF(E11="","",VLOOKUP(E11,'1'!$D:$G,4,0))
G12: =IF(E12="","",VLOOKUP(E12,'1'!$D:$G,4,0))
G13: =IF(E13="","",VLOOKUP(E13,'1'!$D:$G,4,0))
G14: =IF(E14="","",VLOOKUP(E14,'1'!$D:$G,4,0))
G15: =IF(E15="","",VLOOKUP(E15,'1'!$D:$G,4,0))
D16: =D11+1 -> 44230 | G16: =IF(E16="","",VLOOKUP(E16,'1'!$D:$G,4,0))
G17: =IF(E17="","",VLOOKUP(E17,'1'!$D:$G,4,0))
G18: =IF(E18="","",VLOOKUP(E18,'1'!$D:$G,4,0))
G19: =IF(E19="","",VLOOKUP(E19,'1'!$D:$G,4,0))
G20: =IF(E20="","",VLOOKUP(E20,'1'!$D:$G,4,0))
D21: =D16+1 -> 44231 | G21: =IF(E21="","",VLOOKUP(E21,'1'!$D:$G,4,0))
G22: =IF(E22="","",VLOOKUP(E22,'1'!$D:$G,4,0))
G23: =IF(E23="","",VLOOKUP(E23,'1'!$D:$G,4,0))
G24: =IF(E24="","",VLOOKUP(E24,'1'!$D:$G,4,0))
G25: =IF(E25="","",VLOOKUP(E25,'1'!$D:$G,4,0))
D26: =D21+1 -> 44232 | G26: =IF(E26="","",VLOOKUP(E26,'1'!$D:$G,4,0))
G27: =IF(E27="","",VLOOKUP(E27,'1'!$D:$G,4,0))
G28: =IF(E28="","",VLOOKUP(E28,'1'!$D:$G,4,0))
G29: =IF(E29="","",VLOOKUP(E29,'1'!$D:$G,4,0))
G30: =IF(E30="","",VLOOKUP(E30,'1'!$D:$G,4,0))
D31: =D26+1 -> 44233 | G31: =IF(E31="","",VLOOKUP(E31,'1'!$D:$G,4,0))
G32: =IF(E32="","",VLOOKUP(E32,'1'!$D:$G,4,0))
G33: =IF(E33="","",VLOOKUP(E33,'1'!$D:$G,4,0))
G34: =IF(E34="","",VLOOKUP(E34,'1'!$D:$G,4,0))
G35: =IF(E35="","",VLOOKUP(E35,'1'!$D:$G,4,0))
D36: =D31+1 -> 44234 | G36: =IF(E36="","",VLOOKUP(E36,'1'!$D:$G,4,0))
G37: =IF(E37="","",VLOOKUP(E37,'1'!$D:$G,4,0))
G38: =IF(E38="","",VLOOKUP(E38,'1'!$D:$G,4,0))
G39: =IF(E39="","",VLOOKUP(E39,'1'!$D:$G,4,0))
G40: =IF(E40="","",VLOOKUP(E40,'1'!$D:$G,4,0))
D41: =D36+1 -> 44235 | G41: =IF(E41="","",VLOOKUP(E41,'1'!$D:$G,4,0))
G42: =IF(E42="","",VLOOKUP(E42,'1'!$D:$G,4,0))
G43: =IF(E43="","",VLOOKUP(E43,'1'!$D:$G,4,0))
...

Sheet 4
A1: Sua Logo Aqui
D5: Data | E5: Cliente | G5: Celular | H5: Compromisso | J5: Horario | K5: Status | L5: Observação
D6: 44256 | G6: =IF(E6="","",VLOOKUP(E6,'1'!$D:$G,4,0))
G7: =IF(E7="","",VLOOKUP(E7,'1'!$D:$G,4,0))
G8: =IF(E8="","",VLOOKUP(E8,'1'!$D:$G,4,0))
G9: =IF(E9="","",VLOOKUP(E9,'1'!$D:$G,4,0))
G10: =IF(E10="","",VLOOKUP(E10,'1'!$D:$G,4,0))
D11: =D6+1 -> 44257 | G11: =IF(E11="","",VLOOKUP(E11,'1'!$D:$G,4,0))
G12: =IF(E12="","",VLOOKUP(E12,'1'!$D:$G,4,0))
G13: =IF(E13="","",VLOOKUP(E13,'1'!$D:$G,4,0))
G14: =IF(E14="","",VLOOKUP(E14,'1'!$D:$G,4,0))
G15: =IF(E15="","",VLOOKUP(E15,'1'!$D:$G,4,0))
D16: =D11+1 -> 44258 | G16: =IF(E16="","",VLOOKUP(E16,'1'!$D:$G,4,0))
G17: =IF(E17="","",VLOOKUP(E17,'1'!$D:$G,4,0))
G18: =IF(E18="","",VLOOKUP(E18,'1'!$D:$G,4,0))
G19: =IF(E19="","",VLOOKUP(E19,'1'!$D:$G,4,0))
G20: =IF(E20="","",VLOOKUP(E20,'1'!$D:$G,4,0))
D21: =D16+1 -> 44259 | G21: =IF(E21="","",VLOOKUP(E21,'1'!$D:$G,4,0))
G22: =IF(E22="","",VLOOKUP(E22,'1'!$D:$G,4,0))
G23: =IF(E23="","",VLOOKUP(E23,'1'!$D:$G,4,0))
G24: =IF(E24="","",VLOOKUP(E24,'1'!$D:$G,4,0))
G25: =IF(E25="","",VLOOKUP(E25,'1'!$D:$G,4,0))
D26: =D21+1 -> 44260 | G26: =IF(E26="","",VLOOKUP(E26,'1'!$D:$G,4,0))
G27: =IF(E27="","",VLOOKUP(E27,'1'!$D:$G,4,0))
G28: =IF(E28="","",VLOOKUP(E28,'1'!$D:$G,4,0))
G29: =IF(E29="","",VLOOKUP(E29,'1'!$D:$G,4,0))
G30: =IF(E30="","",VLOOKUP(E30,'1'!$D:$G,4,0))
D31: =D26+1 -> 44261 | G31: =IF(E31="","",VLOOKUP(E31,'1'!$D:$G,4,0))
G32: =IF(E32="","",VLOOKUP(E32,'1'!$D:$G,4,0))
G33: =IF(E33="","",VLOOKUP(E33,'1'!$D:$G,4,0))
G34: =IF(E34="","",VLOOKUP(E34,'1'!$D:$G,4,0))
G35: =IF(E35="","",VLOOKUP(E35,'1'!$D:$G,4,0))
D36: =D31+1 -> 44262 | G36: =IF(E36="","",VLOOKUP(E36,'1'!$D:$G,4,0))
G37: =IF(E37="","",VLOOKUP(E37,'1'!$D:$G,4,0))
G38: =IF(E38="","",VLOOKUP(E38,'1'!$D:$G,4,0))
G39: =IF(E39="","",VLOOKUP(E39,'1'!$D:$G,4,0))
G40: =IF(E40="","",VLOOKUP(E40,'1'!$D:$G,4,0))
D41: =D36+1 -> 44263 | G41: =IF(E41="","",VLOOKUP(E41,'1'!$D:$G,4,0))
G42: =IF(E42="","",VLOOKUP(E42,'1'!$D:$G,4,0))
G43: =IF(E43="","",VLOOKUP(E43,'1'!$D:$G,4,0))
...

Sheet 5
A1: Sua Logo Aqui
D5: Data | E5: Cliente | G5: Celular | H5: Compromisso | J5: Horario | K5: Status | L5: Observação
D6: 44197 | G6: =IF(E6="","",VLOOKUP(E6,'1'!$D:$G,4,0))
G7: =IF(E7="","",VLOOKUP(E7,'1'!$D:$G,4,0))
G8: =IF(E8="","",VLOOKUP(E8,'1'!$D:$G,4,0))
G9: =IF(E9="","",VLOOKUP(E9,'1'!$D:$G,4,0))
G10: =IF(E10="","",VLOOKUP(E10,'1'!$D:$G,4,0))
D11: =D6+1 -> 44198 | G11: =IF(E11="","",VLOOKUP(E11,'1'!$D:$G,4,0))
G12: =IF(E12="","",VLOOKUP(E12,'1'!$D:$G,4,0))
G13: =IF(E13="","",VLOOKUP(E13,'1'!$D:$G,4,0))
G14: =IF(E14="","",VLOOKUP(E14,'1'!$D:$G,4,0))
G15: =IF(E15="","",VLOOKUP(E15,'1'!$D:$G,4,0))
D16: =D11+1 -> 44199 | G16: =IF(E16="","",VLOOKUP(E16,'1'!$D:$G,4,0))
G17: =IF(E17="","",VLOOKUP(E17,'1'!$D:$G,4,0))
G18: =IF(E18="","",VLOOKUP(E18,'1'!$D:$G,4,0))
G19: =IF(E19="","",VLOOKUP(E19,'1'!$D:$G,4,0))
G20: =IF(E20="","",VLOOKUP(E20,'1'!$D:$G,4,0))
D21: =D16+1 -> 44200 | G21: =IF(E21="","",VLOOKUP(E21,'1'!$D:$G,4,0))
G22: =IF(E22="","",VLOOKUP(E22,'1'!$D:$G,4,0))
G23: =IF(E23="","",VLOOKUP(E23,'1'!$D:$G,4,0))
G24: =IF(E24="","",VLOOKUP(E24,'1'!$D:$G,4,0))
G25: =IF(E25="","",VLOOKUP(E25,'1'!$D:$G,4,0))
D26: =D21+1 -> 44201 | G26: =IF(E26="","",VLOOKUP(E26,'1'!$D:$G,4,0))
G27: =IF(E27="","",VLOOKUP(E27,'1'!$D:$G,4,0))
G28: =IF(E28="","",VLOOKUP(E28,'1'!$D:$G,4,0))
G29: =IF(E29="","",VLOOKUP(E29,'1'!$D:$G,4,0))
G30: =IF(E30="","",VLOOKUP(E30,'1'!$D:$G,4,0))
D31: =D26+1 -> 44202 | G31: =IF(E31="","",VLOOKUP(E31,'1'!$D:$G,4,0))
G32: =IF(E32="","",VLOOKUP(E32,'1'!$D:$G,4,0))
G33: =IF(E33="","",VLOOKUP(E33,'1'!$D:$G,4,0))
G34: =IF(E34="","",VLOOKUP(E34,'1'!$D:$G,4,0))
G35: =IF(E35="","",VLOOKUP(E35,'1'!$D:$G,4,0))
D36: =D31+1 -> 44203 | G36: =IF(E36="","",VLOOKUP(E36,'1'!$D:$G,4,0))
G37: =IF(E37="","",VLOOKUP(E37,'1'!$D:$G,4,0))
G38: =IF(E38="","",VLOOKUP(E38,'1'!$D:$G,4,0))
G39: =IF(E39="","",VLOOKUP(E39,'1'!$D:$G,4,0))
G40: =IF(E40="","",VLOOKUP(E40,'1'!$D:$G,4,0))
D41: =D36+1 -> 44204 | G41: =IF(E41="","",VLOOKUP(E41,'1'!$D:$G,4,0))
G42: =IF(E42="","",VLOOKUP(E42,'1'!$D:$G,4,0))
G43: =IF(E43="","",VLOOKUP(E43,'1'!$D:$G,4,0))
...

Sheet 6
A1: Sua Logo Aqui
D5: Data | E5: Cliente | G5: Celular | H5: Compromisso | J5: Horario | K5: Status | L5: Observação
D6: 44197 | G6: =IF(E6="","",VLOOKUP(E6,'1'!$D:$G,4,0))
G7: =IF(E7="","",VLOOKUP(E7,'1'!$D:$G,4,0))
G8: =IF(E8="","",VLOOKUP(E8,'1'!$D:$G,4,0))
G9: =IF(E9="","",VLOOKUP(E9,'1'!$D:$G,4,0))
G10: =IF(E10="","",VLOOKUP(E10,'1'!$D:$G,4,0))
D11: =D6+1 -> 44198 | G11: =IF(E11="","",VLOOKUP(E11,'1'!$D:$G,4,0))
G12: =IF(E12="","",VLOOKUP(E12,'1'!$D:$G,4,0))
G13: =IF(E13="","",VLOOKUP(E13,'1'!$D:$G,4,0))
G14: =IF(E14="","",VLOOKUP(E14,'1'!$D:$G,4,0))
G15: =IF(E15="","",VLOOKUP(E15,'1'!$D:$G,4,0))
D16: =D11+1 -> 44199 | G16: =IF(E16="","",VLOOKUP(E16,'1'!$D:$G,4,0))
G17: =IF(E17="","",VLOOKUP(E17,'1'!$D:$G,4,0))
G18: =IF(E18="","",VLOOKUP(E18,'1'!$D:$G,4,0))
G19: =IF(E19="","",VLOOKUP(E19,'1'!$D:$G,4,0))
G20: =IF(E20="","",VLOOKUP(E20,'1'!$D:$G,4,0))
D21: =D16+1 -> 44200 | G21: =IF(E21="","",VLOOKUP(E21,'1'!$D:$G,4,0))
G22: =IF(E22="","",VLOOKUP(E22,'1'!$D:$G,4,0))
G23: =IF(E23="","",VLOOKUP(E23,'1'!$D:$G,4,0))
G24: =IF(E24="","",VLOOKUP(E24,'1'!$D:$G,4,0))
G25: =IF(E25="","",VLOOKUP(E25,'1'!$D:$G,4,0))
D26: =D21+1 -> 44201 | G26: =IF(E26="","",VLOOKUP(E26,'1'!$D:$G,4,0))
G27: =IF(E27="","",VLOOKUP(E27,'1'!$D:$G,4,0))
G28: =IF(E28="","",VLOOKUP(E28,'1'!$D:$G,4,0))
G29: =IF(E29="","",VLOOKUP(E29,'1'!$D:$G,4,0))
G30: =IF(E30="","",VLOOKUP(E30,'1'!$D:$G,4,0))
D31: =D26+1 -> 44202 | G31: =IF(E31="","",VLOOKUP(E31,'1'!$D:$G,4,0))
G32: =IF(E32="","",VLOOKUP(E32,'1'!$D:$G,4,0))
G33: =IF(E33="","",VLOOKUP(E33,'1'!$D:$G,4,0))
G34: =IF(E34="","",VLOOKUP(E34,'1'!$D:$G,4,0))
G35: =IF(E35="","",VLOOKUP(E35,'1'!$D:$G,4,0))
D36: =D31+1 -> 44203 | G36: =IF(E36="","",VLOOKUP(E36,'1'!$D:$G,4,0))
G37: =IF(E37="","",VLOOKUP(E37,'1'!$D:$G,4,0))
G38: =IF(E38="","",VLOOKUP(E38,'1'!$D:$G,4,0))
G39: =IF(E39="","",VLOOKUP(E39,'1'!$D:$G,4,0))
G40: =IF(E40="","",VLOOKUP(E40,'1'!$D:$G,4,0))
D41: =D36+1 -> 44204 | G41: =IF(E41="","",VLOOKUP(E41,'1'!$D:$G,4,0))
G42: =IF(E42="","",VLOOKUP(E42,'1'!$D:$G,4,0))
G43: =IF(E43="","",VLOOKUP(E43,'1'!$D:$G,4,0))
...

Sheet 7
A1: Sua Logo Aqui
D5: Data | E5: Cliente | G5: Celular | H5: Compromisso | J5: Horario | K5: Status | L5: Observação
D6: 44197 | G6: =IF(E6="","",VLOOKUP(E6,'1'!$D:$G,4,0))
G7: =IF(E7="","",VLOOKUP(E7,'1'!$D:$G,4,0))
G8: =IF(E8="","",VLOOKUP(E8,'1'!$D:$G,4,0))
G9: =IF(E9="","",VLOOKUP(E9,'1'!$D:$G,4,0))
G10: =IF(E10="","",VLOOKUP(E10,'1'!$D:$G,4,0))
D11: =D6+1 -> 44198 | G11: =IF(E11="","",VLOOKUP(E11,'1'!$D:$G,4,0))
G12: =IF(E12="","",VLOOKUP(E12,'1'!$D:$G,4,0))
G13: =IF(E13="","",VLOOKUP(E13,'1'!$D:$G,4,0))
G14: =IF(E14="","",VLOOKUP(E14,'1'!$D:$G,4,0))
G15: =IF(E15="","",VLOOKUP(E15,'1'!$D:$G,4,0))
D16: =D11+1 -> 44199 | G16: =IF(E16="","",VLOOKUP(E16,'1'!$D:$G,4,0))
G17: =IF(E17="","",VLOOKUP(E17,'1'!$D:$G,4,0))
G18: =IF(E18="","",VLOOKUP(E18,'1'!$D:$G,4,0))
G19: =IF(E19="","",VLOOKUP(E19,'1'!$D:$G,4,0))
G20: =IF(E20="","",VLOOKUP(E20,'1'!$D:$G,4,0))
D21: =D16+1 -> 44200 | G21: =IF(E21="","",VLOOKUP(E21,'1'!$D:$G,4,0))
G22: =IF(E22="","",VLOOKUP(E22,'1'!$D:$G,4,0))
G23: =IF(E23="","",VLOOKUP(E23,'1'!$D:$G,4,0))
G24: =IF(E24="","",VLOOKUP(E24,'1'!$D:$G,4,0))
G25: =IF(E25="","",VLOOKUP(E25,'1'!$D:$G,4,0))
D26: =D21+1 -> 44201 | G26: =IF(E26="","",VLOOKUP(E26,'1'!$D:$G,4,0))
G27: =IF(E27="","",VLOOKUP(E27,'1'!$D:$G,4,0))
G28: =IF(E28="","",VLOOKUP(E28,'1'!$D:$G,4,0))
G29: =IF(E29="","",VLOOKUP(E29,'1'!$D:$G,4,0))
G30: =IF(E30="","",VLOOKUP(E30,'1'!$D:$G,4,0))
D31: =D26+1 -> 44202 | G31: =IF(E31="","",VLOOKUP(E31,'1'!$D:$G,4,0))
G32: =IF(E32="","",VLOOKUP(E32,'1'!$D:$G,4,0))
G33: =IF(E33="","",VLOOKUP(E33,'1'!$D:$G,4,0))
G34: =IF(E34="","",VLOOKUP(E34,'1'!$D:$G,4,0))
G35: =IF(E35="","",VLOOKUP(E35,'1'!$D:$G,4,0))
D36: =D31+1 -> 44203 | G36: =IF(E36="","",VLOOKUP(E36,'1'!$D:$G,4,0))
G37: =IF(E37="","",VLOOKUP(E37,'1'!$D:$G,4,0))
G38: =IF(E38="","",VLOOKUP(E38,'1'!$D:$G,4,0))
G39: =IF(E39="","",VLOOKUP(E39,'1'!$D:$G,4,0))
G40: =IF(E40="","",VLOOKUP(E40,'1'!$D:$G,4,0))
D41: =D36+1 -> 44204 | G41: =IF(E41="","",VLOOKUP(E41,'1'!$D:$G,4,0))
G42: =IF(E42="","",VLOOKUP(E42,'1'!$D:$G,4,0))
G43: =IF(E43="","",VLOOKUP(E43,'1'!$D:$G,4,0))
...

Sheet 8
A1: Sua Logo Aqui
D5: Data | E5: Cliente | G5: Celular | H5: Compromisso | J5: Horario | K5: Status | L5: Observação
D6: 44197 | G6: =IF(E6="","",VLOOKUP(E6,'1'!$D:$G,4,0))
G7: =IF(E7="","",VLOOKUP(E7,'1'!$D:$G,4,0))
G8: =IF(E8="","",VLOOKUP(E8,'1'!$D:$G,4,0))
G9: =IF(E9="","",VLOOKUP(E9,'1'!$D:$G,4,0))
G10: =IF(E10="","",VLOOKUP(E10,'1'!$D:$G,4,0))
D11: =D6+1 -> 44198 | G11: =IF(E11="","",VLOOKUP(E11,'1'!$D:$G,4,0))
G12: =IF(E12="","",VLOOKUP(E12,'1'!$D:$G,4,0))
G13: =IF(E13="","",VLOOKUP(E13,'1'!$D:$G,4,0))
G14: =IF(E14="","",VLOOKUP(E14,'1'!$D:$G,4,0))
G15: =IF(E15="","",VLOOKUP(E15,'1'!$D:$G,4,0))
D16: =D11+1 -> 44199 | G16: =IF(E16="","",VLOOKUP(E16,'1'!$D:$G,4,0))
G17: =IF(E17="","",VLOOKUP(E17,'1'!$D:$G,4,0))
G18: =IF(E18="","",VLOOKUP(E18,'1'!$D:$G,4,0))
G19: =IF(E19="","",VLOOKUP(E19,'1'!$D:$G,4,0))
G20: =IF(E20="","",VLOOKUP(E20,'1'!$D:$G,4,0))
D21: =D16+1 -> 44200 | G21: =IF(E21="","",VLOOKUP(E21,'1'!$D:$G,4,0))
G22: =IF(E22="","",VLOOKUP(E22,'1'!$D:$G,4,0))
G23: =IF(E23="","",VLOOKUP(E23,'1'!$D:$G,4,0))
G24: =IF(E24="","",VLOOKUP(E24,'1'!$D:$G,4,0))
G25: =IF(E25="","",VLOOKUP(E25,'1'!$D:$G,4,0))
D26: =D21+1 -> 44201 | G26: =IF(E26="","",VLOOKUP(E26,'1'!$D:$G,4,0))
G27: =IF(E27="","",VLOOKUP(E27,'1'!$D:$G,4,0))
G28: =IF(E28="","",VLOOKUP(E28,'1'!$D:$G,4,0))
G29: =IF(E29="","",VLOOKUP(E29,'1'!$D:$G,4,0))
G30: =IF(E30="","",VLOOKUP(E30,'1'!$D:$G,4,0))
D31: =D26+1 -> 44202 | G31: =IF(E31="","",VLOOKUP(E31,'1'!$D:$G,4,0))
G32: =IF(E32="","",VLOOKUP(E32,'1'!$D:$G,4,0))
G33: =IF(E33="","",VLOOKUP(E33,'1'!$D:$G,4,0))
G34: =IF(E34="","",VLOOKUP(E34,'1'!$D:$G,4,0))
G35: =IF(E35="","",VLOOKUP(E35,'1'!$D:$G,4,0))
D36: =D31+1 -> 44203 | G36: =IF(E36="","",VLOOKUP(E36,'1'!$D:$G,4,0))
G37: =IF(E37="","",VLOOKUP(E37,'1'!$D:$G,4,0))
G38: =IF(E38="","",VLOOKUP(E38,'1'!$D:$G,4,0))
G39: =IF(E39="","",VLOOKUP(E39,'1'!$D:$G,4,0))
G40: =IF(E40="","",VLOOKUP(E40,'1'!$D:$G,4,0))
D41: =D36+1 -> 44204 | G41: =IF(E41="","",VLOOKUP(E41,'1'!$D:$G,4,0))
G42: =IF(E42="","",VLOOKUP(E42,'1'!$D:$G,4,0))
G43: =IF(E43="","",VLOOKUP(E43,'1'!$D:$G,4,0))
...

Sheet 9
A1: Sua Logo Aqui
D5: Data | E5: Cliente | G5: Celular | H5: Compromisso | J5: Horario | K5: Status | L5: Observação
D6: 44197 | G6: =IF(E6="","",VLOOKUP(E6,'1'!$D:$G,4,0))
G7: =IF(E7="","",VLOOKUP(E7,'1'!$D:$G,4,0))
G8: =IF(E8="","",VLOOKUP(E8,'1'!$D:$G,4,0))
G9: =IF(E9="","",VLOOKUP(E9,'1'!$D:$G,4,0))
G10: =IF(E10="","",VLOOKUP(E10,'1'!$D:$G,4,0))
D11: =D6+1 -> 44198 | G11: =IF(E11="","",VLOOKUP(E11,'1'!$D:$G,4,0))
G12: =IF(E12="","",VLOOKUP(E12,'1'!$D:$G,4,0))
G13: =IF(E13="","",VLOOKUP(E13,'1'!$D:$G,4,0))
G14: =IF(E14="","",VLOOKUP(E14,'1'!$D:$G,4,0))
G15: =IF(E15="","",VLOOKUP(E15,'1'!$D:$G,4,0))
D16: =D11+1 -> 44199 | G16: =IF(E16="","",VLOOKUP(E16,'1'!$D:$G,4,0))
G17: =IF(E17="","",VLOOKUP(E17,'1'!$D:$G,4,0))
G18: =IF(E18="","",VLOOKUP(E18,'1'!$D:$G,4,0))
G19: =IF(E19="","",VLOOKUP(E19,'1'!$D:$G,4,0))
G20: =IF(E20="","",VLOOKUP(E20,'1'!$D:$G,4,0))
D21: =D16+1 -> 44200 | G21: =IF(E21="","",VLOOKUP(E21,'1'!$D:$G,4,0))
G22: =IF(E22="","",VLOOKUP(E22,'1'!$D:$G,4,0))
G23: =IF(E23="","",VLOOKUP(E23,'1'!$D:$G,4,0))
G24: =IF(E24="","",VLOOKUP(E24,'1'!$D:$G,4,0))
G25: =IF(E25="","",VLOOKUP(E25,'1'!$D:$G,4,0))
D26: =D21+1 -> 44201 | G26: =IF(E26="","",VLOOKUP(E26,'1'!$D:$G,4,0))
G27: =IF(E27="","",VLOOKUP(E27,'1'!$D:$G,4,0))
G28: =IF(E28="","",VLOOKUP(E28,'1'!$D:$G,4,0))
G29: =IF(E29="","",VLOOKUP(E29,'1'!$D:$G,4,0))
G30: =IF(E30="","",VLOOKUP(E30,'1'!$D:$G,4,0))
D31: =D26+1 -> 44202 | G31: =IF(E31="","",VLOOKUP(E31,'1'!$D:$G,4,0))
G32: =IF(E32="","",VLOOKUP(E32,'1'!$D:$G,4,0))
G33: =IF(E33="","",VLOOKUP(E33,'1'!$D:$G,4,0))
G34: =IF(E34="","",VLOOKUP(E34,'1'!$D:$G,4,0))
G35: =IF(E35="","",VLOOKUP(E35,'1'!$D:$G,4,0))
D36: =D31+1 -> 44203 | G36: =IF(E36="","",VLOOKUP(E36,'1'!$D:$G,4,0))
G37: =IF(E37="","",VLOOKUP(E37,'1'!$D:$G,4,0))
G38: =IF(E38="","",VLOOKUP(E38,'1'!$D:$G,4,0))
G39: =IF(E39="","",VLOOKUP(E39,'1'!$D:$G,4,0))
G40: =IF(E40="","",VLOOKUP(E40,'1'!$D:$G,4,0))
D41: =D36+1 -> 44204 | G41: =IF(E41="","",VLOOKUP(E41,'1'!$D:$G,4,0))
G42: =IF(E42="","",VLOOKUP(E42,'1'!$D:$G,4,0))
G43: =IF(E43="","",VLOOKUP(E43,'1'!$D:$G,4,0))
...

Sheet 10
A1: Sua Logo Aqui
D5: Data | E5: Cliente | G5: Celular | H5: Compromisso | J5: Horario | K5: Status | L5: Observação
D6: 44197 | G6: =IF(E6="","",VLOOKUP(E6,'1'!$D:$G,4,0))
G7: =IF(E7="","",VLOOKUP(E7,'1'!$D:$G,4,0))
G8: =IF(E8="","",VLOOKUP(E8,'1'!$D:$G,4,0))
G9: =IF(E9="","",VLOOKUP(E9,'1'!$D:$G,4,0))
G10: =IF(E10="","",VLOOKUP(E10,'1'!$D:$G,4,0))
D11: =D6+1 -> 44198 | G11: =IF(E11="","",VLOOKUP(E11,'1'!$D:$G,4,0))
G12: =IF(E12="","",VLOOKUP(E12,'1'!$D:$G,4,0))
G13: =IF(E13="","",VLOOKUP(E13,'1'!$D:$G,4,0))
G14: =IF(E14="","",VLOOKUP(E14,'1'!$D:$G,4,0))
G15: =IF(E15="","",VLOOKUP(E15,'1'!$D:$G,4,0))
D16: =D11+1 -> 44199 | G16: =IF(E16="","",VLOOKUP(E16,'1'!$D:$G,4,0))
G17: =IF(E17="","",VLOOKUP(E17,'1'!$D:$G,4,0))
G18: =IF(E18="","",VLOOKUP(E18,'1'!$D:$G,4,0))
G19: =IF(E19="","",VLOOKUP(E19,'1'!$D:$G,4,0))
G20: =IF(E20="","",VLOOKUP(E20,'1'!$D:$G,4,0))
D21: =D16+1 -> 44200 | G21: =IF(E21="","",VLOOKUP(E21,'1'!$D:$G,4,0))
G22: =IF(E22="","",VLOOKUP(E22,'1'!$D:$G,4,0))
G23: =IF(E23="","",VLOOKUP(E23,'1'!$D:$G,4,0))
G24: =IF(E24="","",VLOOKUP(E24,'1'!$D:$G,4,0))
G25: =IF(E25="","",VLOOKUP(E25,'1'!$D:$G,4,0))
D26: =D21+1 -> 44201 | G26: =IF(E26="","",VLOOKUP(E26,'1'!$D:$G,4,0))
G27: =IF(E27="","",VLOOKUP(E27,'1'!$D:$G,4,0))
G28: =IF(E28="","",VLOOKUP(E28,'1'!$D:$G,4,0))
G29: =IF(E29="","",VLOOKUP(E29,'1'!$D:$G,4,0))
G30: =IF(E30="","",VLOOKUP(E30,'1'!$D:$G,4,0))
D31: =D26+1 -> 44202 | G31: =IF(E31="","",VLOOKUP(E31,'1'!$D:$G,4,0))
G32: =IF(E32="","",VLOOKUP(E32,'1'!$D:$G,4,0))
G33: =IF(E33="","",VLOOKUP(E33,'1'!$D:$G,4,0))
G34: =IF(E34="","",VLOOKUP(E34,'1'!$D:$G,4,0))
G35: =IF(E35="","",VLOOKUP(E35,'1'!$D:$G,4,0))
D36: =D31+1 -> 44203 | G36: =IF(E36="","",VLOOKUP(E36,'1'!$D:$G,4,0))
G37: =IF(E37="","",VLOOKUP(E37,'1'!$D:$G,4,0))
G38: =IF(E38="","",VLOOKUP(E38,'1'!$D:$G,4,0))
G39: =IF(E39="","",VLOOKUP(E39,'1'!$D:$G,4,0))
G40: =IF(E40="","",VLOOKUP(E40,'1'!$D:$G,4,0))
D41: =D36+1 -> 44204 | G41: =IF(E41="","",VLOOKUP(E41,'1'!$D:$G,4,0))
G42: =IF(E42="","",VLOOKUP(E42,'1'!$D:$G,4,0))
G43: =IF(E43="","",VLOOKUP(E43,'1'!$D:$G,4,0))
...

Sheet 11
A1: Sua Logo Aqui
D5: Data | E5: Cliente | G5: Celular | H5: Compromisso | J5: Horario | K5: Status | L5: Observação
D6: 44197 | G6: =IF(E6="","",VLOOKUP(E6,'1'!$D:$G,4,0))
G7: =IF(E7="","",VLOOKUP(E7,'1'!$D:$G,4,0))
G8: =IF(E8="","",VLOOKUP(E8,'1'!$D:$G,4,0))
G9: =IF(E9="","",VLOOKUP(E9,'1'!$D:$G,4,0))
G10: =IF(E10="","",VLOOKUP(E10,'1'!$D:$G,4,0))
D11: =D6+1 -> 44198 | G11: =IF(E11="","",VLOOKUP(E11,'1'!$D:$G,4,0))
G12: =IF(E12="","",VLOOKUP(E12,'1'!$D:$G,4,0))
G13: =IF(E13="","",VLOOKUP(E13,'1'!$D:$G,4,0))
G14: =IF(E14="","",VLOOKUP(E14,'1'!$D:$G,4,0))
G15: =IF(E15="","",VLOOKUP(E15,'1'!$D:$G,4,0))
D16: =D11+1 -> 44199 | G16: =IF(E16="","",VLOOKUP(E16,'1'!$D:$G,4,0))
G17: =IF(E17="","",VLOOKUP(E17,'1'!$D:$G,4,0))
G18: =IF(E18="","",VLOOKUP(E18,'1'!$D:$G,4,0))
G19: =IF(E19="","",VLOOKUP(E19,'1'!$D:$G,4,0))
G20: =IF(E20="","",VLOOKUP(E20,'1'!$D:$G,4,0))
D21: =D16+1 -> 44200 | G21: =IF(E21="","",VLOOKUP(E21,'1'!$D:$G,4,0))
G22: =IF(E22="","",VLOOKUP(E22,'1'!$D:$G,4,0))
G23: =IF(E23="","",VLOOKUP(E23,'1'!$D:$G,4,0))
G24: =IF(E24="","",VLOOKUP(E24,'1'!$D:$G,4,0))
G25: =IF(E25="","",VLOOKUP(E25,'1'!$D:$G,4,0))
D26: =D21+1 -> 44201 | G26: =IF(E26="","",VLOOKUP(E26,'1'!$D:$G,4,0))
G27: =IF(E27="","",VLOOKUP(E27,'1'!$D:$G,4,0))
G28: =IF(E28="","",VLOOKUP(E28,'1'!$D:$G,4,0))
G29: =IF(E29="","",VLOOKUP(E29,'1'!$D:$G,4,0))
G30: =IF(E30="","",VLOOKUP(E30,'1'!$D:$G,4,0))
D31: =D26+1 -> 44202 | G31: =IF(E31="","",VLOOKUP(E31,'1'!$D:$G,4,0))
G32: =IF(E32="","",VLOOKUP(E32,'1'!$D:$G,4,0))
G33: =IF(E33="","",VLOOKUP(E33,'1'!$D:$G,4,0))
G34: =IF(E34="","",VLOOKUP(E34,'1'!$D:$G,4,0))
G35: =IF(E35="","",VLOOKUP(E35,'1'!$D:$G,4,0))
D36: =D31+1 -> 44203 | G36: =IF(E36="","",VLOOKUP(E36,'1'!$D:$G,4,0))
G37: =IF(E37="","",VLOOKUP(E37,'1'!$D:$G,4,0))
G38: =IF(E38="","",VLOOKUP(E38,'1'!$D:$G,4,0))
G39: =IF(E39="","",VLOOKUP(E39,'1'!$D:$G,4,0))
G40: =IF(E40="","",VLOOKUP(E40,'1'!$D:$G,4,0))
D41: =D36+1 -> 44204 | G41: =IF(E41="","",VLOOKUP(E41,'1'!$D:$G,4,0))
G42: =IF(E42="","",VLOOKUP(E42,'1'!$D:$G,4,0))
G43: =IF(E43="","",VLOOKUP(E43,'1'!$D:$G,4,0))
...

Sheet 12
A1: Sua Logo Aqui
D5: Data | E5: Cliente | G5: Celular | H5: Compromisso | J5: Horario | K5: Status | L5: Observação
D6: 44197 | G6: =IF(E6="","",VLOOKUP(E6,'1'!$D:$G,4,0))
G7: =IF(E7="","",VLOOKUP(E7,'1'!$D:$G,4,0))
G8: =IF(E8="","",VLOOKUP(E8,'1'!$D:$G,4,0))
G9: =IF(E9="","",VLOOKUP(E9,'1'!$D:$G,4,0))
G10: =IF(E10="","",VLOOKUP(E10,'1'!$D:$G,4,0))
D11: =D6+1 -> 44198 | G11: =IF(E11="","",VLOOKUP(E11,'1'!$D:$G,4,0))
G12: =IF(E12="","",VLOOKUP(E12,'1'!$D:$G,4,0))
G13: =IF(E13="","",VLOOKUP(E13,'1'!$D:$G,4,0))
G14: =IF(E14="","",VLOOKUP(E14,'1'!$D:$G,4,0))
G15: =IF(E15="","",VLOOKUP(E15,'1'!$D:$G,4,0))
D16: =D11+1 -> 44199 | G16: =IF(E16="","",VLOOKUP(E16,'1'!$D:$G,4,0))
G17: =IF(E17="","",VLOOKUP(E17,'1'!$D:$G,4,0))
G18: =IF(E18="","",VLOOKUP(E18,'1'!$D:$G,4,0))
G19: =IF(E19="","",VLOOKUP(E19,'1'!$D:$G,4,0))
G20: =IF(E20="","",VLOOKUP(E20,'1'!$D:$G,4,0))
D21: =D16+1 -> 44200 | G21: =IF(E21="","",VLOOKUP(E21,'1'!$D:$G,4,0))
G22: =IF(E22="","",VLOOKUP(E22,'1'!$D:$G,4,0))
G23: =IF(E23="","",VLOOKUP(E23,'1'!$D:$G,4,0))
G24: =IF(E24="","",VLOOKUP(E24,'1'!$D:$G,4,0))
G25: =IF(E25="","",VLOOKUP(E25,'1'!$D:$G,4,0))
D26: =D21+1 -> 44201 | G26: =IF(E26="","",VLOOKUP(E26,'1'!$D:$G,4,0))
G27: =IF(E27="","",VLOOKUP(E27,'1'!$D:$G,4,0))
G28: =IF(E28="","",VLOOKUP(E28,'1'!$D:$G,4,0))
G29: =IF(E29="","",VLOOKUP(E29,'1'!$D:$G,4,0))
G30: =IF(E30="","",VLOOKUP(E30,'1'!$D:$G,4,0))
D31: =D26+1 -> 44202 | G31: =IF(E31="","",VLOOKUP(E31,'1'!$D:$G,4,0))
G32: =IF(E32="","",VLOOKUP(E32,'1'!$D:$G,4,0))
G33: =IF(E33="","",VLOOKUP(E33,'1'!$D:$G,4,0))
G34: =IF(E34="","",VLOOKUP(E34,'1'!$D:$G,4,0))
G35: =IF(E35="","",VLOOKUP(E35,'1'!$D:$G,4,0))
D36: =D31+1 -> 44203 | G36: =IF(E36="","",VLOOKUP(E36,'1'!$D:$G,4,0))
G37: =IF(E37="","",VLOOKUP(E37,'1'!$D:$G,4,0))
G38: =IF(E38="","",VLOOKUP(E38,'1'!$D:$G,4,0))
G39: =IF(E39="","",VLOOKUP(E39,'1'!$D:$G,4,0))
G40: =IF(E40="","",VLOOKUP(E40,'1'!$D:$G,4,0))
D41: =D36+1 -> 44204 | G41: =IF(E41="","",VLOOKUP(E41,'1'!$D:$G,4,0))
G42: =IF(E42="","",VLOOKUP(E42,'1'!$D:$G,4,0))
G43: =IF(E43="","",VLOOKUP(E43,'1'!$D:$G,4,0))
...

Sheet 13
A1: Sua Logo Aqui
D5: Data | E5: Cliente | G5: Celular | H5: Compromisso | J5: Horario | K5: Status | L5: Observação
D6: 44197 | G6: =IF(E6="","",VLOOKUP(E6,'1'!$D:$G,4,0))
G7: =IF(E7="","",VLOOKUP(E7,'1'!$D:$G,4,0))
G8: =IF(E8="","",VLOOKUP(E8,'1'!$D:$G,4,0))
G9: =IF(E9="","",VLOOKUP(E9,'1'!$D:$G,4,0))
G10: =IF(E10="","",VLOOKUP(E10,'1'!$D:$G,4,0))
D11: =D6+1 -> 44198 | G11: =IF(E11="","",VLOOKUP(E11,'1'!$D:$G,4,0))
G12: =IF(E12="","",VLOOKUP(E12,'1'!$D:$G,4,0))
G13: =IF(E13="","",VLOOKUP(E13,'1'!$D:$G,4,0))
G14: =IF(E14="","",VLOOKUP(E14,'1'!$D:$G,4,0))
G15: =IF(E15="","",VLOOKUP(E15,'1'!$D:$G,4,0))
D16: =D11+1 -> 44199 | G16: =IF(E16="","",VLOOKUP(E16,'1'!$D:$G,4,0))
G17: =IF(E17="","",VLOOKUP(E17,'1'!$D:$G,4,0))
G18: =IF(E18="","",VLOOKUP(E18,'1'!$D:$G,4,0))
G19: =IF(E19="","",VLOOKUP(E19,'1'!$D:$G,4,0))
G20: =IF(E20="","",VLOOKUP(E20,'1'!$D:$G,4,0))
D21: =D16+1 -> 44200 | G21: =IF(E21="","",VLOOKUP(E21,'1'!$D:$G,4,0))
G22: =IF(E22="","",VLOOKUP(E22,'1'!$D:$G,4,0))
G23: =IF(E23="","",VLOOKUP(E23,'1'!$D:$G,4,0))
G24: =IF(E24="","",VLOOKUP(E24,'1'!$D:$G,4,0))
G25: =IF(E25="","",VLOOKUP(E25,'1'!$D:$G,4,0))
D26: =D21+1 -> 44201 | G26: =IF(E26="","",VLOOKUP(E26,'1'!$D:$G,4,0))
G27: =IF(E27="","",VLOOKUP(E27,'1'!$D:$G,4,0))
G28: =IF(E28="","",VLOOKUP(E28,'1'!$D:$G,4,0))
G29: =IF(E29="","",VLOOKUP(E29,'1'!$D:$G,4,0))
G30: =IF(E30="","",VLOOKUP(E30,'1'!$D:$G,4,0))
D31: =D26+1 -> 44202 | G31: =IF(E31="","",VLOOKUP(E31,'1'!$D:$G,4,0))
G32: =IF(E32="","",VLOOKUP(E32,'1'!$D:$G,4,0))
G33: =IF(E33="","",VLOOKUP(E33,'1'!$D:$G,4,0))
G34: =IF(E34="","",VLOOKUP(E34,'1'!$D:$G,4,0))
G35: =IF(E35="","",VLOOKUP(E35,'1'!$D:$G,4,0))
D36: =D31+1 -> 44203 | G36: =IF(E36="","",VLOOKUP(E36,'1'!$D:$G,4,0))
G37: =IF(E37="","",VLOOKUP(E37,'1'!$D:$G,4,0))
G38: =IF(E38="","",VLOOKUP(E38,'1'!$D:$G,4,0))
G39: =IF(E39="","",VLOOKUP(E39,'1'!$D:$G,4,0))
G40: =IF(E40="","",VLOOKUP(E40,'1'!$D:$G,4,0))
D41: =D36+1 -> 44204 | G41: =IF(E41="","",VLOOKUP(E41,'1'!$D:$G,4,0))
G42: =IF(E42="","",VLOOKUP(E42,'1'!$D:$G,4,0))
G43: =IF(E43="","",VLOOKUP(E43,'1'!$D:$G,4,0))
...
