Workbook

Sheet 0
A1: Sua Logo Aqui
D4: Planilha: Despesa Orçamento Familia Mensal
D7: Olá, esperamos que esteja gostando da nossa planilha, sua opinião é muito importante para nós, acesse nosso canal e deixe seu comentário.
D11: Quer aprender excel? Confira nossas video-aulas: | I11: Clique Aqui | K11: Precisa de alguma planilha sob-medida para você? Entre em contato com nossa equipe!
D16: Você precisa de planilhas profissionais? Confira nossos modelos: | I16: Clique Aqui | K16: WhatsApp | M16: Email
K18: +55 077-98117-6733 | M18: contato@excelcoaching.com.br
D23: Caso você queira contribuir algum valor para incentivar com esse projeto, deixe sua contribuição. Clicando nos valores abaixo:

Sheet 1
A1: Sua Logo Aqui
F4: Janeiro | G4: Fevereiro | H4: Março | I4: Abril | J4: Maio | K4: Junho | L4: Julho | M4: Agosto | N4: Setembro | O4: Outubro | P4: Novembro | Q4: Dezembro | R4: Soma do Ano
D5: Receitas
D6: Salário | R6: =SUM(F6:Q6) -> 0
D7: Outras Receitas | R7: =SUM(F7:Q7) -> 0
D8: Total: | F8: =SUM(F6:F7) -> 0 | G8: =SUM(G6:G7) -> 0 | H8: =SUM(H6:H7) -> 0 | I8: =SUM(I6:I7) -> 0 | J8: =SUM(J6:J7) -> 0 | K8: =SUM(K6:K7) -> 0 | L8: =SUM(L6:L7) -> 0 | M8: =SUM(M6:M7) -> 0 | ... R8: =SUM(R6:R7) -> 0
D11: Investimentos
D12: Investimento Interno | R12: =SUM(F12:Q12) -> 0
D13: Retorno do Investimento | R13: =SUM(F13:Q13) -> 0
D14: Rendimentos | R14: =SUM(F14:Q14) -> 0
D16: Total: | F16: =SUM(F12:F14) -> 0 | G16: =SUM(G12:G14) -> 0 | H16: =SUM(H12:H14) -> 0 | I16: =SUM(I12:I14) -> 0 | J16: =SUM(J12:J14) -> 0 | K16: =SUM(K12:K14) -> 0 | L16: =SUM(L12:L14) -> 0 | M16: =SUM(M12:M14) -> 0 | ... R16: =SUM(R12:R14) -> 0
D19: Despesas - Moradia
D20: Agua | R20: =SUM(F20:Q20) -> 0
D21: Energia | R21: =SUM(F21:Q21) -> 0
D22: Aluguel | R22: =SUM(F22:Q22) -> 0
D23: Condominio | R23: =SUM(F23:Q23) -> 0
D24: Gás | R24: =SUM(F24:Q24) -> 0
D25: Telefone | H25: 10 | R25: =SUM(F25:Q25) -> 10
D26: Internet | M26: 10 | R26: =SUM(F26:Q26) -> 10
D27: IPTU | R27: =SUM(F27:Q27) -> 0
D28: Manutenção | R28: =SUM(F28:Q28) -> 0
D29: Outros | R29: =SUM(F29:Q29) -> 0
D30: Manutenção | R30: =SUM(F30:Q30) -> 0
D32: Total: | F32: =SUM(F20:F30) -> 0 | G32: =SUM(G20:G30) -> 0 | H32: =SUM(H20:H30) -> 10 | I32: =SUM(I20:I30) -> 0 | J32: =SUM(J20:J30) -> 0 | K32: =SUM(K20:K30) -> 0 | L32: =SUM(L20:L30) -> 0 | M32: =SUM(M20:M30) -> 10 | ... R32: =SUM(R20:R30) -> 20
D35: Despesas - Serviços
D36: Escola | R36: =SUM(F36:Q36) -> 0
D37: Cursos | I37: 10 | R37: =SUM(F37:Q37) -> 10
D38: Saúde | R38: =SUM(F38:Q38) -> 0
D39: Lazer | R39: =SUM(F39:Q39) -> 0
D40: Assinaturas | R40: =SUM(F40:Q40) -> 0
D41: Outros Serviços | R41: =SUM(F41:Q41) -> 0
D43: Total | F43: =SUM(F36:F41) -> 0 | G43: =SUM(G36:G41) -> 0 | H43: =SUM(H36:H41) -> 0 | I43: =SUM(I36:I41) -> 10 | J43: =SUM(J36:J41) -> 0 | K43: =SUM(K36:K41) -> 0 | L43: =SUM(L36:L41) -> 0 | M43: =SUM(M36:M41) -> 0 | ... R43: =SUM(R36:R41) -> 10
D46: Despesas - Pessoais
D47: Vestuário | R47: =SUM(F47:Q47) -> 0
D48: Alimentação Mercado | R48: =SUM(F48:Q48) -> 0
D49: Alimentação fora de casa | R49: =SUM(F49:Q49) -> 0
D50: Higiene | J50: 50 | R50: =SUM(F50:Q50) -> 50
D51: Viagens | R51: =SUM(F51:Q51) -> 0
D52: Doações | R52: =SUM(F52:Q52) -> 0
D53: Outas Pessoais | R53: =SUM(F53:Q53) -> 0
...

Sheet 2
A1: Sua Logo Aqui
F4: Janeiro | G4: Fevereiro | H4: Março | I4: Abril | J4: Maio | K4: Junho | L4: Julho | M4: Agosto | N4: Setembro | O4: Outubro | P4: Novembro | Q4: Dezembro | R4: Soma do Ano
D5: Soma Receitas | F5: ='1'!F8 -> 0 | G5: ='1'!G8 -> 0 | H5: ='1'!H8 -> 0 | I5: ='1'!I8 -> 0 | J5: ='1'!J8 -> 0 | K5: ='1'!K8 -> 0 | L5: ='1'!L8 -> 0 | M5: ='1'!M8 -> 0 | ... R5: ='1'!R8 -> 0
D7: Despesas Moradia | F7: ='1'!F32 -> 0 | G7: ='1'!G32 -> 0 | H7: ='1'!H32 -> 10 | I7: ='1'!I32 -> 0 | J7: ='1'!J32 -> 0 | K7: ='1'!K32 -> 0 | L7: ='1'!L32 -> 0 | M7: ='1'!M32 -> 10 | ... R7: ='1'!R32 -> 20
D8: Despesas Serviços | F8: ='1'!F43 -> 0 | G8: ='1'!G43 -> 0 | H8: ='1'!H43 -> 0 | I8: ='1'!I43 -> 10 | J8: ='1'!J43 -> 0 | K8: ='1'!K43 -> 0 | L8: ='1'!L43 -> 0 | M8: ='1'!M43 -> 0 | ... R8: ='1'!R43 -> 10
D9: Despesas Pessoais | F9: ='1'!F55 -> 0 | G9: ='1'!G55 -> 0 | H9: ='1'!H55 -> 0 | I9: ='1'!I55 -> 0 | J9: ='1'!J55 -> 50 | K9: ='1'!K55 -> 0 | L9: ='1'!L55 -> 0 | M9: ='1'!M55 -> 0 | ... R9: ='1'!R55 -> 50
D10: Soma Despesas | F10: =SUM(F7:F9) -> 0 | G10: =SUM(G7:G9) -> 0 | H10: =SUM(H7:H9) -> 10 | I10: =SUM(I7:I9) -> 10 | J10: =SUM(J7:J9) -> 50 | K10: =SUM(K7:K9) -> 0 | L10: =SUM(L7:L9) -> 0 | M10: =SUM(M7:M9) -> 10 | ... R10: =SUM(R7:R9) -> 80
D12: Investimentos | F12: ='1'!F16 -> 0 | G12: ='1'!G16 -> 0 | H12: ='1'!H16 -> 0 | I12: ='1'!I16 -> 0 | J12: ='1'!J16 -> 0 | K12: ='1'!K16 -> 0 | L12: ='1'!L16 -> 0 | M12: ='1'!M16 -> 0 | ... R12: ='1'!R16 -> 0
D14: Saldo mês | F14: =F5-F10+F12 -> 0 | G14: =G5-G10+G12 -> 0 | H14: =H5-H10+H12 -> -10 | I14: =I5-I10+I12 -> -10 | J14: =J5-J10+J12 -> -50 | K14: =K5-K10+K12 -> 0 | L14: =L5-L10+L12 -> 0 | M14: =M5-M10+M12 -> -10 | ... R14: =R5-R10+R12 -> -80
