Workbook

Sheet Introdução
B18: UTILIZANDO FUNÇÃO PROCV

Sheet Lançamentos
B7: UTILIZANDO FUNÇÃO SOMASES
B9: Lançamentos Estoque
B10: ID | C10: Data | D10: Tipo de Movimento | E10: Descrição Material | F10: Quantidade
B11: 1 | C11: 44048 | D11: Entrada | E11: MATERIAL 1 | F11: 10 | H11: https://excelcoaching.com.br/
B12: 2 | C12: 44049 | D12: Entrada | E12: MATERIAL 2 | F12: 20
B13: 3 | C13: 44050 | D13: Entrada | E13: MATERIAL 3 | F13: 30
B14: 4 | C14: 44051 | D14: Saida | E14: MATERIAL 2 | F14: -10
B15: 5 | C15: 44052 | D15: Entrada | E15: MATERIAL 5 | F15: 50
B16: 6 | C16: 44053 | D16: Saida | E16: MATERIAL 1 | F16: -2
B17: 7 | C17: 44054 | D17: Saida | E17: MATERIAL 7 | F17: -5
B18: 8 | C18: 44055 | D18: Entrada | E18: MATERIAL 8 | F18: 20
B19: 9 | C19: 44056 | D19: Saida | E19: MATERIAL 6 | F19: -2
B20: 10 | C20: 44057 | D20: Entrada | E20: MATERIAL 4 | F20: 40

Sheet Relatório
B7: UTILIZANDO FUNÇÃO PROCV
B9: Relatório Estoque
B10: ID | C10: MATERIAL | D10: ESTOQUE MINIMO | E10: ENTRADA | F10: SAIDA | G10: ESTOQUE ATUAL | H10: STATUS ESTOQUE | J10: BUSCAR: | K10: MATERIAL 3 | M10: 1 º Valor Procurado
B11: 1 | C11: MATERIAL 1 | D11: 10 | E11: =SUMIFS(Lançamentos!$F$11:$F$20,Lançamentos!$D$11:$D$20,Relatório!$E$10,Lançamentos!$E$11:$E$20,Relatório!C11) -> 10 | F11: =SUMIFS(Lançamentos!$F$11:$F$20,Lançamentos!$D$11:$D$20,Relatório!$F$10,Lançamentos!$E$11:$E$20,Relatório!C11) -> -2 | G11: =E11+F11 -> 8 | H11: =IF(G11<D11,"REPOR","OK") -> REPOR | M11: 2º Matriz da Tabela
B12: 2 | C12: MATERIAL 2 | D12: 30 | E12: =SUMIFS(Lançamentos!$F$11:$F$20,Lançamentos!$D$11:$D$20,Relatório!$E$10,Lançamentos!$E$11:$E$20,Relatório!C12) -> 20 | F12: =SUMIFS(Lançamentos!$F$11:$F$20,Lançamentos!$D$11:$D$20,Relatório!$F$10,Lançamentos!$E$11:$E$20,Relatório!C12) -> -10 | G12: =E12+F12 -> 10 | H12: =IF(G12<D12,"REPOR","OK") -> REPOR | J12: STATUS ESTOQUE | M12: 3º Número do indice (coluna)
B13: 3 | C13: MATERIAL 3 | D13: 20 | E13: =SUMIFS(Lançamentos!$F$11:$F$20,Lançamentos!$D$11:$D$20,Relatório!$E$10,Lançamentos!$E$11:$E$20,Relatório!C13) -> 30 | F13: =SUMIFS(Lançamentos!$F$11:$F$20,Lançamentos!$D$11:$D$20,Relatório!$F$10,Lançamentos!$E$11:$E$20,Relatório!C13) -> 0 | G13: =E13+F13 -> 30 | H13: =IF(G13<D13,"REPOR","OK") -> OK | J13: =VLOOKUP("MATERIAL 5",C11:H18,D27,0) -> OK | M13: 4º Procurar Intervalo
B14: 4 | C14: MATERIAL 4 | D14: 50 | E14: =SUMIFS(Lançamentos!$F$11:$F$20,Lançamentos!$D$11:$D$20,Relatório!$E$10,Lançamentos!$E$11:$E$20,Relatório!C14) -> 40 | F14: =SUMIFS(Lançamentos!$F$11:$F$20,Lançamentos!$D$11:$D$20,Relatório!$F$10,Lançamentos!$E$11:$E$20,Relatório!C14) -> 0 | G14: =E14+F14 -> 40 | H14: =IF(G14<D14,"REPOR","OK") -> REPOR
B15: 5 | C15: MATERIAL 5 | D15: 5 | E15: =SUMIFS(Lançamentos!$F$11:$F$20,Lançamentos!$D$11:$D$20,Relatório!$E$10,Lançamentos!$E$11:$E$20,Relatório!C15) -> 50 | F15: =SUMIFS(Lançamentos!$F$11:$F$20,Lançamentos!$D$11:$D$20,Relatório!$F$10,Lançamentos!$E$11:$E$20,Relatório!C15) -> 0 | G15: =E15+F15 -> 50 | H15: =IF(G15<D15,"REPOR","OK") -> OK
B16: 6 | C16: MATERIAL 6 | D16: 20 | E16: =SUMIFS(Lançamentos!$F$11:$F$20,Lançamentos!$D$11:$D$20,Relatório!$E$10,Lançamentos!$E$11:$E$20,Relatório!C16) -> 0 | F16: =SUMIFS(Lançamentos!$F$11:$F$20,Lançamentos!$D$11:$D$20,Relatório!$F$10,Lançamentos!$E$11:$E$20,Relatório!C16) -> -2 | G16: =E16+F16 -> -2 | H16: =IF(G16<D16,"REPOR","OK") -> REPOR
B17: 7 | C17: MATERIAL 7 | D17: 10 | E17: =SUMIFS(Lançamentos!$F$11:$F$20,Lançamentos!$D$11:$D$20,Relatório!$E$10,Lançamentos!$E$11:$E$20,Relatório!C17) -> 0 | F17: =SUMIFS(Lançamentos!$F$11:$F$20,Lançamentos!$D$11:$D$20,Relatório!$F$10,Lançamentos!$E$11:$E$20,Relatório!C17) -> -5 | G17: =E17+F17 -> -5 | H17: =IF(G17<D17,"REPOR","OK") -> REPOR
B18: 8 | C18: MATERIAL 8 | D18: 50 | E18: =SUMIFS(Lançamentos!$F$11:$F$20,Lançamentos!$D$11:$D$20,Relatório!$E$10,Lançamentos!$E$11:$E$20,Relatório!C18) -> 20 | F18: =SUMIFS(Lançamentos!$F$11:$F$20,Lançamentos!$D$11:$D$20,Relatório!$F$10,Lançamentos!$E$11:$E$20,Relatório!C18) -> 0 | G18: =E18+F18 -> 20 | H18: =IF(G18<D18,"REPOR","OK") -> REPOR
C19: excelcoaching.com.br
C21: MATERIAL | D21: 1
C22: ESTOQUE MINIMO | D22: 2
C23: ENTRADA | D23: 3
C24: SAIDA | D24: 4
C25: ESTOQUE ATUAL | D25: 5
C26: STATUS ESTOQUE | D26: 6
D27: =VLOOKUP(J12,C21:D26,2,0) -> 6

Sheet Valor Procurado
A1: 1º Valor Procurado

Sheet Matriz da Tabela
A1: 2º Matriz da Tabela

Sheet numero do indice de coluna
A1: 3º número do indice coluna

Sheet Procurar intervalo
A1: 4º Procurar intervalo Correspondencia Exata ou Aproximada
