Workbook

Sheet 0
A1: Sua Logo Aqui
D4: Planilha: Dimensinonamento Estoques
D7: Olá, esperamos que esteja gostando da nossa planilha, sua opinião é muito importante para nós, acesse nosso canal e deixe seu comentário.
D11: Quer aprender excel? Confira nossas video-aulas: | I11: Clique Aqui | K11: Precisa de alguma planilha sob-medida para você? Entre em contato com nossa equipe!
D16: Você precisa de planilhas profissionais? Confira nossos modelos: | I16: Clique Aqui | K16: WhatsApp | M16: Email
K18: +55 077-98117-6733 | M18: contato@excelcoaching.com.br
D23: Caso você queira contribuir algum valor para incentivar com esse projeto, deixe sua contribuição. Clicando nos valores abaixo:

Sheet 1
A1: Sua Logo Aqui | X1: Juros | Y1: 0.15
E4: Consumo | R4: Parâmetro de Planejamento
D5: Código | E5: Jan | F5: Fev | G5: Mar | H5: Abr | I5: Mai | J5: Jun | K5: Jul | L5: Ago | M5: Set | N5: Out | O5: Nov | P5: Dez | Q5: Med | R5: s | S5: FS | T5: TA | U5: Est Seg | V5: Pto de Pedido | W5: Custo Unit | X5: Custo Pedido | Y5: Custo Est. | Z5: Lote Econ. | AA5: Est Médio | AB5: Est. Máx.
D6: 1 | E6: 878 | F6: 1231 | G6: 1170 | H6: 1222 | I6: 951 | J6: 635 | K6: 763 | L6: 833 | M6: 1240 | N6: 1118 | O6: 1138 | P6: 802 | Q6: =IFERROR(AVERAGE(E6:P6),"") -> 998.41667 | R6: =IFERROR(STDEV(E6:L6),"") -> 224.73854 | S6: 60 | T6: 1 | U6: =IFERROR(SQRT(T6)*S6*R6,"") -> 13484.312 | V6: =IFERROR(Q6*T6+U6,"") -> 14482.729 | W6: 13.5 | X6: 15 | Y6: =IFERROR(W6*$Y$1/0.8,"") -> 2.53125 | Z6: =IFERROR(SQRT((2*X6*Q6*53)/Y6),"") -> 791.93029 | AA6: =IFERROR(U6+Z6/2,"") -> 13880.277 | AB6: =Z6+U6 -> 14276.243
D7: 2 | E7: 1281 | F7: 889 | G7: 790 | H7: 763 | I7: 1203 | J7: 796 | K7: 873 | L7: 508 | M7: 1173 | N7: 1243 | O7: 602 | P7: 719 | Q7: =IFERROR(AVERAGE(E7:P7),"") -> 903.33333 | R7: =IFERROR(STDEV(E7:L7),"") -> 248.42155 | S7: 105 | T7: 1 | U7: =IFERROR(SQRT(T7)*S7*R7,"") -> 26084.263 | V7: =IFERROR(Q7*T7+U7,"") -> 26987.596 | W7: 13.5 | X7: 15 | Y7: =IFERROR(W7*$Y$1/0.8,"") -> 2.53125 | Z7: =IFERROR(SQRT((2*X7*Q7*53)/Y7),"") -> 753.27761 | AA7: =IFERROR(U7+Z7/2,"") -> 26460.902 | AB7: =Z7+U7 -> 26837.541
D8: 3 | E8: 1101 | F8: 833 | G8: 1003 | H8: 969 | I8: 964 | J8: 841 | K8: 537 | L8: 968 | M8: 953 | N8: 688 | O8: 866 | P8: 951 | Q8: =IFERROR(AVERAGE(E8:P8),"") -> 889.5 | R8: =IFERROR(STDEV(E8:L8),"") -> 170.79562 | S8: 64 | T8: 8 | U8: =IFERROR(SQRT(T8)*S8*R8,"") -> 30917.309 | V8: =IFERROR(Q8*T8+U8,"") -> 38033.309 | W8: 13.5 | X8: 15 | Y8: =IFERROR(W8*$Y$1/0.8,"") -> 2.53125 | Z8: =IFERROR(SQRT((2*X8*Q8*53)/Y8),"") -> 747.48764 | AA8: =IFERROR(U8+Z8/2,"") -> 31291.053 | AB8: =Z8+U8 -> 31664.797
D9: 4 | E9: 708 | F9: 864 | G9: 502 | H9: 792 | I9: 523 | J9: 598 | K9: 568 | L9: 1112 | M9: 777 | N9: 1115 | O9: 519 | P9: 1251 | Q9: =IFERROR(AVERAGE(E9:P9),"") -> 777.41667 | R9: =IFERROR(STDEV(E9:L9),"") -> 208.04116 | S9: 27 | T9: 1 | U9: =IFERROR(SQRT(T9)*S9*R9,"") -> 5617.1114 | V9: =IFERROR(Q9*T9+U9,"") -> 6394.528 | W9: 13.5 | X9: 15 | Y9: =IFERROR(W9*$Y$1/0.8,"") -> 2.53125 | Z9: =IFERROR(SQRT((2*X9*Q9*53)/Y9),"") -> 698.80816 | AA9: =IFERROR(U9+Z9/2,"") -> 5966.5154 | AB9: =Z9+U9 -> 6315.9195
D10: 5 | E10: 514 | F10: 637 | G10: 1274 | H10: 1243 | I10: 651 | J10: 995 | K10: 504 | L10: 1286 | M10: 992 | N10: 1079 | O10: 1288 | P10: 741 | Q10: =IFERROR(AVERAGE(E10:P10),"") -> 933.66667 | R10: =IFERROR(STDEV(E10:L10),"") -> 348.74796 | S10: 96 | T10: 1 | U10: =IFERROR(SQRT(T10)*S10*R10,"") -> 33479.805 | V10: =IFERROR(Q10*T10+U10,"") -> 34413.471 | W10: 13.5 | X10: 15 | Y10: =IFERROR(W10*$Y$1/0.8,"") -> 2.53125 | Z10: =IFERROR(SQRT((2*X10*Q10*53)/Y10),"") -> 765.82047 | AA10: =IFERROR(U10+Z10/2,"") -> 33862.715 | AB10: =Z10+U10 -> 34245.625
D11: 6 | E11: 517 | F11: 1053 | G11: 941 | H11: 627 | I11: 1221 | J11: 1244 | K11: 999 | L11: 646 | M11: 572 | N11: 985 | O11: 959 | P11: 535 | Q11: =IFERROR(AVERAGE(E11:P11),"") -> 858.25 | R11: =IFERROR(STDEV(E11:L11),"") -> 278.18647 | S11: 61 | T11: 47 | U11: =IFERROR(SQRT(T11)*S11*R11,"") -> 116336.17 | V11: =IFERROR(Q11*T11+U11,"") -> 156673.92 | W11: 13.5 | X11: 15 | Y11: =IFERROR(W11*$Y$1/0.8,"") -> 2.53125 | Z11: =IFERROR(SQRT((2*X11*Q11*53)/Y11),"") -> 734.23984 | AA11: =IFERROR(U11+Z11/2,"") -> 116703.29 | AB11: =Z11+U11 -> 117070.41
D12: 7 | E12: 542 | F12: 852 | G12: 951 | H12: 1198 | I12: 966 | J12: 579 | K12: 1173 | L12: 1259 | M12: 1257 | N12: 682 | O12: 600 | P12: 528 | Q12: =IFERROR(AVERAGE(E12:P12),"") -> 882.25 | R12: =IFERROR(STDEV(E12:L12),"") -> 272.52261 | S12: 81 | T12: 2 | U12: =IFERROR(SQRT(T12)*S12*R12,"") -> 31217.819 | V12: =IFERROR(Q12*T12+U12,"") -> 32982.319 | W12: 13.5 | X12: 15 | Y12: =IFERROR(W12*$Y$1/0.8,"") -> 2.53125 | Z12: =IFERROR(SQRT((2*X12*Q12*53)/Y12),"") -> 744.43516 | AA12: =IFERROR(U12+Z12/2,"") -> 31590.036 | AB12: =Z12+U12 -> 31962.254
D13: 8 | E13: 1142 | F13: 634 | G13: 953 | H13: 1207 | I13: 602 | J13: 1296 | K13: 513 | L13: 569 | M13: 517 | N13: 634 | O13: 954 | P13: 869 | Q13: =IFERROR(AVERAGE(E13:P13),"") -> 824.16667 | R13: =IFERROR(STDEV(E13:L13),"") -> 320.99088 | S13: 112 | T13: 4 | U13: =IFERROR(SQRT(T13)*S13*R13,"") -> 71901.956 | V13: =IFERROR(Q13*T13+U13,"") -> 75198.623 | W13: 13.5 | X13: 15 | Y13: =IFERROR(W13*$Y$1/0.8,"") -> 2.53125 | Z13: =IFERROR(SQRT((2*X13*Q13*53)/Y13),"") -> 719.51287 | AA13: =IFERROR(U13+Z13/2,"") -> 72261.713 | AB13: =Z13+U13 -> 72621.469
D14: 9 | E14: 880 | F14: 541 | G14: 741 | H14: 571 | I14: 614 | J14: 516 | K14: 739 | L14: 1112 | M14: 744 | N14: 1173 | O14: 1235 | P14: 1261 | Q14: =IFERROR(AVERAGE(E14:P14),"") -> 843.91667 | R14: =IFERROR(STDEV(E14:L14),"") -> 202.4477 | S14: 43 | T14: 6 | U14: =IFERROR(SQRT(T14)*S14*R14,"") -> 21323.423 | V14: =IFERROR(Q14*T14+U14,"") -> 26386.923 | W14: 13.5 | X14: 15 | Y14: =IFERROR(W14*$Y$1/0.8,"") -> 2.53125 | Z14: =IFERROR(SQRT((2*X14*Q14*53)/Y14),"") -> 728.08289 | AA14: =IFERROR(U14+Z14/2,"") -> 21687.465 | AB14: =Z14+U14 -> 22051.506
D15: 10 | E15: 925 | F15: 661 | G15: 844 | H15: 998 | I15: 1257 | J15: 718 | K15: 565 | L15: 1287 | M15: 705 | N15: 619 | O15: 783 | P15: 886 | Q15: =IFERROR(AVERAGE(E15:P15),"") -> 854 | R15: =IFERROR(STDEV(E15:L15),"") -> 265.2963 | S15: 42 | T15: 4 | U15: =IFERROR(SQRT(T15)*S15*R15,"") -> 22284.889 | V15: =IFERROR(Q15*T15+U15,"") -> 25700.889 | W15: 13.5 | X15: 15 | Y15: =IFERROR(W15*$Y$1/0.8,"") -> 2.53125 | Z15: =IFERROR(SQRT((2*X15*Q15*53)/Y15),"") -> 732.41963 | AA15: =IFERROR(U15+Z15/2,"") -> 22651.099 | AB15: =Z15+U15 -> 23017.309
D16: 11 | E16: 766 | F16: 647 | G16: 737 | H16: 723 | I16: 614 | J16: 1245 | K16: 1029 | L16: 742 | M16: 781 | N16: 751 | O16: 671 | P16: 663 | Q16: =IFERROR(AVERAGE(E16:P16),"") -> 780.75 | R16: =IFERROR(STDEV(E16:L16),"") -> 214.33048 | S16: 100 | T16: 1 | U16: =IFERROR(SQRT(T16)*S16*R16,"") -> 21433.048 | V16: =IFERROR(Q16*T16+U16,"") -> 22213.798 | W16: 13.5 | X16: 15 | Y16: =IFERROR(W16*$Y$1/0.8,"") -> 2.53125 | Z16: =IFERROR(SQRT((2*X16*Q16*53)/Y16),"") -> 700.3047 | AA16: =IFERROR(U16+Z16/2,"") -> 21783.2 | AB16: =Z16+U16 -> 22133.352
D17: 12 | E17: 768 | F17: 1206 | G17: 521 | H17: 670 | I17: 930 | J17: 615 | K17: 1018 | L17: 544 | M17: 1220 | N17: 706 | O17: 549 | P17: 632 | Q17: =IFERROR(AVERAGE(E17:P17),"") -> 781.58333 | R17: =IFERROR(STDEV(E17:L17),"") -> 245.74609 | S17: 76 | T17: 2 | U17: =IFERROR(SQRT(T17)*S17*R17,"") -> 26412.847 | V17: =IFERROR(Q17*T17+U17,"") -> 27976.014 | W17: 13.5 | X17: 15 | Y17: =IFERROR(W17*$Y$1/0.8,"") -> 2.53125 | Z17: =IFERROR(SQRT((2*X17*Q17*53)/Y17),"") -> 700.67833 | AA17: =IFERROR(U17+Z17/2,"") -> 26763.186 | AB17: =Z17+U17 -> 27113.525
... D21: 16 | E21: 1006 | F21: 1075 | G21: 1257 | H21: 593 | I21: 519 | J21: 595 | K21: 1077 | L21: 1135 | M21: 1271 | N21: 749 | O21: 1288 | P21: 893 | Q21: =IFERROR(AVERAGE(E21:P21),"") -> 954.83333 | R21: =IFERROR(STDEV(E21:L21),"") -> 289.80113 | S21: 51 | T21: 1 | U21: =IFERROR(SQRT(T21)*S21*R21,"") -> 14779.858 | V21: =IFERROR(Q21*T21+U21,"") -> 15734.691 | W21: 13.5 | X21: 15 | Y21: =IFERROR(W21*$Y$1/0.8,"") -> 2.53125 | Z21: =IFERROR(SQRT((2*X21*Q21*53)/Y21),"") -> 774.45257 | AA21: =IFERROR(U21+Z21/2,"") -> 15167.084 | AB21: =Z21+U21 -> 15554.31
Q22: =IFERROR(AVERAGE(E22:P22),"") | R22: =IFERROR(STDEV(E22:L22),"") | U22: =IFERROR(SQRT(T22)*S22*R22,"") | V22: =IFERROR(Q22*T22+U22,"")
Q23: =IFERROR(AVERAGE(E23:P23),"") | R23: =IFERROR(STDEV(E23:L23),"") | U23: =IFERROR(SQRT(T23)*S23*R23,"") | V23: =IFERROR(Q23*T23+U23,"")
Q24: =IFERROR(AVERAGE(E24:P24),"") | R24: =IFERROR(STDEV(E24:L24),"") | U24: =IFERROR(SQRT(T24)*S24*R24,"") | V24: =IFERROR(Q24*T24+U24,"")
Q25: =IFERROR(AVERAGE(E25:P25),"") | R25: =IFERROR(STDEV(E25:L25),"") | U25: =IFERROR(SQRT(T25)*S25*R25,"") | V25: =IFERROR(Q25*T25+U25,"")
Q26: =IFERROR(AVERAGE(E26:P26),"") | R26: =IFERROR(STDEV(E26:L26),"") | U26: =IFERROR(SQRT(T26)*S26*R26,"") | V26: =IFERROR(Q26*T26+U26,"")
Q27: =IFERROR(AVERAGE(E27:P27),"") | R27: =IFERROR(STDEV(E27:L27),"") | U27: =IFERROR(SQRT(T27)*S27*R27,"") | V27: =IFERROR(Q27*T27+U27,"")
Q28: =IFERROR(AVERAGE(E28:P28),"") | R28: =IFERROR(STDEV(E28:L28),"") | U28: =IFERROR(SQRT(T28)*S28*R28,"") | V28: =IFERROR(Q28*T28+U28,"")
Q29: =IFERROR(AVERAGE(E29:P29),"") | R29: =IFERROR(STDEV(E29:L29),"") | U29: =IFERROR(SQRT(T29)*S29*R29,"") | V29: =IFERROR(Q29*T29+U29,"")
Q30: =IFERROR(AVERAGE(E30:P30),"") | R30: =IFERROR(STDEV(E30:L30),"") | U30: =IFERROR(SQRT(T30)*S30*R30,"") | V30: =IFERROR(Q30*T30+U30,"")
Q31: =IFERROR(AVERAGE(E31:P31),"") | R31: =IFERROR(STDEV(E31:L31),"") | U31: =IFERROR(SQRT(T31)*S31*R31,"") | V31: =IFERROR(Q31*T31+U31,"")
Q32: =IFERROR(AVERAGE(E32:P32),"") | R32: =IFERROR(STDEV(E32:L32),"") | U32: =IFERROR(SQRT(T32)*S32*R32,"") | V32: =IFERROR(Q32*T32+U32,"")
Q33: =IFERROR(AVERAGE(E33:P33),"") | R33: =IFERROR(STDEV(E33:L33),"") | U33: =IFERROR(SQRT(T33)*S33*R33,"") | V33: =IFERROR(Q33*T33+U33,"")
... Q60: =IFERROR(AVERAGE(E60:P60),"") | R60: =IFERROR(STDEV(E60:L60),"") | U60: =IFERROR(SQRT(T60)*S60*R60,"") | V60: =IFERROR(Q60*T60+U60,"")

Sheet 2
A1: Sua Logo Aqui
E5: Consumo
D6: Código | E6: Jan | F6: Fev | G6: Mar | H6: Abr | I6: Mai | J6: Jun | K6: Jul | L6: Ago | M6: Set | N6: Out | O6: Nov | P6: Dez | Q6: Med
D7: 10 | E7: =VLOOKUP(D7,'1'!D6:P60,2,0) -> 925 | F7: =VLOOKUP(D7,'1'!D6:P60,3,0) -> 661 | G7: =VLOOKUP(D7,'1'!D6:P60,4,0) -> 844 | H7: =VLOOKUP(D7,'1'!D6:P60,5,0) -> 998 | I7: =VLOOKUP(D7,'1'!D6:P60,6,0) -> 1257 | J7: =VLOOKUP(D7,'1'!D6:P60,7,0) -> 718 | K7: =VLOOKUP(D7,'1'!D6:P60,8,0) -> 565 | L7: =VLOOKUP(D7,'1'!D6:P60,9,0) -> 1287 | M7: =VLOOKUP(D7,'1'!D6:P60,10,0) -> 705 | N7: =VLOOKUP(D7,'1'!D6:P60,11,0) -> 619 | O7: =VLOOKUP(D7,'1'!D6:P60,12,0) -> 783 | P7: =VLOOKUP(D7,'1'!D6:P60,13,0) -> 886 | Q7: =IFERROR(AVERAGE(E7:P7),"") -> 854
