Workbook

Sheet 0
A1: Sua Logo Aqui
D4: Planilha: Controle Estoque
D7: Olá, esperamos que esteja gostando da nossa planilha, sua opinião é muito importante para nós, acesse nosso canal e deixe seu comentário.
D11: Quer aprender excel? Confira nossas video-aulas: | I11: Clique Aqui | K11: Precisa de alguma planilha sob-medida para você? Entre em contato com nossa equipe!
D16: Você precisa de planilhas profissionais? Confira nossos modelos: | I16: Clique Aqui | K16: WhatsApp | M16: Email
K18: +55 077-98117-6733 | M18: contato@excelcoaching.com.br
D23: Caso você queira contribuir algum valor para incentivar com esse projeto, deixe sua contribuição. Clicando nos valores abaixo:

Sheet 1
A1: Sua Logo Aqui
D5: Data | E5: Produto | F5: Qtd Entrada | G5: Qtd Saída
D7: 42795 | E7: Castanha do Pará - Granel (Gr) | F7: 100
D8: 42795 | E8: Azeite de Oliva - Extra Virgem LAT 500ml | F8: 50
D9: 42795 | E9: Pão Sirio Integral - Saco 500g | F9: 25
D10: 42795 | E10: Paçoca de Amendoim - CXA 30 Und | F10: 30
D11: 42795 | E11: Pão Sirio Integral - Saco 500g | F11: 50
D12: 42795 | E12: Castanha do Pará - Granel (Gr) | F12: 20
D13: 42795 | E13: Castanha do Pará - Granel (Gr) | G13: 50
D14: 42795 | E14: Pão Sirio Integral - Saco 500g | G14: 40
D15: 42796 | E15: Paçoca de Amendoim - CXA 30 Und | G15: 20
D16: 42796 | E16: Azeite de Oliva - Extra Virgem LAT 500ml | G16: 20
D17: 42796 | E17: Paçoca de Amendoim - CXA 30 Und | G17: 45
D18: 42796 | E18: Pão Sirio Integral - Saco 500g | G18: 5
D19: 42796 | E19: Panetone sem Gluten - CXA 1 Und | F19: 5

Sheet 2
A1: Sua Logo Aqui
E5: Total Geral | F5: =SUM(F8:F23) -> 280 | G5: =SUM(G8:G23) -> 180 | H5: =SUM(H8:H23) -> 100 | I5: =SUM(I8:I99) -> 1425 | J5: =SUM(J8:J99) -> 538.5 | K5: =SUM(K8:K99) -> 886.5
D6: Cód | E6: Produtos | F6: Qtd Entrada | G6: Qtd Saída | H6: Saldo Estoque | I6: R$ Saída | J6: R$ Estoque | K6: Resultado
D8: ASP32 | E8: =IFERROR(VLOOKUP(D8,'3'!D:E,2,0),"") -> Azeite de Oliva - Extra Virgem LAT 500ml | F8: =IF(E8<>"",SUMIF('1'!E:E,E8,'1'!F:F),"") -> 50 | G8: =IF(E8<>"",SUMIF('1'!E:E,E8,'1'!G:G),"") -> 20 | H8: =IFERROR(F8-G8,"") -> 30 | I8: =IFERROR(VLOOKUP(E8,'3'!E:G,3,0)*G8,"") -> 140 | J8: =IFERROR(VLOOKUP(E8,'3'!E:G,2,0)*H8,"") -> 105 | K8: =IF(I8<>"",I8-J8,"") -> 35
D9: ASP33 | E9: =IFERROR(VLOOKUP(D9,'3'!D:E,2,0),"") -> Castanha do Pará - Granel (Gr) | F9: =IF(E9<>"",SUMIF('1'!E:E,E9,'1'!F:F),"") -> 120 | G9: =IF(E9<>"",SUMIF('1'!E:E,E9,'1'!G:G),"") -> 50 | H9: =IFERROR(F9-G9,"") -> 70 | I9: =IFERROR(VLOOKUP(E9,'3'!E:G,3,0)*G9,"") -> 450 | J9: =IFERROR(VLOOKUP(E9,'3'!E:G,2,0)*H9,"") -> 476 | K9: =IF(I9<>"",I9-J9,"") -> -26
D10: ASP34 | E10: =IFERROR(VLOOKUP(D10,'3'!D:E,2,0),"") -> Panetone sem Gluten - CXA 1 Und | F10: =IF(E10<>"",SUMIF('1'!E:E,E10,'1'!F:F),"") -> 5 | G10: =IF(E10<>"",SUMIF('1'!E:E,E10,'1'!G:G),"") -> 0 | H10: =IFERROR(F10-G10,"") -> 5 | I10: =IFERROR(VLOOKUP(E10,'3'!E:G,3,0)*G10,"") -> 0 | J10: =IFERROR(VLOOKUP(E10,'3'!E:G,2,0)*H10,"") -> 12.5 | K10: =IF(I10<>"",I10-J10,"") -> -12.5
D11: ASP35 | E11: =IFERROR(VLOOKUP(D11,'3'!D:E,2,0),"") -> Pão Sirio Integral - Saco 500g | F11: =IF(E11<>"",SUMIF('1'!E:E,E11,'1'!F:F),"") -> 75 | G11: =IF(E11<>"",SUMIF('1'!E:E,E11,'1'!G:G),"") -> 45 | H11: =IFERROR(F11-G11,"") -> 30 | I11: =IFERROR(VLOOKUP(E11,'3'!E:G,3,0)*G11,"") -> 315 | J11: =IFERROR(VLOOKUP(E11,'3'!E:G,2,0)*H11,"") -> 120 | K11: =IF(I11<>"",I11-J11,"") -> 195
D12: ASP36 | E12: =IFERROR(VLOOKUP(D12,'3'!D:E,2,0),"") -> Paçoca de Amendoim - CXA 30 Und | F12: =IF(E12<>"",SUMIF('1'!E:E,E12,'1'!F:F),"") -> 30 | G12: =IF(E12<>"",SUMIF('1'!E:E,E12,'1'!G:G),"") -> 65 | H12: =IFERROR(F12-G12,"") -> -35 | I12: =IFERROR(VLOOKUP(E12,'3'!E:G,3,0)*G12,"") -> 520 | J12: =IFERROR(VLOOKUP(E12,'3'!E:G,2,0)*H12,"") -> -175 | K12: =IF(I12<>"",I12-J12,"") -> 695
E13: =IFERROR(VLOOKUP(D13,'3'!D:E,2,0),"") | F13: =IF(E13<>"",SUMIF('1'!E:E,E13,'1'!F:F),"") | G13: =IF(E13<>"",SUMIF('1'!E:E,E13,'1'!G:G),"") | H13: =IFERROR(F13-G13,"") | I13: =IFERROR(VLOOKUP(E13,'3'!E:G,3,0)*G13,"") | J13: =IFERROR(VLOOKUP(E13,'3'!E:G,2,0)*H13,"") | K13: =IF(I13<>"",I13-J13,"")
E14: =IFERROR(VLOOKUP(D14,'3'!D:E,2,0),"") | F14: =IF(E14<>"",SUMIF('1'!E:E,E14,'1'!F:F),"") | G14: =IF(E14<>"",SUMIF('1'!E:E,E14,'1'!G:G),"") | H14: =IFERROR(F14-G14,"") | I14: =IFERROR(VLOOKUP(E14,'3'!E:G,3,0)*G14,"") | J14: =IFERROR(VLOOKUP(E14,'3'!E:G,2,0)*H14,"") | K14: =IF(I14<>"",I14-J14,"")
E15: =IFERROR(VLOOKUP(D15,'3'!D:E,2,0),"") | F15: =IF(E15<>"",SUMIF('1'!E:E,E15,'1'!F:F),"") | G15: =IF(E15<>"",SUMIF('1'!E:E,E15,'1'!G:G),"") | H15: =IFERROR(F15-G15,"") | I15: =IFERROR(VLOOKUP(E15,'3'!E:G,3,0)*G15,"") | J15: =IFERROR(VLOOKUP(E15,'3'!E:G,2,0)*H15,"") | K15: =IF(I15<>"",I15-J15,"")
E16: =IFERROR(VLOOKUP(D16,'3'!D:E,2,0),"") | F16: =IF(E16<>"",SUMIF('1'!E:E,E16,'1'!F:F),"") | G16: =IF(E16<>"",SUMIF('1'!E:E,E16,'1'!G:G),"") | H16: =IFERROR(F16-G16,"") | I16: =IFERROR(VLOOKUP(E16,'3'!E:G,3,0)*G16,"") | J16: =IFERROR(VLOOKUP(E16,'3'!E:G,2,0)*H16,"") | K16: =IF(I16<>"",I16-J16,"")
E17: =IFERROR(VLOOKUP(D17,'3'!D:E,2,0),"") | F17: =IF(E17<>"",SUMIF('1'!E:E,E17,'1'!F:F),"") | G17: =IF(E17<>"",SUMIF('1'!E:E,E17,'1'!G:G),"") | H17: =IFERROR(F17-G17,"") | I17: =IFERROR(VLOOKUP(E17,'3'!E:G,3,0)*G17,"") | J17: =IFERROR(VLOOKUP(E17,'3'!E:G,2,0)*H17,"") | K17: =IF(I17<>"",I17-J17,"")
E18: =IFERROR(VLOOKUP(D18,'3'!D:E,2,0),"") | F18: =IF(E18<>"",SUMIF('1'!E:E,E18,'1'!F:F),"") | G18: =IF(E18<>"",SUMIF('1'!E:E,E18,'1'!G:G),"") | H18: =IFERROR(F18-G18,"") | I18: =IFERROR(VLOOKUP(E18,'3'!E:G,3,0)*G18,"") | J18: =IFERROR(VLOOKUP(E18,'3'!E:G,2,0)*H18,"") | K18: =IF(I18<>"",I18-J18,"")
E19: =IFERROR(VLOOKUP(D19,'3'!D:E,2,0),"") | F19: =IF(E19<>"",SUMIF('1'!E:E,E19,'1'!F:F),"") | G19: =IF(E19<>"",SUMIF('1'!E:E,E19,'1'!G:G),"") | H19: =IFERROR(F19-G19,"") | I19: =IFERROR(VLOOKUP(E19,'3'!E:G,3,0)*G19,"") | J19: =IFERROR(VLOOKUP(E19,'3'!E:G,2,0)*H19,"") | K19: =IF(I19<>"",I19-J19,"")
E20: =IFERROR(VLOOKUP(D20,'3'!D:E,2,0),"") | F20: =IF(E20<>"",SUMIF('1'!E:E,E20,'1'!F:F),"") | G20: =IF(E20<>"",SUMIF('1'!E:E,E20,'1'!G:G),"") | H20: =IFERROR(F20-G20,"") | I20: =IFERROR(VLOOKUP(E20,'3'!E:G,3,0)*G20,"") | J20: =IFERROR(VLOOKUP(E20,'3'!E:G,2,0)*H20,"") | K20: =IF(I20<>"",I20-J20,"")
E21: =IFERROR(VLOOKUP(D21,'3'!D:E,2,0),"") | F21: =IF(E21<>"",SUMIF('1'!E:E,E21,'1'!F:F),"") | G21: =IF(E21<>"",SUMIF('1'!E:E,E21,'1'!G:G),"") | H21: =IFERROR(F21-G21,"") | I21: =IFERROR(VLOOKUP(E21,'3'!E:G,3,0)*G21,"") | J21: =IFERROR(VLOOKUP(E21,'3'!E:G,2,0)*H21,"") | K21: =IF(I21<>"",I21-J21,"")
E22: =IFERROR(VLOOKUP(D22,'3'!D:E,2,0),"") | F22: =IF(E22<>"",SUMIF('1'!E:E,E22,'1'!F:F),"") | G22: =IF(E22<>"",SUMIF('1'!E:E,E22,'1'!G:G),"") | H22: =IFERROR(F22-G22,"") | I22: =IFERROR(VLOOKUP(E22,'3'!E:G,3,0)*G22,"") | J22: =IFERROR(VLOOKUP(E22,'3'!E:G,2,0)*H22,"") | K22: =IF(I22<>"",I22-J22,"")
E23: =IFERROR(VLOOKUP(D23,'3'!D:E,2,0),"") | F23: =IF(E23<>"",SUMIF('1'!E:E,E23,'1'!F:F),"") | G23: =IF(E23<>"",SUMIF('1'!E:E,E23,'1'!G:G),"") | H23: =IFERROR(F23-G23,"") | I23: =IFERROR(VLOOKUP(E23,'3'!E:G,3,0)*G23,"") | J23: =IFERROR(VLOOKUP(E23,'3'!E:G,2,0)*H23,"") | K23: =IF(I23<>"",I23-J23,"")
G24: =IF(E24<>"",SUMIF('1'!E:E,E24,'1'!G:G),"") | H24: =IFERROR(F24-G24,"") | I24: =IFERROR(VLOOKUP(E24,'3'!E:G,3,0)*G24,"") | J24: =IFERROR(VLOOKUP(E24,'3'!E:G,2,0)*H24,"") | K24: =IF(I24<>"",I24-J24,"")
G25: =IF(E25<>"",SUMIF('1'!E:E,E25,'1'!G:G),"") | H25: =IFERROR(F25-G25,"") | I25: =IFERROR(VLOOKUP(E25,'3'!E:G,3,0)*G25,"") | J25: =IFERROR(VLOOKUP(E25,'3'!E:G,2,0)*H25,"") | K25: =IF(I25<>"",I25-J25,"")
G26: =IF(E26<>"",SUMIF('1'!E:E,E26,'1'!G:G),"") | H26: =IFERROR(F26-G26,"") | I26: =IFERROR(VLOOKUP(E26,'3'!E:G,3,0)*G26,"") | J26: =IFERROR(VLOOKUP(E26,'3'!E:G,2,0)*H26,"") | K26: =IF(I26<>"",I26-J26,"")
G27: =IF(E27<>"",SUMIF('1'!E:E,E27,'1'!G:G),"") | H27: =IFERROR(F27-G27,"") | I27: =IFERROR(VLOOKUP(E27,'3'!E:G,3,0)*G27,"") | J27: =IFERROR(VLOOKUP(E27,'3'!E:G,2,0)*H27,"") | K27: =IF(I27<>"",I27-J27,"")
G28: =IF(E28<>"",SUMIF('1'!E:E,E28,'1'!G:G),"") | H28: =IFERROR(F28-G28,"") | I28: =IFERROR(VLOOKUP(E28,'3'!E:G,3,0)*G28,"") | J28: =IFERROR(VLOOKUP(E28,'3'!E:G,2,0)*H28,"") | K28: =IF(I28<>"",I28-J28,"")
G29: =IF(E29<>"",SUMIF('1'!E:E,E29,'1'!G:G),"") | H29: =IFERROR(F29-G29,"") | I29: =IFERROR(VLOOKUP(E29,'3'!E:G,3,0)*G29,"") | J29: =IFERROR(VLOOKUP(E29,'3'!E:G,2,0)*H29,"") | K29: =IF(I29<>"",I29-J29,"")
G30: =IF(E30<>"",SUMIF('1'!E:E,E30,'1'!G:G),"") | H30: =IFERROR(F30-G30,"") | I30: =IFERROR(VLOOKUP(E30,'3'!E:G,3,0)*G30,"") | J30: =IFERROR(VLOOKUP(E30,'3'!E:G,2,0)*H30,"") | K30: =IF(I30<>"",I30-J30,"")
G31: =IF(E31<>"",SUMIF('1'!E:E,E31,'1'!G:G),"") | H31: =IFERROR(F31-G31,"") | I31: =IFERROR(VLOOKUP(E31,'3'!E:G,3,0)*G31,"") | J31: =IFERROR(VLOOKUP(E31,'3'!E:G,2,0)*H31,"") | K31: =IF(I31<>"",I31-J31,"")
G32: =IF(E32<>"",SUMIF('1'!E:E,E32,'1'!G:G),"") | H32: =IFERROR(F32-G32,"") | I32: =IFERROR(VLOOKUP(E32,'3'!E:G,3,0)*G32,"") | J32: =IFERROR(VLOOKUP(E32,'3'!E:G,2,0)*H32,"") | K32: =IF(I32<>"",I32-J32,"")
G33: =IF(E33<>"",SUMIF('1'!E:E,E33,'1'!G:G),"") | H33: =IFERROR(F33-G33,"") | I33: =IFERROR(VLOOKUP(E33,'3'!E:G,3,0)*G33,"") | J33: =IFERROR(VLOOKUP(E33,'3'!E:G,2,0)*H33,"") | K33: =IF(I33<>"",I33-J33,"")
G34: =IF(E34<>"",SUMIF('1'!E:E,E34,'1'!G:G),"") | H34: =IFERROR(F34-G34,"") | I34: =IFERROR(VLOOKUP(E34,'3'!E:G,3,0)*G34,"") | J34: =IFERROR(VLOOKUP(E34,'3'!E:G,2,0)*H34,"") | K34: =IF(I34<>"",I34-J34,"")
G35: =IF(E35<>"",SUMIF('1'!E:E,E35,'1'!G:G),"") | H35: =IFERROR(F35-G35,"") | I35: =IFERROR(VLOOKUP(E35,'3'!E:G,3,0)*G35,"") | J35: =IFERROR(VLOOKUP(E35,'3'!E:G,2,0)*H35,"") | K35: =IF(I35<>"",I35-J35,"")
... G99: =IF(E99<>"",SUMIF('1'!E:E,E99,'1'!G:G),"") | H99: =IFERROR(F99-G99,"") | I99: =IFERROR(VLOOKUP(E99,'3'!E:G,3,0)*G99,"") | J99: =IFERROR(VLOOKUP(E99,'3'!E:G,2,0)*H99,"") | K99: =IF(I99<>"",I99-J99,"")

Sheet 3
A1: Sua Logo Aqui
D5: Código Produto | E5: Produto | F5: Valor Compra | G5: Valor Venda | H5: Lucro Unitário
D7: ASP32 | E7: Azeite de Oliva - Extra Virgem LAT 500ml | F7: 3.5 | G7: 7 | H7: =IF(F7<>"",G7-F7,"") -> 3.5
D8: ASP33 | E8: Castanha do Pará - Granel (Gr) | F8: 6.8 | G8: 9 | H8: =IF(F8<>"",G8-F8,"") -> 2.2
D9: ASP34 | E9: Panetone sem Gluten - CXA 1 Und | F9: 2.5 | G9: 6 | H9: =IF(F9<>"",G9-F9,"") -> 3.5
D10: ASP35 | E10: Pão Sirio Integral - Saco 500g | F10: 4 | G10: 7 | H10: =IF(F10<>"",G10-F10,"") -> 3
D11: ASP36 | E11: Paçoca de Amendoim - CXA 30 Und | F11: 5 | G11: 8 | H11: =IF(F11<>"",G11-F11,"") -> 3
H12: =IF(F12<>"",G12-F12,"")
H13: =IF(F13<>"",G13-F13,"")
H14: =IF(F14<>"",G14-F14,"")
H15: =IF(F15<>"",G15-F15,"")
H16: =IF(F16<>"",G16-F16,"")
H17: =IF(F17<>"",G17-F17,"")
H18: =IF(F18<>"",G18-F18,"")
H19: =IF(F19<>"",G19-F19,"")
H20: =IF(F20<>"",G20-F20,"")
H21: =IF(F21<>"",G21-F21,"")
H22: =IF(F22<>"",G22-F22,"")
H23: =IF(F23<>"",G23-F23,"")
... H201: =IF(F201<>"",G201-F201,"")
