Workbook

Sheet 0
A1: Sua Logo Aqui
D4: Planilha: Controle de Medicamentos
D7: Olá, esperamos que esteja gostando da nossa planilha, sua opinião é muito importante para nós, acesse nosso canal e deixe seu comentário.
D11: Quer aprender excel? Confira nossas video-aulas: | I11: Clique Aqui | K11: Precisa de alguma planilha sob-medida para você? Entre em contato com nossa equipe!
D16: Você precisa de planilhas profissionais? Confira nossos modelos: | I16: Clique Aqui | K16: WhatsApp | M16: Email
K18: +55 077-98117-6733 | M18: contato@excelcoaching.com.br
D23: Caso você queira contribuir algum valor para incentivar com esse projeto, deixe sua contribuição. Clicando nos valores abaixo:

Sheet 1
A1: Sua Logo Aqui
D5: NOME COMERCIAL | E5: LABORATÓRIO | F5: CLASSE TERAPÊUTICA | G5: SUBSTÂNCIA | H5: UNID | I5: QUANTIDADE COMPRADA | J5: CONSUMIDA | K5: DISPONÍVEL | L5: VALIDADE
C7: 1 | D7: Paracetamol | J7: =IF(I7="","",SUMIFS('2'!I:I,'2'!F:F,'1'!D7)) | K7: =IF(I7="","",I7-J7)
C8: 2 | D8: Coartem | J8: =IF(I8="","",SUMIFS('2'!I:I,'2'!F:F,'1'!D8)) | K8: =IF(I8="","",I8-J8)
C9: 3 | D9: Artmether | J9: =IF(I9="","",SUMIFS('2'!I:I,'2'!F:F,'1'!D9)) | K9: =IF(I9="","",I9-J9)
C10: 4 | D10: ampicilina | J10: =IF(I10="","",SUMIFS('2'!I:I,'2'!F:F,'1'!D10)) | K10: =IF(I10="","",I10-J10)
C11: 5 | D11: Ciprofloxacina | J11: =IF(I11="","",SUMIFS('2'!I:I,'2'!F:F,'1'!D11)) | K11: =IF(I11="","",I11-J11)
C12: 6 | D12: Clavamox | J12: =IF(I12="","",SUMIFS('2'!I:I,'2'!F:F,'1'!D12)) | K12: =IF(I12="","",I12-J12)
C13: 7 | D13: Metronidazol | J13: =IF(I13="","",SUMIFS('2'!I:I,'2'!F:F,'1'!D13)) | K13: =IF(I13="","",I13-J13)
C14: 8 | D14: Bisolvon | J14: =IF(I14="","",SUMIFS('2'!I:I,'2'!F:F,'1'!D14)) | K14: =IF(I14="","",I14-J14)
C15: 9 | D15: Actifed | J15: =IF(I15="","",SUMIFS('2'!I:I,'2'!F:F,'1'!D15)) | K15: =IF(I15="","",I15-J15)
C16: 10 | D16: Predmisolona | J16: =IF(I16="","",SUMIFS('2'!I:I,'2'!F:F,'1'!D16)) | K16: =IF(I16="","",I16-J16)
C17: 11 | D17: Salbutamol | J17: =IF(I17="","",SUMIFS('2'!I:I,'2'!F:F,'1'!D17)) | K17: =IF(I17="","",I17-J17)
C18: 12 | D18: Motilium | J18: =IF(I18="","",SUMIFS('2'!I:I,'2'!F:F,'1'!D18)) | K18: =IF(I18="","",I18-J18)
... C31: 25 | D31: fluconazol | J31: =IF(I31="","",SUMIFS('2'!I:I,'2'!F:F,'1'!D31)) | K31: =IF(I31="","",I31-J31)
J32: =IF(I32="","",SUMIFS('2'!I:I,'2'!F:F,'1'!D32)) | K32: =IF(I32="","",I32-J32)
J33: =IF(I33="","",SUMIFS('2'!I:I,'2'!F:F,'1'!D33)) | K33: =IF(I33="","",I33-J33)
J34: =IF(I34="","",SUMIFS('2'!I:I,'2'!F:F,'1'!D34)) | K34: =IF(I34="","",I34-J34)
J35: =IF(I35="","",SUMIFS('2'!I:I,'2'!F:F,'1'!D35)) | K35: =IF(I35="","",I35-J35)
J36: =IF(I36="","",SUMIFS('2'!I:I,'2'!F:F,'1'!D36)) | K36: =IF(I36="","",I36-J36)
J37: =IF(I37="","",SUMIFS('2'!I:I,'2'!F:F,'1'!D37)) | K37: =IF(I37="","",I37-J37)
J38: =IF(I38="","",SUMIFS('2'!I:I,'2'!F:F,'1'!D38)) | K38: =IF(I38="","",I38-J38)
J39: =IF(I39="","",SUMIFS('2'!I:I,'2'!F:F,'1'!D39)) | K39: =IF(I39="","",I39-J39)
J40: =IF(I40="","",SUMIFS('2'!I:I,'2'!F:F,'1'!D40)) | K40: =IF(I40="","",I40-J40)
J41: =IF(I41="","",SUMIFS('2'!I:I,'2'!F:F,'1'!D41)) | K41: =IF(I41="","",I41-J41)
J42: =IF(I42="","",SUMIFS('2'!I:I,'2'!F:F,'1'!D42)) | K42: =IF(I42="","",I42-J42)
J43: =IF(I43="","",SUMIFS('2'!I:I,'2'!F:F,'1'!D43)) | K43: =IF(I43="","",I43-J43)
... J51: =IF(I51="","",SUMIFS('2'!I:I,'2'!F:F,'1'!D51)) | K51: =IF(I51="","",I51-J51)

Sheet 2
A1: Sua Logo Aqui
D5: DATA | E5: PACIENTE | F5: MEDICAMENTO | G5: UNIDADE | H5: DISPONIBILIDADE | I5: QTDE CONSUMIDA | J5: QTDE RESTANTE
G7: =IFERROR(VLOOKUP(F7,OFFSET('1'!$D$5,1,0,COUNTA('1'!D7:D51),9),5,0),"") | H7: =IFERROR(VLOOKUP(F7,OFFSET('1'!$D$5,1,0,COUNTA('1'!D7:D51),9),6,0),"") | J7: =IFERROR(VLOOKUP(F7,'1'!D:J,8,0),"")
G8: =IFERROR(VLOOKUP(F8,OFFSET('1'!$D$5,1,0,COUNTA('1'!D8:D52),9),5,0),"") | H8: =IFERROR(VLOOKUP(F8,OFFSET('1'!$D$5,1,0,COUNTA('1'!D8:D52),9),6,0),"") | J8: =IFERROR(VLOOKUP(F8,'1'!D:J,8,0),"")
G9: =IFERROR(VLOOKUP(F9,OFFSET('1'!$D$5,1,0,COUNTA('1'!D9:D53),9),5,0),"") | H9: =IFERROR(VLOOKUP(F9,OFFSET('1'!$D$5,1,0,COUNTA('1'!D9:D53),9),6,0),"") | J9: =IFERROR(VLOOKUP(F9,'1'!D:J,8,0),"")
G10: =IFERROR(VLOOKUP(F10,OFFSET('1'!$D$5,1,0,COUNTA('1'!D10:D54),9),5,0),"") | H10: =IFERROR(VLOOKUP(F10,OFFSET('1'!$D$5,1,0,COUNTA('1'!D10:D54),9),6,0),"") | J10: =IFERROR(VLOOKUP(F10,'1'!D:J,8,0),"")
G11: =IFERROR(VLOOKUP(F11,OFFSET('1'!$D$5,1,0,COUNTA('1'!D11:D55),9),5,0),"") | H11: =IFERROR(VLOOKUP(F11,OFFSET('1'!$D$5,1,0,COUNTA('1'!D11:D55),9),6,0),"") | J11: =IFERROR(VLOOKUP(F11,'1'!D:J,8,0),"")
G12: =IFERROR(VLOOKUP(F12,OFFSET('1'!$D$5,1,0,COUNTA('1'!D12:D56),9),5,0),"") | H12: =IFERROR(VLOOKUP(F12,OFFSET('1'!$D$5,1,0,COUNTA('1'!D12:D56),9),6,0),"") | J12: =IFERROR(VLOOKUP(F12,'1'!D:J,8,0),"")
G13: =IFERROR(VLOOKUP(F13,OFFSET('1'!$D$5,1,0,COUNTA('1'!D13:D57),9),5,0),"") | H13: =IFERROR(VLOOKUP(F13,OFFSET('1'!$D$5,1,0,COUNTA('1'!D13:D57),9),6,0),"") | J13: =IFERROR(VLOOKUP(F13,'1'!D:J,8,0),"")
G14: =IFERROR(VLOOKUP(F14,OFFSET('1'!$D$5,1,0,COUNTA('1'!D14:D58),9),5,0),"") | H14: =IFERROR(VLOOKUP(F14,OFFSET('1'!$D$5,1,0,COUNTA('1'!D14:D58),9),6,0),"") | J14: =IFERROR(VLOOKUP(F14,'1'!D:J,8,0),"")
G15: =IFERROR(VLOOKUP(F15,OFFSET('1'!$D$5,1,0,COUNTA('1'!D15:D59),9),5,0),"") | H15: =IFERROR(VLOOKUP(F15,OFFSET('1'!$D$5,1,0,COUNTA('1'!D15:D59),9),6,0),"") | J15: =IFERROR(VLOOKUP(F15,'1'!D:J,8,0),"")
G16: =IFERROR(VLOOKUP(F16,OFFSET('1'!$D$5,1,0,COUNTA('1'!D16:D60),9),5,0),"") | H16: =IFERROR(VLOOKUP(F16,OFFSET('1'!$D$5,1,0,COUNTA('1'!D16:D60),9),6,0),"") | J16: =IFERROR(VLOOKUP(F16,'1'!D:J,8,0),"")
G17: =IFERROR(VLOOKUP(F17,OFFSET('1'!$D$5,1,0,COUNTA('1'!D17:D61),9),5,0),"") | H17: =IFERROR(VLOOKUP(F17,OFFSET('1'!$D$5,1,0,COUNTA('1'!D17:D61),9),6,0),"") | J17: =IFERROR(VLOOKUP(F17,'1'!D:J,8,0),"")
G18: =IFERROR(VLOOKUP(F18,OFFSET('1'!$D$5,1,0,COUNTA('1'!D18:D62),9),5,0),"") | H18: =IFERROR(VLOOKUP(F18,OFFSET('1'!$D$5,1,0,COUNTA('1'!D18:D62),9),6,0),"") | J18: =IFERROR(VLOOKUP(F18,'1'!D:J,8,0),"")
... G32: =IFERROR(VLOOKUP(F32,OFFSET('1'!$D$5,1,0,COUNTA('1'!D32:D76),9),5,0),"") | H32: =IFERROR(VLOOKUP(F32,OFFSET('1'!$D$5,1,0,COUNTA('1'!D32:D76),9),6,0),"") | J32: =IFERROR(VLOOKUP(F32,'1'!D:J,8,0),"")

Sheet 3
A1: Sua Logo Aqui
D5: NOME COMERCIAL | E5: SITUAÇÃO | F5: DIAS PARA VENCIMENTO
C7: 1 | D7: =IFERROR(VLOOKUP(C7,'1'!C7:D51,2,0),"") -> Paracetamol | E7: =IF(F7<>"",IF(F7>0,IF(F7>15,"Longe do Vencimento","Prestes a vencer"),"Vencido"),"") | F7: =IF('1'!L7<>"",'1'!L7-TODAY(),"")
C8: 2 | D8: =IFERROR(VLOOKUP(C8,'1'!C8:D52,2,0),"") -> Coartem | E8: =IF(F8<>"",IF(F8>0,IF(F8>15,"Longe do Vencimento","Prestes a vencer"),"Vencido"),"") | F8: =IF('1'!L8<>"",'1'!L8-TODAY(),"")
C9: 3 | D9: =IFERROR(VLOOKUP(C9,'1'!C9:D53,2,0),"") -> Artmether | E9: =IF(F9<>"",IF(F9>0,IF(F9>15,"Longe do Vencimento","Prestes a vencer"),"Vencido"),"") | F9: =IF('1'!L9<>"",'1'!L9-TODAY(),"")
C10: 4 | D10: =IFERROR(VLOOKUP(C10,'1'!C10:D54,2,0),"") -> ampicilina | E10: =IF(F10<>"",IF(F10>0,IF(F10>15,"Longe do Vencimento","Prestes a vencer"),"Vencido"),"") | F10: =IF('1'!L10<>"",'1'!L10-TODAY(),"")
C11: 5 | D11: =IFERROR(VLOOKUP(C11,'1'!C11:D55,2,0),"") -> Ciprofloxacina | E11: =IF(F11<>"",IF(F11>0,IF(F11>15,"Longe do Vencimento","Prestes a vencer"),"Vencido"),"") | F11: =IF('1'!L11<>"",'1'!L11-TODAY(),"")
C12: 6 | D12: =IFERROR(VLOOKUP(C12,'1'!C12:D56,2,0),"") -> Clavamox | E12: =IF(F12<>"",IF(F12>0,IF(F12>15,"Longe do Vencimento","Prestes a vencer"),"Vencido"),"") | F12: =IF('1'!L12<>"",'1'!L12-TODAY(),"")
C13: 7 | D13: =IFERROR(VLOOKUP(C13,'1'!C13:D57,2,0),"") -> Metronidazol | E13: =IF(F13<>"",IF(F13>0,IF(F13>15,"Longe do Vencimento","Prestes a vencer"),"Vencido"),"") | F13: =IF('1'!L13<>"",'1'!L13-TODAY(),"")
C14: 8 | D14: =IFERROR(VLOOKUP(C14,'1'!C14:D58,2,0),"") -> Bisolvon | E14: =IF(F14<>"",IF(F14>0,IF(F14>15,"Longe do Vencimento","Prestes a vencer"),"Vencido"),"") | F14: =IF('1'!L14<>"",'1'!L14-TODAY(),"")
C15: 9 | D15: =IFERROR(VLOOKUP(C15,'1'!C15:D59,2,0),"") -> Actifed | E15: =IF(F15<>"",IF(F15>0,IF(F15>15,"Longe do Vencimento","Prestes a vencer"),"Vencido"),"") | F15: =IF('1'!L15<>"",'1'!L15-TODAY(),"")
C16: 10 | D16: =IFERROR(VLOOKUP(C16,'1'!C16:D60,2,0),"") -> Predmisolona | E16: =IF(F16<>"",IF(F16>0,IF(F16>15,"Longe do Vencimento","Prestes a vencer"),"Vencido"),"") | F16: =IF('1'!L16<>"",'1'!L16-TODAY(),"")
C17: 11 | D17: =IFERROR(VLOOKUP(C17,'1'!C17:D61,2,0),"") -> Salbutamol | E17: =IF(F17<>"",IF(F17>0,IF(F17>15,"Longe do Vencimento","Prestes a vencer"),"Vencido"),"") | F17: =IF('1'!L17<>"",'1'!L17-TODAY(),"")
C18: 12 | D18: =IFERROR(VLOOKUP(C18,'1'!C18:D62,2,0),"") -> Motilium | E18: =IF(F18<>"",IF(F18>0,IF(F18>15,"Longe do Vencimento","Prestes a vencer"),"Vencido"),"") | F18: =IF('1'!L18<>"",'1'!L18-TODAY(),"")
... C51: 45 | D51: =IFERROR(VLOOKUP(C51,'1'!C51:D95,2,0),"") | E51: =IF(F51<>"",IF(F51>0,IF(F51>15,"Longe do Vencimento","Prestes a vencer"),"Vencido"),"") | F51: =IF('1'!L51<>"",'1'!L51-TODAY(),"")
